{"text_format":"1","workbook":"xlsx","n_sheets":2,"sheets":["Regional Project List Sheet","Region_26"],"not_rendered":{"charts":0,"images":0,"macros":1,"external_links":2,"defined_names":13,"comments":2,"pivot_tables":0},"unopened":[],"bounds":{"document_bytes":16777216,"sheet_cells":100000,"rows_first":2000,"rows_last":500,"rows_between":2000,"halvings":0,"cell_chars":16384,"cell_head_chars":4096},"cells_cut":0,"cells_raw":0,"read":"whole","date_system":"1900"}

{"sheet":"Regional Project List Sheet","index":0,"n_rows":56,"n_cols":49,"rows_kept":56,"cut":false,"hidden":false,"merged":[[2,19,2,23],[2,26,2,34],[2,17,2,18],[2,13,2,16]]}
["pw:","Macro Cols",null,null,null,null,null,null,"Choose Region:"]
["\"region\"","AV, AW",null,null,"FFY 2026 Proposed HSIP Projects - XX Region"]
[null,null,null,null,null,null,null,null,null,null,null,null,null,"Ranking Criteria",null,null,null,"Project Eligibility",null,"Crashes Susceptible to Correction as listed in Ranking Spreadsheet",null,null,null,null,null,null,"MPO Information"]
[null,null,null,null,"Number","Project Name","Project Type","IRIS Number","HSIP Project Number","Ranking Year","Ranking Type","B/C","Safety Index","Critiera 1","Criteria 2","Criteria 3A","Criteria 3B","VRU","SSP","Property Damage Only","Possible Injury","Suspected Minor Injury","Suspected Serious Injury","Fatal Injury (Killed)","Region","Amount not in MPO","$ Amount in AMATS","AMATS $ amount in FFY26","In AMATS TIP","$ Amount in MVP","MVP $ amount in FFY26","In MVP TIP","$ Amount in FAST","FAST $ amount in FFY26","In FAST TIP","Bundled? If yes, include project identifier (IRIS + HSIP Nom)","Project Description","Regional Response / Adjustment",null,null,null,null,null,null,null,null,null,"FORMULAS","COL"]
["Region",null,1,null,null,null,null,null,null,{"$f":"MID(Table1[[#This Row],[HSIP Project Number]],1,2)","v":""},{"$f":"MID(Table1[[#This Row],[HSIP Project Number]],4,1)","v":""},null,null,null,null,null,null,null,null,null,null,null,null,null,{"$f":"IF($I$2=\"Central\",\"C\",IF($I$2=\"Northern\",\"N\",IF($I$2=\"Southcoast\",\"S\",IF($I$2=\"Statewide\",\"H\",\"Choose from Project List in cell I2\"))))","v":"Choose from Project List in cell I2"},null,{"$f":"IF(OR($I$2=$A$7,$I$2=$A$10),$A$41,\"N/A\")","v":"N/A"},{"$f":"IF($AA5=\"N/A\",\"N/A\",\"\")","v":"N/A"},{"$f":"IF($AA5=\"N/A\",\"N/A\",\"\")","v":"N/A"},{"$f":"IF(OR($I$2=$A$7,$I$2=$A$10),$A$41,\"N/A\")","v":"N/A"},{"$f":"IF($AD5=\"N/A\",\"N/A\",\"\")","v":"N/A"},{"$f":"IF($AD5=\"N/A\",\"N/A\",\"\")","v":"N/A"},{"$f":"IF(OR($I$2=$A$8,$I$2=$A$10),$A$41,\"N/A\")","v":"N/A"},{"$f":"IF($AG5=\"N/A\",\"N/A\",\"\")","v":"N/A"},{"$f":"IF($AG5=\"N/A\",\"N/A\",\"\")","v":"N/A"},null,null,null,null,null,null,null,null,null,null,null,null,{"$f":"IF(OR($I$2=$A$7,$I$2=$A$10),$A$41,\"N/A\")","v":"N/A"},"AA"]
[null,null,2,null,null,null,null,null,null,{"$f":"MID(Table1[[#This Row],[HSIP Project Number]],1,2)","v":""},{"$f":"MID(Table1[[#This Row],[HSIP Project Number]],4,1)","v":""},null,null,null,null,null,null,null,null,null,null,null,null,null,"Choose from Project List in cell I2",null,"N/A",{"$f":"IF($AA6=\"N/A\",\"N/A\",\"\")","v":"N/A"},"N/A",{"$f":"IF(OR($I$2=$A$7,$I$2=$A$10),$A$41,\"N/A\")","v":"N/A"},{"$f":"IF($AD6=\"N/A\",\"N/A\",\"\")","v":"N/A"},"N/A",{"$f":"IF(OR($I$2=$A$8,$I$2=$A$10),$A$41,\"N/A\")","v":"N/A"},{"$f":"IF($AG6=\"N/A\",\"N/A\",\"\")","v":"N/A"},"N/A",null,null,null,null,null,null,null,null,null,null,null,null,{"$f":"IF($AA5=\"N/A\",\"N/A\",\"\")","v":"N/A"},"AB"]
["Central",null,3,null,null,null,null,null,null,{"$f":"MID(Table1[[#This Row],[HSIP Project Number]],1,2)","v":""},{"$f":"MID(Table1[[#This Row],[HSIP Project Number]],4,1)","v":""},null,null,null,null,null,null,null,null,null,null,null,null,null,"Choose from Project List in cell I2",null,"N/A","N/A","N/A","N/A","N/A","N/A","N/A","N/A","N/A",null,null,null,null,null,null,null,null,null,null,null,null,{"$f":"IF($AA5=\"N/A\",\"N/A\",\"\")","v":"N/A"},"AC"]
["Northern",null,4,null,null,null,null,null,null,{"$f":"MID(Table1[[#This Row],[HSIP Project Number]],1,2)","v":""},{"$f":"MID(Table1[[#This Row],[HSIP Project Number]],4,1)","v":""},null,null,null,null,null,null,null,null,null,null,null,null,null,"Choose from Project List in cell I2",null,"N/A","N/A","N/A","N/A","N/A","N/A","N/A","N/A","N/A",null,null,null,null,null,null,null,null,null,null,null,null,{"$f":"IF(OR($I$2=$A$7,$I$2=$A$10),$A$41,\"N/A\")","v":"N/A"},"AE"]
["Southcoast",null,5,null,null,null,null,null,null,{"$f":"MID(Table1[[#This Row],[HSIP Project Number]],1,2)","v":""},{"$f":"MID(Table1[[#This Row],[HSIP Project Number]],4,1)","v":""},null,null,null,null,null,null,null,null,null,null,null,null,null,"Choose from Project List in cell I2",null,"N/A","N/A","N/A","N/A","N/A","N/A","N/A","N/A","N/A",null,null,null,null,null,null,null,null,null,null,null,null,{"$f":"IF($AD5=\"N/A\",\"N/A\",\"\")","v":"N/A"},"AD"]
["Statewide",null,6,null,null,null,null,null,null,{"$f":"MID(Table1[[#This Row],[HSIP Project Number]],1,2)","v":""},{"$f":"MID(Table1[[#This Row],[HSIP Project Number]],4,1)","v":""},null,null,null,null,null,null,null,null,null,null,null,null,null,"Choose from Project List in cell I2",null,"N/A","N/A","N/A","N/A","N/A","N/A","N/A","N/A","N/A",null,null,null,null,null,null,null,null,null,null,null,null,{"$f":"IF($AD5=\"N/A\",\"N/A\",\"\")","v":"N/A"},"AF"]
[null,null,7,null,null,null,null,null,null,{"$f":"MID(Table1[[#This Row],[HSIP Project Number]],1,2)","v":""},{"$f":"MID(Table1[[#This Row],[HSIP Project Number]],4,1)","v":""},null,null,null,null,null,null,null,null,null,null,null,null,null,"Choose from Project List in cell I2",null,"N/A","N/A","N/A","N/A","N/A","N/A","N/A","N/A","N/A",null,null,null,null,null,null,null,null,null,null,null,null,{"$f":"IF(OR($I$2=$A$8,$I$2=$A$10),$A$41,\"N/A\")","v":"N/A"},"AG"]
["Project Type",null,8,null,null,null,null,null,null,{"$f":"MID(Table1[[#This Row],[HSIP Project Number]],1,2)","v":""},{"$f":"MID(Table1[[#This Row],[HSIP Project Number]],4,1)","v":""},null,null,null,null,null,null,null,null,null,null,null,null,null,"Choose from Project List in cell I2",null,"N/A","N/A","N/A","N/A","N/A","N/A","N/A","N/A","N/A",null,null,null,null,null,null,null,null,null,null,null,null,{"$f":"IF($AG5=\"N/A\",\"N/A\",\"\")","v":"N/A"},"AH"]
["New",null,9,null,null,null,null,null,null,{"$f":"MID(Table1[[#This Row],[HSIP Project Number]],1,2)","v":""},{"$f":"MID(Table1[[#This Row],[HSIP Project Number]],4,1)","v":""},null,null,null,null,null,null,null,null,null,null,null,null,null,"Choose from Project List in cell I2",null,"N/A","N/A","N/A","N/A","N/A","N/A","N/A","N/A","N/A",null,null,null,null,null,null,null,null,null,null,null,null,{"$f":"IF($AG5=\"N/A\",\"N/A\",\"\")","v":"N/A"},"AI"]
["Funded Old",null,10,null,null,null,null,null,null,{"$f":"MID(Table1[[#This Row],[HSIP Project Number]],1,2)","v":""},{"$f":"MID(Table1[[#This Row],[HSIP Project Number]],4,1)","v":""},null,null,null,null,null,null,null,null,null,null,null,null,null,"Choose from Project List in cell I2",null,"N/A","N/A","N/A","N/A","N/A","N/A","N/A","N/A","N/A"]
["Unfunded Old",null,11,null,null,null,null,null,null,{"$f":"MID(Table1[[#This Row],[HSIP Project Number]],1,2)","v":""},{"$f":"MID(Table1[[#This Row],[HSIP Project Number]],4,1)","v":""},null,null,null,null,null,null,null,null,null,null,null,null,null,"Choose from Project List in cell I2",null,"N/A","N/A","N/A","N/A","N/A","N/A","N/A","N/A","N/A",null,null,null,null,null,null,null,null,null,null,null,null,{"$f":"IF(AW15<>0,1,\"\")","v":1},"E5"]
[null,null,12,null,null,null,null,null,null,{"$f":"MID(Table1[[#This Row],[HSIP Project Number]],1,2)","v":""},{"$f":"MID(Table1[[#This Row],[HSIP Project Number]],4,1)","v":""},null,null,null,null,null,null,null,null,null,null,null,null,null,"Choose from Project List in cell I2",null,"N/A","N/A","N/A","N/A","N/A","N/A","N/A","N/A","N/A",null,null,null,null,null,null,null,null,null,null,null,null,{"$f":"IF($I$2=\"Central\",\"C\",IF($I$2=\"Northern\",\"N\",IF($I$2=\"Southcoast\",\"S\",IF($I$2=\"Statewide\",\"H\",\"Choose from Project List in cell I2\"))))","v":"Choose from Project List in cell I2"},"Y"]
["Criteria",null,13,null,null,null,null,null,null,{"$f":"MID(Table1[[#This Row],[HSIP Project Number]],1,2)","v":""},{"$f":"MID(Table1[[#This Row],[HSIP Project Number]],4,1)","v":""},null,null,null,null,null,null,null,null,null,null,null,null,null,"Choose from Project List in cell I2",null,"N/A","N/A","N/A","N/A","N/A","N/A","N/A","N/A","N/A",null,null,null,null,null,null,null,null,null,null,null,null,{"$f":"IF(AW17<>0,AV16+1,\"\")","v":{"$error":"#VALUE!"}},"E6"]
[5,null,14,null,null,null,null,null,null,{"$f":"MID(Table1[[#This Row],[HSIP Project Number]],1,2)","v":""},{"$f":"MID(Table1[[#This Row],[HSIP Project Number]],4,1)","v":""},null,null,null,null,null,null,null,null,null,null,null,null,null,"Choose from Project List in cell I2",null,"N/A","N/A","N/A","N/A","N/A","N/A","N/A","N/A","N/A"]
[4,null,15,null,null,null,null,null,null,{"$f":"MID(Table1[[#This Row],[HSIP Project Number]],1,2)","v":""},{"$f":"MID(Table1[[#This Row],[HSIP Project Number]],4,1)","v":""},null,null,null,null,null,null,null,null,null,null,null,null,null,"Choose from Project List in cell I2",null,"N/A","N/A","N/A","N/A","N/A","N/A","N/A","N/A","N/A",null,null,null,null,null,null,null,null,null,null,null,null,{"$f":"MID(Table1[[#This Row],[HSIP Project Number]],1,2)","v":""},"J"]
[3,null,16,null,null,null,null,null,null,{"$f":"MID(Table1[[#This Row],[HSIP Project Number]],1,2)","v":""},{"$f":"MID(Table1[[#This Row],[HSIP Project Number]],4,1)","v":""},null,null,null,null,null,null,null,null,null,null,null,null,null,"Choose from Project List in cell I2",null,"N/A","N/A","N/A","N/A","N/A","N/A","N/A","N/A","N/A",null,null,null,null,null,null,null,null,null,null,null,null,{"$f":"MID(Table1[[#This Row],[HSIP Project Number]],4,1)","v":""},"K"]
[2,null,17,null,null,null,null,null,null,{"$f":"MID(Table1[[#This Row],[HSIP Project Number]],1,2)","v":""},{"$f":"MID(Table1[[#This Row],[HSIP Project Number]],4,1)","v":""},null,null,null,null,null,null,null,null,null,null,null,null,null,"Choose from Project List in cell I2",null,"N/A","N/A","N/A","N/A","N/A","N/A","N/A","N/A","N/A"]
[1,null,18,null,null,null,null,null,null,{"$f":"MID(Table1[[#This Row],[HSIP Project Number]],1,2)","v":""},{"$f":"MID(Table1[[#This Row],[HSIP Project Number]],4,1)","v":""},null,null,null,null,null,null,null,null,null,null,null,null,null,"Choose from Project List in cell I2",null,"N/A","N/A","N/A","N/A","N/A","N/A","N/A","N/A","N/A",null,null,null,null,null,null,null,null,null,null,null,null,{"$f":"IF($G22=$A$14,\"N/A\",\"\")","v":""},"P"]
[null,null,19,null,null,null,null,null,null,{"$f":"MID(Table1[[#This Row],[HSIP Project Number]],1,2)","v":""},{"$f":"MID(Table1[[#This Row],[HSIP Project Number]],4,1)","v":""},null,null,null,null,null,null,null,null,null,null,null,null,null,"Choose from Project List in cell I2",null,"N/A","N/A","N/A","N/A","N/A","N/A","N/A","N/A","N/A",null,null,null,null,null,null,null,null,null,null,null,null,{"$f":"IF(OR($G22=$A$13,$G5=$A$15),\"N/A\",\"\")","v":""},"Q"]
["Option",null,20,null,null,null,null,null,null,{"$f":"MID(Table1[[#This Row],[HSIP Project Number]],1,2)","v":""},{"$f":"MID(Table1[[#This Row],[HSIP Project Number]],4,1)","v":""},null,null,null,null,null,null,null,null,null,null,null,null,null,"Choose from Project List in cell I2",null,"N/A","N/A","N/A","N/A","N/A","N/A","N/A","N/A","N/A"]
["Yes",null,21,null,null,null,null,null,null,{"$f":"MID(Table1[[#This Row],[HSIP Project Number]],1,2)","v":""},{"$f":"MID(Table1[[#This Row],[HSIP Project Number]],4,1)","v":""},null,null,null,null,null,null,null,null,null,null,null,null,null,"Choose from Project List in cell I2",null,"N/A","N/A","N/A","N/A","N/A","N/A","N/A","N/A","N/A"]
["No",null,22,null,null,null,null,null,null,{"$f":"MID(Table1[[#This Row],[HSIP Project Number]],1,2)","v":""},{"$f":"MID(Table1[[#This Row],[HSIP Project Number]],4,1)","v":""},null,null,null,null,null,null,null,null,null,null,null,null,null,"Choose from Project List in cell I2",null,"N/A","N/A","N/A","N/A","N/A","N/A","N/A","N/A","N/A"]
["N/A",null,23,null,null,null,null,null,null,{"$f":"MID(Table1[[#This Row],[HSIP Project Number]],1,2)","v":""},{"$f":"MID(Table1[[#This Row],[HSIP Project Number]],4,1)","v":""},null,null,null,null,null,null,null,null,null,null,null,null,null,"Choose from Project List in cell I2",null,"N/A","N/A","N/A","N/A","N/A","N/A","N/A","N/A","N/A"]
[null,null,24,null,null,null,null,null,null,{"$f":"MID(Table1[[#This Row],[HSIP Project Number]],1,2)","v":""},{"$f":"MID(Table1[[#This Row],[HSIP Project Number]],4,1)","v":""},null,null,null,null,null,null,null,null,null,null,null,null,null,"Choose from Project List in cell I2",null,"N/A","N/A","N/A","N/A","N/A","N/A","N/A","N/A","N/A"]
["Formula",null,25,null,null,null,null,null,null,{"$f":"MID(Table1[[#This Row],[HSIP Project Number]],1,2)","v":""},{"$f":"MID(Table1[[#This Row],[HSIP Project Number]],4,1)","v":""},null,null,null,null,null,null,null,null,null,null,null,null,null,"Choose from Project List in cell I2",null,"N/A","N/A","N/A","N/A","N/A","N/A","N/A","N/A","N/A"]
[{"$f":"IF(OR($I$2=$A$7,$I$2=$A$10),$A$41,\"N/A\")","v":"N/A"},null,26,null,null,null,null,null,null,{"$f":"MID(Table1[[#This Row],[HSIP Project Number]],1,2)","v":""},{"$f":"MID(Table1[[#This Row],[HSIP Project Number]],4,1)","v":""},null,null,null,null,null,null,null,null,null,null,null,null,null,"Choose from Project List in cell I2",null,"N/A","N/A","N/A","N/A","N/A","N/A","N/A","N/A","N/A"]
[null,null,27,null,null,null,null,null,null,{"$f":"MID(Table1[[#This Row],[HSIP Project Number]],1,2)","v":""},{"$f":"MID(Table1[[#This Row],[HSIP Project Number]],4,1)","v":""},null,null,null,null,null,null,null,null,null,null,null,null,null,"Choose from Project List in cell I2",null,"N/A","N/A","N/A","N/A","N/A","N/A","N/A","N/A","N/A"]
["FAST",null,28,null,null,null,null,null,null,{"$f":"MID(Table1[[#This Row],[HSIP Project Number]],1,2)","v":""},{"$f":"MID(Table1[[#This Row],[HSIP Project Number]],4,1)","v":""},null,null,null,null,null,null,null,null,null,null,null,null,null,"Choose from Project List in cell I2",null,"N/A","N/A","N/A","N/A","N/A","N/A","N/A","N/A","N/A"]
[{"$f":"IF(OR($I$2=$A$8,$I$2=$A$10),$A$41,\"N/A\")","v":"N/A"},null,29,null,null,null,null,null,null,{"$f":"MID(Table1[[#This Row],[HSIP Project Number]],1,2)","v":""},{"$f":"MID(Table1[[#This Row],[HSIP Project Number]],4,1)","v":""},null,null,null,null,null,null,null,null,null,null,null,null,null,"Choose from Project List in cell I2",null,"N/A","N/A","N/A","N/A","N/A","N/A","N/A","N/A","N/A"]
[null,null,30,null,null,null,null,null,null,{"$f":"MID(Table1[[#This Row],[HSIP Project Number]],1,2)","v":""},{"$f":"MID(Table1[[#This Row],[HSIP Project Number]],4,1)","v":""},null,null,null,null,null,null,null,null,null,null,null,null,null,"Choose from Project List in cell I2",null,"N/A","N/A","N/A","N/A","N/A","N/A","N/A","N/A","N/A"]
["MPOs"]
["AMATS"]
["MVP"]
["FAST"]
[]
["N/A"]
["Insert $ amount or N/A"]
[]
["Criteria3A"]
[5]
[3]
[1]
[]
["Criteria3B"]
[5]
[4]
[3]
[2]
[1]
[]
["N/A"]
["N/A"]

{"sheet":"Region_26","index":1,"n_rows":287,"n_cols":362,"rows_kept":287,"cut":false,"hidden":false,"merged":[[30,27,30,29],[1,2,5,7],[29,2,29,38],[4,21,4,24],[4,40,4,43],[4,64,4,67],[4,75,4,78],[4,86,4,89],[5,21,5,24],[5,40,5,43],[5,64,5,67],[5,75,5,78],[5,86,5,89],[1,21,1,30],[1,40,1,49],[1,64,1,73],[1,75,1,84],[1,86,1,95],[3,21,3,24],[3,40,3,43],[3,64,3,67],[3,75,3,78],[3,86,3,89],[8,21,8,24],[8,64,8,67],[8,75,8,78],[8,86,8,89],[9,21,9,24],[9,40,9,43],[9,64,9,67],[9,75,9,78],[9,86,9,89],[6,21,6,24],[6,40,6,43],[6,64,6,67],[6,75,6,78],[6,86,6,89],[7,21,7,24],[7,40,7,49],[7,64,7,67],[7,75,7,78],[7,86,7,89],[12,75,12,78],[12,86,12,89],[13,21,13,24],[13,40,13,49],[13,64,13,67],[13,75,13,78],[13,86,13,89],[10,75,10,78],[10,86,10,89],[11,21,11,24],[11,40,11,43],[11,64,11,67],[11,75,11,78],[11,86,11,89],[10,57,27,57],[10,58,27,58],[10,59,27,59],[10,60,27,60],[10,61,27,61],[10,64,10,67],[12,64,12,67],[14,64,14,67],[10,21,10,24],[10,40,10,43],[16,86,16,89],[17,21,17,24],[17,40,17,43],[17,64,17,67],[17,75,17,78],[17,86,17,89],[14,75,14,78],[14,86,14,89],[15,21,15,24],[15,40,15,43],[15,64,15,67],[15,75,15,78],[15,86,15,89],[24,21,24,24],[24,64,24,67],[24,75,24,78],[24,86,24,89],[19,13,19,15],[19,21,19,24],[19,64,19,67],[19,75,19,78],[19,86,19,89],[20,3,20,4],[20,5,20,6],[20,7,20,8],[20,9,20,10],[20,11,20,12],[18,2,18,15],[18,21,18,30],[18,64,18,73],[18,75,18,84],[18,86,18,95],[19,3,19,4],[19,5,19,6],[19,7,19,8],[19,9,19,10],[19,11,19,12],[10,51,27,51],[10,54,27,54],[10,55,27,55],[10,56,27,56],[12,21,12,24],[12,40,12,43],[14,21,14,24],[14,40,14,43],[16,21,16,24],[16,40,16,43],[16,64,16,67],[16,75,16,78],[25,86,25,89],[22,21,22,24],[22,64,22,67],[22,75,22,78],[22,86,22,89],[23,21,23,24],[23,64,23,67],[23,75,23,78],[23,86,23,89],[20,13,20,15],[20,21,20,24],[20,64,20,67],[20,75,20,78],[20,86,20,89],[21,21,21,24],[21,64,21,67],[21,75,21,78],[21,86,21,89],[25,21,25,24],[25,64,25,67],[25,75,25,78],[27,152,27,256],[27,257,27,361],[29,40,29,49],[29,51,31,51],[29,52,31,52],[29,53,31,53],[29,54,31,54],[29,55,31,55],[29,56,31,56],[26,21,26,24],[26,64,26,67],[26,75,26,78],[26,86,26,89],[27,3,27,5],[27,40,27,49],[27,64,27,130],[29,327,29,361],[29,133,29,135],[29,136,29,138],[29,139,29,141],[29,142,29,144],[29,145,29,147],[29,148,29,150],[29,65,29,75],[29,76,29,86],[29,87,29,97],[29,98,29,108],[29,109,29,119],[29,120,29,130],[29,57,31,57],[29,58,31,58],[29,59,31,59],[29,60,31,60],[29,61,31,61],[29,62,31,62],[30,10,31,10],[30,11,31,11],[30,12,31,12],[30,13,31,13],[30,14,31,14],[30,15,31,15],[30,2,31,2],[30,3,30,5],[30,6,31,6],[30,7,31,7],[30,8,31,8],[30,9,31,9],[29,152,29,186],[30,70,31,70],[30,71,31,71],[30,46,31,46],[30,47,31,47],[30,48,31,48],[30,49,31,49],[30,64,31,64],[30,65,31,65],[30,90,31,90],[30,91,31,91],[30,92,31,92],[30,93,31,93],[30,94,31,94],[30,95,31,95],[30,84,31,84],[30,85,31,85],[29,187,29,221],[29,222,29,256],[29,257,29,291],[29,292,29,326],[30,40,31,40],[30,41,31,41],[30,42,31,42],[30,43,31,43],[30,44,31,44],[30,45,31,45],[30,31,31,31],[30,32,31,32],[30,34,31,34],[30,36,31,36],[30,37,31,37],[30,38,31,38],[30,16,31,16],[30,17,30,21],[30,22,31,22],[30,23,31,23],[30,24,30,26],[30,30,31,30],[30,72,31,72],[30,73,31,73],[30,74,31,74],[30,75,31,75],[30,76,31,76],[30,77,31,77],[30,66,31,66],[30,67,31,67],[30,68,31,68],[30,69,31,69],[30,86,31,86],[30,87,31,87],[30,88,31,88],[30,89,31,89],[30,78,31,78],[30,79,31,79],[30,80,31,80],[30,81,31,81],[30,82,31,82],[30,83,31,83],[30,108,31,108],[30,109,31,109],[30,110,31,110],[30,111,31,111],[30,112,31,112],[30,113,31,113],[30,102,31,102],[30,103,31,103],[30,104,31,104],[30,105,31,105],[30,106,31,106],[30,107,31,107],[30,96,31,96],[30,97,31,97],[30,98,31,98],[30,99,31,99],[30,100,31,100],[30,101,31,101],[30,126,31,126],[30,127,31,127],[30,128,31,128],[30,129,31,129],[30,130,31,130],[30,132,31,132],[30,120,31,120],[30,121,31,121],[30,122,31,122],[30,123,31,123],[30,124,31,124],[30,125,31,125],[30,114,31,114],[30,115,31,115],[30,116,31,116],[30,117,31,117],[30,118,31,118],[30,119,31,119],[30,145,31,145],[30,146,31,146],[30,147,31,147],[30,148,31,148],[30,149,31,149],[30,150,31,150],[30,139,31,139],[30,140,31,140],[30,141,31,141],[30,142,31,142],[30,143,31,143],[30,144,31,144],[30,133,31,133],[30,134,31,134],[30,135,31,135],[30,136,31,136],[30,137,31,137],[30,138,31,138],[30,187,31,188],[30,189,30,191],[30,192,30,194],[30,195,30,197],[30,198,30,200],[30,201,30,203],[30,169,30,171],[30,172,30,174],[30,175,30,177],[30,178,30,180],[30,181,30,183],[30,184,30,186],[30,152,31,153],[30,154,30,156],[30,157,30,159],[30,160,30,162],[30,163,30,165],[30,166,30,168],[30,239,30,241],[30,242,30,244],[30,245,30,247],[30,248,30,250],[30,251,30,253],[30,254,30,256],[30,222,31,223],[30,224,30,226],[30,227,30,229],[30,230,30,232],[30,233,30,235],[30,236,30,238],[30,204,30,206],[30,207,30,209],[30,210,30,212],[30,213,30,215],[30,216,30,218],[30,219,30,221],[30,292,31,293],[30,294,30,296],[30,297,30,299],[30,300,30,302],[30,303,30,305],[30,306,30,308],[30,274,30,276],[30,277,30,279],[30,280,30,282],[30,283,30,285],[30,286,30,288],[30,289,30,291],[30,257,31,258],[30,259,30,261],[30,262,30,264],[30,265,30,267],[30,268,30,270],[30,271,30,273],[30,344,30,346],[30,347,30,349],[30,350,30,352],[30,353,30,355],[30,356,30,358],[30,359,30,361],[30,327,31,328],[30,329,30,331],[30,332,30,334],[30,335,30,337],[30,338,30,340],[30,341,30,343],[30,309,30,311],[30,312,30,314],[30,315,30,317],[30,318,30,320],[30,321,30,323],[30,324,30,326],[32,51,39,51],[32,19,39,19],[32,20,39,20],[32,21,39,21],[32,22,39,22],[32,31,39,31],[32,13,39,13],[32,14,39,14],[32,15,39,15],[32,16,39,16],[32,17,39,17],[32,18,39,18],[32,7,39,7],[32,8,39,8],[32,9,39,9],[32,10,39,10],[32,11,39,11],[32,12,39,12],[40,7,47,7],[40,8,47,8],[40,9,47,9],[40,10,47,10],[40,11,47,11],[40,12,47,12],[40,1,47,1],[40,2,47,2],[40,3,47,3],[40,4,47,4],[40,5,47,5],[40,6,47,6],[32,32,39,32],[32,34,39,34],[32,36,39,36],[32,37,39,37],[32,38,39,38],[32,1,39,1],[32,2,39,2],[32,3,39,3],[32,4,39,4],[32,5,39,5],[32,6,39,6],[40,32,47,32],[40,34,47,34],[40,36,47,36],[40,37,47,37],[40,38,47,38],[40,51,47,51],[40,19,47,19],[40,20,47,20],[40,21,47,21],[40,22,47,22],[40,31,47,31],[40,13,47,13],[40,14,47,14],[40,15,47,15],[40,16,47,16],[40,17,47,17],[40,18,47,18],[48,51,55,51],[48,19,55,19],[48,20,55,20],[48,21,55,21],[48,22,55,22],[48,31,55,31],[48,13,55,13],[48,14,55,14],[48,15,55,15],[48,16,55,16],[48,17,55,17],[48,18,55,18],[48,32,55,32],[48,34,55,34],[48,36,55,36],[48,37,55,37],[48,38,55,38],[48,7,55,7],[48,8,55,8],[48,9,55,9],[48,10,55,10],[48,11,55,11],[48,12,55,12],[56,7,63,7],[56,8,63,8],[56,9,63,9],[56,10,63,10],[56,11,63,11],[56,12,63,12],[56,1,63,1],[56,2,63,2],[56,3,63,3],[56,4,63,4],[56,5,63,5],[56,6,63,6],[48,1,55,1],[48,2,55,2],[48,3,55,3],[48,4,55,4],[48,5,55,5],[48,6,55,6],[56,32,63,32],[56,34,63,34],[56,36,63,36],[56,37,63,37],[56,38,63,38],[56,51,63,51],[56,19,63,19],[56,20,63,20],[56,21,63,21],[56,22,63,22],[56,31,63,31],[56,13,63,13],[56,14,63,14],[56,15,63,15],[56,16,63,16],[56,17,63,17],[56,18,63,18],[64,51,71,51],[64,19,71,19],[64,20,71,20],[64,21,71,21],[64,22,71,22],[64,31,71,31],[64,13,71,13],[64,14,71,14],[64,15,71,15],[64,16,71,16],[64,17,71,17],[64,18,71,18],[64,7,71,7],[64,8,71,8],[64,9,71,9],[64,10,71,10],[64,11,71,11],[64,12,71,12],[72,7,79,7],[72,8,79,8],[72,9,79,9],[72,10,79,10],[72,11,79,11],[72,12,79,12],[72,1,79,1],[72,2,79,2],[72,3,79,3],[72,4,79,4],[72,5,79,5],[72,6,79,6],[64,32,71,32],[64,34,71,34],[64,36,71,36],[64,37,71,37],[64,38,71,38],[64,1,71,1],[64,2,71,2],[64,3,71,3],[64,4,71,4],[64,5,71,5],[64,6,71,6],[72,32,79,32],[72,34,79,34],[72,36,79,36],[72,37,79,37],[72,38,79,38],[72,51,79,51],[72,19,79,19],[72,20,79,20],[72,21,79,21],[72,22,79,22],[72,31,79,31],[72,13,79,13],[72,14,79,14],[72,15,79,15],[72,16,79,16],[72,17,79,17],[72,18,79,18],[80,51,87,51],[80,19,87,19],[80,20,87,20],[80,21,87,21],[80,22,87,22],[80,31,87,31],[80,13,87,13],[80,14,87,14],[80,15,87,15],[80,16,87,16],[80,17,87,17],[80,18,87,18],[80,32,87,32],[80,34,87,34],[80,36,87,36],[80,37,87,37],[80,38,87,38],[80,7,87,7],[80,8,87,8],[80,9,87,9],[80,10,87,10],[80,11,87,11],[80,12,87,12],[88,7,95,7],[88,8,95,8],[88,9,95,9],[88,10,95,10],[88,11,95,11],[88,12,95,12],[88,1,95,1],[88,2,95,2],[88,3,95,3],[88,4,95,4],[88,5,95,5],[88,6,95,6],[80,1,87,1],[80,2,87,2],[80,3,87,3],[80,4,87,4],[80,5,87,5],[80,6,87,6],[88,32,95,32],[88,34,95,34],[88,36,95,36],[88,37,95,37],[88,38,95,38],[88,51,95,51],[88,19,95,19],[88,20,95,20],[88,21,95,21],[88,22,95,22],[88,31,95,31],[88,13,95,13],[88,14,95,14],[88,15,95,15],[88,16,95,16],[88,17,95,17],[88,18,95,18],[96,51,103,51],[96,19,103,19],[96,20,103,20],[96,21,103,21],[96,22,103,22],[96,31,103,31],[96,13,103,13],[96,14,103,14],[96,15,103,15],[96,16,103,16],[96,17,103,17],[96,18,103,18],[96,7,103,7],[96,8,103,8],[96,9,103,9],[96,10,103,10],[96,11,103,11],[96,12,103,12],[104,7,111,7],[104,8,111,8],[104,9,111,9],[104,10,111,10],[104,11,111,11],[104,12,111,12],[104,1,111,1],[104,2,111,2],[104,3,111,3],[104,4,111,4],[104,5,111,5],[104,6,111,6],[96,32,103,32],[96,34,103,34],[96,36,103,36],[96,37,103,37],[96,38,103,38],[96,1,103,1],[96,2,103,2],[96,3,103,3],[96,4,103,4],[96,5,103,5],[96,6,103,6],[104,32,111,32],[104,34,111,34],[104,36,111,36],[104,37,111,37],[104,38,111,38],[104,51,111,51],[104,19,111,19],[104,20,111,20],[104,21,111,21],[104,22,111,22],[104,31,111,31],[104,13,111,13],[104,14,111,14],[104,15,111,15],[104,16,111,16],[104,17,111,17],[104,18,111,18],[112,51,119,51],[112,19,119,19],[112,20,119,20],[112,21,119,21],[112,22,119,22],[112,31,119,31],[112,13,119,13],[112,14,119,14],[112,15,119,15],[112,16,119,16],[112,17,119,17],[112,18,119,18],[112,32,119,32],[112,34,119,34],[112,36,119,36],[112,37,119,37],[112,38,119,38],[112,7,119,7],[112,8,119,8],[112,9,119,9],[112,10,119,10],[112,11,119,11],[112,12,119,12],[120,7,127,7],[120,8,127,8],[120,9,127,9],[120,10,127,10],[120,11,127,11],[120,12,127,12],[120,1,127,1],[120,2,127,2],[120,3,127,3],[120,4,127,4],[120,5,127,5],[120,6,127,6],[112,1,119,1],[112,2,119,2],[112,3,119,3],[112,4,119,4],[112,5,119,5],[112,6,119,6],[120,32,127,32],[120,34,127,34],[120,36,127,36],[120,37,127,37],[120,38,127,38],[120,51,127,51],[120,19,127,19],[120,20,127,20],[120,21,127,21],[120,22,127,22],[120,31,127,31],[120,13,127,13],[120,14,127,14],[120,15,127,15],[120,16,127,16],[120,17,127,17],[120,18,127,18],[128,51,135,51],[128,19,135,19],[128,20,135,20],[128,21,135,21],[128,22,135,22],[128,31,135,31],[128,13,135,13],[128,14,135,14],[128,15,135,15],[128,16,135,16],[128,17,135,17],[128,18,135,18],[128,7,135,7],[128,8,135,8],[128,9,135,9],[128,10,135,10],[128,11,135,11],[128,12,135,12],[136,7,143,7],[136,8,143,8],[136,9,143,9],[136,10,143,10],[136,11,143,11],[136,12,143,12],[136,1,143,1],[136,2,143,2],[136,3,143,3],[136,4,143,4],[136,5,143,5],[136,6,143,6],[128,32,135,32],[128,34,135,34],[128,36,135,36],[128,37,135,37],[128,38,135,38],[128,1,135,1],[128,2,135,2],[128,3,135,3],[128,4,135,4],[128,5,135,5],[128,6,135,6],[136,32,143,32],[136,34,143,34],[136,36,143,36],[136,37,143,37],[136,38,143,38],[136,51,143,51],[136,19,143,19],[136,20,143,20],[136,21,143,21],[136,22,143,22],[136,31,143,31],[136,13,143,13],[136,14,143,14],[136,15,143,15],[136,16,143,16],[136,17,143,17],[136,18,143,18],[144,51,151,51],[144,19,151,19],[144,20,151,20],[144,21,151,21],[144,22,151,22],[144,31,151,31],[144,13,151,13],[144,14,151,14],[144,15,151,15],[144,16,151,16],[144,17,151,17],[144,18,151,18],[144,32,151,32],[144,34,151,34],[144,36,151,36],[144,37,151,37],[144,38,151,38],[144,7,151,7],[144,8,151,8],[144,9,151,9],[144,10,151,10],[144,11,151,11],[144,12,151,12],[152,7,159,7],[152,8,159,8],[152,9,159,9],[152,10,159,10],[152,11,159,11],[152,12,159,12],[152,1,159,1],[152,2,159,2],[152,3,159,3],[152,4,159,4],[152,5,159,5],[152,6,159,6],[144,1,151,1],[144,2,151,2],[144,3,151,3],[144,4,151,4],[144,5,151,5],[144,6,151,6],[152,32,159,32],[152,34,159,34],[152,36,159,36],[152,37,159,37],[152,38,159,38],[152,51,159,51],[152,19,159,19],[152,20,159,20],[152,21,159,21],[152,22,159,22],[152,31,159,31],[152,13,159,13],[152,14,159,14],[152,15,159,15],[152,16,159,16],[152,17,159,17],[152,18,159,18],[160,51,167,51],[160,19,167,19],[160,20,167,20],[160,21,167,21],[160,22,167,22],[160,31,167,31],[160,13,167,13],[160,14,167,14],[160,15,167,15],[160,16,167,16],[160,17,167,17],[160,18,167,18],[160,7,167,7],[160,8,167,8],[160,9,167,9],[160,10,167,10],[160,11,167,11],[160,12,167,12],[168,7,175,7],[168,8,175,8],[168,9,175,9],[168,10,175,10],[168,11,175,11],[168,12,175,12],[168,1,175,1],[168,2,175,2],[168,3,175,3],[168,4,175,4],[168,5,175,5],[168,6,175,6],[160,32,167,32],[160,34,167,34],[160,36,167,36],[160,37,167,37],[160,38,167,38],[160,1,167,1],[160,2,167,2],[160,3,167,3],[160,4,167,4],[160,5,167,5],[160,6,167,6],[168,32,175,32],[168,34,175,34],[168,36,175,36],[168,37,175,37],[168,38,175,38],[168,51,175,51],[168,19,175,19],[168,20,175,20],[168,21,175,21],[168,22,175,22],[168,31,175,31],[168,13,175,13],[168,14,175,14],[168,15,175,15],[168,16,175,16],[168,17,175,17],[168,18,175,18],[176,51,183,51],[176,19,183,19],[176,20,183,20],[176,21,183,21],[176,22,183,22],[176,31,183,31],[176,13,183,13],[176,14,183,14],[176,15,183,15],[176,16,183,16],[176,17,183,17],[176,18,183,18],[176,32,183,32],[176,34,183,34],[176,36,183,36],[176,37,183,37],[176,38,183,38],[176,7,183,7],[176,8,183,8],[176,9,183,9],[176,10,183,10],[176,11,183,11],[176,12,183,12],[184,7,191,7],[184,8,191,8],[184,9,191,9],[184,10,191,10],[184,11,191,11],[184,12,191,12],[184,1,191,1],[184,2,191,2],[184,3,191,3],[184,4,191,4],[184,5,191,5],[184,6,191,6],[176,1,183,1],[176,2,183,2],[176,3,183,3],[176,4,183,4],[176,5,183,5],[176,6,183,6],[184,32,191,32],[184,34,191,34],[184,36,191,36],[184,37,191,37],[184,38,191,38],[184,51,191,51],[184,19,191,19],[184,20,191,20],[184,21,191,21],[184,22,191,22],[184,31,191,31],[184,13,191,13],[184,14,191,14],[184,15,191,15],[184,16,191,16],[184,17,191,17],[184,18,191,18],[192,51,199,51],[192,19,199,19],[192,20,199,20],[192,21,199,21],[192,22,199,22],[192,31,199,31],[192,13,199,13],[192,14,199,14],[192,15,199,15],[192,16,199,16],[192,17,199,17],[192,18,199,18],[192,7,199,7],[192,8,199,8],[192,9,199,9],[192,10,199,10],[192,11,199,11],[192,12,199,12],[200,7,207,7],[200,8,207,8],[200,9,207,9],[200,10,207,10],[200,11,207,11],[200,12,207,12],[200,1,207,1],[200,2,207,2],[200,3,207,3],[200,4,207,4],[200,5,207,5],[200,6,207,6],[192,32,199,32],[192,34,199,34],[192,36,199,36],[192,37,199,37],[192,38,199,38],[192,1,199,1],[192,2,199,2],[192,3,199,3],[192,4,199,4],[192,5,199,5],[192,6,199,6],[200,32,207,32],[200,34,207,34],[200,36,207,36],[200,37,207,37],[200,38,207,38],[200,51,207,51],[200,19,207,19],[200,20,207,20],[200,21,207,21],[200,22,207,22],[200,31,207,31]],"merged_total":1382,"flags":["merged_cut"]}
["\"funding\""]
[null,null,{"$f":"_xlfn.CONCAT('Regional Project List Sheet'!$I$2,\" Region HSIP\", CHAR(10), \"FFY \", MID($C$9,3,2))","v":" Region HSIP\nFFY 26"},null,null,null,null,null,null,null,null,null,null,null,null,null,null,null,null,null,null,"XX Approved Funding",null,null,null,null,null,null,null,null,null,null,null,null,null,null,null,null,null,null,"Proposed Funding within MPOs",null,null,null,null,null,null,null,null,null,null,null,null,null,null,null,null,null,null,null,null,null,null,null,"Approved Funding within MPOs",null,null,null,null,null,null,null,null,null,null,"Approved Funding within AMATS (and in TIP)",null,null,null,null,null,null,null,null,null,null,"Approved Funding within MVP (and in TIP)"]
["Yes",null,null,null,null,null,null,null,null,null,null,null,null,null,null,null,null,null,null,null,null,null,null,null,null,{"$f":"$C$9","v":2026},{"$f":"Z3+1","v":2027},{"$f":"AA3+1","v":2028},2029,2030,2031,null,null,null,null,null,null,null,null,null,null,null,null,null,2026,2027,2028,2029,2030,2031,null,null,null,null,null,null,null,null,null,null,null,null,null,null,null,null,null,null,{"$f":"$C$9","v":2026},{"$f":"BQ3+1","v":2027},{"$f":"BR3+1","v":2028},{"$f":"BS3+1","v":2029},{"$f":"BT3+1","v":2030},{"$f":"BU3+1","v":2031},null,null,null,null,null,{"$f":"$C$9","v":2026},{"$f":"CB3+1","v":2027},{"$f":"CC3+1","v":2028},{"$f":"CD3+1","v":2029},{"$f":"CE3+1","v":2030},{"$f":"CF3+1","v":2031},null,null,null,null,null,{"$f":"$C$9","v":2026},{"$f":"CM3+1","v":2027},{"$f":"CN3+1","v":2028},{"$f":"CO3+1","v":2029},{"$f":"CP3+1","v":2030},{"$f":"CQ3+1","v":2031}]
["NO",null,null,null,null,null,null,null,null,null,null,null,null,null,null,null,null,null,null,null,null,"Total:",null,null,null,{"$f":"$EX$281","v":0},{"$f":"GG281","v":0},{"$f":"HP281","v":0},{"$f":"IY281","v":0},{"$f":"KH281","v":0},{"$f":"LQ281","v":0},null,null,null,null,null,null,null,null,null,"Total:",null,null,null,{"$f":"SUM(AS5:AS7)","v":{"$error":"#VALUE!"}},{"$f":"SUM(AT5:AT7)","v":{"$error":"#VALUE!"}},{"$error":"#VALUE!"},{"$error":"#VALUE!"},{"$error":"#VALUE!"},{"$error":"#VALUE!"},null,null,null,null,null,null,null,null,null,null,null,null,null,null,"Total:",null,null,null,{"$f":"SUM(BQ5:BQ7)","v":0},{"$f":"SUM(BR5:BR7)","v":0},0,0,0,0,null,"Total:",null,null,null,{"$f":"SUM(CB5:CB7)","v":0},{"$f":"SUM(CC5:CC7)","v":0},0,0,0,0,null,"Total:",null,null,null,{"$f":"SUM(CM5:CM7)","v":0},{"$f":"SUM(CN5:CN7)","v":0},{"$f":"SUM(CO5:CO7)","v":0},0,0,0]
[null,null,null,null,null,null,null,null,null,null,null,null,null,null,null,null,null,null,null,null,null,"    New:",null,null,null,{"$f":"TRANSPOSE(ED$281:EF$281)*1000","v":{"$error":"#VALUE!"}},{"$f":"TRANSPOSE(EG$281:EI$281)*1000","v":{"$error":"#VALUE!"}},{"$f":"TRANSPOSE(EJ$281:EL$281)*1000","v":{"$error":"#VALUE!"}},{"$f":"TRANSPOSE(EM$281:EO$281)*1000","v":{"$error":"#VALUE!"}},{"$f":"TRANSPOSE(EP$281:ER$281)*1000","v":{"$error":"#VALUE!"}},{"$f":"TRANSPOSE(ES$281:EU$281)*1000","v":{"$error":"#VALUE!"}},null,null,null,null,null,null,null,null,null,"    New:",null,null,null,{"$f":"SUMIF($AH$33:$AH$272,\"<>NO\",$ED$33:$ED$272)*500","v":{"$error":"#VALUE!"}},{"$f":"SUMIF($AH$33:$AH$272,\"<>NO\",$EG$33:$EG$272)*500","v":{"$error":"#VALUE!"}},{"$f":"SUMIF($AH$33:$AH$272,\"<>NO\",$EJ$33:$EJ$272)*500","v":{"$error":"#VALUE!"}},{"$f":"SUMIF($AH$33:$AH$272,\"<>NO\",$EM$33:$EM$272)*500","v":{"$error":"#VALUE!"}},{"$f":"SUMIF($AH$33:$AH$272,\"<>NO\",$EP$33:$EP$272)*500","v":{"$error":"#VALUE!"}},{"$f":"SUMIF($AH$33:$AH$272,\"<>NO\",$ES$33:$ES$272)*500","v":{"$error":"#VALUE!"}},null,null,null,null,null,null,null,null,null,null,null,null,null,null,"    New:",null,null,null,{"$f":"SUMIF($AJ$33:$AJ$272,$A$3,$ED$33:$ED$272)*500","v":0},{"$f":"SUMIF($AJ$33:$AJ$272,$A$3,$EG$33:$EG$272)*500","v":0},{"$f":"SUMIF($AJ$33:$AJ$272,$A$3,$EJ$33:$EJ$272)*500","v":0},{"$f":"SUMIF($AJ$33:$AJ$272,$A$3,$EM$33:$EM$272)*500","v":0},{"$f":"SUMIF($AJ$33:$AJ$272,$A$3,$EP$33:$EP$272)*500","v":0},{"$f":"SUMIF($AJ$33:$AJ$272,$A$3,$ES$33:$ES$272)*500","v":0},null,"    New:",null,null,null,{"$f":"SUMIFS($ED$33:$ED$272,$AJ$33:$AJ$272,$A$3,$AH$33:$AH$272,$A$8)*500","v":0},{"$f":"SUMIFS($EG$33:$EG$272,$AJ$33:$AJ$272,$A$3,$AH$33:$AH$272,$A$8)*500","v":0},{"$f":"SUMIFS($EJ$33:$EJ$272,$AJ$33:$AJ$272,$A$3,$AH$33:$AH$272,$A$8)*500","v":0},{"$f":"SUMIFS($EM$33:$EM$272,$AJ$33:$AJ$272,$A$3,$AH$33:$AH$272,$A$8)*500","v":0},{"$f":"SUMIFS($EP$33:$EP$272,$AJ$33:$AJ$272,$A$3,$AH$33:$AH$272,$A$8)*500","v":0},{"$f":"SUMIFS($ES$33:$ES$272,$AJ$33:$AJ$272,$A$3,$AH$33:$AH$272,$A$8)*500","v":0},null,"    New:",null,null,null,{"$f":"SUMIFS($ED$33:$ED$272,$AJ$33:$AJ$272,$A$3,$AH$33:$AH$272,$A$9)*500","v":0},{"$f":"SUMIFS($EG$33:$EG$272,$AJ$33:$AJ$272,$A$3,$AH$33:$AH$272,$A$9)*500","v":0},{"$f":"SUMIFS($EJ$33:$EJ$272,$AJ$33:$AJ$272,$A$3,$AH$33:$AH$272,$A$9)*500","v":0},{"$f":"SUMIFS($EM$33:$EM$272,$AJ$33:$AJ$272,$A$3,$AH$33:$AH$272,$A$9)*500","v":0},{"$f":"SUMIFS($EP$33:$EP$272,$AJ$33:$AJ$272,$A$3,$AH$33:$AH$272,$A$9)*500","v":0},{"$f":"SUMIFS($ES$33:$ES$272,$AJ$33:$AJ$272,$A$3,$AH$33:$AH$272,$A$9)*500","v":0}]
[null,null,null,null,null,null,null,null,null,null,null,null,null,null,null,null,null,null,null,null,null,"    Funded Old:",null,null,null,{"$error":"#VALUE!"},{"$error":"#VALUE!"},{"$error":"#VALUE!"},{"$error":"#VALUE!"},{"$error":"#VALUE!"},{"$error":"#VALUE!"},null,null,null,null,null,null,null,null,null,"    Funded Old:",null,null,null,{"$f":"SUMIF($AH$33:$AH$272,\"<>NO\",$EE$33:$EE$272)*500","v":{"$error":"#VALUE!"}},{"$f":"SUMIF($AH$33:$AH$272,\"<>NO\",$EH$33:$EH$272)*500","v":{"$error":"#VALUE!"}},{"$f":"SUMIF($AH$33:$AH$272,\"<>NO\",$EK$33:$EK$272)*500","v":{"$error":"#VALUE!"}},{"$f":"SUMIF($AH$33:$AH$272,\"<>NO\",$EN$33:$EN$272)*500","v":{"$error":"#VALUE!"}},{"$f":"SUMIF($AH$33:$AH$272,\"<>NO\",$EQ$33:$EQ$272)*500","v":{"$error":"#VALUE!"}},{"$f":"SUMIF($AH$33:$AH$272,\"<>NO\",$ET$33:$ET$272)*500","v":{"$error":"#VALUE!"}},null,null,null,null,null,null,null,null,null,null,null,null,null,null,"    Funded Old:",null,null,null,{"$f":"SUMIF($AJ$33:$AJ$272,$A$3,$EE$33:$EE$272)*500","v":0},{"$f":"SUMIF($AJ$33:$AJ$272,$A$3,$EH$33:$EH$272)*500","v":0},{"$f":"SUMIF($AJ$33:$AJ$272,$A$3,$EK$33:$EK$272)*500","v":0},{"$f":"SUMIF($AJ$33:$AJ$272,$A$3,$EN$33:$EN$272)*500","v":0},{"$f":"SUMIF($AJ$33:$AJ$272,$A$3,$EQ$33:$EQ$272)*500","v":0},{"$f":"SUMIF($AJ$33:$AJ$272,$A$3,$ET$33:$ET$272)*500","v":0},null,"    Funded Old:",null,null,null,{"$f":"SUMIFS($EE$33:$EE$272,$AJ$33:$AJ$272,$A$3,$AH$33:$AH$272,$A$8)*500","v":0},{"$f":"SUMIFS($EH$33:$EH$272,$AJ$33:$AJ$272,$A$3,$AH$33:$AH$272,$A$8)*500","v":0},{"$f":"SUMIFS($EK$33:$EK$272,$AJ$33:$AJ$272,$A$3,$AH$33:$AH$272,$A$8)*500","v":0},{"$f":"SUMIFS($EN$33:$EN$272,$AJ$33:$AJ$272,$A$3,$AH$33:$AH$272,$A$8)*500","v":0},{"$f":"SUMIFS($EQ$33:$EQ$272,$AJ$33:$AJ$272,$A$3,$AH$33:$AH$272,$A$8)*500","v":0},{"$f":"SUMIFS($ET$33:$ET$272,$AJ$33:$AJ$272,$A$3,$AH$33:$AH$272,$A$8)*500","v":0},null,"    Funded Old:",null,null,null,{"$f":"SUMIFS($EE$33:$EE$272,$AJ$33:$AJ$272,$A$3,$AH$33:$AH$272,$A$9)*500","v":0},{"$f":"SUMIFS($EH$33:$EH$272,$AJ$33:$AJ$272,$A$3,$AH$33:$AH$272,$A$9)*500","v":0},{"$f":"SUMIFS($EK$33:$EK$272,$AJ$33:$AJ$272,$A$3,$AH$33:$AH$272,$A$9)*500","v":0},{"$f":"SUMIFS($EN$33:$EN$272,$AJ$33:$AJ$272,$A$3,$AH$33:$AH$272,$A$9)*500","v":0},{"$f":"SUMIFS($EQ$33:$EQ$272,$AJ$33:$AJ$272,$A$3,$AH$33:$AH$272,$A$9)*500","v":0},{"$f":"SUMIFS($ET$33:$ET$272,$AJ$33:$AJ$272,$A$3,$AH$33:$AH$272,$A$9)*500","v":0}]
["N/A",null,null,null,null,null,null,null,null,null,null,null,null,null,null,null,null,null,null,null,null,"    Unfunded Old:",null,null,null,{"$error":"#VALUE!"},{"$error":"#VALUE!"},{"$error":"#VALUE!"},{"$error":"#VALUE!"},{"$error":"#VALUE!"},{"$error":"#VALUE!"},null,null,null,null,null,null,null,null,null,"    Unfunded Old:",null,null,null,{"$f":"SUMIF($AH$33:$AH$272,\"<>NO\",$EF$33:$EF$272)*500","v":{"$error":"#VALUE!"}},{"$f":"SUMIF($AH$33:$AH$272,\"<>NO\",$EI$33:$EI$272)*500","v":{"$error":"#VALUE!"}},{"$f":"SUMIF($AH$33:$AH$272,\"<>NO\",$EL$33:$EL$272)*500","v":{"$error":"#VALUE!"}},{"$f":"SUMIF($AH$33:$AH$272,\"<>NO\",$EO$33:$EO$272)*500","v":{"$error":"#VALUE!"}},{"$f":"SUMIF($AH$33:$AH$272,\"<>NO\",$ER$33:$ER$272)*500","v":{"$error":"#VALUE!"}},{"$f":"SUMIF($AH$33:$AH$272,\"<>NO\",$EU$33:$EU$272)*500","v":{"$error":"#VALUE!"}},null,null,null,null,null,null,null,null,null,null,null,null,null,null,"    Unfunded Old:",null,null,null,{"$f":"SUMIF($AJ$33:$AJ$272,$A$3,$EF$33:$EF$272)*500","v":0},{"$f":"SUMIF($AJ$33:$AJ$272,$A$3,$EI$33:$EI$272)*500","v":0},{"$f":"SUMIF($AJ$33:$AJ$272,$A$3,$EL$33:$EL$272)*500","v":0},{"$f":"SUMIF($AJ$33:$AJ$272,$A$3,$EO$33:$EO$272)*500","v":0},{"$f":"SUMIF($AJ$33:$AJ$272,$A$3,$ER$33:$ER$272)*500","v":0},{"$f":"SUMIF($AJ$33:$AJ$272,$A$3,$EU$33:$EU$272)*500","v":0},null,"    Unfunded Old:",null,null,null,{"$f":"SUMIFS($EF$33:$EF$272,$AJ$33:$AJ$272,$A$3,$AH$33:$AH$272,$A$8)*500","v":0},{"$f":"SUMIFS($EI$33:$EI$272,$AJ$33:$AJ$272,$A$3,$AH$33:$AH$272,$A$8)*500","v":0},{"$f":"SUMIFS($EL$33:$EL$272,$AJ$33:$AJ$272,$A$3,$AH$33:$AH$272,$A$8)*500","v":0},{"$f":"SUMIFS($EO$33:$EO$272,$AJ$33:$AJ$272,$A$3,$AH$33:$AH$272,$A$8)*500","v":0},{"$f":"SUMIFS($ER$33:$ER$272,$AJ$33:$AJ$272,$A$3,$AH$33:$AH$272,$A$8)*500","v":0},{"$f":"SUMIFS($EU$33:$EU$272,$AJ$33:$AJ$272,$A$3,$AH$33:$AH$272,$A$8)*500","v":0},null,"    Unfunded Old:",null,null,null,{"$f":"SUMIFS($EF$33:$EF$272,$AJ$33:$AJ$272,$A$3,$AH$33:$AH$272,$A$9)*500","v":0},{"$f":"SUMIFS($EI$33:$EI$272,$AJ$33:$AJ$272,$A$3,$AH$33:$AH$272,$A$9)*500","v":0},{"$f":"SUMIFS($EL$33:$EL$272,$AJ$33:$AJ$272,$A$3,$AH$33:$AH$272,$A$9)*500","v":0},{"$f":"SUMIFS($EO$33:$EO$272,$AJ$33:$AJ$272,$A$3,$AH$33:$AH$272,$A$9)*500","v":0},{"$f":"SUMIFS($ER$33:$ER$272,$AJ$33:$AJ$272,$A$3,$AH$33:$AH$272,$A$9)*500","v":0},{"$f":"SUMIFS($EU$33:$EU$272,$AJ$33:$AJ$272,$A$3,$AH$33:$AH$272,$A$9)*500","v":0}]
["AMATS",null,"Fiscal Year:",null,null,null,null,null,null,null,null,null,null,null,null,null,null,null,null,null,null,"S120 (Increased Federal)",null,null,null,{"$f":"EY287*1000","v":{"$error":"#VALUE!"}},{"$f":"GH287*1000","v":{"$error":"#VALUE!"}},{"$f":"HQ287*1000","v":{"$error":"#VALUE!"}},{"$f":"IZ287*1000","v":{"$error":"#VALUE!"}},{"$f":"KI287*1000","v":{"$error":"#VALUE!"}},{"$f":"LR287*1000","v":{"$error":"#VALUE!"}},null,null,null,null,null,null,null,null,null,"AMATS",null,null,null,null,null,null,null,null,null,null,null,null,null,null,null,null,null,null,null,null,null,null,null,"S120 (Increased Federal)",null,null,null,{"$f":"(SUMIF($AJ$33:$AJ$272,$A$3,$EY$33:$EY$272)+SUMIF($AJ$33:$AJ$272,$A$3,$EZ$33:$EZ$272)+SUMIF($AJ$33:$AJ$272,$A$3,$FA$33:$FA$272))*500","v":0},{"$f":"(SUMIF($AJ$33:$AJ$272,$A$3,$GH$33:$GH$272)+SUMIF($AJ$33:$AJ$272,$A$3,$GI$33:$GI$272)+SUMIF($AJ$33:$AJ$272,$A$3,$GJ$33:$GJ$272))*500","v":0},{"$f":"(SUMIF($AJ$33:$AJ$272,$A$3,$HQ$33:$HQ$272)+SUMIF($AJ$33:$AJ$272,$A$3,$HR$33:$HR$272)+SUMIF($AJ$33:$AJ$272,$A$3,$HS$33:$HS$272))*500","v":0},{"$f":"(SUMIF($AJ$33:$AJ$272,$A$3,$IZ$33:$IZ$272)+SUMIF($AJ$33:$AJ$272,$A$3,$JA$33:$JA$272)+SUMIF($AJ$33:$AJ$272,$A$3,$JB$33:$JB$272))*500","v":0},{"$f":"(SUMIF($AJ$33:$AJ$272,$A$3,$KI$33:$KI$272)+SUMIF($AJ$33:$AJ$272,$A$3,$KJ$33:$KJ$272)+SUMIF($AJ$33:$AJ$272,$A$3,$KK$33:$KK$272))*500","v":0},{"$f":"(SUMIF($AJ$33:$AJ$272,$A$3,$LR$33:$LR$272)+SUMIF($AJ$33:$AJ$272,$A$3,$LS$33:$LS$272)+SUMIF($AJ$33:$AJ$272,$A$3,$LT$33:$LT$272))*500","v":0},null,"S120 (Increased Federal)",null,null,null,{"$f":"(SUMIFS($EY$33:$EY$272,$AJ$33:$AJ$272,$A$3,$AH$33:$AH$272,$A$8)+SUMIFS($EZ$33:$EZ$272,$AJ$33:$AJ$272,$A$3,$AH$33:$AH$272,$A$8)+SUMIFS($FA$33:$FA$272,$AJ$33:$AJ$272,$A$3,$AH$33:$AH$272,$A$8))*500","v":0},{"$f":"(SUMIFS($GH$33:$GH$272,$AJ$33:$AJ$272,$A$3,$AH$33:$AH$272,$A$8)+SUMIFS($GI$33:$GI$272,$AJ$33:$AJ$272,$A$3,$AH$33:$AH$272,$A$8)+SUMIFS($GJ$33:$GJ$272,$AJ$33:$AJ$272,$A$3,$AH$33:$AH$272,$A$8))*500","v":0},{"$f":"(SUMIFS($HQ$33:$HQ$272,$AJ$33:$AJ$272,$A$3,$AH$33:$AH$272,$A$8)+SUMIFS($HR$33:$HR$272,$AJ$33:$AJ$272,$A$3,$AH$33:$AH$272,$A$8)+SUMIFS($HS$33:$HS$272,$AJ$33:$AJ$272,$A$3,$AH$33:$AH$272,$A$8))*500","v":0},{"$f":"(SUMIFS($IZ$33:$IZ$272,$AJ$33:$AJ$272,$A$3,$AH$33:$AH$272,$A$8)+SUMIFS($JA$33:$JA$272,$AJ$33:$AJ$272,$A$3,$AH$33:$AH$272,$A$8)+SUMIFS($JB$33:$JB$272,$AJ$33:$AJ$272,$A$3,$AH$33:$AH$272,$A$8))*500","v":0},{"$f":"(SUMIFS($KI$33:$KI$272,$AJ$33:$AJ$272,$A$3,$AH$33:$AH$272,$A$8)+SUMIFS($KJ$33:$KJ$272,$AJ$33:$AJ$272,$A$3,$AH$33:$AH$272,$A$8)+SUMIFS($KK$33:$KK$272,$AJ$33:$AJ$272,$A$3,$AH$33:$AH$272,$A$8))*500","v":0},{"$f":"(SUMIFS($LR$33:$LR$272,$AJ$33:$AJ$272,$A$3,$AH$33:$AH$272,$A$8)+SUMIFS($LS$33:$LS$272,$AJ$33:$AJ$272,$A$3,$AH$33:$AH$272,$A$8)+SUMIFS($LT$33:$LT$272,$AJ$33:$AJ$272,$A$3,$AH$33:$AH$272,$A$8))*500","v":0},null,"S120 (Increased Federal)",null,null,null,{"$f":"(SUMIFS($EY$33:$EY$272,$AJ$33:$AJ$272,$A$3,$AH$33:$AH$272,$A$9)+SUMIFS($EZ$33:$EZ$272,$AJ$33:$AJ$272,$A$3,$AH$33:$AH$272,$A$9)+SUMIFS($FA$33:$FA$272,$AJ$33:$AJ$272,$A$3,$AH$33:$AH$272,$A$9))*500","v":0},{"$f":"(SUMIFS($GH$33:$GH$272,$AJ$33:$AJ$272,$A$3,$AH$33:$AH$272,$A$9)+SUMIFS($GI$33:$GI$272,$AJ$33:$AJ$272,$A$3,$AH$33:$AH$272,$A$9)+SUMIFS($GJ$33:$GJ$272,$AJ$33:$AJ$272,$A$3,$AH$33:$AH$272,$A$9))*500","v":0},{"$f":"(SUMIFS($HQ$33:$HQ$272,$AJ$33:$AJ$272,$A$3,$AH$33:$AH$272,$A$9)+SUMIFS($HR$33:$HR$272,$AJ$33:$AJ$272,$A$3,$AH$33:$AH$272,$A$9)+SUMIFS($HS$33:$HS$272,$AJ$33:$AJ$272,$A$3,$AH$33:$AH$272,$A$9))*500","v":0},{"$f":"(SUMIFS($IZ$33:$IZ$272,$AJ$33:$AJ$272,$A$3,$AH$33:$AH$272,$A$9)+SUMIFS($JA$33:$JA$272,$AJ$33:$AJ$272,$A$3,$AH$33:$AH$272,$A$9)+SUMIFS($JB$33:$JB$272,$AJ$33:$AJ$272,$A$3,$AH$33:$AH$272,$A$9))*500","v":0},{"$f":"(SUMIFS($KI$33:$KI$272,$AJ$33:$AJ$272,$A$3,$AH$33:$AH$272,$A$9)+SUMIFS($KJ$33:$KJ$272,$AJ$33:$AJ$272,$A$3,$AH$33:$AH$272,$A$9)+SUMIFS($KK$33:$KK$272,$AJ$33:$AJ$272,$A$3,$AH$33:$AH$272,$A$9))*500","v":0},{"$f":"(SUMIFS($LR$33:$LR$272,$AJ$33:$AJ$272,$A$3,$AH$33:$AH$272,$A$9)+SUMIFS($LS$33:$LS$272,$AJ$33:$AJ$272,$A$3,$AH$33:$AH$272,$A$9)+SUMIFS($LT$33:$LT$272,$AJ$33:$AJ$272,$A$3,$AH$33:$AH$272,$A$9))*500","v":0}]
["MVP",null,2026,null,null,null,null,null,null,null,null,null,null,null,null,null,null,null,null,null,null,"S130 (Railroad Crossings)",null,null,null,{"$f":"FB287*1000","v":{"$error":"#VALUE!"}},{"$f":"GK287*1000","v":{"$error":"#VALUE!"}},{"$f":"HT287*1000","v":{"$error":"#VALUE!"}},{"$f":"JC287*1000","v":{"$error":"#VALUE!"}},{"$f":"KL287*1000","v":{"$error":"#VALUE!"}},{"$f":"LU287*1000","v":{"$error":"#VALUE!"}},null,null,null,null,null,null,null,null,null,null,null,null,null,2026,2027,2028,2029,2030,2031,null,null,null,null,null,null,null,null,null,null,null,null,null,null,"S130 (Railroad Crossings)",null,null,null,{"$f":"(SUMIF($AJ$33:$AJ$272,$A$3,$FB$33:$FB$272)+SUMIF($AJ$33:$AJ$272,$A$3,$FC$33:$FC$272)+SUMIF($AJ$33:$AJ$272,$A$3,$FD$33:$FD$272))*500","v":0},{"$f":"(SUMIF($AJ$33:$AJ$272,$A$3,$GK$33:$GK$272)+SUMIF($AJ$33:$AJ$272,$A$3,$GL$33:$GL$272)+SUMIF($AJ$33:$AJ$272,$A$3,$GM$33:$GM$272))*500","v":0},{"$f":"(SUMIF($AJ$33:$AJ$272,$A$3,$HT$33:$HT$272)+SUMIF($AJ$33:$AJ$272,$A$3,$HU$33:$HU$272)+SUMIF($AJ$33:$AJ$272,$A$3,$HV$33:$HV$272))*500","v":0},{"$f":"(SUMIF($AJ$33:$AJ$272,$A$3,$JC$33:$JC$272)+SUMIF($AJ$33:$AJ$272,$A$3,$JD$33:$JD$272)+SUMIF($AJ$33:$AJ$272,$A$3,$JE$33:$JE$272))*500","v":0},{"$f":"(SUMIF($AJ$33:$AJ$272,$A$3,$KL$33:$KL$272)+SUMIF($AJ$33:$AJ$272,$A$3,$KM$33:$KM$272)+SUMIF($AJ$33:$AJ$272,$A$3,$KN$33:$KN$272))*500","v":0},{"$f":"(SUMIF($AJ$33:$AJ$272,$A$3,$LU$33:$LU$272)+SUMIF($AJ$33:$AJ$272,$A$3,$LV$33:$LV$272)+SUMIF($AJ$33:$AJ$272,$A$3,$LW$33:$LW$272))*500","v":0},null,"S130 (Railroad Crossings)",null,null,null,{"$f":"(SUMIFS($FB$33:$FB$272,$AJ$33:$AJ$272,$A$3,$AH$33:$AH$272,$A$8)+SUMIFS($FC$33:$FC$272,$AJ$33:$AJ$272,$A$3,$AH$33:$AH$272,$A$8)+SUMIFS($FD$33:$FD$272,$AJ$33:$AJ$272,$A$3,$AH$33:$AH$272,$A$8))*500","v":0},{"$f":"(SUMIFS($GK$33:$GK$272,$AJ$33:$AJ$272,$A$3,$AH$33:$AH$272,$A$8)+SUMIFS($GL$33:$GL$272,$AJ$33:$AJ$272,$A$3,$AH$33:$AH$272,$A$8)+SUMIFS($GM$33:$GM$272,$AJ$33:$AJ$272,$A$3,$AH$33:$AH$272,$A$8))*500","v":0},{"$f":"(SUMIFS($HT$33:$HT$272,$AJ$33:$AJ$272,$A$3,$AH$33:$AH$272,$A$8)+SUMIFS($HU$33:$HU$272,$AJ$33:$AJ$272,$A$3,$AH$33:$AH$272,$A$8)+SUMIFS($HV$33:$HV$272,$AJ$33:$AJ$272,$A$3,$AH$33:$AH$272,$A$8))*500","v":0},{"$f":"(SUMIFS($JC$33:$JC$272,$AJ$33:$AJ$272,$A$3,$AH$33:$AH$272,$A$8)+SUMIFS($JD$33:$JD$272,$AJ$33:$AJ$272,$A$3,$AH$33:$AH$272,$A$8)+SUMIFS($JE$33:$JE$272,$AJ$33:$AJ$272,$A$3,$AH$33:$AH$272,$A$8))*500","v":0},{"$f":"(SUMIFS($KL$33:$KL$272,$AJ$33:$AJ$272,$A$3,$AH$33:$AH$272,$A$8)+SUMIFS($KM$33:$KM$272,$AJ$33:$AJ$272,$A$3,$AH$33:$AH$272,$A$8)+SUMIFS($KN$33:$KN$272,$AJ$33:$AJ$272,$A$3,$AH$33:$AH$272,$A$8))*500","v":0},{"$f":"(SUMIFS($LU$33:$LU$272,$AJ$33:$AJ$272,$A$3,$AH$33:$AH$272,$A$8)+SUMIFS($LV$33:$LV$272,$AJ$33:$AJ$272,$A$3,$AH$33:$AH$272,$A$8)+SUMIFS($LW$33:$LW$272,$AJ$33:$AJ$272,$A$3,$AH$33:$AH$272,$A$8))*500","v":0},null,"S130 (Railroad Crossings)",null,null,null,{"$f":"(SUMIFS($FB$33:$FB$272,$AJ$33:$AJ$272,$A$3,$AH$33:$AH$272,$A$9)+SUMIFS($FC$33:$FC$272,$AJ$33:$AJ$272,$A$3,$AH$33:$AH$272,$A$9)+SUMIFS($FD$33:$FD$272,$AJ$33:$AJ$272,$A$3,$AH$33:$AH$272,$A$9))*500","v":0},{"$f":"(SUMIFS($GK$33:$GK$272,$AJ$33:$AJ$272,$A$3,$AH$33:$AH$272,$A$9)+SUMIFS($GL$33:$GL$272,$AJ$33:$AJ$272,$A$3,$AH$33:$AH$272,$A$9)+SUMIFS($GM$33:$GM$272,$AJ$33:$AJ$272,$A$3,$AH$33:$AH$272,$A$9))*500","v":0},{"$f":"(SUMIFS($HT$33:$HT$272,$AJ$33:$AJ$272,$A$3,$AH$33:$AH$272,$A$9)+SUMIFS($HU$33:$HU$272,$AJ$33:$AJ$272,$A$3,$AH$33:$AH$272,$A$9)+SUMIFS($HV$33:$HV$272,$AJ$33:$AJ$272,$A$3,$AH$33:$AH$272,$A$9))*500","v":0},{"$f":"(SUMIFS($JC$33:$JC$272,$AJ$33:$AJ$272,$A$3,$AH$33:$AH$272,$A$9)+SUMIFS($JD$33:$JD$272,$AJ$33:$AJ$272,$A$3,$AH$33:$AH$272,$A$9)+SUMIFS($JE$33:$JE$272,$AJ$33:$AJ$272,$A$3,$AH$33:$AH$272,$A$9))*500","v":0},{"$f":"(SUMIFS($KL$33:$KL$272,$AJ$33:$AJ$272,$A$3,$AH$33:$AH$272,$A$9)+SUMIFS($KM$33:$KM$272,$AJ$33:$AJ$272,$A$3,$AH$33:$AH$272,$A$9)+SUMIFS($KN$33:$KN$272,$AJ$33:$AJ$272,$A$3,$AH$33:$AH$272,$A$9))*500","v":0},{"$f":"(SUMIFS($LU$33:$LU$272,$AJ$33:$AJ$272,$A$3,$AH$33:$AH$272,$A$9)+SUMIFS($LV$33:$LV$272,$AJ$33:$AJ$272,$A$3,$AH$33:$AH$272,$A$9)+SUMIFS($LW$33:$LW$272,$AJ$33:$AJ$272,$A$3,$AH$33:$AH$272,$A$9))*500","v":0}]
["AMATS & MVP",null,null,null,null,null,null,null,null,null,null,null,null,null,null,null,null,null,null,null,null,"S148 (UnCategorized HSIP Funds)",null,null,null,{"$f":"FE287*1000","v":{"$error":"#VALUE!"}},{"$f":"GN287*1000","v":{"$error":"#VALUE!"}},{"$f":"HW287*1000","v":{"$error":"#VALUE!"}},{"$f":"JF287*1000","v":{"$error":"#VALUE!"}},{"$f":"KO287*1000","v":{"$error":"#VALUE!"}},{"$f":"LX287*1000","v":{"$error":"#VALUE!"}},null,null,null,null,null,null,null,null,null,"Total:",null,null,null,{"$f":"SUM(AS11:AS13)","v":0},{"$f":"SUM(AT11:AT13)","v":0},0,0,0,0,null,null,null,null,null,null,null,null,null,null,null,null,null,null,"S148 (UnCategorized HSIP Funds)",null,null,null,{"$f":"(SUMIF($AJ$33:$AJ$272,$A$3,$FE$33:$FE$272)+SUMIF($AJ$33:$AJ$272,$A$3,$FF$33:$FF$272)+SUMIF($AJ$33:$AJ$272,$A$3,$FG$33:$FG$272))*500","v":0},{"$f":"(SUMIF($AJ$33:$AJ$272,$A$3,$GN$33:$GN$272)+SUMIF($AJ$33:$AJ$272,$A$3,$GO$33:$GO$272)+SUMIF($AJ$33:$AJ$272,$A$3,$GP$33:$GP$272))*500","v":0},{"$f":"(SUMIF($AJ$33:$AJ$272,$A$3,$HW$33:$HW$272)+SUMIF($AJ$33:$AJ$272,$A$3,$HX$33:$HX$272)+SUMIF($AJ$33:$AJ$272,$A$3,$HY$33:$HY$272))*500","v":0},{"$f":"(SUMIF($AJ$33:$AJ$272,$A$3,$JF$33:$JF$272)+SUMIF($AJ$33:$AJ$272,$A$3,$JG$33:$JG$272)+SUMIF($AJ$33:$AJ$272,$A$3,$JH$33:$JH$272))*500","v":0},{"$f":"(SUMIF($AJ$33:$AJ$272,$A$3,$KO$33:$KO$272)+SUMIF($AJ$33:$AJ$272,$A$3,$KP$33:$KP$272)+SUMIF($AJ$33:$AJ$272,$A$3,$KQ$33:$KQ$272))*500","v":0},{"$f":"(SUMIF($AJ$33:$AJ$272,$A$3,$LX$33:$LX$272)+SUMIF($AJ$33:$AJ$272,$A$3,$LY$33:$LY$272)+SUMIF($AJ$33:$AJ$272,$A$3,$LZ$33:$LZ$272))*500","v":0},null,"S148 (UnCategorized HSIP Funds)",null,null,null,{"$f":"(SUMIFS($FE$33:$FE$272,$AJ$33:$AJ$272,$A$3,$AH$33:$AH$272,$A$8)+SUMIFS($FF$33:$FF$272,$AJ$33:$AJ$272,$A$3,$AH$33:$AH$272,$A$8)+SUMIFS($FG$33:$FG$272,$AJ$33:$AJ$272,$A$3,$AH$33:$AH$272,$A$8))*500","v":0},{"$f":"(SUMIFS($GN$33:$GN$272,$AJ$33:$AJ$272,$A$3,$AH$33:$AH$272,$A$8)+SUMIFS($GO$33:$GO$272,$AJ$33:$AJ$272,$A$3,$AH$33:$AH$272,$A$8)+SUMIFS($GP$33:$GP$272,$AJ$33:$AJ$272,$A$3,$AH$33:$AH$272,$A$8))*500","v":0},{"$f":"(SUMIFS($HW$33:$HW$272,$AJ$33:$AJ$272,$A$3,$AH$33:$AH$272,$A$8)+SUMIFS($HX$33:$HX$272,$AJ$33:$AJ$272,$A$3,$AH$33:$AH$272,$A$8)+SUMIFS($HY$33:$HY$272,$AJ$33:$AJ$272,$A$3,$AH$33:$AH$272,$A$8))*500","v":0},{"$f":"(SUMIFS($JF$33:$JF$272,$AJ$33:$AJ$272,$A$3,$AH$33:$AH$272,$A$8)+SUMIFS($JG$33:$JG$272,$AJ$33:$AJ$272,$A$3,$AH$33:$AH$272,$A$8)+SUMIFS($JH$33:$JH$272,$AJ$33:$AJ$272,$A$3,$AH$33:$AH$272,$A$8))*500","v":0},{"$f":"(SUMIFS($KO$33:$KO$272,$AJ$33:$AJ$272,$A$3,$AH$33:$AH$272,$A$8)+SUMIFS($KP$33:$KP$272,$AJ$33:$AJ$272,$A$3,$AH$33:$AH$272,$A$8)+SUMIFS($KQ$33:$KQ$272,$AJ$33:$AJ$272,$A$3,$AH$33:$AH$272,$A$8))*500","v":0},{"$f":"(SUMIFS($LX$33:$LX$272,$AJ$33:$AJ$272,$A$3,$AH$33:$AH$272,$A$8)+SUMIFS($LY$33:$LY$272,$AJ$33:$AJ$272,$A$3,$AH$33:$AH$272,$A$8)+SUMIFS($LZ$33:$LZ$272,$AJ$33:$AJ$272,$A$3,$AH$33:$AH$272,$A$8))*500","v":0},null,"S148 (UnCategorized HSIP Funds)",null,null,null,{"$f":"(SUMIFS($FE$33:$FE$272,$AJ$33:$AJ$272,$A$3,$AH$33:$AH$272,$A$9)+SUMIFS($FF$33:$FF$272,$AJ$33:$AJ$272,$A$3,$AH$33:$AH$272,$A$9)+SUMIFS($FG$33:$FG$272,$AJ$33:$AJ$272,$A$3,$AH$33:$AH$272,$A$9))*500","v":0},{"$f":"(SUMIFS($GN$33:$GN$272,$AJ$33:$AJ$272,$A$3,$AH$33:$AH$272,$A$9)+SUMIFS($GO$33:$GO$272,$AJ$33:$AJ$272,$A$3,$AH$33:$AH$272,$A$9)+SUMIFS($GP$33:$GP$272,$AJ$33:$AJ$272,$A$3,$AH$33:$AH$272,$A$9))*500","v":0},{"$f":"(SUMIFS($HW$33:$HW$272,$AJ$33:$AJ$272,$A$3,$AH$33:$AH$272,$A$9)+SUMIFS($HX$33:$HX$272,$AJ$33:$AJ$272,$A$3,$AH$33:$AH$272,$A$9)+SUMIFS($HY$33:$HY$272,$AJ$33:$AJ$272,$A$3,$AH$33:$AH$272,$A$9))*500","v":0},{"$f":"(SUMIFS($JF$33:$JF$272,$AJ$33:$AJ$272,$A$3,$AH$33:$AH$272,$A$9)+SUMIFS($JG$33:$JG$272,$AJ$33:$AJ$272,$A$3,$AH$33:$AH$272,$A$9)+SUMIFS($JH$33:$JH$272,$AJ$33:$AJ$272,$A$3,$AH$33:$AH$272,$A$9))*500","v":0},{"$f":"(SUMIFS($KO$33:$KO$272,$AJ$33:$AJ$272,$A$3,$AH$33:$AH$272,$A$9)+SUMIFS($KP$33:$KP$272,$AJ$33:$AJ$272,$A$3,$AH$33:$AH$272,$A$9)+SUMIFS($KQ$33:$KQ$272,$AJ$33:$AJ$272,$A$3,$AH$33:$AH$272,$A$9))*500","v":0},{"$f":"(SUMIFS($LX$33:$LX$272,$AJ$33:$AJ$272,$A$3,$AH$33:$AH$272,$A$9)+SUMIFS($LY$33:$LY$272,$AJ$33:$AJ$272,$A$3,$AH$33:$AH$272,$A$9)+SUMIFS($LZ$33:$LZ$272,$AJ$33:$AJ$272,$A$3,$AH$33:$AH$272,$A$9))*500","v":0}]
["FAST",null,null,null,null,null,null,null,null,null,null,null,null,null,null,null,null,null,null,null,null,"S154 (FHWA Sanction - Open Containers)",null,null,null,{"$f":"FH287*1000","v":{"$error":"#VALUE!"}},{"$f":"GQ287*1000","v":{"$error":"#VALUE!"}},{"$f":"HZ287*1000","v":{"$error":"#VALUE!"}},{"$f":"JI287*1000","v":{"$error":"#VALUE!"}},{"$f":"KR287*1000","v":{"$error":"#VALUE!"}},{"$f":"MA287*1000","v":{"$error":"#VALUE!"}},null,null,null,null,null,null,null,null,null,"    New:",null,null,null,{"$f":"SUMIF($AH$33:$AH$272,$A$8,$ED$33:$ED$272)*500","v":0},{"$f":"SUMIF($AH$33:$AH$272,$A$8,$EG$33:$EG$272)*500","v":0},{"$f":"SUMIF($AH$33:$AH$272,$A$8,$EJ$33:$EJ$272)*500","v":0},{"$f":"SUMIF($AH$33:$AH$272,$A$8,$EM$33:$EM$272)*500","v":0},{"$f":"SUMIF($AH$33:$AH$272,$A$8,$EP$33:$EP$272)*500","v":0},{"$f":"SUMIF($AH$33:$AH$272,$A$8,$ES$33:$ES$272)*500","v":0},null,"1 for Funded Project\n0 for not-funded project",null,null,"Percentage - where is the 100% funding? Can be broken to be less than 100%, but needs to add up to 1. ","Does the type of funding within this phase change from year to year?","Tells you which category is funding FFY26","Tells you which category is funding FFY27","Tells you which category is funding FFY28","Tells you which category is funding FFY29","Tells you which category is funding FFY30","Tells you which category is funding FFY31",null,null,"S154 (FHWA Sanction - Open Containers)",null,null,null,{"$f":"(SUMIF($AJ$33:$AJ$272,$A$3,$FH$33:$FH$272)+SUMIF($AJ$33:$AJ$272,$A$3,$FI$33:$FI$272)+SUMIF($AJ$33:$AJ$272,$A$3,$FJ$33:$FJ$272))*500","v":0},{"$f":"(SUMIF($AJ$33:$AJ$272,$A$3,$GQ$33:$GQ$272)+SUMIF($AJ$33:$AJ$272,$A$3,$GR$33:$GR$272)+SUMIF($AJ$33:$AJ$272,$A$3,$GS$33:$GS$272))*500","v":0},{"$f":"(SUMIF($AJ$33:$AJ$272,$A$3,$HZ$33:$HZ$272)+SUMIF($AJ$33:$AJ$272,$A$3,$IA$33:$IA$272)+SUMIF($AJ$33:$AJ$272,$A$3,$IB$33:$IB$272))*500","v":0},{"$f":"(SUMIF($AJ$33:$AJ$272,$A$3,$JI$33:$JI$272)+SUMIF($AJ$33:$AJ$272,$A$3,$JJ$33:$JJ$272)+SUMIF($AJ$33:$AJ$272,$A$3,$JK$33:$JK$272))*500","v":0},{"$f":"(SUMIF($AJ$33:$AJ$272,$A$3,$KR$33:$KR$272)+SUMIF($AJ$33:$AJ$272,$A$3,$KS$33:$KS$272)+SUMIF($AJ$33:$AJ$272,$A$3,$KT$33:$KT$272))*500","v":0},{"$f":"(SUMIF($AJ$33:$AJ$272,$A$3,$MA$33:$MA$272)+SUMIF($AJ$33:$AJ$272,$A$3,$MB$33:$MB$272)+SUMIF($AJ$33:$AJ$272,$A$3,$MC$33:$MC$272))*500","v":0},null,"S154 (FHWA Sanction - Open Containers)",null,null,null,{"$f":"(SUMIFS($FH$33:$FH$272,$AJ$33:$AJ$272,$A$3,$AH$33:$AH$272,$A$8)+SUMIFS($FI$33:$FI$272,$AJ$33:$AJ$272,$A$3,$AH$33:$AH$272,$A$8)+SUMIFS($FJ$33:$FJ$272,$AJ$33:$AJ$272,$A$3,$AH$33:$AH$272,$A$8))*500","v":0},{"$f":"(SUMIFS($GQ$33:$GQ$272,$AJ$33:$AJ$272,$A$3,$AH$33:$AH$272,$A$8)+SUMIFS($GR$33:$GR$272,$AJ$33:$AJ$272,$A$3,$AH$33:$AH$272,$A$8)+SUMIFS($GS$33:$GS$272,$AJ$33:$AJ$272,$A$3,$AH$33:$AH$272,$A$8))*500","v":0},{"$f":"(SUMIFS($HZ$33:$HZ$272,$AJ$33:$AJ$272,$A$3,$AH$33:$AH$272,$A$8)+SUMIFS($IA$33:$IA$272,$AJ$33:$AJ$272,$A$3,$AH$33:$AH$272,$A$8)+SUMIFS($IB$33:$IB$272,$AJ$33:$AJ$272,$A$3,$AH$33:$AH$272,$A$8))*500","v":0},{"$f":"(SUMIFS($JI$33:$JI$272,$AJ$33:$AJ$272,$A$3,$AH$33:$AH$272,$A$8)+SUMIFS($JJ$33:$JJ$272,$AJ$33:$AJ$272,$A$3,$AH$33:$AH$272,$A$8)+SUMIFS($JK$33:$JK$272,$AJ$33:$AJ$272,$A$3,$AH$33:$AH$272,$A$8))*500","v":0},{"$f":"(SUMIFS($KR$33:$KR$272,$AJ$33:$AJ$272,$A$3,$AH$33:$AH$272,$A$8)+SUMIFS($KS$33:$KS$272,$AJ$33:$AJ$272,$A$3,$AH$33:$AH$272,$A$8)+SUMIFS($KT$33:$KT$272,$AJ$33:$AJ$272,$A$3,$AH$33:$AH$272,$A$8))*500","v":0},{"$f":"(SUMIFS($MA$33:$MA$272,$AJ$33:$AJ$272,$A$3,$AH$33:$AH$272,$A$8)+SUMIFS($MB$33:$MB$272,$AJ$33:$AJ$272,$A$3,$AH$33:$AH$272,$A$8)+SUMIFS($MC$33:$MC$272,$AJ$33:$AJ$272,$A$3,$AH$33:$AH$272,$A$8))*500","v":0},null,"S154 (FHWA Sanction - Open Containers)",null,null,null,{"$f":"(SUMIFS($FH$33:$FH$272,$AJ$33:$AJ$272,$A$3,$AH$33:$AH$272,$A$9)+SUMIFS($FI$33:$FI$272,$AJ$33:$AJ$272,$A$3,$AH$33:$AH$272,$A$9)+SUMIFS($FJ$33:$FJ$272,$AJ$33:$AJ$272,$A$3,$AH$33:$AH$272,$A$9))*500","v":0},{"$f":"(SUMIFS($GQ$33:$GQ$272,$AJ$33:$AJ$272,$A$3,$AH$33:$AH$272,$A$9)+SUMIFS($GR$33:$GR$272,$AJ$33:$AJ$272,$A$3,$AH$33:$AH$272,$A$9)+SUMIFS($GS$33:$GS$272,$AJ$33:$AJ$272,$A$3,$AH$33:$AH$272,$A$9))*500","v":0},{"$f":"(SUMIFS($HZ$33:$HZ$272,$AJ$33:$AJ$272,$A$3,$AH$33:$AH$272,$A$9)+SUMIFS($IA$33:$IA$272,$AJ$33:$AJ$272,$A$3,$AH$33:$AH$272,$A$9)+SUMIFS($IB$33:$IB$272,$AJ$33:$AJ$272,$A$3,$AH$33:$AH$272,$A$9))*500","v":0},{"$f":"(SUMIFS($JI$33:$JI$272,$AJ$33:$AJ$272,$A$3,$AH$33:$AH$272,$A$9)+SUMIFS($JJ$33:$JJ$272,$AJ$33:$AJ$272,$A$3,$AH$33:$AH$272,$A$9)+SUMIFS($JK$33:$JK$272,$AJ$33:$AJ$272,$A$3,$AH$33:$AH$272,$A$9))*500","v":0},{"$f":"(SUMIFS($KR$33:$KR$272,$AJ$33:$AJ$272,$A$3,$AH$33:$AH$272,$A$9)+SUMIFS($KS$33:$KS$272,$AJ$33:$AJ$272,$A$3,$AH$33:$AH$272,$A$9)+SUMIFS($KT$33:$KT$272,$AJ$33:$AJ$272,$A$3,$AH$33:$AH$272,$A$9))*500","v":0},{"$f":"(SUMIFS($MA$33:$MA$272,$AJ$33:$AJ$272,$A$3,$AH$33:$AH$272,$A$9)+SUMIFS($MB$33:$MB$272,$AJ$33:$AJ$272,$A$3,$AH$33:$AH$272,$A$9)+SUMIFS($MC$33:$MC$272,$AJ$33:$AJ$272,$A$3,$AH$33:$AH$272,$A$9))*500","v":0}]
[null,null,null,null,null,null,null,null,null,null,null,null,null,null,null,null,null,null,null,null,null,"S164 (FHWA Sanction - Repeat Drunk Drivers)",null,null,null,{"$f":"FK287*1000","v":{"$error":"#VALUE!"}},{"$f":"GT287*1000","v":{"$error":"#VALUE!"}},{"$f":"IC287*1000","v":{"$error":"#VALUE!"}},{"$f":"JL287*1000","v":{"$error":"#VALUE!"}},{"$f":"KU287*1000","v":{"$error":"#VALUE!"}},{"$f":"MD287*1000","v":{"$error":"#VALUE!"}},null,null,null,null,null,null,null,null,null,"    Funded Old:",null,null,null,{"$f":"SUMIF($AH$33:$AH$272,$A$8,$EE$33:$EE$272)*500","v":0},{"$f":"SUMIF($AH$33:$AH$272,$A$8,$EH$33:$EH$272)*500","v":0},{"$f":"SUMIF($AH$33:$AH$272,$A$8,$EK$33:$EK$272)*500","v":0},{"$f":"SUMIF($AH$33:$AH$272,$A$8,$EN$33:$EN$272)*500","v":0},{"$f":"SUMIF($AH$33:$AH$272,$A$8,$EQ$33:$EQ$272)*500","v":0},{"$f":"SUMIF($AH$33:$AH$272,$A$8,$ET$33:$ET$272)*500","v":0},null,null,null,null,null,null,null,null,null,null,null,null,null,null,"S164 (FHWA Sanction - Repeat Drunk Drivers)",null,null,null,{"$f":"(SUMIF($AJ$33:$AJ$272,$A$3,$FK$33:$FK$272)+SUMIF($AJ$33:$AJ$272,$A$3,$FL$33:$FL$272)+SUMIF($AJ$33:$AJ$272,$A$3,$FM$33:$FM$272))*500","v":0},{"$f":"(SUMIF($AJ$33:$AJ$272,$A$3,$GT$33:$GT$272)+SUMIF($AJ$33:$AJ$272,$A$3,$GU$33:$GU$272)+SUMIF($AJ$33:$AJ$272,$A$3,$GV$33:$GV$272))*500","v":0},{"$f":"(SUMIF($AJ$33:$AJ$272,$A$3,$IC$33:$IC$272)+SUMIF($AJ$33:$AJ$272,$A$3,$ID$33:$ID$272)+SUMIF($AJ$33:$AJ$272,$A$3,$IE$33:$IE$272))*500","v":0},{"$f":"(SUMIF($AJ$33:$AJ$272,$A$3,$JL$33:$JL$272)+SUMIF($AJ$33:$AJ$272,$A$3,$JM$33:$JM$272)+SUMIF($AJ$33:$AJ$272,$A$3,$JN$33:$JN$272))*500","v":0},{"$f":"(SUMIF($AJ$33:$AJ$272,$A$3,$KU$33:$KU$272)+SUMIF($AJ$33:$AJ$272,$A$3,$KV$33:$KV$272)+SUMIF($AJ$33:$AJ$272,$A$3,$KW$33:$KW$272))*500","v":0},{"$f":"(SUMIF($AJ$33:$AJ$272,$A$3,$MD$33:$MD$272)+SUMIF($AJ$33:$AJ$272,$A$3,$ME$33:$ME$272)+SUMIF($AJ$33:$AJ$272,$A$3,$MF$33:$MF$272))*500","v":0},null,"S164 (FHWA Sanction - Repeat Drunk Drivers)",null,null,null,{"$f":"(SUMIFS($FK$33:$FK$272,$AJ$33:$AJ$272,$A$3,$AH$33:$AH$272,$A$8)+SUMIFS($FL$33:$FL$272,$AJ$33:$AJ$272,$A$3,$AH$33:$AH$272,$A$8)+SUMIFS($FM$33:$FM$272,$AJ$33:$AJ$272,$A$3,$AH$33:$AH$272,$A$8))*500","v":0},{"$f":"(SUMIFS($GT$33:$GT$272,$AJ$33:$AJ$272,$A$3,$AH$33:$AH$272,$A$8)+SUMIFS($GU$33:$GU$272,$AJ$33:$AJ$272,$A$3,$AH$33:$AH$272,$A$8)+SUMIFS($GV$33:$GV$272,$AJ$33:$AJ$272,$A$3,$AH$33:$AH$272,$A$8))*500","v":0},{"$f":"(SUMIFS($IC$33:$IC$272,$AJ$33:$AJ$272,$A$3,$AH$33:$AH$272,$A$8)+SUMIFS($ID$33:$ID$272,$AJ$33:$AJ$272,$A$3,$AH$33:$AH$272,$A$8)+SUMIFS($IE$33:$IE$272,$AJ$33:$AJ$272,$A$3,$AH$33:$AH$272,$A$8))*500","v":0},{"$f":"(SUMIFS($JL$33:$JL$272,$AJ$33:$AJ$272,$A$3,$AH$33:$AH$272,$A$8)+SUMIFS($JM$33:$JM$272,$AJ$33:$AJ$272,$A$3,$AH$33:$AH$272,$A$8)+SUMIFS($JN$33:$JN$272,$AJ$33:$AJ$272,$A$3,$AH$33:$AH$272,$A$8))*500","v":0},{"$f":"(SUMIFS($KU$33:$KU$272,$AJ$33:$AJ$272,$A$3,$AH$33:$AH$272,$A$8)+SUMIFS($KV$33:$KV$272,$AJ$33:$AJ$272,$A$3,$AH$33:$AH$272,$A$8)+SUMIFS($KW$33:$KW$272,$AJ$33:$AJ$272,$A$3,$AH$33:$AH$272,$A$8))*500","v":0},{"$f":"(SUMIFS($MD$33:$MD$272,$AJ$33:$AJ$272,$A$3,$AH$33:$AH$272,$A$8)+SUMIFS($ME$33:$ME$272,$AJ$33:$AJ$272,$A$3,$AH$33:$AH$272,$A$8)+SUMIFS($MF$33:$MF$272,$AJ$33:$AJ$272,$A$3,$AH$33:$AH$272,$A$8))*500","v":0},null,"S164 (FHWA Sanction - Repeat Drunk Drivers)",null,null,null,{"$f":"(SUMIFS($FK$33:$FK$272,$AJ$33:$AJ$272,$A$3,$AH$33:$AH$272,$A$9)+SUMIFS($FL$33:$FL$272,$AJ$33:$AJ$272,$A$3,$AH$33:$AH$272,$A$9)+SUMIFS($FM$33:$FM$272,$AJ$33:$AJ$272,$A$3,$AH$33:$AH$272,$A$9))*500","v":0},{"$f":"(SUMIFS($GT$33:$GT$272,$AJ$33:$AJ$272,$A$3,$AH$33:$AH$272,$A$9)+SUMIFS($GU$33:$GU$272,$AJ$33:$AJ$272,$A$3,$AH$33:$AH$272,$A$9)+SUMIFS($GV$33:$GV$272,$AJ$33:$AJ$272,$A$3,$AH$33:$AH$272,$A$9))*500","v":0},{"$f":"(SUMIFS($IC$33:$IC$272,$AJ$33:$AJ$272,$A$3,$AH$33:$AH$272,$A$9)+SUMIFS($ID$33:$ID$272,$AJ$33:$AJ$272,$A$3,$AH$33:$AH$272,$A$9)+SUMIFS($IE$33:$IE$272,$AJ$33:$AJ$272,$A$3,$AH$33:$AH$272,$A$9))*500","v":0},{"$f":"(SUMIFS($JL$33:$JL$272,$AJ$33:$AJ$272,$A$3,$AH$33:$AH$272,$A$9)+SUMIFS($JM$33:$JM$272,$AJ$33:$AJ$272,$A$3,$AH$33:$AH$272,$A$9)+SUMIFS($JN$33:$JN$272,$AJ$33:$AJ$272,$A$3,$AH$33:$AH$272,$A$9))*500","v":0},{"$f":"(SUMIFS($KU$33:$KU$272,$AJ$33:$AJ$272,$A$3,$AH$33:$AH$272,$A$9)+SUMIFS($KV$33:$KV$272,$AJ$33:$AJ$272,$A$3,$AH$33:$AH$272,$A$9)+SUMIFS($KW$33:$KW$272,$AJ$33:$AJ$272,$A$3,$AH$33:$AH$272,$A$9))*500","v":0},{"$f":"(SUMIFS($MD$33:$MD$272,$AJ$33:$AJ$272,$A$3,$AH$33:$AH$272,$A$9)+SUMIFS($ME$33:$ME$272,$AJ$33:$AJ$272,$A$3,$AH$33:$AH$272,$A$9)+SUMIFS($MF$33:$MF$272,$AJ$33:$AJ$272,$A$3,$AH$33:$AH$272,$A$9))*500","v":0}]
["Quarter",null,null,null,null,null,null,null,null,null,null,null,null,null,null,null,null,null,null,null,null,"High Risk Rural Roads",null,null,null,{"$f":"FN287*1000","v":{"$error":"#VALUE!"}},{"$f":"GW287*1000","v":{"$error":"#VALUE!"}},{"$f":"IF287*1000","v":{"$error":"#VALUE!"}},{"$f":"JO287*1000","v":{"$error":"#VALUE!"}},{"$f":"KX287*1000","v":{"$error":"#VALUE!"}},{"$f":"MG287*1000","v":{"$error":"#VALUE!"}},null,null,null,null,null,null,null,null,null,"    Unfunded Old:",null,null,null,{"$f":"SUMIF($AH$33:$AH$272,$A$8,$EF$33:$EF$272)*500","v":0},{"$f":"SUMIF($AH$33:$AH$272,$A$8,$EI$33:$EI$272)*500","v":0},{"$f":"SUMIF($AH$33:$AH$272,$A$8,$EL$33:$EL$272)*500","v":0},{"$f":"SUMIF($AH$33:$AH$272,$A$8,$EO$33:$EO$272)*500","v":0},{"$f":"SUMIF($AH$33:$AH$272,$A$8,$ER$33:$ER$272)*500","v":0},{"$f":"SUMIF($AH$33:$AH$272,$A$8,$EU$33:$EU$272)*500","v":0},null,null,null,null,null,null,null,null,null,null,null,null,null,null,"High Risk Rural Roads",null,null,null,{"$f":"(SUMIF($AJ$33:$AJ$272,$A$3,$FN$33:$FN$272)+SUMIF($AJ$33:$AJ$272,$A$3,$FO$33:$FO$272)+SUMIF($AJ$33:$AJ$272,$A$3,$FP$33:$FP$272))*500","v":0},{"$f":"(SUMIF($AJ$33:$AJ$272,$A$3,$GW$33:$GW$272)+SUMIF($AJ$33:$AJ$272,$A$3,$GX$33:$GX$272)+SUMIF($AJ$33:$AJ$272,$A$3,$GY$33:$GY$272))*500","v":0},{"$f":"(SUMIF($AJ$33:$AJ$272,$A$3,$IF$33:$IF$272)+SUMIF($AJ$33:$AJ$272,$A$3,$IG$33:$IG$272)+SUMIF($AJ$33:$AJ$272,$A$3,$IH$33:$IH$272))*500","v":0},{"$f":"(SUMIF($AJ$33:$AJ$272,$A$3,$JO$33:$JO$272)+SUMIF($AJ$33:$AJ$272,$A$3,$JP$33:$JP$272)+SUMIF($AJ$33:$AJ$272,$A$3,$JQ$33:$JQ$272))*500","v":0},{"$f":"(SUMIF($AJ$33:$AJ$272,$A$3,$KX$33:$KX$272)+SUMIF($AJ$33:$AJ$272,$A$3,$KY$33:$KY$272)+SUMIF($AJ$33:$AJ$272,$A$3,$KZ$33:$KZ$272))*500","v":0},{"$f":"(SUMIF($AJ$33:$AJ$272,$A$3,$MG$33:$MG$272)+SUMIF($AJ$33:$AJ$272,$A$3,$MH$33:$MH$272)+SUMIF($AJ$33:$AJ$272,$A$3,$MI$33:$MI$272))*500","v":0},null,"High Risk Rural Roads",null,null,null,{"$f":"(SUMIFS($FN$33:$FN$272,$AJ$33:$AJ$272,$A$3,$AH$33:$AH$272,$A$8)+SUMIFS($FO$33:$FO$272,$AJ$33:$AJ$272,$A$3,$AH$33:$AH$272,$A$8)+SUMIFS($FP$33:$FP$272,$AJ$33:$AJ$272,$A$3,$AH$33:$AH$272,$A$8))*500","v":0},{"$f":"(SUMIFS($GW$33:$GW$272,$AJ$33:$AJ$272,$A$3,$AH$33:$AH$272,$A$8)+SUMIFS($GX$33:$GX$272,$AJ$33:$AJ$272,$A$3,$AH$33:$AH$272,$A$8)+SUMIFS($GY$33:$GY$272,$AJ$33:$AJ$272,$A$3,$AH$33:$AH$272,$A$8))*500","v":0},{"$f":"(SUMIFS($IF$33:$IF$272,$AJ$33:$AJ$272,$A$3,$AH$33:$AH$272,$A$8)+SUMIFS($IG$33:$IG$272,$AJ$33:$AJ$272,$A$3,$AH$33:$AH$272,$A$8)+SUMIFS($IH$33:$IH$272,$AJ$33:$AJ$272,$A$3,$AH$33:$AH$272,$A$8))*500","v":0},{"$f":"(SUMIFS($JO$33:$JO$272,$AJ$33:$AJ$272,$A$3,$AH$33:$AH$272,$A$8)+SUMIFS($JP$33:$JP$272,$AJ$33:$AJ$272,$A$3,$AH$33:$AH$272,$A$8)+SUMIFS($JQ$33:$JQ$272,$AJ$33:$AJ$272,$A$3,$AH$33:$AH$272,$A$8))*500","v":0},{"$f":"(SUMIFS($KX$33:$KX$272,$AJ$33:$AJ$272,$A$3,$AH$33:$AH$272,$A$8)+SUMIFS($KY$33:$KY$272,$AJ$33:$AJ$272,$A$3,$AH$33:$AH$272,$A$8)+SUMIFS($KZ$33:$KZ$272,$AJ$33:$AJ$272,$A$3,$AH$33:$AH$272,$A$8))*500","v":0},{"$f":"(SUMIFS($MG$33:$MG$272,$AJ$33:$AJ$272,$A$3,$AH$33:$AH$272,$A$8)+SUMIFS($MH$33:$MH$272,$AJ$33:$AJ$272,$A$3,$AH$33:$AH$272,$A$8)+SUMIFS($MI$33:$MI$272,$AJ$33:$AJ$272,$A$3,$AH$33:$AH$272,$A$8))*500","v":0},null,"High Risk Rural Roads",null,null,null,{"$f":"(SUMIFS($FN$33:$FN$272,$AJ$33:$AJ$272,$A$3,$AH$33:$AH$272,$A$9)+SUMIFS($FO$33:$FO$272,$AJ$33:$AJ$272,$A$3,$AH$33:$AH$272,$A$9)+SUMIFS($FP$33:$FP$272,$AJ$33:$AJ$272,$A$3,$AH$33:$AH$272,$A$9))*500","v":0},{"$f":"(SUMIFS($GW$33:$GW$272,$AJ$33:$AJ$272,$A$3,$AH$33:$AH$272,$A$9)+SUMIFS($GX$33:$GX$272,$AJ$33:$AJ$272,$A$3,$AH$33:$AH$272,$A$9)+SUMIFS($GY$33:$GY$272,$AJ$33:$AJ$272,$A$3,$AH$33:$AH$272,$A$9))*500","v":0},{"$f":"(SUMIFS($IF$33:$IF$272,$AJ$33:$AJ$272,$A$3,$AH$33:$AH$272,$A$9)+SUMIFS($IG$33:$IG$272,$AJ$33:$AJ$272,$A$3,$AH$33:$AH$272,$A$9)+SUMIFS($IH$33:$IH$272,$AJ$33:$AJ$272,$A$3,$AH$33:$AH$272,$A$9))*500","v":0},{"$f":"(SUMIFS($JO$33:$JO$272,$AJ$33:$AJ$272,$A$3,$AH$33:$AH$272,$A$9)+SUMIFS($JP$33:$JP$272,$AJ$33:$AJ$272,$A$3,$AH$33:$AH$272,$A$9)+SUMIFS($JQ$33:$JQ$272,$AJ$33:$AJ$272,$A$3,$AH$33:$AH$272,$A$9))*500","v":0},{"$f":"(SUMIFS($KX$33:$KX$272,$AJ$33:$AJ$272,$A$3,$AH$33:$AH$272,$A$9)+SUMIFS($KY$33:$KY$272,$AJ$33:$AJ$272,$A$3,$AH$33:$AH$272,$A$9)+SUMIFS($KZ$33:$KZ$272,$AJ$33:$AJ$272,$A$3,$AH$33:$AH$272,$A$9))*500","v":0},{"$f":"(SUMIFS($MG$33:$MG$272,$AJ$33:$AJ$272,$A$3,$AH$33:$AH$272,$A$9)+SUMIFS($MH$33:$MH$272,$AJ$33:$AJ$272,$A$3,$AH$33:$AH$272,$A$9)+SUMIFS($MI$33:$MI$272,$AJ$33:$AJ$272,$A$3,$AH$33:$AH$272,$A$9))*500","v":0}]
[null,null,null,null,null,null,null,null,null,null,null,null,null,null,null,null,null,null,null,null,null,"Specified Safety Projects",null,null,null,{"$f":"FQ287*1000","v":{"$error":"#VALUE!"}},{"$f":"GZ287*1000","v":{"$error":"#VALUE!"}},{"$f":"II287*1000","v":{"$error":"#VALUE!"}},{"$f":"JR287*1000","v":{"$error":"#VALUE!"}},{"$f":"LA287*1000","v":{"$error":"#VALUE!"}},{"$f":"MJ287*1000","v":{"$error":"#VALUE!"}},null,null,null,null,null,null,null,null,null,"MVP",null,null,null,null,null,null,null,null,null,null,null,null,null,null,null,null,null,null,null,null,null,null,null,"Specified Safety Projects",null,null,null,{"$f":"(SUMIF($AJ$33:$AJ$272,$A$3,$FQ$33:$FQ$272)+SUMIF($AJ$33:$AJ$272,$A$3,$FR$33:$FR$272)+SUMIF($AJ$33:$AJ$272,$A$3,$FS$33:$FS$272))*500","v":0},{"$f":"(SUMIF($AJ$33:$AJ$272,$A$3,$GZ$33:$GZ$272)+SUMIF($AJ$33:$AJ$272,$A$3,$HA$33:$HA$272)+SUMIF($AJ$33:$AJ$272,$A$3,$HB$33:$HB$272))*500","v":0},{"$f":"(SUMIF($AJ$33:$AJ$272,$A$3,$II$33:$II$272)+SUMIF($AJ$33:$AJ$272,$A$3,$IJ$33:$IJ$272)+SUMIF($AJ$33:$AJ$272,$A$3,$IK$33:$IK$272))*500","v":0},{"$f":"(SUMIF($AJ$33:$AJ$272,$A$3,$JR$33:$JR$272)+SUMIF($AJ$33:$AJ$272,$A$3,$JS$33:$JS$272)+SUMIF($AJ$33:$AJ$272,$A$3,$JT$33:$JT$272))*500","v":0},{"$f":"(SUMIF($AJ$33:$AJ$272,$A$3,$LA$33:$LA$272)+SUMIF($AJ$33:$AJ$272,$A$3,$LB$33:$LB$272)+SUMIF($AJ$33:$AJ$272,$A$3,$LC$33:$LC$272))*500","v":0},{"$f":"(SUMIF($AJ$33:$AJ$272,$A$3,$MJ$33:$MJ$272)+SUMIF($AJ$33:$AJ$272,$A$3,$MK$33:$MK$272)+SUMIF($AJ$33:$AJ$272,$A$3,$ML$33:$ML$272))*500","v":0},null,"Specified Safety Projects",null,null,null,{"$f":"(SUMIFS($FQ$33:$FQ$272,$AJ$33:$AJ$272,$A$3,$AH$33:$AH$272,$A$8)+SUMIFS($FR$33:$FR$272,$AJ$33:$AJ$272,$A$3,$AH$33:$AH$272,$A$8)+SUMIFS($FS$33:$FS$272,$AJ$33:$AJ$272,$A$3,$AH$33:$AH$272,$A$8))*500","v":0},{"$f":"(SUMIFS($GZ$33:$GZ$272,$AJ$33:$AJ$272,$A$3,$AH$33:$AH$272,$A$8)+SUMIFS($HA$33:$HA$272,$AJ$33:$AJ$272,$A$3,$AH$33:$AH$272,$A$8)+SUMIFS($HB$33:$HB$272,$AJ$33:$AJ$272,$A$3,$AH$33:$AH$272,$A$8))*500","v":0},{"$f":"(SUMIFS($II$33:$II$272,$AJ$33:$AJ$272,$A$3,$AH$33:$AH$272,$A$8)+SUMIFS($IJ$33:$IJ$272,$AJ$33:$AJ$272,$A$3,$AH$33:$AH$272,$A$8)+SUMIFS($IK$33:$IK$272,$AJ$33:$AJ$272,$A$3,$AH$33:$AH$272,$A$8))*500","v":0},{"$f":"(SUMIFS($JR$33:$JR$272,$AJ$33:$AJ$272,$A$3,$AH$33:$AH$272,$A$8)+SUMIFS($JS$33:$JS$272,$AJ$33:$AJ$272,$A$3,$AH$33:$AH$272,$A$8)+SUMIFS($JT$33:$JT$272,$AJ$33:$AJ$272,$A$3,$AH$33:$AH$272,$A$8))*500","v":0},{"$f":"(SUMIFS($LA$33:$LA$272,$AJ$33:$AJ$272,$A$3,$AH$33:$AH$272,$A$8)+SUMIFS($LB$33:$LB$272,$AJ$33:$AJ$272,$A$3,$AH$33:$AH$272,$A$8)+SUMIFS($LC$33:$LC$272,$AJ$33:$AJ$272,$A$3,$AH$33:$AH$272,$A$8))*500","v":0},{"$f":"(SUMIFS($MJ$33:$MJ$272,$AJ$33:$AJ$272,$A$3,$AH$33:$AH$272,$A$8)+SUMIFS($MK$33:$MK$272,$AJ$33:$AJ$272,$A$3,$AH$33:$AH$272,$A$8)+SUMIFS($ML$33:$ML$272,$AJ$33:$AJ$272,$A$3,$AH$33:$AH$272,$A$8))*500","v":0},null,"Specified Safety Projects",null,null,null,{"$f":"(SUMIFS($FQ$33:$FQ$272,$AJ$33:$AJ$272,$A$3,$AH$33:$AH$272,$A$9)+SUMIFS($FR$33:$FR$272,$AJ$33:$AJ$272,$A$3,$AH$33:$AH$272,$A$9)+SUMIFS($FS$33:$FS$272,$AJ$33:$AJ$272,$A$3,$AH$33:$AH$272,$A$9))*500","v":0},{"$f":"(SUMIFS($GZ$33:$GZ$272,$AJ$33:$AJ$272,$A$3,$AH$33:$AH$272,$A$9)+SUMIFS($HA$33:$HA$272,$AJ$33:$AJ$272,$A$3,$AH$33:$AH$272,$A$9)+SUMIFS($HB$33:$HB$272,$AJ$33:$AJ$272,$A$3,$AH$33:$AH$272,$A$9))*500","v":0},{"$f":"(SUMIFS($II$33:$II$272,$AJ$33:$AJ$272,$A$3,$AH$33:$AH$272,$A$9)+SUMIFS($IJ$33:$IJ$272,$AJ$33:$AJ$272,$A$3,$AH$33:$AH$272,$A$9)+SUMIFS($IK$33:$IK$272,$AJ$33:$AJ$272,$A$3,$AH$33:$AH$272,$A$9))*500","v":0},{"$f":"(SUMIFS($JR$33:$JR$272,$AJ$33:$AJ$272,$A$3,$AH$33:$AH$272,$A$9)+SUMIFS($JS$33:$JS$272,$AJ$33:$AJ$272,$A$3,$AH$33:$AH$272,$A$9)+SUMIFS($JT$33:$JT$272,$AJ$33:$AJ$272,$A$3,$AH$33:$AH$272,$A$9))*500","v":0},{"$f":"(SUMIFS($LA$33:$LA$272,$AJ$33:$AJ$272,$A$3,$AH$33:$AH$272,$A$9)+SUMIFS($LB$33:$LB$272,$AJ$33:$AJ$272,$A$3,$AH$33:$AH$272,$A$9)+SUMIFS($LC$33:$LC$272,$AJ$33:$AJ$272,$A$3,$AH$33:$AH$272,$A$9))*500","v":0},{"$f":"(SUMIFS($MJ$33:$MJ$272,$AJ$33:$AJ$272,$A$3,$AH$33:$AH$272,$A$9)+SUMIFS($MK$33:$MK$272,$AJ$33:$AJ$272,$A$3,$AH$33:$AH$272,$A$9)+SUMIFS($ML$33:$ML$272,$AJ$33:$AJ$272,$A$3,$AH$33:$AH$272,$A$9))*500","v":0}]
["Q1",null,null,null,null,null,null,null,null,null,null,null,null,null,null,null,null,null,null,null,null,"Vulnerable Road Users",null,null,null,{"$f":"FT287*1000","v":{"$error":"#VALUE!"}},{"$f":"HC287*1000","v":{"$error":"#VALUE!"}},{"$f":"IL287*1000","v":{"$error":"#VALUE!"}},{"$f":"JU287*1000","v":{"$error":"#VALUE!"}},{"$f":"LD287*1000","v":{"$error":"#VALUE!"}},{"$f":"MM287*1000","v":{"$error":"#VALUE!"}},null,null,null,null,null,null,null,null,null,"Total:",null,null,null,{"$f":"SUM(AS16:AS18)","v":0},{"$f":"SUM(AT16:AT18)","v":0},0,0,0,0,null,null,null,null,null,null,null,null,null,null,null,null,null,null,"Vulnerable Road Users",null,null,null,{"$f":"(SUMIF($AJ$33:$AJ$272,$A$3,$FT$33:$FT$272)+SUMIF($AJ$33:$AJ$272,$A$3,$FU$33:$FU$272)+SUMIF($AJ$33:$AJ$272,$A$3,$FV$33:$FV$272))*500","v":0},{"$f":"(SUMIF($AJ$33:$AJ$272,$A$3,$HC$33:$HC$272)+SUMIF($AJ$33:$AJ$272,$A$3,$HD$33:$HD$272)+SUMIF($AJ$33:$AJ$272,$A$3,$HE$33:$HE$272))*500","v":0},{"$f":"(SUMIF($AJ$33:$AJ$272,$A$3,$IL$33:$IL$272)+SUMIF($AJ$33:$AJ$272,$A$3,$IM$33:$IM$272)+SUMIF($AJ$33:$AJ$272,$A$3,$IN$33:$IN$272))*500","v":0},{"$f":"(SUMIF($AJ$33:$AJ$272,$A$3,$JU$33:$JU$272)+SUMIF($AJ$33:$AJ$272,$A$3,$JV$33:$JV$272)+SUMIF($AJ$33:$AJ$272,$A$3,$JW$33:$JW$272))*500","v":0},{"$f":"(SUMIF($AJ$33:$AJ$272,$A$3,$LD$33:$LD$272)+SUMIF($AJ$33:$AJ$272,$A$3,$LE$33:$LE$272)+SUMIF($AJ$33:$AJ$272,$A$3,$LF$33:$LF$272))*500","v":0},{"$f":"(SUMIF($AJ$33:$AJ$272,$A$3,$MM$33:$MM$272)+SUMIF($AJ$33:$AJ$272,$A$3,$MN$33:$MN$272)+SUMIF($AJ$33:$AJ$272,$A$3,$MO$33:$MO$272))*500","v":0},null,"Vulnerable Road Users",null,null,null,{"$f":"(SUMIFS($FT$33:$FT$272,$AJ$33:$AJ$272,$A$3,$AH$33:$AH$272,$A$8)+SUMIFS($FU$33:$FU$272,$AJ$33:$AJ$272,$A$3,$AH$33:$AH$272,$A$8)+SUMIFS($FV$33:$FV$272,$AJ$33:$AJ$272,$A$3,$AH$33:$AH$272,$A$8))*500","v":0},{"$f":"(SUMIFS($HC$33:$HC$272,$AJ$33:$AJ$272,$A$3,$AH$33:$AH$272,$A$8)+SUMIFS($HD$33:$HD$272,$AJ$33:$AJ$272,$A$3,$AH$33:$AH$272,$A$8)+SUMIFS($HE$33:$HE$272,$AJ$33:$AJ$272,$A$3,$AH$33:$AH$272,$A$8))*500","v":0},{"$f":"(SUMIFS($IL$33:$IL$272,$AJ$33:$AJ$272,$A$3,$AH$33:$AH$272,$A$8)+SUMIFS($IM$33:$IM$272,$AJ$33:$AJ$272,$A$3,$AH$33:$AH$272,$A$8)+SUMIFS($IN$33:$IN$272,$AJ$33:$AJ$272,$A$3,$AH$33:$AH$272,$A$8))*500","v":0},{"$f":"(SUMIFS($JU$33:$JU$272,$AJ$33:$AJ$272,$A$3,$AH$33:$AH$272,$A$8)+SUMIFS($JV$33:$JV$272,$AJ$33:$AJ$272,$A$3,$AH$33:$AH$272,$A$8)+SUMIFS($JW$33:$JW$272,$AJ$33:$AJ$272,$A$3,$AH$33:$AH$272,$A$8))*500","v":0},{"$f":"(SUMIFS($LD$33:$LD$272,$AJ$33:$AJ$272,$A$3,$AH$33:$AH$272,$A$8)+SUMIFS($LE$33:$LE$272,$AJ$33:$AJ$272,$A$3,$AH$33:$AH$272,$A$8)+SUMIFS($LF$33:$LF$272,$AJ$33:$AJ$272,$A$3,$AH$33:$AH$272,$A$8))*500","v":0},{"$f":"(SUMIFS($MM$33:$MM$272,$AJ$33:$AJ$272,$A$3,$AH$33:$AH$272,$A$8)+SUMIFS($MN$33:$MN$272,$AJ$33:$AJ$272,$A$3,$AH$33:$AH$272,$A$8)+SUMIFS($MO$33:$MO$272,$AJ$33:$AJ$272,$A$3,$AH$33:$AH$272,$A$8))*500","v":0},null,"Vulnerable Road Users",null,null,null,{"$f":"(SUMIFS($FT$33:$FT$272,$AJ$33:$AJ$272,$A$3,$AH$33:$AH$272,$A$9)+SUMIFS($FU$33:$FU$272,$AJ$33:$AJ$272,$A$3,$AH$33:$AH$272,$A$9)+SUMIFS($FV$33:$FV$272,$AJ$33:$AJ$272,$A$3,$AH$33:$AH$272,$A$9))*500","v":0},{"$f":"(SUMIFS($HC$33:$HC$272,$AJ$33:$AJ$272,$A$3,$AH$33:$AH$272,$A$9)+SUMIFS($HD$33:$HD$272,$AJ$33:$AJ$272,$A$3,$AH$33:$AH$272,$A$9)+SUMIFS($HE$33:$HE$272,$AJ$33:$AJ$272,$A$3,$AH$33:$AH$272,$A$9))*500","v":0},{"$f":"(SUMIFS($IL$33:$IL$272,$AJ$33:$AJ$272,$A$3,$AH$33:$AH$272,$A$9)+SUMIFS($IM$33:$IM$272,$AJ$33:$AJ$272,$A$3,$AH$33:$AH$272,$A$9)+SUMIFS($IN$33:$IN$272,$AJ$33:$AJ$272,$A$3,$AH$33:$AH$272,$A$9))*500","v":0},{"$f":"(SUMIFS($JU$33:$JU$272,$AJ$33:$AJ$272,$A$3,$AH$33:$AH$272,$A$9)+SUMIFS($JV$33:$JV$272,$AJ$33:$AJ$272,$A$3,$AH$33:$AH$272,$A$9)+SUMIFS($JW$33:$JW$272,$AJ$33:$AJ$272,$A$3,$AH$33:$AH$272,$A$9))*500","v":0},{"$f":"(SUMIFS($LD$33:$LD$272,$AJ$33:$AJ$272,$A$3,$AH$33:$AH$272,$A$9)+SUMIFS($LE$33:$LE$272,$AJ$33:$AJ$272,$A$3,$AH$33:$AH$272,$A$9)+SUMIFS($LF$33:$LF$272,$AJ$33:$AJ$272,$A$3,$AH$33:$AH$272,$A$9))*500","v":0},{"$f":"(SUMIFS($MM$33:$MM$272,$AJ$33:$AJ$272,$A$3,$AH$33:$AH$272,$A$9)+SUMIFS($MN$33:$MN$272,$AJ$33:$AJ$272,$A$3,$AH$33:$AH$272,$A$9)+SUMIFS($MO$33:$MO$272,$AJ$33:$AJ$272,$A$3,$AH$33:$AH$272,$A$9))*500","v":0}]
["Q2",null,null,null,null,null,null,null,null,null,null,null,null,null,null,null,null,null,null,null,null,"Older Drivers & Pedestrians",null,null,null,{"$f":"FW287*1000","v":{"$error":"#VALUE!"}},{"$f":"HF287*1000","v":{"$error":"#VALUE!"}},{"$f":"IO287*1000","v":{"$error":"#VALUE!"}},{"$f":"JX287*1000","v":{"$error":"#VALUE!"}},{"$f":"LG287*1000","v":{"$error":"#VALUE!"}},{"$f":"MP287*1000","v":{"$error":"#VALUE!"}},null,null,null,null,null,null,null,null,null,"    New:",null,null,null,{"$f":"SUMIF($AH$33:$AH$272,$A$9,$ED$33:$ED$272)*500","v":0},{"$f":"SUMIF($AH$33:$AH$272,$A$9,$EG$33:$EG$272)*500","v":0},{"$f":"SUMIF($AH$33:$AH$272,$A$9,$EJ$33:$EJ$272)*500","v":0},{"$f":"SUMIF($AH$33:$AH$272,$A$9,$EM$33:$EM$272)*500","v":0},{"$f":"SUMIF($AH$33:$AH$272,$A$9,$EP$33:$EP$272)*500","v":0},{"$f":"SUMIF($AH$33:$AH$272,$A$9,$ES$33:$ES$272)*500","v":0},null,null,null,null,null,null,null,null,null,null,null,null,null,null,"Older Drivers & Pedestrians",null,null,null,{"$f":"(SUMIF($AJ$33:$AJ$272,$A$3,$FW$33:$FW$272)+SUMIF($AJ$33:$AJ$272,$A$3,$FX$33:$FX$272)+SUMIF($AJ$33:$AJ$272,$A$3,$FY$33:$FY$272))*500","v":0},{"$f":"(SUMIF($AJ$33:$AJ$272,$A$3,$HF$33:$HF$272)+SUMIF($AJ$33:$AJ$272,$A$3,$HG$33:$HG$272)+SUMIF($AJ$33:$AJ$272,$A$3,$HH$33:$HH$272))*500","v":0},{"$f":"(SUMIF($AJ$33:$AJ$272,$A$3,$IO$33:$IO$272)+SUMIF($AJ$33:$AJ$272,$A$3,$IP$33:$IP$272)+SUMIF($AJ$33:$AJ$272,$A$3,$IQ$33:$IQ$272))*500","v":0},{"$f":"(SUMIF($AJ$33:$AJ$272,$A$3,$JX$33:$JX$272)+SUMIF($AJ$33:$AJ$272,$A$3,$JY$33:$JY$272)+SUMIF($AJ$33:$AJ$272,$A$3,$JZ$33:$JZ$272))*500","v":0},{"$f":"(SUMIF($AJ$33:$AJ$272,$A$3,$LG$33:$LG$272)+SUMIF($AJ$33:$AJ$272,$A$3,$LH$33:$LH$272)+SUMIF($AJ$33:$AJ$272,$A$3,$LI$33:$LI$272))*500","v":0},{"$f":"(SUMIF($AJ$33:$AJ$272,$A$3,$MP$33:$MP$272)+SUMIF($AJ$33:$AJ$272,$A$3,$MQ$33:$MQ$272)+SUMIF($AJ$33:$AJ$272,$A$3,$MR$33:$MR$272))*500","v":0},null,"Older Drivers & Pedestrians",null,null,null,{"$f":"(SUMIFS($FW$33:$FW$272,$AJ$33:$AJ$272,$A$3,$AH$33:$AH$272,$A$8)+SUMIFS($FX$33:$FX$272,$AJ$33:$AJ$272,$A$3,$AH$33:$AH$272,$A$8)+SUMIFS($FY$33:$FY$272,$AJ$33:$AJ$272,$A$3,$AH$33:$AH$272,$A$8))*500","v":0},{"$f":"(SUMIFS($HF$33:$HF$272,$AJ$33:$AJ$272,$A$3,$AH$33:$AH$272,$A$8)+SUMIFS($HG$33:$HG$272,$AJ$33:$AJ$272,$A$3,$AH$33:$AH$272,$A$8)+SUMIFS($HH$33:$HH$272,$AJ$33:$AJ$272,$A$3,$AH$33:$AH$272,$A$8))*500","v":0},{"$f":"(SUMIFS($IO$33:$IO$272,$AJ$33:$AJ$272,$A$3,$AH$33:$AH$272,$A$8)+SUMIFS($IP$33:$IP$272,$AJ$33:$AJ$272,$A$3,$AH$33:$AH$272,$A$8)+SUMIFS($IQ$33:$IQ$272,$AJ$33:$AJ$272,$A$3,$AH$33:$AH$272,$A$8))*500","v":0},{"$f":"(SUMIFS($JX$33:$JX$272,$AJ$33:$AJ$272,$A$3,$AH$33:$AH$272,$A$8)+SUMIFS($JY$33:$JY$272,$AJ$33:$AJ$272,$A$3,$AH$33:$AH$272,$A$8)+SUMIFS($JZ$33:$JZ$272,$AJ$33:$AJ$272,$A$3,$AH$33:$AH$272,$A$8))*500","v":0},{"$f":"(SUMIFS($LG$33:$LG$272,$AJ$33:$AJ$272,$A$3,$AH$33:$AH$272,$A$8)+SUMIFS($LH$33:$LH$272,$AJ$33:$AJ$272,$A$3,$AH$33:$AH$272,$A$8)+SUMIFS($LI$33:$LI$272,$AJ$33:$AJ$272,$A$3,$AH$33:$AH$272,$A$8))*500","v":0},{"$f":"(SUMIFS($MP$33:$MP$272,$AJ$33:$AJ$272,$A$3,$AH$33:$AH$272,$A$8)+SUMIFS($MQ$33:$MQ$272,$AJ$33:$AJ$272,$A$3,$AH$33:$AH$272,$A$8)+SUMIFS($MR$33:$MR$272,$AJ$33:$AJ$272,$A$3,$AH$33:$AH$272,$A$8))*500","v":0},null,"Older Drivers & Pedestrians",null,null,null,{"$f":"(SUMIFS($FW$33:$FW$272,$AJ$33:$AJ$272,$A$3,$AH$33:$AH$272,$A$9)+SUMIFS($FX$33:$FX$272,$AJ$33:$AJ$272,$A$3,$AH$33:$AH$272,$A$9)+SUMIFS($FY$33:$FY$272,$AJ$33:$AJ$272,$A$3,$AH$33:$AH$272,$A$9))*500","v":0},{"$f":"(SUMIFS($HF$33:$HF$272,$AJ$33:$AJ$272,$A$3,$AH$33:$AH$272,$A$9)+SUMIFS($HG$33:$HG$272,$AJ$33:$AJ$272,$A$3,$AH$33:$AH$272,$A$9)+SUMIFS($HH$33:$HH$272,$AJ$33:$AJ$272,$A$3,$AH$33:$AH$272,$A$9))*500","v":0},{"$f":"(SUMIFS($IO$33:$IO$272,$AJ$33:$AJ$272,$A$3,$AH$33:$AH$272,$A$9)+SUMIFS($IP$33:$IP$272,$AJ$33:$AJ$272,$A$3,$AH$33:$AH$272,$A$9)+SUMIFS($IQ$33:$IQ$272,$AJ$33:$AJ$272,$A$3,$AH$33:$AH$272,$A$9))*500","v":0},{"$f":"(SUMIFS($JX$33:$JX$272,$AJ$33:$AJ$272,$A$3,$AH$33:$AH$272,$A$9)+SUMIFS($JY$33:$JY$272,$AJ$33:$AJ$272,$A$3,$AH$33:$AH$272,$A$9)+SUMIFS($JZ$33:$JZ$272,$AJ$33:$AJ$272,$A$3,$AH$33:$AH$272,$A$9))*500","v":0},{"$f":"(SUMIFS($LG$33:$LG$272,$AJ$33:$AJ$272,$A$3,$AH$33:$AH$272,$A$9)+SUMIFS($LH$33:$LH$272,$AJ$33:$AJ$272,$A$3,$AH$33:$AH$272,$A$9)+SUMIFS($LI$33:$LI$272,$AJ$33:$AJ$272,$A$3,$AH$33:$AH$272,$A$9))*500","v":0},{"$f":"(SUMIFS($MP$33:$MP$272,$AJ$33:$AJ$272,$A$3,$AH$33:$AH$272,$A$9)+SUMIFS($MQ$33:$MQ$272,$AJ$33:$AJ$272,$A$3,$AH$33:$AH$272,$A$9)+SUMIFS($MR$33:$MR$272,$AJ$33:$AJ$272,$A$3,$AH$33:$AH$272,$A$9))*500","v":0}]
["Q3",null,null,null,null,null,null,null,null,null,null,null,null,null,null,null,null,null,null,null,null,"Advance Construction",null,null,null,{"$f":"FZ287*1000","v":{"$error":"#VALUE!"}},{"$f":"HI287*1000","v":{"$error":"#VALUE!"}},{"$f":"IR287*1000","v":{"$error":"#VALUE!"}},{"$f":"KA287*1000","v":{"$error":"#VALUE!"}},{"$f":"LJ287*1000","v":{"$error":"#VALUE!"}},{"$f":"MS287*1000","v":{"$error":"#VALUE!"}},null,null,null,null,null,null,null,null,null,"    Funded Old:",null,null,null,{"$f":"SUMIF($AH$33:$AH$272,$A$9,$EE$33:$EE$272)*500","v":0},{"$f":"SUMIF($AH$33:$AH$272,$A$9,$EH$33:$EH$272)*500","v":0},{"$f":"SUMIF($AH$33:$AH$272,$A$9,$EK$33:$EK$272)*500","v":0},{"$f":"SUMIF($AH$33:$AH$272,$A$9,$EN$33:$EN$272)*500","v":0},{"$f":"SUMIF($AH$33:$AH$272,$A$9,$EQ$33:$EQ$272)*500","v":0},{"$f":"SUMIF($AH$33:$AH$272,$A$9,$ET$33:$ET$272)*500","v":0},null,null,null,null,null,null,null,null,null,null,null,null,null,null,"Advance Construction",null,null,null,{"$f":"(SUMIF($AJ$33:$AJ$272,$A$3,$FZ$33:$FZ$272)+SUMIF($AJ$33:$AJ$272,$A$3,$GA$33:$GA$272)+SUMIF($AJ$33:$AJ$272,$A$3,$GB$33:$GB$272))*500","v":0},{"$f":"(SUMIF($AJ$33:$AJ$272,$A$3,$HI$33:$HI$272)+SUMIF($AJ$33:$AJ$272,$A$3,$HJ$33:$HJ$272)+SUMIF($AJ$33:$AJ$272,$A$3,$HK$33:$HK$272))*500","v":0},{"$f":"(SUMIF($AJ$33:$AJ$272,$A$3,$IR$33:$IR$272)+SUMIF($AJ$33:$AJ$272,$A$3,$IS$33:$IS$272)+SUMIF($AJ$33:$AJ$272,$A$3,$IT$33:$IT$272))*500","v":0},{"$f":"(SUMIF($AJ$33:$AJ$272,$A$3,$KA$33:$KA$272)+SUMIF($AJ$33:$AJ$272,$A$3,$KB$33:$KB$272)+SUMIF($AJ$33:$AJ$272,$A$3,$KC$33:$KC$272))*500","v":0},{"$f":"(SUMIF($AJ$33:$AJ$272,$A$3,$LJ$33:$LJ$272)+SUMIF($AJ$33:$AJ$272,$A$3,$LK$33:$LK$272)+SUMIF($AJ$33:$AJ$272,$A$3,$LL$33:$LL$272))*500","v":0},{"$f":"(SUMIF($AJ$33:$AJ$272,$A$3,$MS$33:$MS$272)+SUMIF($AJ$33:$AJ$272,$A$3,$MT$33:$MT$272)+SUMIF($AJ$33:$AJ$272,$A$3,$MU$33:$MU$272))*500","v":0},null,"Advance Construction",null,null,null,{"$f":"(SUMIFS($FZ$33:$FZ$272,$AJ$33:$AJ$272,$A$3,$AH$33:$AH$272,$A$8)+SUMIFS($GA$33:$GA$272,$AJ$33:$AJ$272,$A$3,$AH$33:$AH$272,$A$8)+SUMIFS($GB$33:$GB$272,$AJ$33:$AJ$272,$A$3,$AH$33:$AH$272,$A$8))*500","v":0},{"$f":"(SUMIFS($HI$33:$HI$272,$AJ$33:$AJ$272,$A$3,$AH$33:$AH$272,$A$8)+SUMIFS($HJ$33:$HJ$272,$AJ$33:$AJ$272,$A$3,$AH$33:$AH$272,$A$8)+SUMIFS($HK$33:$HK$272,$AJ$33:$AJ$272,$A$3,$AH$33:$AH$272,$A$8))*500","v":0},{"$f":"(SUMIFS($IR$33:$IR$272,$AJ$33:$AJ$272,$A$3,$AH$33:$AH$272,$A$8)+SUMIFS($IS$33:$IS$272,$AJ$33:$AJ$272,$A$3,$AH$33:$AH$272,$A$8)+SUMIFS($IT$33:$IT$272,$AJ$33:$AJ$272,$A$3,$AH$33:$AH$272,$A$8))*500","v":0},{"$f":"(SUMIFS($KA$33:$KA$272,$AJ$33:$AJ$272,$A$3,$AH$33:$AH$272,$A$8)+SUMIFS($KB$33:$KB$272,$AJ$33:$AJ$272,$A$3,$AH$33:$AH$272,$A$8)+SUMIFS($KC$33:$KC$272,$AJ$33:$AJ$272,$A$3,$AH$33:$AH$272,$A$8))*500","v":0},{"$f":"(SUMIFS($LJ$33:$LJ$272,$AJ$33:$AJ$272,$A$3,$AH$33:$AH$272,$A$8)+SUMIFS($LK$33:$LK$272,$AJ$33:$AJ$272,$A$3,$AH$33:$AH$272,$A$8)+SUMIFS($LL$33:$LL$272,$AJ$33:$AJ$272,$A$3,$AH$33:$AH$272,$A$8))*500","v":0},{"$f":"(SUMIFS($MS$33:$MS$272,$AJ$33:$AJ$272,$A$3,$AH$33:$AH$272,$A$8)+SUMIFS($MT$33:$MT$272,$AJ$33:$AJ$272,$A$3,$AH$33:$AH$272,$A$8)+SUMIFS($MU$33:$MU$272,$AJ$33:$AJ$272,$A$3,$AH$33:$AH$272,$A$8))*500","v":0},null,"Advance Construction",null,null,null,{"$f":"(SUMIFS($FZ$33:$FZ$272,$AJ$33:$AJ$272,$A$3,$AH$33:$AH$272,$A$9)+SUMIFS($GA$33:$GA$272,$AJ$33:$AJ$272,$A$3,$AH$33:$AH$272,$A$9)+SUMIFS($GB$33:$GB$272,$AJ$33:$AJ$272,$A$3,$AH$33:$AH$272,$A$9))*500","v":0},{"$f":"(SUMIFS($HI$33:$HI$272,$AJ$33:$AJ$272,$A$3,$AH$33:$AH$272,$A$9)+SUMIFS($HJ$33:$HJ$272,$AJ$33:$AJ$272,$A$3,$AH$33:$AH$272,$A$9)+SUMIFS($HK$33:$HK$272,$AJ$33:$AJ$272,$A$3,$AH$33:$AH$272,$A$9))*500","v":0},{"$f":"(SUMIFS($IR$33:$IR$272,$AJ$33:$AJ$272,$A$3,$AH$33:$AH$272,$A$9)+SUMIFS($IS$33:$IS$272,$AJ$33:$AJ$272,$A$3,$AH$33:$AH$272,$A$9)+SUMIFS($IT$33:$IT$272,$AJ$33:$AJ$272,$A$3,$AH$33:$AH$272,$A$9))*500","v":0},{"$f":"(SUMIFS($KA$33:$KA$272,$AJ$33:$AJ$272,$A$3,$AH$33:$AH$272,$A$9)+SUMIFS($KB$33:$KB$272,$AJ$33:$AJ$272,$A$3,$AH$33:$AH$272,$A$9)+SUMIFS($KC$33:$KC$272,$AJ$33:$AJ$272,$A$3,$AH$33:$AH$272,$A$9))*500","v":0},{"$f":"(SUMIFS($LJ$33:$LJ$272,$AJ$33:$AJ$272,$A$3,$AH$33:$AH$272,$A$9)+SUMIFS($LK$33:$LK$272,$AJ$33:$AJ$272,$A$3,$AH$33:$AH$272,$A$9)+SUMIFS($LL$33:$LL$272,$AJ$33:$AJ$272,$A$3,$AH$33:$AH$272,$A$9))*500","v":0},{"$f":"(SUMIFS($MS$33:$MS$272,$AJ$33:$AJ$272,$A$3,$AH$33:$AH$272,$A$9)+SUMIFS($MT$33:$MT$272,$AJ$33:$AJ$272,$A$3,$AH$33:$AH$272,$A$9)+SUMIFS($MU$33:$MU$272,$AJ$33:$AJ$272,$A$3,$AH$33:$AH$272,$A$9))*500","v":0}]
["Q4",null,null,null,null,null,null,null,null,null,null,null,null,null,null,null,null,null,null,null,null,"Unfunded",null,null,null,{"$f":"GC287*1000","v":{"$error":"#VALUE!"}},{"$f":"HL287*1000","v":{"$error":"#VALUE!"}},{"$f":"IU287*1000","v":{"$error":"#VALUE!"}},{"$f":"KD287*1000","v":{"$error":"#VALUE!"}},{"$f":"LM287*1000","v":{"$error":"#VALUE!"}},{"$f":"MV287*1000","v":{"$error":"#VALUE!"}},null,null,null,null,null,null,null,null,null,"    Unfunded Old:",null,null,null,{"$f":"SUMIF($AH$33:$AH$272,$A$9,$EF$33:$EF$272)*500","v":0},{"$f":"SUMIF($AH$33:$AH$272,$A$9,$EI$33:$EI$272)*500","v":0},{"$f":"SUMIF($AH$33:$AH$272,$A$9,$EL$33:$EL$272)*500","v":0},{"$f":"SUMIF($AH$33:$AH$272,$A$9,$EO$33:$EO$272)*500","v":0},{"$f":"SUMIF($AH$33:$AH$272,$A$9,$ER$33:$ER$272)*500","v":0},{"$f":"SUMIF($AH$33:$AH$272,$A$9,$EU$33:$EU$272)*500","v":0},null,null,null,null,null,null,null,null,null,null,null,null,null,null,"Unfunded",null,null,null,{"$f":"(SUMIF($AJ$33:$AJ$272,$A$3,$GC$33:$GC$272)+SUMIF($AJ$33:$AJ$272,$A$3,$GD$33:$GD$272)+SUMIF($AJ$33:$AJ$272,$A$3,$GE$33:$GE$272))*500","v":0},{"$f":"(SUMIF($AJ$33:$AJ$272,$A$3,$HL$33:$HL$272)+SUMIF($AJ$33:$AJ$272,$A$3,$HM$33:$HM$272)+SUMIF($AJ$33:$AJ$272,$A$3,$HN$33:$HN$272))*500","v":0},{"$f":"(SUMIF($AJ$33:$AJ$272,$A$3,$IU$33:$IU$272)+SUMIF($AJ$33:$AJ$272,$A$3,$IV$33:$IV$272)+SUMIF($AJ$33:$AJ$272,$A$3,$IW$33:$IW$272))*500","v":0},{"$f":"(SUMIF($AJ$33:$AJ$272,$A$3,$KD$33:$KD$272)+SUMIF($AJ$33:$AJ$272,$A$3,$KE$33:$KE$272)+SUMIF($AJ$33:$AJ$272,$A$3,$KF$33:$KF$272))*500","v":0},{"$f":"(SUMIF($AJ$33:$AJ$272,$A$3,$LM$33:$LM$272)+SUMIF($AJ$33:$AJ$272,$A$3,$LN$33:$LN$272)+SUMIF($AJ$33:$AJ$272,$A$3,$LO$33:$LO$272))*500","v":0},{"$f":"(SUMIF($AJ$33:$AJ$272,$A$3,$MV$33:$MV$272)+SUMIF($AJ$33:$AJ$272,$A$3,$MW$33:$MW$272)+SUMIF($AJ$33:$AJ$272,$A$3,$MX$33:$MX$272))*500","v":0},null,"Unfunded",null,null,null,{"$f":"(SUMIFS($GC$33:$GC$272,$AJ$33:$AJ$272,$A$3,$AH$33:$AH$272,$A$8)+SUMIFS($GD$33:$GD$272,$AJ$33:$AJ$272,$A$3,$AH$33:$AH$272,$A$8)+SUMIFS($GE$33:$GE$272,$AJ$33:$AJ$272,$A$3,$AH$33:$AH$272,$A$8))*500","v":0},{"$f":"(SUMIFS($HL$33:$HL$272,$AJ$33:$AJ$272,$A$3,$AH$33:$AH$272,$A$8)+SUMIFS($HM$33:$HM$272,$AJ$33:$AJ$272,$A$3,$AH$33:$AH$272,$A$8)+SUMIFS($HN$33:$HN$272,$AJ$33:$AJ$272,$A$3,$AH$33:$AH$272,$A$8))*500","v":0},{"$f":"(SUMIFS($IU$33:$IU$272,$AJ$33:$AJ$272,$A$3,$AH$33:$AH$272,$A$8)+SUMIFS($IV$33:$IV$272,$AJ$33:$AJ$272,$A$3,$AH$33:$AH$272,$A$8)+SUMIFS($IW$33:$IW$272,$AJ$33:$AJ$272,$A$3,$AH$33:$AH$272,$A$8))*500","v":0},{"$f":"(SUMIFS($KD$33:$KD$272,$AJ$33:$AJ$272,$A$3,$AH$33:$AH$272,$A$8)+SUMIFS($KE$33:$KE$272,$AJ$33:$AJ$272,$A$3,$AH$33:$AH$272,$A$8)+SUMIFS($KF$33:$KF$272,$AJ$33:$AJ$272,$A$3,$AH$33:$AH$272,$A$8))*500","v":0},{"$f":"(SUMIFS($LM$33:$LM$272,$AJ$33:$AJ$272,$A$3,$AH$33:$AH$272,$A$8)+SUMIFS($LN$33:$LN$272,$AJ$33:$AJ$272,$A$3,$AH$33:$AH$272,$A$8)+SUMIFS($LO$33:$LO$272,$AJ$33:$AJ$272,$A$3,$AH$33:$AH$272,$A$8))*500","v":0},{"$f":"(SUMIFS($MV$33:$MV$272,$AJ$33:$AJ$272,$A$3,$AH$33:$AH$272,$A$8)+SUMIFS($MW$33:$MW$272,$AJ$33:$AJ$272,$A$3,$AH$33:$AH$272,$A$8)+SUMIFS($MX$33:$MX$272,$AJ$33:$AJ$272,$A$3,$AH$33:$AH$272,$A$8))*500","v":0},null,"Unfunded",null,null,null,{"$f":"(SUMIFS($GC$33:$GC$272,$AJ$33:$AJ$272,$A$3,$AH$33:$AH$272,$A$9)+SUMIFS($GD$33:$GD$272,$AJ$33:$AJ$272,$A$3,$AH$33:$AH$272,$A$9)+SUMIFS($GE$33:$GE$272,$AJ$33:$AJ$272,$A$3,$AH$33:$AH$272,$A$9))*500","v":0},{"$f":"(SUMIFS($HL$33:$HL$272,$AJ$33:$AJ$272,$A$3,$AH$33:$AH$272,$A$9)+SUMIFS($HM$33:$HM$272,$AJ$33:$AJ$272,$A$3,$AH$33:$AH$272,$A$9)+SUMIFS($HN$33:$HN$272,$AJ$33:$AJ$272,$A$3,$AH$33:$AH$272,$A$9))*500","v":0},{"$f":"(SUMIFS($IU$33:$IU$272,$AJ$33:$AJ$272,$A$3,$AH$33:$AH$272,$A$9)+SUMIFS($IV$33:$IV$272,$AJ$33:$AJ$272,$A$3,$AH$33:$AH$272,$A$9)+SUMIFS($IW$33:$IW$272,$AJ$33:$AJ$272,$A$3,$AH$33:$AH$272,$A$9))*500","v":0},{"$f":"(SUMIFS($KD$33:$KD$272,$AJ$33:$AJ$272,$A$3,$AH$33:$AH$272,$A$9)+SUMIFS($KE$33:$KE$272,$AJ$33:$AJ$272,$A$3,$AH$33:$AH$272,$A$9)+SUMIFS($KF$33:$KF$272,$AJ$33:$AJ$272,$A$3,$AH$33:$AH$272,$A$9))*500","v":0},{"$f":"(SUMIFS($LM$33:$LM$272,$AJ$33:$AJ$272,$A$3,$AH$33:$AH$272,$A$9)+SUMIFS($LN$33:$LN$272,$AJ$33:$AJ$272,$A$3,$AH$33:$AH$272,$A$9)+SUMIFS($LO$33:$LO$272,$AJ$33:$AJ$272,$A$3,$AH$33:$AH$272,$A$9))*500","v":0},{"$f":"(SUMIFS($MV$33:$MV$272,$AJ$33:$AJ$272,$A$3,$AH$33:$AH$272,$A$9)+SUMIFS($MW$33:$MW$272,$AJ$33:$AJ$272,$A$3,$AH$33:$AH$272,$A$9)+SUMIFS($MX$33:$MX$272,$AJ$33:$AJ$272,$A$3,$AH$33:$AH$272,$A$9))*500","v":0}]
[null,null,"XX Proposed Funding",null,null,null,null,null,null,null,null,null,null,null,null,null,null,null,null,null,null,"By Phase",null,null,null,null,null,null,null,null,null,null,null,null,null,null,null,null,null,null,null,null,null,null,null,null,null,null,null,null,null,null,null,null,null,null,null,null,null,null,null,null,null,null,"By Phase",null,null,null,null,null,null,null,null,null,null,"By Phase",null,null,null,null,null,null,null,null,null,null,"By Phase"]
["\"region\"",null,null,{"$f":"$C$9","v":2026},null,{"$f":"D20+1","v":2027},null,{"$f":"F20+1","v":2028},null,{"$f":"H20+1","v":2029},null,{"$f":"J20+1","v":2030},null,{"$f":"L20+1","v":2031},null,null,null,null,null,null,null,0,null,null,null,{"$f":"$EX274","v":0},{"$f":"$GG274","v":0},{"$f":"$HP274","v":0},{"$f":"$IY274","v":0},{"$f":"$KH274","v":0},{"$f":"$LQ274","v":0},null,null,null,null,null,null,null,null,null,"Corrections:",null,"ph2","ph7",null,"ph2","ph7",null,"ph2","ph7",null,null,null,null,null,null,null,null,null,null,null,null,null,null,0,null,null,null,{"$f":"SUMIFS($EX$33:$EX$272,$AJ$33:$AJ$272,$A$3,$EW$33:$EW$272,$BM33)","v":0},{"$f":"SUMIFS($GG$33:$GG$272,$AJ$33:$AJ$272,$A$3,$GF$33:$GF$272,$BM33)","v":0},{"$f":"SUMIFS($HP$33:$HP$272,$AJ$33:$AJ$272,$A$3,$HO$33:$HO$272,$BM33)","v":0},{"$f":"SUMIFS($IY$33:$IY$272,$AJ$33:$AJ$272,$A$3,$IX$33:$IX$272,$BM33)","v":0},{"$f":"SUMIFS($KH$33:$KH$272,$AJ$33:$AJ$272,$A$3,$KG$33:$KG$272,$BM33)","v":0},{"$f":"SUMIFS($LQ$33:$LQ$272,$AJ$33:$AJ$272,$A$3,$LP$33:$LP$272,$BM33)","v":0},null,0,null,null,null,{"$f":"SUMIFS($EX$33:$EX$272,$AJ$33:$AJ$272,$A$3,$EW$33:$EW$272,$BM33,$AH$33:$AH$272,$A$8)","v":0},{"$f":"SUMIFS($GG$33:$GG$272,$AJ$33:$AJ$272,$A$3,$GF$33:$GF$272,$BM33,$AH$33:$AH$272,$A$8)","v":0},{"$f":"SUMIFS($HP$33:$HP$272,$AJ$33:$AJ$272,$A$3,$HO$33:$HO$272,$BM33,$AH$33:$AH$272,$A$8)","v":0},{"$f":"SUMIFS($IY$33:$IY$272,$AJ$33:$AJ$272,$A$3,$IX$33:$IX$272,$BM33,$AH$33:$AH$272,$A$8)","v":0},{"$f":"SUMIFS($KH$33:$KH$272,$AJ$33:$AJ$272,$A$3,$KG$33:$KG$272,$BM33,$AH$33:$AH$272,$A$8)","v":0},{"$f":"SUMIFS($LQ$33:$LQ$272,$AJ$33:$AJ$272,$A$3,$LP$33:$LP$272,$BM33,$AH$33:$AH$272,$A$8)","v":0},null,0,null,null,null,{"$f":"SUMIFS($EX$33:$EX$272,$AJ$33:$AJ$272,$A$3,$EW$33:$EW$272,$BM33,$AH$33:$AH$272,$A$9)","v":0},{"$f":"SUMIFS($GG$33:$GG$272,$AJ$33:$AJ$272,$A$3,$GF$33:$GF$272,$BM33,$AH$33:$AH$272,$A$9)","v":0},{"$f":"SUMIFS($HP$33:$HP$272,$AJ$33:$AJ$272,$A$3,$HO$33:$HO$272,$BM33,$AH$33:$AH$272,$A$9)","v":0},{"$f":"SUMIFS($IY$33:$IY$272,$AJ$33:$AJ$272,$A$3,$IX$33:$IX$272,$BM33,$AH$33:$AH$272,$A$9)","v":0},{"$f":"SUMIFS($KH$33:$KH$272,$AJ$33:$AJ$272,$A$3,$KG$33:$KG$272,$BM33,$AH$33:$AH$272,$A$9)","v":0},{"$f":"SUMIFS($LQ$33:$LQ$272,$AJ$33:$AJ$272,$A$3,$LP$33:$LP$272,$BM33,$AH$33:$AH$272,$A$9)","v":0}]
["if A1 fails",null,"Total",{"$f":"Y$281","v":0},null,{"$f":"Z$281","v":0},null,{"$f":"AA$281","v":0},null,{"$f":"AB$281","v":0},null,{"$f":"AC$281","v":0},null,{"$f":"AD$281","v":0},null,null,null,null,null,null,null,2,null,null,null,{"$f":"$EX275","v":0},{"$f":"$GG275","v":0},{"$f":"$HP275","v":0},{"$f":"$IY275","v":0},{"$f":"$KH275","v":0},{"$f":"$LQ275","v":0},null,null,null,null,null,null,null,null,null,"24CN03","AMATS",{"$f":"(25500/9)*2","v":5666.666666666667},{"$f":"(99200/9)*2","v":22044.444444444445},"MVP",{"$f":"(25500/9)*2","v":5666.666666666667},{"$f":"(99200/9)*2","v":22044.444444444445},"Outside MPO",{"$f":"Y165-AQ21-AT21","v":-11333.333333333334},null,null,null,null,null,null,null,null,null,null,null,null,null,null,null,2,null,null,null,0,0,0,0,0,0,null,2,null,null,null,0,0,0,0,0,0,null,2,null,null,null,0,{"$f":"SUMIFS($GG$33:$GG$272,$AJ$33:$AJ$272,$A$3,$GF$33:$GF$272,#REF!,$AH$33:$AH$272,$A$9)","v":0},{"$f":"SUMIFS($HP$33:$HP$272,$AJ$33:$AJ$272,$A$3,$HO$33:$HO$272,#REF!,$AH$33:$AH$272,$A$9)","v":0},{"$f":"SUMIFS($IY$33:$IY$272,$AJ$33:$AJ$272,$A$3,$IX$33:$IX$272,#REF!,$AH$33:$AH$272,$A$9)","v":0},{"$f":"SUMIFS($KH$33:$KH$272,$AJ$33:$AJ$272,$A$3,$KG$33:$KG$272,#REF!,$AH$33:$AH$272,$A$9)","v":0},{"$f":"SUMIFS($LQ$33:$LQ$272,$AJ$33:$AJ$272,$A$3,$LP$33:$LP$272,#REF!,$AH$33:$AH$272,$A$9)","v":0}]
[null,null,"    New:",null,{"$f":"TRANSPOSE(ED281:EF281)*1000","v":{"$error":"#VALUE!"}},null,{"$f":"TRANSPOSE(EG281:EI281)*1000","v":{"$error":"#VALUE!"}},null,{"$f":"TRANSPOSE(EJ281:EL281)*1000","v":{"$error":"#VALUE!"}},null,{"$f":"TRANSPOSE(EM281:EO281)*1000","v":{"$error":"#VALUE!"}},null,{"$f":"TRANSPOSE(EP281:ER281)*1000","v":{"$error":"#VALUE!"}},null,null,{"$f":"TRANSPOSE(ES281:EU281)*1000","v":{"$error":"#VALUE!"}},null,null,null,null,null,3,null,null,null,0,0,0,0,0,0,null,null,null,null,null,null,null,null,null,null,null,"FY25",null,null,"FY25",null,null,"FY25",null,null,null,null,null,null,null,null,null,null,null,null,null,null,null,3,null,null,null,0,0,0,0,0,0,null,3,null,null,null,0,0,0,0,0,0,null,3,null,null,null,0,{"$f":"SUMIFS($GG$33:$GG$272,$AJ$33:$AJ$272,$A$3,$GF$33:$GF$272,$AO22,$AH$33:$AH$272,$A$9)","v":0},{"$f":"SUMIFS($HP$33:$HP$272,$AJ$33:$AJ$272,$A$3,$HO$33:$HO$272,$AO22,$AH$33:$AH$272,$A$9)","v":0},{"$f":"SUMIFS($IY$33:$IY$272,$AJ$33:$AJ$272,$A$3,$IX$33:$IX$272,$AO22,$AH$33:$AH$272,$A$9)","v":0},{"$f":"SUMIFS($KH$33:$KH$272,$AJ$33:$AJ$272,$A$3,$KG$33:$KG$272,$AO22,$AH$33:$AH$272,$A$9)","v":0},{"$f":"SUMIFS($LQ$33:$LQ$272,$AJ$33:$AJ$272,$A$3,$LP$33:$LP$272,$AO22,$AH$33:$AH$272,$A$9)","v":0}]
[null,null,"    Funded Old:",null,{"$error":"#VALUE!"},null,{"$error":"#VALUE!"},null,{"$error":"#VALUE!"},null,{"$error":"#VALUE!"},null,{"$error":"#VALUE!"},null,null,{"$error":"#VALUE!"},null,null,null,null,null,4,null,null,null,0,0,0,0,0,0,null,null,null,null,null,null,null,null,null,null,null,null,"FY25","MPO","AMATS","MVP",null,null,null,null,null,null,null,null,null,null,null,null,null,null,null,null,null,4,null,null,null,0,0,0,0,0,0,null,4,null,null,null,0,0,0,0,0,0,null,4,null,null,null,0,{"$f":"SUMIFS($GG$33:$GG$272,$AJ$33:$AJ$272,$A$3,$GF$33:$GF$272,$AO23,$AH$33:$AH$272,$A$9)","v":0},{"$f":"SUMIFS($HP$33:$HP$272,$AJ$33:$AJ$272,$A$3,$HO$33:$HO$272,$AO23,$AH$33:$AH$272,$A$9)","v":0},{"$f":"SUMIFS($IY$33:$IY$272,$AJ$33:$AJ$272,$A$3,$IX$33:$IX$272,$AO23,$AH$33:$AH$272,$A$9)","v":0},{"$f":"SUMIFS($KH$33:$KH$272,$AJ$33:$AJ$272,$A$3,$KG$33:$KG$272,$AO23,$AH$33:$AH$272,$A$9)","v":0},{"$f":"SUMIFS($LQ$33:$LQ$272,$AJ$33:$AJ$272,$A$3,$LP$33:$LP$272,$AO23,$AH$33:$AH$272,$A$9)","v":0}]
[null,null,"    Unfunded Old:",null,{"$error":"#VALUE!"},null,{"$error":"#VALUE!"},null,{"$error":"#VALUE!"},null,{"$error":"#VALUE!"},null,{"$error":"#VALUE!"},null,null,{"$error":"#VALUE!"},null,null,null,null,null,7,null,null,null,0,0,0,0,0,0,null,null,null,null,null,null,null,null,null,null,null,null,"Total",{"$f":"SUM(AS25:AS27)","v":11333.333333333334},{"$f":"SUM(AT25:AT27)","v":5666.666666666667},{"$f":"SUM(AU25:AU27)","v":5666.666666666667},null,null,null,null,null,null,null,null,null,null,null,null,null,null,null,null,null,7,null,null,null,0,0,0,0,0,0,null,7,null,null,null,0,0,0,0,0,0,null,7,null,null,null,0,{"$f":"SUMIFS($GG$33:$GG$272,$AJ$33:$AJ$272,$A$3,$GF$33:$GF$272,$AO24,$AH$33:$AH$272,$A$9)","v":0},{"$f":"SUMIFS($HP$33:$HP$272,$AJ$33:$AJ$272,$A$3,$HO$33:$HO$272,$AO24,$AH$33:$AH$272,$A$9)","v":0},{"$f":"SUMIFS($IY$33:$IY$272,$AJ$33:$AJ$272,$A$3,$IX$33:$IX$272,$AO24,$AH$33:$AH$272,$A$9)","v":0},{"$f":"SUMIFS($KH$33:$KH$272,$AJ$33:$AJ$272,$A$3,$KG$33:$KG$272,$AO24,$AH$33:$AH$272,$A$9)","v":0},{"$f":"SUMIFS($LQ$33:$LQ$272,$AJ$33:$AJ$272,$A$3,$LP$33:$LP$272,$AO24,$AH$33:$AH$272,$A$9)","v":0}]
[null,null,null,null,null,null,null,null,null,null,null,null,null,null,null,null,null,null,null,null,null,8,null,null,null,0,0,0,0,0,0,null,null,null,null,null,null,null,null,null,null,null,null,"New",{"$f":"SUM(AT25:AU25)","v":0},{"$f":"AS11","v":0},{"$f":"AS16","v":0},null,null,null,null,null,null,null,null,null,null,null,null,null,null,null,null,null,8,null,null,null,0,0,0,0,0,0,null,8,null,null,null,0,0,0,0,0,0,null,8,null,null,null,0,{"$f":"SUMIFS($GG$33:$GG$272,$AJ$33:$AJ$272,$A$3,$GF$33:$GF$272,$AO20,$AH$33:$AH$272,$A$9)","v":0},{"$f":"SUMIFS($HP$33:$HP$272,$AJ$33:$AJ$272,$A$3,$HO$33:$HO$272,$AO20,$AH$33:$AH$272,$A$9)","v":0},{"$f":"SUMIFS($IY$33:$IY$272,$AJ$33:$AJ$272,$A$3,$IX$33:$IX$272,$AO20,$AH$33:$AH$272,$A$9)","v":0},{"$f":"SUMIFS($KH$33:$KH$272,$AJ$33:$AJ$272,$A$3,$KG$33:$KG$272,$AO20,$AH$33:$AH$272,$A$9)","v":0},{"$f":"SUMIFS($LQ$33:$LQ$272,$AJ$33:$AJ$272,$A$3,$LP$33:$LP$272,$AO20,$AH$33:$AH$272,$A$9)","v":0}]
[null,null,"Funded only in future years",null,null,null,null,null,null,null,null,null,null,null,null,null,null,null,null,null,null,9,null,null,null,0,0,0,0,0,0,null,null,null,null,null,null,null,null,null,null,null,null,"Funded Old",{"$f":"SUM(AT26:AU26)","v":11333.333333333334},{"$f":"AS12+AQ21","v":5666.666666666667},{"$f":"AS17+AT21","v":5666.666666666667},null,null,null,null,null,null,null,null,null,null,null,null,null,null,null,null,null,9,null,null,null,0,0,0,0,0,0,null,9,null,null,null,0,0,0,0,0,0,null,9,null,null,null,0,{"$f":"SUMIFS($GG$33:$GG$272,$AJ$33:$AJ$272,$A$3,$GF$33:$GF$272,$AO21,$AH$33:$AH$272,$A$9)","v":0},{"$f":"SUMIFS($HP$33:$HP$272,$AJ$33:$AJ$272,$A$3,$HO$33:$HO$272,$AO21,$AH$33:$AH$272,$A$9)","v":0},{"$f":"SUMIFS($IY$33:$IY$272,$AJ$33:$AJ$272,$A$3,$IX$33:$IX$272,$AO21,$AH$33:$AH$272,$A$9)","v":0},{"$f":"SUMIFS($KH$33:$KH$272,$AJ$33:$AJ$272,$A$3,$KG$33:$KG$272,$AO21,$AH$33:$AH$272,$A$9)","v":0},{"$f":"SUMIFS($LQ$33:$LQ$272,$AJ$33:$AJ$272,$A$3,$LP$33:$LP$272,$AO21,$AH$33:$AH$272,$A$9)","v":0},null,null,null,null,null,null,null,null,null,null,null,null,null,null,null,null,null,null,null,null,null,null,null,null,null,null,null,null,null,null,null,null,null,null,null,null,null,null,null,null,null,null,null,null,null,null,null,null,null,null,null,null,null,null,null,null,"Why is this the same number from the proposed funding plan vs the actuals? What happens they ask for more $$ vs what they had obligated?"]
[null,null,"Copied from Regional Report",null,null,null,null,null,null,null,null,null,null,null,null,null,null,null,null,null,null,"Total",null,null,null,{"$f":"$EX281","v":0},0,0,0,{"$f":"$KH281","v":0},0,null,null,null,null,null,null,null,null,null,null,null,null,"Unfunded Old",{"$f":"SUM(AT27:AU27)","v":0},{"$f":"AS13","v":0},{"$f":"AS18","v":0},null,null,null,null,null,null,null,null,null,null,null,null,null,null,null,null,null,"Total",null,null,null,0,0,0,0,0,0,null,"Total",null,null,null,0,0,0,0,0,0,null,"Total",null,null,null,0,{"$f":"SUM(CN$20:CN$26)","v":0},0,0,0,0]
[null,null,"Inputted at Statewide","Choose only 1 project type",null,null,null,null,null,null,null,null,null,null,null,null,null,null,null,null,null,null,null,null,null,null,null,null,null,null,null,null,"conditional formatting if not equal",null,null,null,null,null,null,null,"Years that have funded a type ('XX)",null,null,null,null,null,null,null,null,null,null,null,null,null,null,null,null,null,null,null,null,null,null,null,"Funding Designation",null,null,null,null,null,null,null,null,null,null,null,null,null,null,null,null,null,null,null,null,null,null,null,null,null,null,null,null,null,null,null,null,null,null,null,null,null,null,null,null,null,null,null,null,null,null,null,null,null,null,null,null,null,null,null,null,null,null,null,null,null,null,null,null,null,null,null,null,null,null,null,null,null,null,null,null,null,null,null,null,null,null,null,null,null,null,null,"Totals and Funding Sources for SELECTED Projects",null,null,null,null,null,null,null,null,null,null,null,null,null,null,null,null,null,null,null,null,null,null,null,null,null,null,null,null,null,null,null,null,null,null,null,null,null,null,null,null,null,null,null,null,null,null,null,null,null,null,null,null,null,null,null,null,null,null,null,null,null,null,null,null,null,null,null,null,null,null,null,null,null,null,null,null,null,null,null,null,null,null,null,null,null,null,null,null,null,null,null,null,null,null,null,null,null,null,null,null,null,null,null,null,"Totals and Funding Sources for SELECTED Projects"]
[null,null,null,null,null,null,null,null,null,null,null,null,null,null,null,null,null,null,null,null,null,null,null,null,null,null,null,null,null,null,null,null,null,null,null,null,null,null,null,null,null,null,null,null,null,null,null,null,null,null,null,"(a)",null,null,null,null,null,null,null,null,null,null,null,null,null,"(b)","(c) ","(d)","(e) ","(f)","(g)","(h)","(i)","(j)","(k)","(l)"]
[null,null,{"$f":"'Regional Project List Sheet'!$E$2","v":"FFY 2026 Proposed HSIP Projects - XX Region"},null,null,null,null,null,null,null,null,null,null,null,null,null,null,null,null,null,null,null,null,null,null,null,null,null,null,null,null,null,null,null,null,null,null,null,null,null,"Funding History",null,null,null,null,null,null,null,null,null,null,"Selected?","Error Check","TEST Dollars Assigned","TEST Multi-Fund Sources","TEST Funding Continuity","A - Test Value","B - Test Value","C - Test Value","D - Test Value","E - Test Value","F - Test Value","MAX - Test Value",null,null,{"$f":"_xlfn.CONCAT(\"FFY \",MID($C$9,3,2))","v":"FFY 26"},null,null,null,null,null,null,null,null,null,null,{"$f":"_xlfn.CONCAT(\"FFY \",MID($C$9+1,3,2))","v":"FFY 27"},null,null,null,null,null,null,null,null,null,null,{"$f":"_xlfn.CONCAT(\"FFY \",MID($C$9+2,3,2))","v":"FFY 28"},null,null,null,null,null,null,null,null,null,null,{"$f":"_xlfn.CONCAT(\"FFY \",MID($C$9+3,3,2))","v":"FFY 29"},null,null,null,null,null,null,null,null,null,null,{"$f":"_xlfn.CONCAT(\"FFY \",MID($C$9+4,3,2))","v":"FFY 30"},null,null,null,null,null,null,null,null,null,null,{"$f":"_xlfn.CONCAT(\"FFY \",MID($C$9+5,3,2))","v":"FFY 31"},null,null,null,null,null,null,null,null,null,null,null,null,{"$f":"_xlfn.CONCAT(\"FFY \",MID($C$9,3,2))","v":"FFY 26"},null,null,{"$f":"_xlfn.CONCAT(\"FFY \",MID($C$9+1,3,2))","v":"FFY 27"},null,null,{"$f":"_xlfn.CONCAT(\"FFY \",MID($C$9+2,3,2))","v":"FFY 28"},null,null,{"$f":"_xlfn.CONCAT(\"FFY \",MID($C$9+3,3,2))","v":"FFY 29"},null,null,{"$f":"_xlfn.CONCAT(\"FFY \",MID($C$9+4,3,2))","v":"FFY 30"},null,null,{"$f":"_xlfn.CONCAT(\"FFY \",MID($C$9+5,3,2))","v":"FFY 31"},null,null,null,{"$f":"$C$9","v":2026},null,null,null,null,null,null,null,null,null,null,null,null,null,null,null,null,null,null,null,null,null,null,null,null,null,null,null,null,null,null,null,null,null,null,{"$f":"EW30+1","v":2027},null,null,null,null,null,null,null,null,null,null,null,null,null,null,null,null,null,null,null,null,null,null,null,null,null,null,null,null,null,null,null,null,null,null,{"$f":"GF30+1","v":2028},null,null,null,null,null,null,null,null,null,null,null,null,null,null,null,null,null,null,null,null,null,null,null,null,null,null,null,null,null,null,null,null,null,null,{"$f":"HO30+1","v":2029},null,null,null,null,null,null,null,null,null,null,null,null,null,null,null,null,null,null,null,null,null,null,null,null,null,null,null,null,null,null,null,null,null,null,{"$f":"IX30+1","v":2030},null,null,null,null,null,null,null,null,null,null,null,null,null,null,null,null,null,null,null,null,null,null,null,null,null,null,null,null,null,null,null,null,null,null,{"$f":"KG30+1","v":2031}]
[null,null,"Project Name:","Project Type",null,null,"IRIS No.","HSIP Project Number","B/C","Safety Index","Criteria 1","Criteria 2","Criteria 3A","Criteria 3B","Criteria 4","Weighted Score","Statewide Rank","Crashes Susc. to Corr.",null,null,null,null,"Region","Phase","Federal Fiscal Year",null,null,"Longterm View",null,null,{"$f":"_xlfn.CONCAT(\"FFY\",MID($C$9,3,2),\" Quarter\")","v":"FFY26 Quarter"},"Bundle?","In MPO?",null,"In TIP?",null,"Project Description","HQ Review Comments","Regional Response/Adjustment",null,"Phase","S120","S130 (Railroad)","S148 (UnCat)","S154 (Penalty)","S164 (Penalty)","HRRR","SSP","VRU","Older Drivers and Peds",null,null,null,null,null,null,null,null,null,null,null,null,null,null,"Phase","S120","S130 (Railroad)","S148 (UnCat)","S154 (Penalty)","S164 (Penalty)","HRRR","SSP","VRU","Older Drivers & Peds","A/C","Unfunded","S120","S130 (Railroad)","S148 (UnCat)","S154 (Penalty)","S164 (Penalty)","HRRR","SSP","VRU","Older Drivers & Peds","A/C","Unfunded","S120","S130 (Railroad)","S148 (UnCat)","S154 (Penalty)","S164 (Penalty)","HRRR","SSP","VRU","Older Drivers & Peds","A/C","Unfunded","S120","S130 (Railroad)","S148 (UnCat)","S154 (Penalty)","S164 (Penalty)","HRRR","SSP","VRU","Older Drivers & Peds","A/C","Unfunded","S120","S130 (Railroad)","S148 (UnCat)","S154 (Penalty)","S164 (Penalty)","HRRR","SSP","VRU","Older Drivers & Peds","A/C","Unfunded","S120","S130 (Railroad)","S148 (UnCat)","S154 (Penalty)","S164 (Penalty)","HRRR","SSP","VRU","Older Drivers & Peds","A/C","Unfunded",null,"Phase","New","Funded Old","Unfunded Old","New","Funded Old","Unfunded Old","New","Funded Old","Unfunded Old","New","Funded Old","Unfunded Old","New","Funded Old","Unfunded Old","New","Funded Old","Unfunded Old",null,"By Phase",null,"S120",null,null,"S130 (Railroad)",null,null,"S148 (UnCat)",null,null,"S154 (Penalty)",null,null,"S164 (Penalty)",null,null,"HRRR",null,null,"SSP",null,null,"VRU",null,null,"Older Drivers & Peds",null,null,"A/C",null,null,"Unfunded",null,null,"By Phase",null,"S120",null,null,"S130 (Railroad)",null,null,"S148 (UnCat)",null,null,"S154 (Penalty)",null,null,"S164 (Penalty)",null,null,"HRRR",null,null,"SSP",null,null,"VRU",null,null,"Older Drivers & Peds",null,null,"A/C",null,null,"Unfunded",null,null,"By Phase",null,"S120",null,null,"S130 (Railroad)",null,null,"S148 (UnCat)",null,null,"S154 (Penalty)",null,null,"S164 (Penalty)",null,null,"HRRR",null,null,"SSP",null,null,"VRU",null,null,"Older Drivers & Peds",null,null,"A/C",null,null,"Unfunded",null,null,"By Phase",null,"S120",null,null,"S130 (Railroad)",null,null,"S148 (UnCat)",null,null,"S154 (Penalty)",null,null,"S164 (Penalty)",null,null,"HRRR",null,null,"SSP",null,null,"VRU",null,null,"Older Drivers & Peds",null,null,"A/C",null,null,"Unfunded",null,null,"By Phase",null,"S120",null,null,"S130 (Railroad)",null,null,"S148 (UnCat)",null,null,"S154 (Penalty)",null,null,"S164 (Penalty)",null,null,"HRRR",null,null,"SSP",null,null,"VRU",null,null,"Older Drivers & Peds",null,null,"A/C",null,null,"Unfunded",null,null,"By Phase",null,"S120",null,null,"S130 (Railroad)",null,null,"S148 (UnCat)",null,null,"S154 (Penalty)",null,null,"S164 (Penalty)",null,null,"HRRR",null,null,"SSP",null,null,"VRU",null,null,"Older Drivers & Peds",null,null,"A/C",null,null,"Unfunded"]
[null,null,null,"New","FO","UFO",null,null,null,null,null,null,null,null,null,null,null,"PDO","POS","MIN","MJR","FAT",null,null,{"$f":"MID($C$9,3,2)","v":"26"},{"$f":"Y32+1","v":27},{"$f":"Z32+1","v":28},29,30,31,null,null,null,null,null,null,null,null,null,null,null,null,null,null,null,null,null,null,null,null,null,null,null,null,null,null,null,null,null,null,null,null,null,null,null,null,null,null,null,null,null,null,null,null,null,null,null,null,null,null,null,null,null,null,null,null,null,null,null,null,null,null,null,null,null,null,null,null,null,null,null,null,null,null,null,null,null,null,null,null,null,null,null,null,null,null,null,null,null,null,null,null,null,null,null,null,null,null,null,null,null,null,null,null,null,null,null,null,null,null,null,null,null,null,null,null,null,null,null,null,null,null,null,null,"New","Funded    Old","Unfunded Old","New","Funded    Old","Unfunded Old","New","Funded    Old","Unfunded Old","New","Funded    Old","Unfunded Old","New","Funded    Old","Unfunded Old","New","Funded    Old","Unfunded Old","New","Funded    Old","Unfunded Old","New","Funded    Old","Unfunded Old","New","Funded    Old","Unfunded Old","New","Funded    Old","Unfunded Old","New","Funded    Old","Unfunded Old",null,null,"New","Funded    Old","Unfunded Old","New","Funded    Old","Unfunded Old","New","Funded    Old","Unfunded Old","New","Funded    Old","Unfunded Old","New","Funded    Old","Unfunded Old","New","Funded    Old","Unfunded Old","New","Funded    Old","Unfunded Old","New","Funded    Old","Unfunded Old","New","Funded    Old","Unfunded Old","New","Funded    Old","Unfunded Old","New","Funded    Old","Unfunded Old",null,null,"New","Funded    Old","Unfunded Old","New","Funded    Old","Unfunded Old","New","Funded    Old","Unfunded Old","New","Funded    Old","Unfunded Old","New","Funded    Old","Unfunded Old","New","Funded    Old","Unfunded Old","New","Funded    Old","Unfunded Old","New","Funded    Old","Unfunded Old","New","Funded    Old","Unfunded Old","New","Funded    Old","Unfunded Old","New","Funded    Old","Unfunded Old",null,null,"New","Funded    Old","Unfunded Old","New","Funded    Old","Unfunded Old","New","Funded    Old","Unfunded Old","New","Funded    Old","Unfunded Old","New","Funded    Old","Unfunded Old","New","Funded    Old","Unfunded Old","New","Funded    Old","Unfunded Old","New","Funded    Old","Unfunded Old","New","Funded    Old","Unfunded Old","New","Funded    Old","Unfunded Old","New","Funded    Old","Unfunded Old",null,null,"New","Funded    Old","Unfunded Old","New","Funded    Old","Unfunded Old","New","Funded    Old","Unfunded Old","New","Funded    Old","Unfunded Old","New","Funded    Old","Unfunded Old","New","Funded    Old","Unfunded Old","New","Funded    Old","Unfunded Old","New","Funded    Old","Unfunded Old","New","Funded    Old","Unfunded Old","New","Funded    Old","Unfunded Old","New","Funded    Old","Unfunded Old",null,null,"New","Funded    Old","Unfunded Old","New","Funded    Old","Unfunded Old","New","Funded    Old","Unfunded Old","New","Funded    Old","Unfunded Old","New","Funded    Old","Unfunded Old","New","Funded    Old","Unfunded Old","New","Funded    Old","Unfunded Old","New","Funded    Old","Unfunded Old","New","Funded    Old","Unfunded Old","New","Funded    Old","Unfunded Old","New","Funded    Old","Unfunded Old"]
[null,{"$f":"B28+1","v":1},{"$f":"'Regional Project List Sheet'!F5","v":0},{"$f":"IF('Regional Project List Sheet'!$G5=\"New\",1,\"\")","v":""},{"$f":"IF('Regional Project List Sheet'!$G5=\"Funded Old\",1,\"\")","v":""},{"$f":"IF('Regional Project List Sheet'!$G5=\"Unfunded Old\",1,\"\")","v":""},{"$f":"'Regional Project List Sheet'!H5","v":0},{"$f":"'Regional Project List Sheet'!I5","v":0},{"$f":"'Regional Project List Sheet'!L5","v":0},{"$f":"'Regional Project List Sheet'!M5","v":0},{"$f":"'Regional Project List Sheet'!N5","v":0},{"$f":"'Regional Project List Sheet'!O5","v":0},{"$f":"'Regional Project List Sheet'!P5","v":0},{"$f":"IF('Regional Project List Sheet'!$Q5=\"N/A\",\"N/A\",IF($Y36<>0,5,IF($Z36<>0,4,IF($AA36<>0,3,IF($AB36<>0,2,1)))))","v":1},{"$f":"VLOOKUP($C33,'[1]Ranking|Priority'!$B$5:$O$40,12,FALSE)","v":{"$error":"#N/A"}},{"$f":"VLOOKUP($C33,'[1]Ranking|Priority'!$B$5:$O$68,13,FALSE)","v":{"$error":"#N/A"}},{"$f":"VLOOKUP($C33,'[2]Ranking|Priority'!$B$5:$O$68,14,FALSE)","v":{"$error":"#N/A"}},{"$f":"'Regional Project List Sheet'!T5","v":0},{"$f":"'Regional Project List Sheet'!U5","v":0},{"$f":"'Regional Project List Sheet'!V5","v":0},{"$f":"'Regional Project List Sheet'!W5","v":0},{"$f":"'Regional Project List Sheet'!X5","v":0},{"$f":"'Regional Project List Sheet'!Y5","v":"Choose from Project List in cell I2"},0,null,null,null,null,null,null,null,{"$f":"'Regional Project List Sheet'!AJ5","v":0},{"$f":"IF(OR('Regional Project List Sheet'!$AA5<>'Regional Project List Sheet'!$A$40,'Regional Project List Sheet'!$AD5<>'Regional Project List Sheet'!$A$40,'Regional Project List Sheet'!$AG5<>'Regional Project List Sheet'!$A$40),_xlfn.CONCAT(IF(ISNUMBER('Regional Project List Sheet'!$AA5),'Regional Project List Sheet'!$A$36,\"\"),\" \",IF(ISNUMBER('Regional Project List Sheet'!$AD5),'Regional Project List Sheet'!$A$37,\"\"),\" \",IF(ISNUMBER('Regional Project List Sheet'!$AG5),'Regional Project List Sheet'!$A$38,\"\")),\"N/A\")","v":"N/A"},{"$f":"IF(X33=0,AG33,AH32)","v":"N/A"},{"$f":"IF(OR('Regional Project List Sheet'!AC5<>'Regional Project List Sheet'!$A$40,'Regional Project List Sheet'!AF5<>'Regional Project List Sheet'!$A$40,'Regional Project List Sheet'!AI5<>'Regional Project List Sheet'!$A$40),\n\nIF(LEN(_xlfn.CONCAT(IF('Regional Project List Sheet'!AC5=\"Yes\",'Regional Project List Sheet'!$A$36,\"\"),\" \",\n\nIF('Regional Project List Sheet'!AF5=\"Yes\",'Regional Project List Sheet'!$A$37,\"\"),\" \",\n\nIF('Regional Project List Sheet'!AI5=\"Yes\",'Regional Project List Sheet'!$A$38,\"\")))<3,\"No\",\n\n_xlfn.CONCAT(IF('Regional Project List Sheet'!AC5=\"Yes\",'Regional Project List Sheet'!$A$36,\"\"),\" \",\n\nIF('Regional Project List Sheet'!AF5=\"Yes\",'Regional Project List Sheet'!$A$37,\"\"),\" \",\n\nIF('Regional Project List Sheet'!AI5=\"Yes\",'Regional Project List Sheet'!$A$38,\"\"))))","v":false},{"$f":"IF(X33=0,AI33,AJ32)","v":false},{"$f":"'Regional Project List Sheet'!AK5","v":0},null,{"$f":"'Regional Project List Sheet'!AL5","v":0},null,0,null,null,null,null,null,null,null,null,null,null,1,{"$f":"IF(AND(BB33=\"OK\",BC33=\"OK\",BD33=\"OK\"),\"OK\",\"ERR!\")","v":"OK"},{"$f":"IF(AND(Y33>0,SUM(BN33:BX33)<1),\"ERR!\",IF(AND(Z33>0,SUM(BY33:CI33)<1),\"ERR!\",IF(AND(AA33>0,SUM(CJ33:CT33)<1),\"ERR\",IF(AND(AB33>0,SUM(CU33:DE33)<1),\"ERR\",IF(AND(AC33>0,SUM(DF33:DP33)<1),\"ERR\",IF(AND(AD33>0,SUM(DQ33:EA33)<1),\"ERR\",\"OK\"))))))","v":"OK"},{"$f":"IF(OR(SUM(BN33:BX33)<>1,SUM(BY33:CI33)<>1,SUM(CJ33:CT33)<>1,SUM(CU33:DE33)<>1,SUM(DF33:DP33)<>1,SUM(DQ33:EA33)<>1),\"ERR!\",\"OK\")","v":"OK"},{"$f":"IF(AND(OR(BE33=BK33,BE33=0),OR(BF33=BK33,BF33=0),OR(BG33=BK33,BG33=0),OR(BH33=BK33,BH33=0),OR(BI33=BK33,BI33=0),OR(BJ33=BK33,BJ33=0)),\"OK\",\"ERR!\")","v":"OK"},{"$f":"(BN33*POWER(10,0)+BO33*POWER(10,1)+BP33*POWER(10,2)+BQ33*POWER(10,3)+BR33*POWER(10,4)+BS33*POWER(10,5)+BT33*POWER(10,6)+BU33*POWER(10,7)+BV33*POWER(10,8)+BW33*POWER(10,9)+BX33*POWER(10,10))","v":100},{"$f":"(BY33*POWER(10,0)+BZ33*POWER(10,1)+CA33*POWER(10,2)+CB33*POWER(10,3)+CC33*POWER(10,4)+CD33*POWER(10,5)+CE33*POWER(10,6)+CF33*POWER(10,7)+CG33*POWER(10,8)+CH33*POWER(10,9)+CI33*POWER(10,10))","v":100},{"$f":"(CJ33*POWER(10,0)+CK33*POWER(10,1)+CL33*POWER(10,2)+CM33*POWER(10,3)+CN33*POWER(10,4)+CO33*POWER(10,5)+CP33*POWER(10,6)+CQ33*POWER(10,7)+CR33*POWER(10,8)+CS33*POWER(10,9)+CT33*POWER(10,10))","v":100},{"$f":"(CU33*POWER(10,0)+CV33*POWER(10,1)+CW33*POWER(10,2)+CX33*POWER(10,3)+CY33*POWER(10,4)+CZ33*POWER(10,5)+DA33*POWER(10,6)+DB33*POWER(10,7)+DC33*POWER(10,8)+DD33*POWER(10,9)+DE33*POWER(10,10))","v":100},{"$f":"(DF33*POWER(10,0)+DG33*POWER(10,1)+DH33*POWER(10,2)+DI33*POWER(10,3)+DJ33*POWER(10,4)+DK33*POWER(10,5)+DL33*POWER(10,6)+DM33*POWER(10,7)+DN33*POWER(10,8)+DO33*POWER(10,9)+DP33*POWER(10,10))","v":100},{"$f":"(DQ33*POWER(10,0)+DR33*POWER(10,1)+DS33*POWER(10,2)+DT33*POWER(10,3)+DU33*POWER(10,4)+DV33*POWER(10,5)+DW33*POWER(10,6)+DX33*POWER(10,7)+DY33*POWER(10,8)+DZ33*POWER(10,9)+EA33*POWER(10,10))","v":100},{"$f":"MAX(BE33:BJ33)","v":100},null,0,null,null,1,null,null,null,null,null,null,null,null,null,null,1,null,null,null,null,null,null,null,null,null,null,1,null,null,null,null,null,null,null,null,null,null,1,null,null,null,null,null,null,null,null,null,null,1,null,null,null,null,null,null,null,null,null,null,1,null,null,null,null,null,null,null,null,null,0,{"$f":"($Y33*D$33)/1000","v":{"$error":"#VALUE!"}},{"$error":"#VALUE!"},{"$error":"#VALUE!"},{"$f":"($Z33*D$33)/1000","v":{"$error":"#VALUE!"}},{"$error":"#VALUE!"},{"$error":"#VALUE!"},{"$f":"($AA33*D$33)/1000","v":{"$error":"#VALUE!"}},{"$error":"#VALUE!"},{"$error":"#VALUE!"},{"$f":"($AB33*D$33)/1000","v":{"$error":"#VALUE!"}},{"$error":"#VALUE!"},{"$error":"#VALUE!"},{"$f":"($AC33*D$33)/1000","v":{"$error":"#VALUE!"}},{"$error":"#VALUE!"},{"$error":"#VALUE!"},{"$f":"($AD33*D$33)/1000","v":{"$error":"#VALUE!"}},{"$error":"#VALUE!"},{"$error":"#VALUE!"},null,0,{"$f":"$AZ$33*$Y33","v":0},{"$f":"($AZ$33*$BN33*D$33*$Y33)/1000","v":{"$error":"#VALUE!"}},{"$error":"#VALUE!"},{"$error":"#VALUE!"},{"$f":"($AZ$33*$BO33*D$33*$Y33)/1000","v":{"$error":"#VALUE!"}},{"$error":"#VALUE!"},{"$error":"#VALUE!"},{"$f":"($AZ$33*$BP33*D$33*$Y33)/1000","v":{"$error":"#VALUE!"}},{"$error":"#VALUE!"},{"$error":"#VALUE!"},{"$f":"($AZ$33*$BQ33*D$33*$Y33)/1000","v":{"$error":"#VALUE!"}},{"$error":"#VALUE!"},{"$error":"#VALUE!"},{"$f":"($AZ$33*$BR33*D$33*$Y33)/1000","v":{"$error":"#VALUE!"}},{"$error":"#VALUE!"},{"$error":"#VALUE!"},{"$f":"($AZ$33*$BS33*D$33*$Y33)/1000","v":{"$error":"#VALUE!"}},{"$error":"#VALUE!"},{"$error":"#VALUE!"},{"$f":"($AZ$33*$BT33*D$33*$Y33)/1000","v":{"$error":"#VALUE!"}},{"$error":"#VALUE!"},{"$error":"#VALUE!"},{"$f":"($AZ$33*$BU33*D$33*$Y33)/1000","v":{"$error":"#VALUE!"}},{"$error":"#VALUE!"},{"$error":"#VALUE!"},{"$f":"($AZ$33*$BV33*D$33*$Y33)/1000","v":{"$error":"#VALUE!"}},{"$error":"#VALUE!"},{"$error":"#VALUE!"},{"$f":"($AZ$33*$BW33*D$33*$Y33)/1000","v":{"$error":"#VALUE!"}},{"$error":"#VALUE!"},{"$error":"#VALUE!"},{"$f":"($AZ$33*$BX33*D$33*$Y33)/1000","v":{"$error":"#VALUE!"}},{"$error":"#VALUE!"},{"$error":"#VALUE!"},0,{"$f":"$AZ$33*$Z33","v":0},{"$f":"($AZ$33*$BY33*D$33*$Z33)/1000","v":{"$error":"#VALUE!"}},{"$error":"#VALUE!"},{"$error":"#VALUE!"},{"$f":"($AZ$33*$BZ33*D$33*$Z33)/1000","v":{"$error":"#VALUE!"}},{"$error":"#VALUE!"},{"$error":"#VALUE!"},{"$f":"($AZ$33*$CA33*D$33*$Z33)/1000","v":{"$error":"#VALUE!"}},{"$error":"#VALUE!"},{"$error":"#VALUE!"},{"$f":"($AZ$33*$CB33*D$33*$Z33)/1000","v":{"$error":"#VALUE!"}},{"$error":"#VALUE!"},{"$error":"#VALUE!"},{"$f":"($AZ$33*$CD33*D$33*$Z33)/1000","v":{"$error":"#VALUE!"}},{"$error":"#VALUE!"},{"$error":"#VALUE!"},{"$f":"($AZ$33*$CD33*D$33*$Z33)/1000","v":{"$error":"#VALUE!"}},{"$error":"#VALUE!"},{"$error":"#VALUE!"},{"$f":"($AZ$33*$CE33*D$33*$Z33)/1000","v":{"$error":"#VALUE!"}},{"$error":"#VALUE!"},{"$error":"#VALUE!"},{"$f":"($AZ$33*$CF33*D$33*$Z33)/1000","v":{"$error":"#VALUE!"}},{"$error":"#VALUE!"},{"$error":"#VALUE!"},{"$f":"($AZ$33*$CG33*D$33*$Z33)/1000","v":{"$error":"#VALUE!"}},{"$error":"#VALUE!"},{"$error":"#VALUE!"},{"$f":"($AZ$33*$CH33*D$33*$Z33)/1000","v":{"$error":"#VALUE!"}},{"$error":"#VALUE!"},{"$error":"#VALUE!"},{"$f":"($AZ$33*$CI33*D$33*$Z33)/1000","v":{"$error":"#VALUE!"}},{"$error":"#VALUE!"},{"$error":"#VALUE!"},0,{"$f":"$AZ$33*$AA33","v":0},{"$f":"($AZ$33*$CJ33*D$33*$AA33)/1000","v":{"$error":"#VALUE!"}},{"$error":"#VALUE!"},{"$error":"#VALUE!"},{"$f":"($AZ$33*$CK33*D$33*$AA33)/1000","v":{"$error":"#VALUE!"}},{"$error":"#VALUE!"},{"$error":"#VALUE!"},{"$f":"($AZ$33*$CL33*D$33*$AA33)/1000","v":{"$error":"#VALUE!"}},{"$error":"#VALUE!"},{"$error":"#VALUE!"},{"$f":"($AZ$33*$CM33*D$33*$AA33)/1000","v":{"$error":"#VALUE!"}},{"$error":"#VALUE!"},{"$error":"#VALUE!"},{"$f":"($AZ$33*$CN33*D$33*$AA33)/1000","v":{"$error":"#VALUE!"}},{"$error":"#VALUE!"},{"$error":"#VALUE!"},{"$f":"($AZ$33*$CO33*D$33*$AA33)/1000","v":{"$error":"#VALUE!"}},{"$error":"#VALUE!"},{"$error":"#VALUE!"},{"$f":"($AZ$33*$CP33*D$33*$AA33)/1000","v":{"$error":"#VALUE!"}},{"$error":"#VALUE!"},{"$error":"#VALUE!"},{"$f":"($AZ$33*$CQ33*D$33*$AA33)/1000","v":{"$error":"#VALUE!"}},{"$error":"#VALUE!"},{"$error":"#VALUE!"},{"$f":"($AZ$33*$CR33*D$33*$AA33)/1000","v":{"$error":"#VALUE!"}},{"$error":"#VALUE!"},{"$error":"#VALUE!"},{"$f":"($AZ$33*$CS33*D$33*$AA33)/1000","v":{"$error":"#VALUE!"}},{"$error":"#VALUE!"},{"$error":"#VALUE!"},{"$f":"($AZ$33*$CT33*D$33*$AA33)/1000","v":{"$error":"#VALUE!"}},{"$error":"#VALUE!"},{"$error":"#VALUE!"},0,{"$f":"$AZ$33*$AB33","v":0},{"$f":"($AZ$33*$CU33*D$33*$AB33)/1000","v":{"$error":"#VALUE!"}},{"$error":"#VALUE!"},{"$error":"#VALUE!"},{"$f":"($AZ$33*$CV33*D$33*$AB33)/1000","v":{"$error":"#VALUE!"}},{"$error":"#VALUE!"},{"$error":"#VALUE!"},{"$f":"($AZ$33*$CW33*D$33*$AB33)/1000","v":{"$error":"#VALUE!"}},{"$error":"#VALUE!"},{"$error":"#VALUE!"},{"$f":"($AZ$33*$CX33*D$33*$AB33)/1000","v":{"$error":"#VALUE!"}},{"$error":"#VALUE!"},{"$error":"#VALUE!"},{"$f":"($AZ$33*$CY33*D$33*$AB33)/1000","v":{"$error":"#VALUE!"}},{"$error":"#VALUE!"},{"$error":"#VALUE!"},{"$f":"($AZ$33*$CZ33*D$33*$AB33)/1000","v":{"$error":"#VALUE!"}},{"$error":"#VALUE!"},{"$error":"#VALUE!"},{"$f":"($AZ$33*$DA33*D$33*$AB33)/1000","v":{"$error":"#VALUE!"}},{"$error":"#VALUE!"},{"$error":"#VALUE!"},{"$f":"($AZ$33*$DB33*D$33*$AB33)/1000","v":{"$error":"#VALUE!"}},{"$error":"#VALUE!"},{"$error":"#VALUE!"},{"$f":"($AZ$33*$DC33*D$33*$AB33)/1000","v":{"$error":"#VALUE!"}},{"$error":"#VALUE!"},{"$error":"#VALUE!"},{"$f":"($AZ$33*$DD33*D$33*$AB33)/1000","v":{"$error":"#VALUE!"}},{"$error":"#VALUE!"},{"$error":"#VALUE!"},{"$f":"($AZ$33*$DE33*D$33*$AB33)/1000","v":{"$error":"#VALUE!"}},{"$error":"#VALUE!"},{"$error":"#VALUE!"},0,{"$f":"$AZ$33*$AC33","v":0},{"$f":"($AZ$33*$DF33*D$33*$AC33)/1000","v":{"$error":"#VALUE!"}},{"$error":"#VALUE!"},{"$error":"#VALUE!"},{"$f":"($AZ$33*$DG33*D$33*$AC33)/1000","v":{"$error":"#VALUE!"}},{"$error":"#VALUE!"},{"$error":"#VALUE!"},{"$f":"($AZ$33*$DH33*D$33*$AC33)/1000","v":{"$error":"#VALUE!"}},{"$error":"#VALUE!"},{"$error":"#VALUE!"},{"$f":"($AZ$33*$DI33*D$33*$AC33)/1000","v":{"$error":"#VALUE!"}},{"$error":"#VALUE!"},{"$error":"#VALUE!"},{"$f":"($AZ$33*$DJ33*D$33*$AC33)/1000","v":{"$error":"#VALUE!"}},{"$error":"#VALUE!"},{"$error":"#VALUE!"},{"$f":"($AZ$33*$DK33*D$33*$AC33)/1000","v":{"$error":"#VALUE!"}},{"$error":"#VALUE!"},{"$error":"#VALUE!"},{"$f":"($AZ$33*$DL33*D$33*$AC33)/1000","v":{"$error":"#VALUE!"}},{"$error":"#VALUE!"},{"$error":"#VALUE!"},{"$f":"($AZ$33*$DM33*D$33*$AC33)/1000","v":{"$error":"#VALUE!"}},{"$error":"#VALUE!"},{"$error":"#VALUE!"},{"$f":"($AZ$33*$DN33*D$33*$AC33)/1000","v":{"$error":"#VALUE!"}},{"$error":"#VALUE!"},{"$error":"#VALUE!"},{"$f":"($AZ$33*$DO33*D$33*$AC33)/1000","v":{"$error":"#VALUE!"}},{"$error":"#VALUE!"},{"$error":"#VALUE!"},{"$f":"($AZ$33*$DP33*D$33*$AC33)/1000","v":{"$error":"#VALUE!"}},{"$error":"#VALUE!"},{"$error":"#VALUE!"},0,{"$f":"$AZ$33*$AD33","v":0},{"$f":"($AZ$33*$DQ33*D$33*$AD33)/1000","v":{"$error":"#VALUE!"}},{"$error":"#VALUE!"},{"$error":"#VALUE!"},{"$f":"($AZ$33*$DR33*D$33*$AD33)/1000","v":{"$error":"#VALUE!"}},{"$error":"#VALUE!"},{"$error":"#VALUE!"},{"$f":"($AZ$33*$DS33*D$33*$AD33)/1000","v":{"$error":"#VALUE!"}},{"$error":"#VALUE!"},{"$error":"#VALUE!"},{"$f":"($AZ$33*$DT33*D$33*$AD33)/1000","v":{"$error":"#VALUE!"}},{"$error":"#VALUE!"},{"$error":"#VALUE!"},{"$f":"($AZ$33*$DU33*D$33*$AD33)/1000","v":{"$error":"#VALUE!"}},{"$error":"#VALUE!"},{"$error":"#VALUE!"},{"$f":"($AZ$33*$DV33*D$33*$AD33)/1000","v":{"$error":"#VALUE!"}},{"$error":"#VALUE!"},{"$error":"#VALUE!"},{"$f":"($AZ$33*$DW33*D$33*$AD33)/1000","v":{"$error":"#VALUE!"}},{"$error":"#VALUE!"},{"$error":"#VALUE!"},{"$f":"($AZ$33*$DX33*D$33*$AD33)/1000","v":{"$error":"#VALUE!"}},{"$error":"#VALUE!"},{"$error":"#VALUE!"},{"$f":"($AZ$33*$DY33*D$33*$AD33)/1000","v":{"$error":"#VALUE!"}},{"$error":"#VALUE!"},{"$error":"#VALUE!"},{"$f":"($AZ$33*$DZ33*D$33*$AD33)/1000","v":{"$error":"#VALUE!"}},{"$error":"#VALUE!"},{"$error":"#VALUE!"},{"$f":"($AZ$33*$EA33*D$33*$AD33)/1000","v":{"$error":"#VALUE!"}},{"$error":"#VALUE!"},{"$error":"#VALUE!"}]
[null,null,null,null,null,null,null,null,null,null,null,null,null,null,null,null,null,null,null,null,null,null,null,2,null,null,null,null,null,null,null,null,null,{"$f":"IF(X34=0,AG34,AH33)","v":"N/A"},null,false,null,null,null,null,2,null,null,null,null,null,null,null,null,null,null,null,{"$f":"IF(AND(BB34=\"OK\",BC34=\"OK\",BD34=\"OK\"),\"OK\",\"ERR!\")","v":"OK"},"OK",{"$f":"IF(OR(SUM(BN34:BX34)<>1,SUM(BY34:CI34)<>1,SUM(CJ34:CT34)<>1,SUM(CU34:DE34)<>1,SUM(DF34:DP34)<>1,SUM(DQ34:EA34)<>1),\"ERR!\",\"OK\")","v":"OK"},{"$f":"IF(AND(OR(BE34=BK34,BE34=0),OR(BF34=BK34,BF34=0),OR(BG34=BK34,BG34=0),OR(BH34=BK34,BH34=0),OR(BI34=BK34,BI34=0),OR(BJ34=BK34,BJ34=0)),\"OK\",\"ERR!\")","v":"OK"},{"$f":"(BN34*POWER(10,0)+BO34*POWER(10,1)+BP34*POWER(10,2)+BQ34*POWER(10,3)+BR34*POWER(10,4)+BS34*POWER(10,5)+BT34*POWER(10,6)+BU34*POWER(10,7)+BV34*POWER(10,8)+BW34*POWER(10,9)+BX34*POWER(10,10))","v":100},{"$f":"(BY34*POWER(10,0)+BZ34*POWER(10,1)+CA34*POWER(10,2)+CB34*POWER(10,3)+CC34*POWER(10,4)+CD34*POWER(10,5)+CE34*POWER(10,6)+CF34*POWER(10,7)+CG34*POWER(10,8)+CH34*POWER(10,9)+CI34*POWER(10,10))","v":100},{"$f":"(CJ34*POWER(10,0)+CK34*POWER(10,1)+CL34*POWER(10,2)+CM34*POWER(10,3)+CN34*POWER(10,4)+CO34*POWER(10,5)+CP34*POWER(10,6)+CQ34*POWER(10,7)+CR34*POWER(10,8)+CS34*POWER(10,9)+CT34*POWER(10,10))","v":100},{"$f":"(CU34*POWER(10,0)+CV34*POWER(10,1)+CW34*POWER(10,2)+CX34*POWER(10,3)+CY34*POWER(10,4)+CZ34*POWER(10,5)+DA34*POWER(10,6)+DB34*POWER(10,7)+DC34*POWER(10,8)+DD34*POWER(10,9)+DE34*POWER(10,10))","v":100},{"$f":"(DF34*POWER(10,0)+DG34*POWER(10,1)+DH34*POWER(10,2)+DI34*POWER(10,3)+DJ34*POWER(10,4)+DK34*POWER(10,5)+DL34*POWER(10,6)+DM34*POWER(10,7)+DN34*POWER(10,8)+DO34*POWER(10,9)+DP34*POWER(10,10))","v":100},{"$f":"(DQ34*POWER(10,0)+DR34*POWER(10,1)+DS34*POWER(10,2)+DT34*POWER(10,3)+DU34*POWER(10,4)+DV34*POWER(10,5)+DW34*POWER(10,6)+DX34*POWER(10,7)+DY34*POWER(10,8)+DZ34*POWER(10,9)+EA34*POWER(10,10))","v":100},{"$f":"MAX(BE34:BJ34)","v":100},null,2,null,null,1,null,null,null,null,null,null,null,null,null,null,1,null,null,null,null,null,null,null,null,null,null,1,null,null,null,null,null,null,null,null,null,null,1,null,null,null,null,null,null,null,null,null,null,1,null,null,null,null,null,null,null,null,null,null,1,null,null,null,null,null,null,null,null,null,2,{"$error":"#VALUE!"},{"$error":"#VALUE!"},{"$error":"#VALUE!"},{"$error":"#VALUE!"},{"$error":"#VALUE!"},{"$error":"#VALUE!"},{"$error":"#VALUE!"},{"$error":"#VALUE!"},{"$error":"#VALUE!"},{"$error":"#VALUE!"},{"$error":"#VALUE!"},{"$error":"#VALUE!"},{"$error":"#VALUE!"},{"$error":"#VALUE!"},{"$error":"#VALUE!"},{"$error":"#VALUE!"},{"$error":"#VALUE!"},{"$error":"#VALUE!"},null,2,0,{"$error":"#VALUE!"},{"$error":"#VALUE!"},{"$error":"#VALUE!"},{"$error":"#VALUE!"},{"$error":"#VALUE!"},{"$error":"#VALUE!"},{"$error":"#VALUE!"},{"$error":"#VALUE!"},{"$error":"#VALUE!"},{"$error":"#VALUE!"},{"$error":"#VALUE!"},{"$error":"#VALUE!"},{"$error":"#VALUE!"},{"$error":"#VALUE!"},{"$error":"#VALUE!"},{"$error":"#VALUE!"},{"$error":"#VALUE!"},{"$error":"#VALUE!"},{"$error":"#VALUE!"},{"$error":"#VALUE!"},{"$error":"#VALUE!"},{"$error":"#VALUE!"},{"$error":"#VALUE!"},{"$error":"#VALUE!"},{"$error":"#VALUE!"},{"$error":"#VALUE!"},{"$error":"#VALUE!"},{"$error":"#VALUE!"},{"$error":"#VALUE!"},{"$error":"#VALUE!"},{"$error":"#VALUE!"},{"$error":"#VALUE!"},{"$error":"#VALUE!"},2,0,{"$error":"#VALUE!"},{"$error":"#VALUE!"},{"$error":"#VALUE!"},{"$error":"#VALUE!"},{"$error":"#VALUE!"},{"$error":"#VALUE!"},{"$error":"#VALUE!"},{"$error":"#VALUE!"},{"$error":"#VALUE!"},{"$error":"#VALUE!"},{"$error":"#VALUE!"},{"$error":"#VALUE!"},{"$error":"#VALUE!"},{"$error":"#VALUE!"},{"$error":"#VALUE!"},{"$error":"#VALUE!"},{"$error":"#VALUE!"},{"$error":"#VALUE!"},{"$error":"#VALUE!"},{"$error":"#VALUE!"},{"$error":"#VALUE!"},{"$error":"#VALUE!"},{"$error":"#VALUE!"},{"$error":"#VALUE!"},{"$error":"#VALUE!"},{"$error":"#VALUE!"},{"$error":"#VALUE!"},{"$error":"#VALUE!"},{"$error":"#VALUE!"},{"$error":"#VALUE!"},{"$error":"#VALUE!"},{"$error":"#VALUE!"},{"$error":"#VALUE!"},2,0,{"$error":"#VALUE!"},{"$error":"#VALUE!"},{"$error":"#VALUE!"},{"$error":"#VALUE!"},{"$error":"#VALUE!"},{"$error":"#VALUE!"},{"$error":"#VALUE!"},{"$error":"#VALUE!"},{"$error":"#VALUE!"},{"$error":"#VALUE!"},{"$error":"#VALUE!"},{"$error":"#VALUE!"},{"$error":"#VALUE!"},{"$error":"#VALUE!"},{"$error":"#VALUE!"},{"$error":"#VALUE!"},{"$error":"#VALUE!"},{"$error":"#VALUE!"},{"$error":"#VALUE!"},{"$error":"#VALUE!"},{"$error":"#VALUE!"},{"$error":"#VALUE!"},{"$error":"#VALUE!"},{"$error":"#VALUE!"},{"$error":"#VALUE!"},{"$error":"#VALUE!"},{"$error":"#VALUE!"},{"$error":"#VALUE!"},{"$error":"#VALUE!"},{"$error":"#VALUE!"},{"$error":"#VALUE!"},{"$error":"#VALUE!"},{"$error":"#VALUE!"},2,0,{"$error":"#VALUE!"},{"$error":"#VALUE!"},{"$error":"#VALUE!"},{"$error":"#VALUE!"},{"$error":"#VALUE!"},{"$error":"#VALUE!"},{"$error":"#VALUE!"},{"$error":"#VALUE!"},{"$error":"#VALUE!"},{"$error":"#VALUE!"},{"$error":"#VALUE!"},{"$error":"#VALUE!"},{"$error":"#VALUE!"},{"$error":"#VALUE!"},{"$error":"#VALUE!"},{"$error":"#VALUE!"},{"$error":"#VALUE!"},{"$error":"#VALUE!"},{"$error":"#VALUE!"},{"$error":"#VALUE!"},{"$error":"#VALUE!"},{"$error":"#VALUE!"},{"$error":"#VALUE!"},{"$error":"#VALUE!"},{"$error":"#VALUE!"},{"$error":"#VALUE!"},{"$error":"#VALUE!"},{"$error":"#VALUE!"},{"$error":"#VALUE!"},{"$error":"#VALUE!"},{"$error":"#VALUE!"},{"$error":"#VALUE!"},{"$error":"#VALUE!"},2,0,{"$error":"#VALUE!"},{"$error":"#VALUE!"},{"$error":"#VALUE!"},{"$error":"#VALUE!"},{"$error":"#VALUE!"},{"$error":"#VALUE!"},{"$error":"#VALUE!"},{"$error":"#VALUE!"},{"$error":"#VALUE!"},{"$error":"#VALUE!"},{"$error":"#VALUE!"},{"$error":"#VALUE!"},{"$error":"#VALUE!"},{"$error":"#VALUE!"},{"$error":"#VALUE!"},{"$error":"#VALUE!"},{"$error":"#VALUE!"},{"$error":"#VALUE!"},{"$error":"#VALUE!"},{"$error":"#VALUE!"},{"$error":"#VALUE!"},{"$error":"#VALUE!"},{"$error":"#VALUE!"},{"$error":"#VALUE!"},{"$error":"#VALUE!"},{"$error":"#VALUE!"},{"$error":"#VALUE!"},{"$error":"#VALUE!"},{"$error":"#VALUE!"},{"$error":"#VALUE!"},{"$error":"#VALUE!"},{"$error":"#VALUE!"},{"$error":"#VALUE!"},2,0,{"$error":"#VALUE!"},{"$error":"#VALUE!"},{"$error":"#VALUE!"},{"$error":"#VALUE!"},{"$error":"#VALUE!"},{"$error":"#VALUE!"},{"$error":"#VALUE!"},{"$error":"#VALUE!"},{"$error":"#VALUE!"},{"$error":"#VALUE!"},{"$error":"#VALUE!"},{"$error":"#VALUE!"},{"$error":"#VALUE!"},{"$error":"#VALUE!"},{"$error":"#VALUE!"},{"$error":"#VALUE!"},{"$error":"#VALUE!"},{"$error":"#VALUE!"},{"$error":"#VALUE!"},{"$error":"#VALUE!"},{"$error":"#VALUE!"},{"$error":"#VALUE!"},{"$error":"#VALUE!"},{"$error":"#VALUE!"},{"$error":"#VALUE!"},{"$error":"#VALUE!"},{"$error":"#VALUE!"},{"$error":"#VALUE!"},{"$error":"#VALUE!"},{"$error":"#VALUE!"},{"$error":"#VALUE!"},{"$error":"#VALUE!"},{"$error":"#VALUE!"}]
[null,null,null,null,null,null,null,null,null,null,null,null,null,null,null,null,null,null,null,null,null,null,null,3,null,null,null,null,null,null,null,null,null,"N/A",null,false,null,null,null,null,3,null,null,null,null,null,null,null,null,null,null,null,"OK","OK",{"$f":"IF(OR(SUM(BN35:BX35)<>1,SUM(BY35:CI35)<>1,SUM(CJ35:CT35)<>1,SUM(CU35:DE35)<>1,SUM(DF35:DP35)<>1,SUM(DQ35:EA35)<>1),\"ERR!\",\"OK\")","v":"OK"},{"$f":"IF(AND(OR(BE35=BK35,BE35=0),OR(BF35=BK35,BF35=0),OR(BG35=BK35,BG35=0),OR(BH35=BK35,BH35=0),OR(BI35=BK35,BI35=0),OR(BJ35=BK35,BJ35=0)),\"OK\",\"ERR!\")","v":"OK"},100,100,100,100,100,100,{"$f":"MAX(BE35:BJ35)","v":100},null,3,null,null,1,null,null,null,null,null,null,null,null,null,null,1,null,null,null,null,null,null,null,null,null,null,1,null,null,null,null,null,null,null,null,null,null,1,null,null,null,null,null,null,null,null,null,null,1,null,null,null,null,null,null,null,null,null,null,1,null,null,null,null,null,null,null,null,null,3,{"$error":"#VALUE!"},{"$error":"#VALUE!"},{"$error":"#VALUE!"},{"$error":"#VALUE!"},{"$error":"#VALUE!"},{"$error":"#VALUE!"},{"$error":"#VALUE!"},{"$error":"#VALUE!"},{"$error":"#VALUE!"},{"$error":"#VALUE!"},{"$error":"#VALUE!"},{"$error":"#VALUE!"},{"$error":"#VALUE!"},{"$error":"#VALUE!"},{"$error":"#VALUE!"},{"$error":"#VALUE!"},{"$error":"#VALUE!"},{"$error":"#VALUE!"},null,3,0,{"$error":"#VALUE!"},{"$error":"#VALUE!"},{"$error":"#VALUE!"},{"$error":"#VALUE!"},{"$error":"#VALUE!"},{"$error":"#VALUE!"},{"$error":"#VALUE!"},{"$error":"#VALUE!"},{"$error":"#VALUE!"},{"$error":"#VALUE!"},{"$error":"#VALUE!"},{"$error":"#VALUE!"},{"$error":"#VALUE!"},{"$error":"#VALUE!"},{"$error":"#VALUE!"},{"$error":"#VALUE!"},{"$error":"#VALUE!"},{"$error":"#VALUE!"},{"$error":"#VALUE!"},{"$error":"#VALUE!"},{"$error":"#VALUE!"},{"$error":"#VALUE!"},{"$error":"#VALUE!"},{"$error":"#VALUE!"},{"$error":"#VALUE!"},{"$error":"#VALUE!"},{"$error":"#VALUE!"},{"$error":"#VALUE!"},{"$error":"#VALUE!"},{"$error":"#VALUE!"},{"$error":"#VALUE!"},{"$error":"#VALUE!"},{"$error":"#VALUE!"},3,0,{"$error":"#VALUE!"},{"$error":"#VALUE!"},{"$error":"#VALUE!"},{"$error":"#VALUE!"},{"$error":"#VALUE!"},{"$error":"#VALUE!"},{"$error":"#VALUE!"},{"$error":"#VALUE!"},{"$error":"#VALUE!"},{"$error":"#VALUE!"},{"$error":"#VALUE!"},{"$error":"#VALUE!"},{"$error":"#VALUE!"},{"$error":"#VALUE!"},{"$error":"#VALUE!"},{"$error":"#VALUE!"},{"$error":"#VALUE!"},{"$error":"#VALUE!"},{"$error":"#VALUE!"},{"$error":"#VALUE!"},{"$error":"#VALUE!"},{"$error":"#VALUE!"},{"$error":"#VALUE!"},{"$error":"#VALUE!"},{"$error":"#VALUE!"},{"$error":"#VALUE!"},{"$error":"#VALUE!"},{"$error":"#VALUE!"},{"$error":"#VALUE!"},{"$error":"#VALUE!"},{"$error":"#VALUE!"},{"$error":"#VALUE!"},{"$error":"#VALUE!"},3,0,{"$error":"#VALUE!"},{"$error":"#VALUE!"},{"$error":"#VALUE!"},{"$error":"#VALUE!"},{"$error":"#VALUE!"},{"$error":"#VALUE!"},{"$error":"#VALUE!"},{"$error":"#VALUE!"},{"$error":"#VALUE!"},{"$error":"#VALUE!"},{"$error":"#VALUE!"},{"$error":"#VALUE!"},{"$error":"#VALUE!"},{"$error":"#VALUE!"},{"$error":"#VALUE!"},{"$error":"#VALUE!"},{"$error":"#VALUE!"},{"$error":"#VALUE!"},{"$error":"#VALUE!"},{"$error":"#VALUE!"},{"$error":"#VALUE!"},{"$error":"#VALUE!"},{"$error":"#VALUE!"},{"$error":"#VALUE!"},{"$error":"#VALUE!"},{"$error":"#VALUE!"},{"$error":"#VALUE!"},{"$error":"#VALUE!"},{"$error":"#VALUE!"},{"$error":"#VALUE!"},{"$error":"#VALUE!"},{"$error":"#VALUE!"},{"$error":"#VALUE!"},3,0,{"$error":"#VALUE!"},{"$error":"#VALUE!"},{"$error":"#VALUE!"},{"$error":"#VALUE!"},{"$error":"#VALUE!"},{"$error":"#VALUE!"},{"$error":"#VALUE!"},{"$error":"#VALUE!"},{"$error":"#VALUE!"},{"$error":"#VALUE!"},{"$error":"#VALUE!"},{"$error":"#VALUE!"},{"$error":"#VALUE!"},{"$error":"#VALUE!"},{"$error":"#VALUE!"},{"$error":"#VALUE!"},{"$error":"#VALUE!"},{"$error":"#VALUE!"},{"$error":"#VALUE!"},{"$error":"#VALUE!"},{"$error":"#VALUE!"},{"$error":"#VALUE!"},{"$error":"#VALUE!"},{"$error":"#VALUE!"},{"$error":"#VALUE!"},{"$error":"#VALUE!"},{"$error":"#VALUE!"},{"$error":"#VALUE!"},{"$error":"#VALUE!"},{"$error":"#VALUE!"},{"$error":"#VALUE!"},{"$error":"#VALUE!"},{"$error":"#VALUE!"},3,0,{"$error":"#VALUE!"},{"$error":"#VALUE!"},{"$error":"#VALUE!"},{"$error":"#VALUE!"},{"$error":"#VALUE!"},{"$error":"#VALUE!"},{"$error":"#VALUE!"},{"$error":"#VALUE!"},{"$error":"#VALUE!"},{"$error":"#VALUE!"},{"$error":"#VALUE!"},{"$error":"#VALUE!"},{"$error":"#VALUE!"},{"$error":"#VALUE!"},{"$error":"#VALUE!"},{"$error":"#VALUE!"},{"$error":"#VALUE!"},{"$error":"#VALUE!"},{"$error":"#VALUE!"},{"$error":"#VALUE!"},{"$error":"#VALUE!"},{"$error":"#VALUE!"},{"$error":"#VALUE!"},{"$error":"#VALUE!"},{"$error":"#VALUE!"},{"$error":"#VALUE!"},{"$error":"#VALUE!"},{"$error":"#VALUE!"},{"$error":"#VALUE!"},{"$error":"#VALUE!"},{"$error":"#VALUE!"},{"$error":"#VALUE!"},{"$error":"#VALUE!"},3,0,{"$error":"#VALUE!"},{"$error":"#VALUE!"},{"$error":"#VALUE!"},{"$error":"#VALUE!"},{"$error":"#VALUE!"},{"$error":"#VALUE!"},{"$error":"#VALUE!"},{"$error":"#VALUE!"},{"$error":"#VALUE!"},{"$error":"#VALUE!"},{"$error":"#VALUE!"},{"$error":"#VALUE!"},{"$error":"#VALUE!"},{"$error":"#VALUE!"},{"$error":"#VALUE!"},{"$error":"#VALUE!"},{"$error":"#VALUE!"},{"$error":"#VALUE!"},{"$error":"#VALUE!"},{"$error":"#VALUE!"},{"$error":"#VALUE!"},{"$error":"#VALUE!"},{"$error":"#VALUE!"},{"$error":"#VALUE!"},{"$error":"#VALUE!"},{"$error":"#VALUE!"},{"$error":"#VALUE!"},{"$error":"#VALUE!"},{"$error":"#VALUE!"},{"$error":"#VALUE!"},{"$error":"#VALUE!"},{"$error":"#VALUE!"},{"$error":"#VALUE!"}]
[null,null,null,null,null,null,null,null,null,null,null,null,null,null,null,null,null,null,null,null,null,null,null,4,null,null,null,null,null,null,null,null,null,"N/A",null,false,null,null,null,null,4,null,null,null,null,null,null,null,null,null,null,null,{"$f":"IF(AND(BB36=\"OK\",BC36=\"OK\",BD36=\"OK\"),\"OK\",\"ERR!\")","v":"OK"},"OK","OK",{"$f":"IF(AND(OR(BE36=BK36,BE36=0),OR(BF36=BK36,BF36=0),OR(BG36=BK36,BG36=0),OR(BH36=BK36,BH36=0),OR(BI36=BK36,BI36=0),OR(BJ36=BK36,BJ36=0)),\"OK\",\"ERR!\")","v":"OK"},100,100,100,100,100,100,100,null,4,null,null,1,null,null,null,null,null,null,null,null,null,null,1,null,null,null,null,null,null,null,null,null,null,1,null,null,null,null,null,null,null,null,null,null,1,null,null,null,null,null,null,null,null,null,null,1,null,null,null,null,null,null,null,null,null,null,1,null,null,null,null,null,null,null,null,null,4,{"$error":"#VALUE!"},{"$error":"#VALUE!"},{"$error":"#VALUE!"},{"$error":"#VALUE!"},{"$error":"#VALUE!"},{"$error":"#VALUE!"},{"$error":"#VALUE!"},{"$error":"#VALUE!"},{"$error":"#VALUE!"},{"$error":"#VALUE!"},{"$error":"#VALUE!"},{"$error":"#VALUE!"},{"$error":"#VALUE!"},{"$error":"#VALUE!"},{"$error":"#VALUE!"},{"$error":"#VALUE!"},{"$error":"#VALUE!"},{"$error":"#VALUE!"},null,4,0,{"$error":"#VALUE!"},{"$error":"#VALUE!"},{"$error":"#VALUE!"},{"$error":"#VALUE!"},{"$error":"#VALUE!"},{"$error":"#VALUE!"},{"$error":"#VALUE!"},{"$error":"#VALUE!"},{"$error":"#VALUE!"},{"$error":"#VALUE!"},{"$error":"#VALUE!"},{"$error":"#VALUE!"},{"$error":"#VALUE!"},{"$error":"#VALUE!"},{"$error":"#VALUE!"},{"$error":"#VALUE!"},{"$error":"#VALUE!"},{"$error":"#VALUE!"},{"$error":"#VALUE!"},{"$error":"#VALUE!"},{"$error":"#VALUE!"},{"$error":"#VALUE!"},{"$error":"#VALUE!"},{"$error":"#VALUE!"},{"$error":"#VALUE!"},{"$error":"#VALUE!"},{"$error":"#VALUE!"},{"$error":"#VALUE!"},{"$error":"#VALUE!"},{"$error":"#VALUE!"},{"$error":"#VALUE!"},{"$error":"#VALUE!"},{"$error":"#VALUE!"},4,0,{"$error":"#VALUE!"},{"$error":"#VALUE!"},{"$error":"#VALUE!"},{"$error":"#VALUE!"},{"$error":"#VALUE!"},{"$error":"#VALUE!"},{"$error":"#VALUE!"},{"$error":"#VALUE!"},{"$error":"#VALUE!"},{"$error":"#VALUE!"},{"$error":"#VALUE!"},{"$error":"#VALUE!"},{"$error":"#VALUE!"},{"$error":"#VALUE!"},{"$error":"#VALUE!"},{"$error":"#VALUE!"},{"$error":"#VALUE!"},{"$error":"#VALUE!"},{"$error":"#VALUE!"},{"$error":"#VALUE!"},{"$error":"#VALUE!"},{"$error":"#VALUE!"},{"$error":"#VALUE!"},{"$error":"#VALUE!"},{"$error":"#VALUE!"},{"$error":"#VALUE!"},{"$error":"#VALUE!"},{"$error":"#VALUE!"},{"$error":"#VALUE!"},{"$error":"#VALUE!"},{"$error":"#VALUE!"},{"$error":"#VALUE!"},{"$error":"#VALUE!"},4,0,{"$error":"#VALUE!"},{"$error":"#VALUE!"},{"$error":"#VALUE!"},{"$error":"#VALUE!"},{"$error":"#VALUE!"},{"$error":"#VALUE!"},{"$error":"#VALUE!"},{"$error":"#VALUE!"},{"$error":"#VALUE!"},{"$error":"#VALUE!"},{"$error":"#VALUE!"},{"$error":"#VALUE!"},{"$error":"#VALUE!"},{"$error":"#VALUE!"},{"$error":"#VALUE!"},{"$error":"#VALUE!"},{"$error":"#VALUE!"},{"$error":"#VALUE!"},{"$error":"#VALUE!"},{"$error":"#VALUE!"},{"$error":"#VALUE!"},{"$error":"#VALUE!"},{"$error":"#VALUE!"},{"$error":"#VALUE!"},{"$error":"#VALUE!"},{"$error":"#VALUE!"},{"$error":"#VALUE!"},{"$error":"#VALUE!"},{"$error":"#VALUE!"},{"$error":"#VALUE!"},{"$error":"#VALUE!"},{"$error":"#VALUE!"},{"$error":"#VALUE!"},4,0,{"$error":"#VALUE!"},{"$error":"#VALUE!"},{"$error":"#VALUE!"},{"$error":"#VALUE!"},{"$error":"#VALUE!"},{"$error":"#VALUE!"},{"$error":"#VALUE!"},{"$error":"#VALUE!"},{"$error":"#VALUE!"},{"$error":"#VALUE!"},{"$error":"#VALUE!"},{"$error":"#VALUE!"},{"$error":"#VALUE!"},{"$error":"#VALUE!"},{"$error":"#VALUE!"},{"$error":"#VALUE!"},{"$error":"#VALUE!"},{"$error":"#VALUE!"},{"$error":"#VALUE!"},{"$error":"#VALUE!"},{"$error":"#VALUE!"},{"$error":"#VALUE!"},{"$error":"#VALUE!"},{"$error":"#VALUE!"},{"$error":"#VALUE!"},{"$error":"#VALUE!"},{"$error":"#VALUE!"},{"$error":"#VALUE!"},{"$error":"#VALUE!"},{"$error":"#VALUE!"},{"$error":"#VALUE!"},{"$error":"#VALUE!"},{"$error":"#VALUE!"},4,0,{"$error":"#VALUE!"},{"$error":"#VALUE!"},{"$error":"#VALUE!"},{"$error":"#VALUE!"},{"$error":"#VALUE!"},{"$error":"#VALUE!"},{"$error":"#VALUE!"},{"$error":"#VALUE!"},{"$error":"#VALUE!"},{"$error":"#VALUE!"},{"$error":"#VALUE!"},{"$error":"#VALUE!"},{"$error":"#VALUE!"},{"$error":"#VALUE!"},{"$error":"#VALUE!"},{"$error":"#VALUE!"},{"$error":"#VALUE!"},{"$error":"#VALUE!"},{"$error":"#VALUE!"},{"$error":"#VALUE!"},{"$error":"#VALUE!"},{"$error":"#VALUE!"},{"$error":"#VALUE!"},{"$error":"#VALUE!"},{"$error":"#VALUE!"},{"$error":"#VALUE!"},{"$error":"#VALUE!"},{"$error":"#VALUE!"},{"$error":"#VALUE!"},{"$error":"#VALUE!"},{"$error":"#VALUE!"},{"$error":"#VALUE!"},{"$error":"#VALUE!"},4,0,{"$error":"#VALUE!"},{"$error":"#VALUE!"},{"$error":"#VALUE!"},{"$error":"#VALUE!"},{"$error":"#VALUE!"},{"$error":"#VALUE!"},{"$error":"#VALUE!"},{"$error":"#VALUE!"},{"$error":"#VALUE!"},{"$error":"#VALUE!"},{"$error":"#VALUE!"},{"$error":"#VALUE!"},{"$error":"#VALUE!"},{"$error":"#VALUE!"},{"$error":"#VALUE!"},{"$error":"#VALUE!"},{"$error":"#VALUE!"},{"$error":"#VALUE!"},{"$error":"#VALUE!"},{"$error":"#VALUE!"},{"$error":"#VALUE!"},{"$error":"#VALUE!"},{"$error":"#VALUE!"},{"$error":"#VALUE!"},{"$error":"#VALUE!"},{"$error":"#VALUE!"},{"$error":"#VALUE!"},{"$error":"#VALUE!"},{"$error":"#VALUE!"},{"$error":"#VALUE!"},{"$error":"#VALUE!"},{"$error":"#VALUE!"},{"$error":"#VALUE!"}]
[null,null,null,null,null,null,null,null,null,null,null,null,null,null,null,null,null,null,null,null,null,null,null,7,null,null,null,null,null,null,null,null,null,"N/A",null,false,null,null,null,null,7,null,null,null,null,null,null,null,null,null,null,null,"OK","OK","OK","OK",100,100,100,100,100,100,100,null,7,null,null,1,null,null,null,null,null,null,null,null,null,null,1,null,null,null,null,null,null,null,null,null,null,1,null,null,null,null,null,null,null,null,null,null,1,null,null,null,null,null,null,null,null,null,null,1,null,null,null,null,null,null,null,null,null,null,1,null,null,null,null,null,null,null,null,null,7,{"$error":"#VALUE!"},{"$error":"#VALUE!"},{"$error":"#VALUE!"},{"$error":"#VALUE!"},{"$error":"#VALUE!"},{"$error":"#VALUE!"},{"$error":"#VALUE!"},{"$error":"#VALUE!"},{"$error":"#VALUE!"},{"$error":"#VALUE!"},{"$error":"#VALUE!"},{"$error":"#VALUE!"},{"$error":"#VALUE!"},{"$error":"#VALUE!"},{"$error":"#VALUE!"},{"$error":"#VALUE!"},{"$error":"#VALUE!"},{"$error":"#VALUE!"},null,7,0,{"$error":"#VALUE!"},{"$error":"#VALUE!"},{"$error":"#VALUE!"},{"$error":"#VALUE!"},{"$error":"#VALUE!"},{"$error":"#VALUE!"},{"$error":"#VALUE!"},{"$error":"#VALUE!"},{"$error":"#VALUE!"},{"$error":"#VALUE!"},{"$error":"#VALUE!"},{"$error":"#VALUE!"},{"$error":"#VALUE!"},{"$error":"#VALUE!"},{"$error":"#VALUE!"},{"$error":"#VALUE!"},{"$error":"#VALUE!"},{"$error":"#VALUE!"},{"$error":"#VALUE!"},{"$error":"#VALUE!"},{"$error":"#VALUE!"},{"$error":"#VALUE!"},{"$error":"#VALUE!"},{"$error":"#VALUE!"},{"$error":"#VALUE!"},{"$error":"#VALUE!"},{"$error":"#VALUE!"},{"$error":"#VALUE!"},{"$error":"#VALUE!"},{"$error":"#VALUE!"},{"$error":"#VALUE!"},{"$error":"#VALUE!"},{"$error":"#VALUE!"},7,0,{"$error":"#VALUE!"},{"$error":"#VALUE!"},{"$error":"#VALUE!"},{"$error":"#VALUE!"},{"$error":"#VALUE!"},{"$error":"#VALUE!"},{"$error":"#VALUE!"},{"$error":"#VALUE!"},{"$error":"#VALUE!"},{"$error":"#VALUE!"},{"$error":"#VALUE!"},{"$error":"#VALUE!"},{"$error":"#VALUE!"},{"$error":"#VALUE!"},{"$error":"#VALUE!"},{"$error":"#VALUE!"},{"$error":"#VALUE!"},{"$error":"#VALUE!"},{"$error":"#VALUE!"},{"$error":"#VALUE!"},{"$error":"#VALUE!"},{"$error":"#VALUE!"},{"$error":"#VALUE!"},{"$error":"#VALUE!"},{"$error":"#VALUE!"},{"$error":"#VALUE!"},{"$error":"#VALUE!"},{"$error":"#VALUE!"},{"$error":"#VALUE!"},{"$error":"#VALUE!"},{"$error":"#VALUE!"},{"$error":"#VALUE!"},{"$error":"#VALUE!"},7,0,{"$error":"#VALUE!"},{"$error":"#VALUE!"},{"$error":"#VALUE!"},{"$error":"#VALUE!"},{"$error":"#VALUE!"},{"$error":"#VALUE!"},{"$error":"#VALUE!"},{"$error":"#VALUE!"},{"$error":"#VALUE!"},{"$error":"#VALUE!"},{"$error":"#VALUE!"},{"$error":"#VALUE!"},{"$error":"#VALUE!"},{"$error":"#VALUE!"},{"$error":"#VALUE!"},{"$error":"#VALUE!"},{"$error":"#VALUE!"},{"$error":"#VALUE!"},{"$error":"#VALUE!"},{"$error":"#VALUE!"},{"$error":"#VALUE!"},{"$error":"#VALUE!"},{"$error":"#VALUE!"},{"$error":"#VALUE!"},{"$error":"#VALUE!"},{"$error":"#VALUE!"},{"$error":"#VALUE!"},{"$error":"#VALUE!"},{"$error":"#VALUE!"},{"$error":"#VALUE!"},{"$error":"#VALUE!"},{"$error":"#VALUE!"},{"$error":"#VALUE!"},7,0,{"$error":"#VALUE!"},{"$error":"#VALUE!"},{"$error":"#VALUE!"},{"$error":"#VALUE!"},{"$error":"#VALUE!"},{"$error":"#VALUE!"},{"$error":"#VALUE!"},{"$error":"#VALUE!"},{"$error":"#VALUE!"},{"$error":"#VALUE!"},{"$error":"#VALUE!"},{"$error":"#VALUE!"},{"$error":"#VALUE!"},{"$error":"#VALUE!"},{"$error":"#VALUE!"},{"$error":"#VALUE!"},{"$error":"#VALUE!"},{"$error":"#VALUE!"},{"$error":"#VALUE!"},{"$error":"#VALUE!"},{"$error":"#VALUE!"},{"$error":"#VALUE!"},{"$error":"#VALUE!"},{"$error":"#VALUE!"},{"$error":"#VALUE!"},{"$error":"#VALUE!"},{"$error":"#VALUE!"},{"$error":"#VALUE!"},{"$error":"#VALUE!"},{"$error":"#VALUE!"},{"$error":"#VALUE!"},{"$error":"#VALUE!"},{"$error":"#VALUE!"},7,0,{"$error":"#VALUE!"},{"$error":"#VALUE!"},{"$error":"#VALUE!"},{"$error":"#VALUE!"},{"$error":"#VALUE!"},{"$error":"#VALUE!"},{"$error":"#VALUE!"},{"$error":"#VALUE!"},{"$error":"#VALUE!"},{"$error":"#VALUE!"},{"$error":"#VALUE!"},{"$error":"#VALUE!"},{"$error":"#VALUE!"},{"$error":"#VALUE!"},{"$error":"#VALUE!"},{"$error":"#VALUE!"},{"$error":"#VALUE!"},{"$error":"#VALUE!"},{"$error":"#VALUE!"},{"$error":"#VALUE!"},{"$error":"#VALUE!"},{"$error":"#VALUE!"},{"$error":"#VALUE!"},{"$error":"#VALUE!"},{"$error":"#VALUE!"},{"$error":"#VALUE!"},{"$error":"#VALUE!"},{"$error":"#VALUE!"},{"$error":"#VALUE!"},{"$error":"#VALUE!"},{"$error":"#VALUE!"},{"$error":"#VALUE!"},{"$error":"#VALUE!"},7,0,{"$error":"#VALUE!"},{"$error":"#VALUE!"},{"$error":"#VALUE!"},{"$error":"#VALUE!"},{"$error":"#VALUE!"},{"$error":"#VALUE!"},{"$error":"#VALUE!"},{"$error":"#VALUE!"},{"$error":"#VALUE!"},{"$error":"#VALUE!"},{"$error":"#VALUE!"},{"$error":"#VALUE!"},{"$error":"#VALUE!"},{"$error":"#VALUE!"},{"$error":"#VALUE!"},{"$error":"#VALUE!"},{"$error":"#VALUE!"},{"$error":"#VALUE!"},{"$error":"#VALUE!"},{"$error":"#VALUE!"},{"$error":"#VALUE!"},{"$error":"#VALUE!"},{"$error":"#VALUE!"},{"$error":"#VALUE!"},{"$error":"#VALUE!"},{"$error":"#VALUE!"},{"$error":"#VALUE!"},{"$error":"#VALUE!"},{"$error":"#VALUE!"},{"$error":"#VALUE!"},{"$error":"#VALUE!"},{"$error":"#VALUE!"},{"$error":"#VALUE!"}]
[null,null,null,null,null,null,null,null,null,null,null,null,null,null,null,null,null,null,null,null,null,null,null,8,null,null,null,null,null,null,null,null,null,"N/A",null,false,null,null,null,null,8,null,null,null,null,null,null,null,null,null,null,null,"OK","OK","OK","OK",100,100,100,100,100,100,100,null,8,null,null,1,null,null,null,null,null,null,null,null,null,null,1,null,null,null,null,null,null,null,null,null,null,1,null,null,null,null,null,null,null,null,null,null,1,null,null,null,null,null,null,null,null,null,null,1,null,null,null,null,null,null,null,null,null,null,1,null,null,null,null,null,null,null,null,null,8,{"$error":"#VALUE!"},{"$error":"#VALUE!"},{"$error":"#VALUE!"},{"$error":"#VALUE!"},{"$error":"#VALUE!"},{"$error":"#VALUE!"},{"$error":"#VALUE!"},{"$error":"#VALUE!"},{"$error":"#VALUE!"},{"$error":"#VALUE!"},{"$error":"#VALUE!"},{"$error":"#VALUE!"},{"$error":"#VALUE!"},{"$error":"#VALUE!"},{"$error":"#VALUE!"},{"$error":"#VALUE!"},{"$error":"#VALUE!"},{"$error":"#VALUE!"},null,8,0,{"$error":"#VALUE!"},{"$error":"#VALUE!"},{"$error":"#VALUE!"},{"$error":"#VALUE!"},{"$error":"#VALUE!"},{"$error":"#VALUE!"},{"$error":"#VALUE!"},{"$error":"#VALUE!"},{"$error":"#VALUE!"},{"$error":"#VALUE!"},{"$error":"#VALUE!"},{"$error":"#VALUE!"},{"$error":"#VALUE!"},{"$error":"#VALUE!"},{"$error":"#VALUE!"},{"$error":"#VALUE!"},{"$error":"#VALUE!"},{"$error":"#VALUE!"},{"$error":"#VALUE!"},{"$error":"#VALUE!"},{"$error":"#VALUE!"},{"$error":"#VALUE!"},{"$error":"#VALUE!"},{"$error":"#VALUE!"},{"$error":"#VALUE!"},{"$error":"#VALUE!"},{"$error":"#VALUE!"},{"$error":"#VALUE!"},{"$error":"#VALUE!"},{"$error":"#VALUE!"},{"$error":"#VALUE!"},{"$error":"#VALUE!"},{"$error":"#VALUE!"},8,0,{"$error":"#VALUE!"},{"$error":"#VALUE!"},{"$error":"#VALUE!"},{"$error":"#VALUE!"},{"$error":"#VALUE!"},{"$error":"#VALUE!"},{"$error":"#VALUE!"},{"$error":"#VALUE!"},{"$error":"#VALUE!"},{"$error":"#VALUE!"},{"$error":"#VALUE!"},{"$error":"#VALUE!"},{"$error":"#VALUE!"},{"$error":"#VALUE!"},{"$error":"#VALUE!"},{"$error":"#VALUE!"},{"$error":"#VALUE!"},{"$error":"#VALUE!"},{"$error":"#VALUE!"},{"$error":"#VALUE!"},{"$error":"#VALUE!"},{"$error":"#VALUE!"},{"$error":"#VALUE!"},{"$error":"#VALUE!"},{"$error":"#VALUE!"},{"$error":"#VALUE!"},{"$error":"#VALUE!"},{"$error":"#VALUE!"},{"$error":"#VALUE!"},{"$error":"#VALUE!"},{"$error":"#VALUE!"},{"$error":"#VALUE!"},{"$error":"#VALUE!"},8,0,{"$error":"#VALUE!"},{"$error":"#VALUE!"},{"$error":"#VALUE!"},{"$error":"#VALUE!"},{"$error":"#VALUE!"},{"$error":"#VALUE!"},{"$error":"#VALUE!"},{"$error":"#VALUE!"},{"$error":"#VALUE!"},{"$error":"#VALUE!"},{"$error":"#VALUE!"},{"$error":"#VALUE!"},{"$error":"#VALUE!"},{"$error":"#VALUE!"},{"$error":"#VALUE!"},{"$error":"#VALUE!"},{"$error":"#VALUE!"},{"$error":"#VALUE!"},{"$error":"#VALUE!"},{"$error":"#VALUE!"},{"$error":"#VALUE!"},{"$error":"#VALUE!"},{"$error":"#VALUE!"},{"$error":"#VALUE!"},{"$error":"#VALUE!"},{"$error":"#VALUE!"},{"$error":"#VALUE!"},{"$error":"#VALUE!"},{"$error":"#VALUE!"},{"$error":"#VALUE!"},{"$error":"#VALUE!"},{"$error":"#VALUE!"},{"$error":"#VALUE!"},8,0,{"$error":"#VALUE!"},{"$error":"#VALUE!"},{"$error":"#VALUE!"},{"$error":"#VALUE!"},{"$error":"#VALUE!"},{"$error":"#VALUE!"},{"$error":"#VALUE!"},{"$error":"#VALUE!"},{"$error":"#VALUE!"},{"$error":"#VALUE!"},{"$error":"#VALUE!"},{"$error":"#VALUE!"},{"$error":"#VALUE!"},{"$error":"#VALUE!"},{"$error":"#VALUE!"},{"$error":"#VALUE!"},{"$error":"#VALUE!"},{"$error":"#VALUE!"},{"$error":"#VALUE!"},{"$error":"#VALUE!"},{"$error":"#VALUE!"},{"$error":"#VALUE!"},{"$error":"#VALUE!"},{"$error":"#VALUE!"},{"$error":"#VALUE!"},{"$error":"#VALUE!"},{"$error":"#VALUE!"},{"$error":"#VALUE!"},{"$error":"#VALUE!"},{"$error":"#VALUE!"},{"$error":"#VALUE!"},{"$error":"#VALUE!"},{"$error":"#VALUE!"},8,0,{"$error":"#VALUE!"},{"$error":"#VALUE!"},{"$error":"#VALUE!"},{"$error":"#VALUE!"},{"$error":"#VALUE!"},{"$error":"#VALUE!"},{"$error":"#VALUE!"},{"$error":"#VALUE!"},{"$error":"#VALUE!"},{"$error":"#VALUE!"},{"$error":"#VALUE!"},{"$error":"#VALUE!"},{"$error":"#VALUE!"},{"$error":"#VALUE!"},{"$error":"#VALUE!"},{"$error":"#VALUE!"},{"$error":"#VALUE!"},{"$error":"#VALUE!"},{"$error":"#VALUE!"},{"$error":"#VALUE!"},{"$error":"#VALUE!"},{"$error":"#VALUE!"},{"$error":"#VALUE!"},{"$error":"#VALUE!"},{"$error":"#VALUE!"},{"$error":"#VALUE!"},{"$error":"#VALUE!"},{"$error":"#VALUE!"},{"$error":"#VALUE!"},{"$error":"#VALUE!"},{"$error":"#VALUE!"},{"$error":"#VALUE!"},{"$error":"#VALUE!"},8,0,{"$error":"#VALUE!"},{"$error":"#VALUE!"},{"$error":"#VALUE!"},{"$error":"#VALUE!"},{"$error":"#VALUE!"},{"$error":"#VALUE!"},{"$error":"#VALUE!"},{"$error":"#VALUE!"},{"$error":"#VALUE!"},{"$error":"#VALUE!"},{"$error":"#VALUE!"},{"$error":"#VALUE!"},{"$error":"#VALUE!"},{"$error":"#VALUE!"},{"$error":"#VALUE!"},{"$error":"#VALUE!"},{"$error":"#VALUE!"},{"$error":"#VALUE!"},{"$error":"#VALUE!"},{"$error":"#VALUE!"},{"$error":"#VALUE!"},{"$error":"#VALUE!"},{"$error":"#VALUE!"},{"$error":"#VALUE!"},{"$error":"#VALUE!"},{"$error":"#VALUE!"},{"$error":"#VALUE!"},{"$error":"#VALUE!"},{"$error":"#VALUE!"},{"$error":"#VALUE!"},{"$error":"#VALUE!"},{"$error":"#VALUE!"},{"$error":"#VALUE!"}]
[null,null,null,null,null,null,null,null,null,null,null,null,null,null,null,null,null,null,null,null,null,null,null,9,null,null,null,null,null,null,null,null,null,"N/A",null,false,null,null,null,null,9,null,null,null,null,null,null,null,null,null,null,null,"OK","OK","OK","OK",100,100,100,{"$f":"(CU39*POWER(10,0)+CV39*POWER(10,1)+CW39*POWER(10,2)+CX39*POWER(10,3)+CY39*POWER(10,4)+CZ39*POWER(10,5)+DA39*POWER(10,6)+DB39*POWER(10,7)+DC39*POWER(10,8)+DD39*POWER(10,9)+DE39*POWER(10,10))","v":100},{"$f":"(DF39*POWER(10,0)+DG39*POWER(10,1)+DH39*POWER(10,2)+DI39*POWER(10,3)+DJ39*POWER(10,4)+DK39*POWER(10,5)+DL39*POWER(10,6)+DM39*POWER(10,7)+DN39*POWER(10,8)+DO39*POWER(10,9)+DP39*POWER(10,10))","v":100},100,100,null,9,null,null,1,null,null,null,null,null,null,null,null,null,null,1,null,null,null,null,null,null,null,null,null,null,1,null,null,null,null,null,null,null,null,null,null,1,null,null,null,null,null,null,null,null,null,null,1,null,null,null,null,null,null,null,null,null,null,1,null,null,null,null,null,null,null,null,null,9,{"$error":"#VALUE!"},{"$error":"#VALUE!"},{"$error":"#VALUE!"},{"$error":"#VALUE!"},{"$error":"#VALUE!"},{"$error":"#VALUE!"},{"$error":"#VALUE!"},{"$error":"#VALUE!"},{"$error":"#VALUE!"},{"$error":"#VALUE!"},{"$error":"#VALUE!"},{"$error":"#VALUE!"},{"$error":"#VALUE!"},{"$error":"#VALUE!"},{"$error":"#VALUE!"},{"$error":"#VALUE!"},{"$error":"#VALUE!"},{"$error":"#VALUE!"},null,9,0,{"$error":"#VALUE!"},{"$error":"#VALUE!"},{"$error":"#VALUE!"},{"$error":"#VALUE!"},{"$error":"#VALUE!"},{"$error":"#VALUE!"},{"$error":"#VALUE!"},{"$error":"#VALUE!"},{"$error":"#VALUE!"},{"$error":"#VALUE!"},{"$error":"#VALUE!"},{"$error":"#VALUE!"},{"$error":"#VALUE!"},{"$error":"#VALUE!"},{"$error":"#VALUE!"},{"$error":"#VALUE!"},{"$error":"#VALUE!"},{"$error":"#VALUE!"},{"$error":"#VALUE!"},{"$error":"#VALUE!"},{"$error":"#VALUE!"},{"$error":"#VALUE!"},{"$error":"#VALUE!"},{"$error":"#VALUE!"},{"$error":"#VALUE!"},{"$error":"#VALUE!"},{"$error":"#VALUE!"},{"$error":"#VALUE!"},{"$error":"#VALUE!"},{"$error":"#VALUE!"},{"$error":"#VALUE!"},{"$error":"#VALUE!"},{"$error":"#VALUE!"},9,0,{"$error":"#VALUE!"},{"$error":"#VALUE!"},{"$error":"#VALUE!"},{"$error":"#VALUE!"},{"$error":"#VALUE!"},{"$error":"#VALUE!"},{"$error":"#VALUE!"},{"$error":"#VALUE!"},{"$error":"#VALUE!"},{"$error":"#VALUE!"},{"$error":"#VALUE!"},{"$error":"#VALUE!"},{"$error":"#VALUE!"},{"$error":"#VALUE!"},{"$error":"#VALUE!"},{"$error":"#VALUE!"},{"$error":"#VALUE!"},{"$error":"#VALUE!"},{"$error":"#VALUE!"},{"$error":"#VALUE!"},{"$error":"#VALUE!"},{"$error":"#VALUE!"},{"$error":"#VALUE!"},{"$error":"#VALUE!"},{"$error":"#VALUE!"},{"$error":"#VALUE!"},{"$error":"#VALUE!"},{"$error":"#VALUE!"},{"$error":"#VALUE!"},{"$error":"#VALUE!"},{"$error":"#VALUE!"},{"$error":"#VALUE!"},{"$error":"#VALUE!"},9,0,{"$error":"#VALUE!"},{"$error":"#VALUE!"},{"$error":"#VALUE!"},{"$error":"#VALUE!"},{"$error":"#VALUE!"},{"$error":"#VALUE!"},{"$error":"#VALUE!"},{"$error":"#VALUE!"},{"$error":"#VALUE!"},{"$error":"#VALUE!"},{"$error":"#VALUE!"},{"$error":"#VALUE!"},{"$error":"#VALUE!"},{"$error":"#VALUE!"},{"$error":"#VALUE!"},{"$error":"#VALUE!"},{"$error":"#VALUE!"},{"$error":"#VALUE!"},{"$error":"#VALUE!"},{"$error":"#VALUE!"},{"$error":"#VALUE!"},{"$error":"#VALUE!"},{"$error":"#VALUE!"},{"$error":"#VALUE!"},{"$error":"#VALUE!"},{"$error":"#VALUE!"},{"$error":"#VALUE!"},{"$error":"#VALUE!"},{"$error":"#VALUE!"},{"$error":"#VALUE!"},{"$error":"#VALUE!"},{"$error":"#VALUE!"},{"$error":"#VALUE!"},9,0,{"$error":"#VALUE!"},{"$error":"#VALUE!"},{"$error":"#VALUE!"},{"$error":"#VALUE!"},{"$error":"#VALUE!"},{"$error":"#VALUE!"},{"$error":"#VALUE!"},{"$error":"#VALUE!"},{"$error":"#VALUE!"},{"$error":"#VALUE!"},{"$error":"#VALUE!"},{"$error":"#VALUE!"},{"$error":"#VALUE!"},{"$error":"#VALUE!"},{"$error":"#VALUE!"},{"$error":"#VALUE!"},{"$error":"#VALUE!"},{"$error":"#VALUE!"},{"$error":"#VALUE!"},{"$error":"#VALUE!"},{"$error":"#VALUE!"},{"$error":"#VALUE!"},{"$error":"#VALUE!"},{"$error":"#VALUE!"},{"$error":"#VALUE!"},{"$error":"#VALUE!"},{"$error":"#VALUE!"},{"$error":"#VALUE!"},{"$error":"#VALUE!"},{"$error":"#VALUE!"},{"$error":"#VALUE!"},{"$error":"#VALUE!"},{"$error":"#VALUE!"},9,0,{"$error":"#VALUE!"},{"$error":"#VALUE!"},{"$error":"#VALUE!"},{"$error":"#VALUE!"},{"$error":"#VALUE!"},{"$error":"#VALUE!"},{"$error":"#VALUE!"},{"$error":"#VALUE!"},{"$error":"#VALUE!"},{"$error":"#VALUE!"},{"$error":"#VALUE!"},{"$error":"#VALUE!"},{"$error":"#VALUE!"},{"$error":"#VALUE!"},{"$error":"#VALUE!"},{"$error":"#VALUE!"},{"$error":"#VALUE!"},{"$error":"#VALUE!"},{"$error":"#VALUE!"},{"$error":"#VALUE!"},{"$error":"#VALUE!"},{"$error":"#VALUE!"},{"$error":"#VALUE!"},{"$error":"#VALUE!"},{"$error":"#VALUE!"},{"$error":"#VALUE!"},{"$error":"#VALUE!"},{"$error":"#VALUE!"},{"$error":"#VALUE!"},{"$error":"#VALUE!"},{"$error":"#VALUE!"},{"$error":"#VALUE!"},{"$error":"#VALUE!"},9,0,{"$error":"#VALUE!"},{"$error":"#VALUE!"},{"$error":"#VALUE!"},{"$error":"#VALUE!"},{"$error":"#VALUE!"},{"$error":"#VALUE!"},{"$error":"#VALUE!"},{"$error":"#VALUE!"},{"$error":"#VALUE!"},{"$error":"#VALUE!"},{"$error":"#VALUE!"},{"$error":"#VALUE!"},{"$error":"#VALUE!"},{"$error":"#VALUE!"},{"$error":"#VALUE!"},{"$error":"#VALUE!"},{"$error":"#VALUE!"},{"$error":"#VALUE!"},{"$error":"#VALUE!"},{"$error":"#VALUE!"},{"$error":"#VALUE!"},{"$error":"#VALUE!"},{"$error":"#VALUE!"},{"$error":"#VALUE!"},{"$error":"#VALUE!"},{"$error":"#VALUE!"},{"$error":"#VALUE!"},{"$error":"#VALUE!"},{"$error":"#VALUE!"},{"$error":"#VALUE!"},{"$error":"#VALUE!"},{"$error":"#VALUE!"},{"$error":"#VALUE!"}]
[null,null,null,null,null,null,null,null,null,null,null,null,null,null,null,null,null,null,null,null,null,null,null,"Total",{"$f":"SUM(Y33:Y39)","v":0},{"$f":"SUM(Z33:Z39)","v":0},0,0,0,0,null,null,null,"N/A",null,false,null,null,null,null,"Total",null,null,null,null,null,null,null,null,null,null,null,null,null,null,null,null,null,null,null,null,null,null,null,"Total",null,null,null,null,null,null,null,null,null,null,null,null,null,null,null,null,null,null,null,null,null,null,null,null,null,null,null,null,null,null,null,null,null,null,null,null,null,null,null,null,null,null,null,null,null,null,null,null,null,null,null,null,null,null,null,null,null,null,null,null,null,null,null,null,null,null,null,"Total",{"$f":"SUM(ED33:ED39)","v":{"$error":"#VALUE!"}},{"$f":"SUM(EE33:EE39)","v":{"$error":"#VALUE!"}},{"$f":"SUM(EF33:EF39)","v":{"$error":"#VALUE!"}},{"$f":"SUM(EG33:EG39)","v":{"$error":"#VALUE!"}},{"$f":"SUM(EH33:EH39)","v":{"$error":"#VALUE!"}},{"$error":"#VALUE!"},{"$error":"#VALUE!"},{"$error":"#VALUE!"},{"$error":"#VALUE!"},{"$error":"#VALUE!"},{"$error":"#VALUE!"},{"$error":"#VALUE!"},{"$error":"#VALUE!"},{"$error":"#VALUE!"},{"$error":"#VALUE!"},{"$error":"#VALUE!"},{"$error":"#VALUE!"},{"$error":"#VALUE!"},null,"Total",{"$f":"SUM(EX33:EX39)","v":0},{"$f":"SUM(EY33:EY39)","v":{"$error":"#VALUE!"}},{"$f":"SUM(EZ33:EZ39)","v":{"$error":"#VALUE!"}},{"$error":"#VALUE!"},{"$error":"#VALUE!"},{"$f":"SUM(FC33:FC39)","v":{"$error":"#VALUE!"}},{"$error":"#VALUE!"},{"$error":"#VALUE!"},{"$error":"#VALUE!"},{"$error":"#VALUE!"},{"$error":"#VALUE!"},{"$error":"#VALUE!"},{"$error":"#VALUE!"},{"$error":"#VALUE!"},{"$error":"#VALUE!"},{"$error":"#VALUE!"},{"$f":"SUM(FN33:FN39)","v":{"$error":"#VALUE!"}},{"$error":"#VALUE!"},{"$f":"SUM(FP33:FP39)","v":{"$error":"#VALUE!"}},{"$f":"SUM(FQ33:FQ39)","v":{"$error":"#VALUE!"}},{"$error":"#VALUE!"},{"$error":"#VALUE!"},{"$error":"#VALUE!"},{"$error":"#VALUE!"},{"$error":"#VALUE!"},{"$error":"#VALUE!"},{"$error":"#VALUE!"},{"$error":"#VALUE!"},{"$error":"#VALUE!"},{"$error":"#VALUE!"},{"$error":"#VALUE!"},{"$f":"SUM(GC33:GC39)","v":{"$error":"#VALUE!"}},{"$f":"SUM(GD33:GD39)","v":{"$error":"#VALUE!"}},{"$error":"#VALUE!"},"Total",{"$f":"SUM(GG33:GG39)","v":0},{"$f":"SUM(GH33:GH39)","v":{"$error":"#VALUE!"}},{"$f":"SUM(GI33:GI39)","v":{"$error":"#VALUE!"}},{"$error":"#VALUE!"},{"$error":"#VALUE!"},{"$f":"SUM(GL33:GL39)","v":{"$error":"#VALUE!"}},{"$f":"SUM(GM33:GM39)","v":{"$error":"#VALUE!"}},{"$f":"SUM(GN33:GN39)","v":{"$error":"#VALUE!"}},{"$error":"#VALUE!"},{"$error":"#VALUE!"},{"$error":"#VALUE!"},{"$error":"#VALUE!"},{"$error":"#VALUE!"},{"$error":"#VALUE!"},{"$error":"#VALUE!"},{"$error":"#VALUE!"},{"$f":"SUM(GW33:GW39)","v":{"$error":"#VALUE!"}},{"$f":"SUM(GX33:GX39)","v":{"$error":"#VALUE!"}},{"$f":"SUM(GY33:GY39)","v":{"$error":"#VALUE!"}},{"$f":"SUM(GZ33:GZ39)","v":{"$error":"#VALUE!"}},{"$error":"#VALUE!"},{"$error":"#VALUE!"},{"$error":"#VALUE!"},{"$error":"#VALUE!"},{"$error":"#VALUE!"},{"$error":"#VALUE!"},{"$error":"#VALUE!"},{"$error":"#VALUE!"},{"$error":"#VALUE!"},{"$error":"#VALUE!"},{"$error":"#VALUE!"},{"$f":"SUM(HL33:HL39)","v":{"$error":"#VALUE!"}},{"$f":"SUM(HM33:HM39)","v":{"$error":"#VALUE!"}},{"$error":"#VALUE!"},"Total",{"$f":"SUM(HP33:HP39)","v":0},{"$f":"SUM(HQ33:HQ39)","v":{"$error":"#VALUE!"}},{"$f":"SUM(HR33:HR39)","v":{"$error":"#VALUE!"}},{"$error":"#VALUE!"},{"$error":"#VALUE!"},{"$f":"SUM(HU33:HU39)","v":{"$error":"#VALUE!"}},{"$f":"SUM(HV33:HV39)","v":{"$error":"#VALUE!"}},{"$error":"#VALUE!"},{"$error":"#VALUE!"},{"$error":"#VALUE!"},{"$error":"#VALUE!"},{"$error":"#VALUE!"},{"$error":"#VALUE!"},{"$error":"#VALUE!"},{"$error":"#VALUE!"},{"$error":"#VALUE!"},{"$f":"SUM(IF33:IF39)","v":{"$error":"#VALUE!"}},{"$f":"SUM(IG33:IG39)","v":{"$error":"#VALUE!"}},{"$f":"SUM(IH33:IH39)","v":{"$error":"#VALUE!"}},{"$f":"SUM(II33:II39)","v":{"$error":"#VALUE!"}},{"$error":"#VALUE!"},{"$error":"#VALUE!"},{"$error":"#VALUE!"},{"$error":"#VALUE!"},{"$error":"#VALUE!"},{"$error":"#VALUE!"},{"$error":"#VALUE!"},{"$error":"#VALUE!"},{"$error":"#VALUE!"},{"$error":"#VALUE!"},{"$error":"#VALUE!"},{"$f":"SUM(IU33:IU39)","v":{"$error":"#VALUE!"}},{"$f":"SUM(IV33:IV39)","v":{"$error":"#VALUE!"}},{"$error":"#VALUE!"},"Total",{"$f":"SUM(IY33:IY39)","v":0},{"$f":"SUM(IZ33:IZ39)","v":{"$error":"#VALUE!"}},{"$f":"SUM(JA33:JA39)","v":{"$error":"#VALUE!"}},{"$error":"#VALUE!"},{"$error":"#VALUE!"},{"$f":"SUM(JD33:JD39)","v":{"$error":"#VALUE!"}},{"$f":"SUM(JE33:JE39)","v":{"$error":"#VALUE!"}},{"$error":"#VALUE!"},{"$error":"#VALUE!"},{"$error":"#VALUE!"},{"$error":"#VALUE!"},{"$error":"#VALUE!"},{"$error":"#VALUE!"},{"$error":"#VALUE!"},{"$error":"#VALUE!"},{"$error":"#VALUE!"},{"$f":"SUM(JO33:JO39)","v":{"$error":"#VALUE!"}},{"$f":"SUM(JP33:JP39)","v":{"$error":"#VALUE!"}},{"$f":"SUM(JQ33:JQ39)","v":{"$error":"#VALUE!"}},{"$f":"SUM(JR33:JR39)","v":{"$error":"#VALUE!"}},{"$error":"#VALUE!"},{"$error":"#VALUE!"},{"$error":"#VALUE!"},{"$error":"#VALUE!"},{"$error":"#VALUE!"},{"$error":"#VALUE!"},{"$error":"#VALUE!"},{"$error":"#VALUE!"},{"$error":"#VALUE!"},{"$error":"#VALUE!"},{"$error":"#VALUE!"},{"$f":"SUM(KD33:KD39)","v":{"$error":"#VALUE!"}},{"$f":"SUM(KE33:KE39)","v":{"$error":"#VALUE!"}},{"$error":"#VALUE!"},"Total",{"$f":"SUM(KH33:KH39)","v":0},{"$f":"SUM(KI33:KI39)","v":{"$error":"#VALUE!"}},{"$f":"SUM(KJ33:KJ39)","v":{"$error":"#VALUE!"}},{"$error":"#VALUE!"},{"$error":"#VALUE!"},{"$f":"SUM(KM33:KM39)","v":{"$error":"#VALUE!"}},{"$f":"SUM(KN33:KN39)","v":{"$error":"#VALUE!"}},{"$error":"#VALUE!"},{"$error":"#VALUE!"},{"$error":"#VALUE!"},{"$error":"#VALUE!"},{"$error":"#VALUE!"},{"$error":"#VALUE!"},{"$error":"#VALUE!"},{"$error":"#VALUE!"},{"$error":"#VALUE!"},{"$f":"SUM(KX33:KX39)","v":{"$error":"#VALUE!"}},{"$f":"SUM(KY33:KY39)","v":{"$error":"#VALUE!"}},{"$f":"SUM(KZ33:KZ39)","v":{"$error":"#VALUE!"}},{"$f":"SUM(LA33:LA39)","v":{"$error":"#VALUE!"}},{"$error":"#VALUE!"},{"$error":"#VALUE!"},{"$error":"#VALUE!"},{"$error":"#VALUE!"},{"$error":"#VALUE!"},{"$error":"#VALUE!"},{"$error":"#VALUE!"},{"$error":"#VALUE!"},{"$error":"#VALUE!"},{"$error":"#VALUE!"},{"$error":"#VALUE!"},{"$f":"SUM(LM33:LM39)","v":{"$error":"#VALUE!"}},{"$f":"SUM(LN33:LN39)","v":{"$error":"#VALUE!"}},{"$error":"#VALUE!"},"Total",{"$f":"SUM(LQ33:LQ39)","v":0},{"$f":"SUM(LR33:LR39)","v":{"$error":"#VALUE!"}},{"$f":"SUM(LS33:LS39)","v":{"$error":"#VALUE!"}},{"$error":"#VALUE!"},{"$error":"#VALUE!"},{"$f":"SUM(LV33:LV39)","v":{"$error":"#VALUE!"}},{"$f":"SUM(LW33:LW39)","v":{"$error":"#VALUE!"}},{"$error":"#VALUE!"},{"$error":"#VALUE!"},{"$error":"#VALUE!"},{"$error":"#VALUE!"},{"$error":"#VALUE!"},{"$error":"#VALUE!"},{"$error":"#VALUE!"},{"$error":"#VALUE!"},{"$f":"SUM(MF33:MF39)","v":{"$error":"#VALUE!"}},{"$f":"SUM(MG33:MG39)","v":{"$error":"#VALUE!"}},{"$f":"SUM(MH33:MH39)","v":{"$error":"#VALUE!"}},{"$f":"SUM(MI33:MI39)","v":{"$error":"#VALUE!"}},{"$f":"SUM(MJ33:MJ39)","v":{"$error":"#VALUE!"}},{"$error":"#VALUE!"},{"$error":"#VALUE!"},{"$error":"#VALUE!"},{"$error":"#VALUE!"},{"$error":"#VALUE!"},{"$error":"#VALUE!"},{"$error":"#VALUE!"},{"$error":"#VALUE!"},{"$error":"#VALUE!"},{"$error":"#VALUE!"},{"$error":"#VALUE!"},{"$f":"SUM(MV33:MV39)","v":{"$error":"#VALUE!"}},{"$f":"SUM(MW33:MW39)","v":{"$error":"#VALUE!"}},{"$error":"#VALUE!"}]
[null,{"$f":"B33+1","v":2},{"$f":"'Regional Project List Sheet'!F6","v":0},{"$f":"IF('Regional Project List Sheet'!$G6=\"New\",1,\"\")","v":""},{"$f":"IF('Regional Project List Sheet'!$G6=\"Funded Old\",1,\"\")","v":""},{"$f":"IF('Regional Project List Sheet'!$G6=\"Unfunded Old\",1,\"\")","v":""},{"$f":"'Regional Project List Sheet'!H6","v":0},{"$f":"'Regional Project List Sheet'!I6","v":0},{"$f":"'Regional Project List Sheet'!L6","v":0},{"$f":"'Regional Project List Sheet'!M6","v":0},{"$f":"'Regional Project List Sheet'!N6","v":0},{"$f":"'Regional Project List Sheet'!O6","v":0},{"$f":"'Regional Project List Sheet'!P6","v":0},{"$f":"IF('Regional Project List Sheet'!$Q6=\"N/A\",\"N/A\",IF($Y44<>0,5,IF($Z44<>0,4,IF($AA44<>0,3,IF($AB44<>0,2,1)))))","v":1},{"$f":"VLOOKUP($C41,'[2]Ranking|Priority'!$B$5:$O$40,12,FALSE)","v":{"$error":"#N/A"}},{"$f":"VLOOKUP($C41,'[2]Ranking|Priority'!$B$5:$O$68,13,FALSE)","v":{"$error":"#N/A"}},{"$f":"VLOOKUP($C41,'[2]Ranking|Priority'!$B$5:$O$68,14,FALSE)","v":{"$error":"#N/A"}},{"$f":"'Regional Project List Sheet'!T6","v":0},{"$f":"'Regional Project List Sheet'!U6","v":0},{"$f":"'Regional Project List Sheet'!V6","v":0},{"$f":"'Regional Project List Sheet'!W6","v":0},{"$f":"'Regional Project List Sheet'!X6","v":0},{"$f":"'Regional Project List Sheet'!Y6","v":"Choose from Project List in cell I2"},0,null,null,null,null,null,null,null,{"$f":"'Regional Project List Sheet'!AJ6","v":0},{"$f":"IF(OR('Regional Project List Sheet'!$AA6<>'Regional Project List Sheet'!$A$40,'Regional Project List Sheet'!$AD6<>'Regional Project List Sheet'!$A$40,'Regional Project List Sheet'!$AG6<>'Regional Project List Sheet'!$A$40),_xlfn.CONCAT(IF(ISNUMBER('Regional Project List Sheet'!$AA6),'Regional Project List Sheet'!$A$36,\"\"),\" \",IF(ISNUMBER('Regional Project List Sheet'!$AD6),'Regional Project List Sheet'!$A$37,\"\"),\" \",IF(ISNUMBER('Regional Project List Sheet'!$AG6),'Regional Project List Sheet'!$A$38,\"\")),\"N/A\")","v":"N/A"},"N/A",{"$f":"IF(OR('Regional Project List Sheet'!AC6<>'Regional Project List Sheet'!$A$40,'Regional Project List Sheet'!AF6<>'Regional Project List Sheet'!$A$40,'Regional Project List Sheet'!AI6<>'Regional Project List Sheet'!$A$40),\n\nIF(LEN(_xlfn.CONCAT(IF('Regional Project List Sheet'!AC6=\"Yes\",'Regional Project List Sheet'!$A$36,\"\"),\" \",\n\nIF('Regional Project List Sheet'!AF6=\"Yes\",'Regional Project List Sheet'!$A$37,\"\"),\" \",\n\nIF('Regional Project List Sheet'!AI6=\"Yes\",'Regional Project List Sheet'!$A$38,\"\")))<3,\"No\",\n\n_xlfn.CONCAT(IF('Regional Project List Sheet'!AC6=\"Yes\",'Regional Project List Sheet'!$A$36,\"\"),\" \",\n\nIF('Regional Project List Sheet'!AF6=\"Yes\",'Regional Project List Sheet'!$A$37,\"\"),\" \",\n\nIF('Regional Project List Sheet'!AI6=\"Yes\",'Regional Project List Sheet'!$A$38,\"\"))))","v":false},false,{"$f":"'Regional Project List Sheet'!AK6","v":0},null,{"$f":"'Regional Project List Sheet'!AL6","v":0},null,0,null,null,null,null,null,null,null,null,null,null,1,{"$f":"IF(AND(BB41=\"OK\",BC41=\"OK\",BD41=\"OK\"),\"OK\",\"ERR!\")","v":"OK"},{"$f":"IF(AND(Y41>0,SUM(BN41:BX41)<1),\"ERR!\",IF(AND(Z41>0,SUM(BY41:CI41)<1),\"ERR!\",IF(AND(AA41>0,SUM(CJ41:CT41)<1),\"ERR\",IF(AND(AB41>0,SUM(CU41:DE41)<1),\"ERR\",IF(AND(AC41>0,SUM(DF41:DP41)<1),\"ERR\",IF(AND(AD41>0,SUM(DQ41:EA41)<1),\"ERR\",\"OK\"))))))","v":"OK"},{"$f":"IF(OR(SUM(BN41:BX41)<>1,SUM(BY41:CI41)<>1,SUM(CJ41:CT41)<>1,SUM(CU41:DE41)<>1,SUM(DF41:DP41)<>1,SUM(DQ41:EA41)<>1),\"ERR!\",\"OK\")","v":"OK"},{"$f":"IF(AND(OR(BE41=BK41,BE41=0),OR(BF41=BK41,BF41=0),OR(BG41=BK41,BG41=0),OR(BH41=BK41,BH41=0),OR(BI41=BK41,BI41=0),OR(BJ41=BK41,BJ41=0)),\"OK\",\"ERR!\")","v":"OK"},{"$f":"(BN41*POWER(10,0)+BO41*POWER(10,1)+BP41*POWER(10,2)+BQ41*POWER(10,3)+BR41*POWER(10,4)+BS41*POWER(10,5)+BT41*POWER(10,6)+BU41*POWER(10,7)+BV41*POWER(10,8)+BW41*POWER(10,9)+BX41*POWER(10,10))","v":100},{"$f":"(BY41*POWER(10,0)+BZ41*POWER(10,1)+CA41*POWER(10,2)+CB41*POWER(10,3)+CC41*POWER(10,4)+CD41*POWER(10,5)+CE41*POWER(10,6)+CF41*POWER(10,7)+CG41*POWER(10,8)+CH41*POWER(10,9)+CI41*POWER(10,10))","v":100},{"$f":"(CJ41*POWER(10,0)+CK41*POWER(10,1)+CL41*POWER(10,2)+CM41*POWER(10,3)+CN41*POWER(10,4)+CO41*POWER(10,5)+CP41*POWER(10,6)+CQ41*POWER(10,7)+CR41*POWER(10,8)+CS41*POWER(10,9)+CT41*POWER(10,10))","v":100},{"$f":"(CU41*POWER(10,0)+CV41*POWER(10,1)+CW41*POWER(10,2)+CX41*POWER(10,3)+CY41*POWER(10,4)+CZ41*POWER(10,5)+DA41*POWER(10,6)+DB41*POWER(10,7)+DC41*POWER(10,8)+DD41*POWER(10,9)+DE41*POWER(10,10))","v":100},{"$f":"(DF41*POWER(10,0)+DG41*POWER(10,1)+DH41*POWER(10,2)+DI41*POWER(10,3)+DJ41*POWER(10,4)+DK41*POWER(10,5)+DL41*POWER(10,6)+DM41*POWER(10,7)+DN41*POWER(10,8)+DO41*POWER(10,9)+DP41*POWER(10,10))","v":100},{"$f":"(DQ41*POWER(10,0)+DR41*POWER(10,1)+DS41*POWER(10,2)+DT41*POWER(10,3)+DU41*POWER(10,4)+DV41*POWER(10,5)+DW41*POWER(10,6)+DX41*POWER(10,7)+DY41*POWER(10,8)+DZ41*POWER(10,9)+EA41*POWER(10,10))","v":100},{"$f":"MAX(BE41:BJ41)","v":100},null,0,null,null,1,null,null,null,null,null,null,null,null,null,null,1,null,null,null,null,null,null,null,null,null,null,1,null,null,null,null,null,null,null,null,null,null,1,null,null,null,null,null,null,null,null,null,null,1,null,null,null,null,null,null,null,null,null,null,1,null,null,null,null,null,null,null,null,null,0,{"$f":"($Y41*D$41)/1000","v":{"$error":"#VALUE!"}},{"$error":"#VALUE!"},{"$error":"#VALUE!"},{"$f":"($Z41*D$41)/1000","v":{"$error":"#VALUE!"}},{"$error":"#VALUE!"},{"$error":"#VALUE!"},{"$f":"($AA41*D$41)/1000","v":{"$error":"#VALUE!"}},{"$error":"#VALUE!"},{"$error":"#VALUE!"},{"$f":"($AB41*D$41)/1000","v":{"$error":"#VALUE!"}},{"$error":"#VALUE!"},{"$error":"#VALUE!"},{"$f":"($AC41*D$41)/1000","v":{"$error":"#VALUE!"}},{"$error":"#VALUE!"},{"$error":"#VALUE!"},{"$f":"($AD41*D$41)/1000","v":{"$error":"#VALUE!"}},{"$error":"#VALUE!"},{"$error":"#VALUE!"},null,0,{"$f":"$AZ$41*$Y41","v":0},{"$f":"($AZ$41*$BN41*D$41*$Y41)/1000","v":{"$error":"#VALUE!"}},{"$error":"#VALUE!"},{"$error":"#VALUE!"},{"$f":"($AZ$41*$BO41*D$41*$Y41)/1000","v":{"$error":"#VALUE!"}},{"$error":"#VALUE!"},{"$error":"#VALUE!"},{"$f":"($AZ$41*$BP41*D$41*$Y41)/1000","v":{"$error":"#VALUE!"}},{"$error":"#VALUE!"},{"$error":"#VALUE!"},{"$f":"($AZ$41*$BQ41*D$41*$Y41)/1000","v":{"$error":"#VALUE!"}},{"$error":"#VALUE!"},{"$error":"#VALUE!"},{"$f":"($AZ$41*$BR41*D$41*$Y41)/1000","v":{"$error":"#VALUE!"}},{"$error":"#VALUE!"},{"$error":"#VALUE!"},{"$f":"($AZ$41*$BS41*D$41*$Y41)/1000","v":{"$error":"#VALUE!"}},{"$error":"#VALUE!"},{"$error":"#VALUE!"},{"$f":"($AZ$41*$BT41*D$41*$Y41)/1000","v":{"$error":"#VALUE!"}},{"$error":"#VALUE!"},{"$error":"#VALUE!"},{"$f":"($AZ$41*$BU41*D$41*$Y41)/1000","v":{"$error":"#VALUE!"}},{"$error":"#VALUE!"},{"$error":"#VALUE!"},{"$f":"($AZ$41*$BV41*D$41*$Y41)/1000","v":{"$error":"#VALUE!"}},{"$error":"#VALUE!"},{"$error":"#VALUE!"},{"$f":"($AZ$41*$BW41*D$41*$Y41)/1000","v":{"$error":"#VALUE!"}},{"$error":"#VALUE!"},{"$error":"#VALUE!"},{"$f":"($AZ$41*$BX41*D$41*$Y41)/1000","v":{"$error":"#VALUE!"}},{"$error":"#VALUE!"},{"$error":"#VALUE!"},0,{"$f":"$AZ$41*$Z41","v":0},{"$f":"($AZ$41*$BY41*D$41*$Z41)/1000","v":{"$error":"#VALUE!"}},{"$error":"#VALUE!"},{"$error":"#VALUE!"},{"$f":"($AZ$41*$BZ41*D$41*$Z41)/1000","v":{"$error":"#VALUE!"}},{"$error":"#VALUE!"},{"$error":"#VALUE!"},{"$f":"($AZ$41*$CA41*D$41*$Z41)/1000","v":{"$error":"#VALUE!"}},{"$error":"#VALUE!"},{"$error":"#VALUE!"},{"$f":"($AZ$41*$CB41*D$41*$Z41)/1000","v":{"$error":"#VALUE!"}},{"$error":"#VALUE!"},{"$error":"#VALUE!"},{"$f":"($AZ$41*$CD41*D$41*$Z41)/1000","v":{"$error":"#VALUE!"}},{"$error":"#VALUE!"},{"$error":"#VALUE!"},{"$f":"($AZ$41*$CD41*D$41*$Z41)/1000","v":{"$error":"#VALUE!"}},{"$error":"#VALUE!"},{"$error":"#VALUE!"},{"$f":"($AZ$41*$CE41*D$41*$Z41)/1000","v":{"$error":"#VALUE!"}},{"$error":"#VALUE!"},{"$error":"#VALUE!"},{"$f":"($AZ$41*$CF41*D$41*$Z41)/1000","v":{"$error":"#VALUE!"}},{"$error":"#VALUE!"},{"$error":"#VALUE!"},{"$f":"($AZ$41*$CG41*D$41*$Z41)/1000","v":{"$error":"#VALUE!"}},{"$error":"#VALUE!"},{"$error":"#VALUE!"},{"$f":"($AZ$41*$CH41*D$41*$Z41)/1000","v":{"$error":"#VALUE!"}},{"$error":"#VALUE!"},{"$error":"#VALUE!"},{"$f":"($AZ$41*$CI41*D$41*$Z41)/1000","v":{"$error":"#VALUE!"}},{"$error":"#VALUE!"},{"$error":"#VALUE!"},0,{"$f":"$AZ$41*$AA41","v":0},{"$f":"($AZ$41*$CJ41*D$41*$AA41)/1000","v":{"$error":"#VALUE!"}},{"$error":"#VALUE!"},{"$error":"#VALUE!"},{"$f":"($AZ$41*$CK41*D$41*$AA41)/1000","v":{"$error":"#VALUE!"}},{"$error":"#VALUE!"},{"$error":"#VALUE!"},{"$f":"($AZ$41*$CL41*D$41*$AA41)/1000","v":{"$error":"#VALUE!"}},{"$error":"#VALUE!"},{"$error":"#VALUE!"},{"$f":"($AZ$41*$CM41*D$41*$AA41)/1000","v":{"$error":"#VALUE!"}},{"$error":"#VALUE!"},{"$error":"#VALUE!"},{"$f":"($AZ$41*$CN41*D$41*$AA41)/1000","v":{"$error":"#VALUE!"}},{"$error":"#VALUE!"},{"$error":"#VALUE!"},{"$f":"($AZ$41*$CO41*D$41*$AA41)/1000","v":{"$error":"#VALUE!"}},{"$error":"#VALUE!"},{"$error":"#VALUE!"},{"$f":"($AZ$41*$CP41*D$41*$AA41)/1000","v":{"$error":"#VALUE!"}},{"$error":"#VALUE!"},{"$error":"#VALUE!"},{"$f":"($AZ$41*$CQ41*D$41*$AA41)/1000","v":{"$error":"#VALUE!"}},{"$error":"#VALUE!"},{"$error":"#VALUE!"},{"$f":"($AZ$41*$CR41*D$41*$AA41)/1000","v":{"$error":"#VALUE!"}},{"$error":"#VALUE!"},{"$error":"#VALUE!"},{"$f":"($AZ$41*$CS41*D$41*$AA41)/1000","v":{"$error":"#VALUE!"}},{"$error":"#VALUE!"},{"$error":"#VALUE!"},{"$f":"($AZ$41*$CT41*D$41*$AA41)/1000","v":{"$error":"#VALUE!"}},{"$error":"#VALUE!"},{"$error":"#VALUE!"},0,{"$f":"$AZ$41*$AB41","v":0},{"$f":"($AZ$41*$CU41*D$41*$AB41)/1000","v":{"$error":"#VALUE!"}},{"$error":"#VALUE!"},{"$error":"#VALUE!"},{"$f":"($AZ$41*$CV41*D$41*$AB41)/1000","v":{"$error":"#VALUE!"}},{"$error":"#VALUE!"},{"$error":"#VALUE!"},{"$f":"($AZ$41*$CW41*D$41*$AB41)/1000","v":{"$error":"#VALUE!"}},{"$error":"#VALUE!"},{"$error":"#VALUE!"},{"$f":"($AZ$41*$CX41*D$41*$AB41)/1000","v":{"$error":"#VALUE!"}},{"$error":"#VALUE!"},{"$error":"#VALUE!"},{"$f":"($AZ$41*$CY41*D$41*$AB41)/1000","v":{"$error":"#VALUE!"}},{"$error":"#VALUE!"},{"$error":"#VALUE!"},{"$f":"($AZ$41*$CZ41*D$41*$AB41)/1000","v":{"$error":"#VALUE!"}},{"$error":"#VALUE!"},{"$error":"#VALUE!"},{"$f":"($AZ$41*$DA41*D$41*$AB41)/1000","v":{"$error":"#VALUE!"}},{"$error":"#VALUE!"},{"$error":"#VALUE!"},{"$f":"($AZ$41*$DB41*D$41*$AB41)/1000","v":{"$error":"#VALUE!"}},{"$error":"#VALUE!"},{"$error":"#VALUE!"},{"$f":"($AZ$41*$DC41*D$41*$AB41)/1000","v":{"$error":"#VALUE!"}},{"$error":"#VALUE!"},{"$error":"#VALUE!"},{"$f":"($AZ$41*$DD41*D$41*$AB41)/1000","v":{"$error":"#VALUE!"}},{"$error":"#VALUE!"},{"$error":"#VALUE!"},{"$f":"($AZ$41*$DE41*D$41*$AB41)/1000","v":{"$error":"#VALUE!"}},{"$error":"#VALUE!"},{"$error":"#VALUE!"},0,{"$f":"$AZ$41*$AC41","v":0},{"$f":"($AZ$41*$DF41*D$41*$AC41)/1000","v":{"$error":"#VALUE!"}},{"$error":"#VALUE!"},{"$error":"#VALUE!"},{"$f":"($AZ$41*$DG41*D$41*$AC41)/1000","v":{"$error":"#VALUE!"}},{"$error":"#VALUE!"},{"$error":"#VALUE!"},{"$f":"($AZ$41*$DH41*D$41*$AC41)/1000","v":{"$error":"#VALUE!"}},{"$error":"#VALUE!"},{"$error":"#VALUE!"},{"$f":"($AZ$41*$DI41*D$41*$AC41)/1000","v":{"$error":"#VALUE!"}},{"$error":"#VALUE!"},{"$error":"#VALUE!"},{"$f":"($AZ$41*$DJ41*D$41*$AC41)/1000","v":{"$error":"#VALUE!"}},{"$error":"#VALUE!"},{"$error":"#VALUE!"},{"$f":"($AZ$41*$DK41*D$41*$AC41)/1000","v":{"$error":"#VALUE!"}},{"$error":"#VALUE!"},{"$error":"#VALUE!"},{"$f":"($AZ$41*$DL41*D$41*$AC41)/1000","v":{"$error":"#VALUE!"}},{"$error":"#VALUE!"},{"$error":"#VALUE!"},{"$f":"($AZ$41*$DM41*D$41*$AC41)/1000","v":{"$error":"#VALUE!"}},{"$error":"#VALUE!"},{"$error":"#VALUE!"},{"$f":"($AZ$41*$DN41*D$41*$AC41)/1000","v":{"$error":"#VALUE!"}},{"$error":"#VALUE!"},{"$error":"#VALUE!"},{"$f":"($AZ$41*$DO41*D$41*$AC41)/1000","v":{"$error":"#VALUE!"}},{"$error":"#VALUE!"},{"$error":"#VALUE!"},{"$f":"($AZ$41*$DP41*D$41*$AC41)/1000","v":{"$error":"#VALUE!"}},{"$error":"#VALUE!"},{"$error":"#VALUE!"},0,{"$f":"$AZ$41*$AD41","v":0},{"$f":"($AZ$41*$DQ41*D$41*$AD41)/1000","v":{"$error":"#VALUE!"}},{"$error":"#VALUE!"},{"$error":"#VALUE!"},{"$f":"($AZ$41*$DR41*D$41*$AD41)/1000","v":{"$error":"#VALUE!"}},{"$error":"#VALUE!"},{"$error":"#VALUE!"},{"$f":"($AZ$41*$DS41*D$41*$AD41)/1000","v":{"$error":"#VALUE!"}},{"$error":"#VALUE!"},{"$error":"#VALUE!"},{"$f":"($AZ$41*$DT41*D$41*$AD41)/1000","v":{"$error":"#VALUE!"}},{"$error":"#VALUE!"},{"$error":"#VALUE!"},{"$f":"($AZ$41*$DU41*D$41*$AD41)/1000","v":{"$error":"#VALUE!"}},{"$error":"#VALUE!"},{"$error":"#VALUE!"},{"$f":"($AZ$41*$DV41*D$41*$AD41)/1000","v":{"$error":"#VALUE!"}},{"$error":"#VALUE!"},{"$error":"#VALUE!"},{"$f":"($AZ$41*$DW41*D$41*$AD41)/1000","v":{"$error":"#VALUE!"}},{"$error":"#VALUE!"},{"$error":"#VALUE!"},{"$f":"($AZ$41*$DX41*D$41*$AD41)/1000","v":{"$error":"#VALUE!"}},{"$error":"#VALUE!"},{"$error":"#VALUE!"},{"$f":"($AZ$41*$DY41*D$41*$AD41)/1000","v":{"$error":"#VALUE!"}},{"$error":"#VALUE!"},{"$error":"#VALUE!"},{"$f":"($AZ$41*$DZ41*D$41*$AD41)/1000","v":{"$error":"#VALUE!"}},{"$error":"#VALUE!"},{"$error":"#VALUE!"},{"$f":"($AZ$41*$EA41*D$41*$AD41)/1000","v":{"$error":"#VALUE!"}},{"$error":"#VALUE!"},{"$error":"#VALUE!"}]
[null,null,null,null,null,null,null,null,null,null,null,null,null,null,null,null,null,null,null,null,null,null,null,2,null,null,null,null,null,null,null,null,null,"N/A",null,false,null,null,null,null,2,null,null,null,null,null,null,null,null,null,null,null,{"$f":"IF(AND(BB42=\"OK\",BC42=\"OK\",BD42=\"OK\"),\"OK\",\"ERR!\")","v":"OK"},"OK",{"$f":"IF(OR(SUM(BN42:BX42)<>1,SUM(BY42:CI42)<>1,SUM(CJ42:CT42)<>1,SUM(CU42:DE42)<>1,SUM(DF42:DP42)<>1,SUM(DQ42:EA42)<>1),\"ERR!\",\"OK\")","v":"OK"},{"$f":"IF(AND(OR(BE42=BK42,BE42=0),OR(BF42=BK42,BF42=0),OR(BG42=BK42,BG42=0),OR(BH42=BK42,BH42=0),OR(BI42=BK42,BI42=0),OR(BJ42=BK42,BJ42=0)),\"OK\",\"ERR!\")","v":"OK"},{"$f":"(BN42*POWER(10,0)+BO42*POWER(10,1)+BP42*POWER(10,2)+BQ42*POWER(10,3)+BR42*POWER(10,4)+BS42*POWER(10,5)+BT42*POWER(10,6)+BU42*POWER(10,7)+BV42*POWER(10,8)+BW42*POWER(10,9)+BX42*POWER(10,10))","v":100},{"$f":"(BY42*POWER(10,0)+BZ42*POWER(10,1)+CA42*POWER(10,2)+CB42*POWER(10,3)+CC42*POWER(10,4)+CD42*POWER(10,5)+CE42*POWER(10,6)+CF42*POWER(10,7)+CG42*POWER(10,8)+CH42*POWER(10,9)+CI42*POWER(10,10))","v":100},{"$f":"(CJ42*POWER(10,0)+CK42*POWER(10,1)+CL42*POWER(10,2)+CM42*POWER(10,3)+CN42*POWER(10,4)+CO42*POWER(10,5)+CP42*POWER(10,6)+CQ42*POWER(10,7)+CR42*POWER(10,8)+CS42*POWER(10,9)+CT42*POWER(10,10))","v":100},{"$f":"(CU42*POWER(10,0)+CV42*POWER(10,1)+CW42*POWER(10,2)+CX42*POWER(10,3)+CY42*POWER(10,4)+CZ42*POWER(10,5)+DA42*POWER(10,6)+DB42*POWER(10,7)+DC42*POWER(10,8)+DD42*POWER(10,9)+DE42*POWER(10,10))","v":100},{"$f":"(DF42*POWER(10,0)+DG42*POWER(10,1)+DH42*POWER(10,2)+DI42*POWER(10,3)+DJ42*POWER(10,4)+DK42*POWER(10,5)+DL42*POWER(10,6)+DM42*POWER(10,7)+DN42*POWER(10,8)+DO42*POWER(10,9)+DP42*POWER(10,10))","v":100},{"$f":"(DQ42*POWER(10,0)+DR42*POWER(10,1)+DS42*POWER(10,2)+DT42*POWER(10,3)+DU42*POWER(10,4)+DV42*POWER(10,5)+DW42*POWER(10,6)+DX42*POWER(10,7)+DY42*POWER(10,8)+DZ42*POWER(10,9)+EA42*POWER(10,10))","v":100},{"$f":"MAX(BE42:BJ42)","v":100},null,2,null,null,1,null,null,null,null,null,null,null,null,null,null,1,null,null,null,null,null,null,null,null,null,null,1,null,null,null,null,null,null,null,null,null,null,1,null,null,null,null,null,null,null,null,null,null,1,null,null,null,null,null,null,null,null,null,null,1,null,null,null,null,null,null,null,null,null,2,{"$error":"#VALUE!"},{"$error":"#VALUE!"},{"$error":"#VALUE!"},{"$error":"#VALUE!"},{"$error":"#VALUE!"},{"$error":"#VALUE!"},{"$error":"#VALUE!"},{"$error":"#VALUE!"},{"$error":"#VALUE!"},{"$error":"#VALUE!"},{"$error":"#VALUE!"},{"$error":"#VALUE!"},{"$error":"#VALUE!"},{"$error":"#VALUE!"},{"$error":"#VALUE!"},{"$error":"#VALUE!"},{"$error":"#VALUE!"},{"$error":"#VALUE!"},null,2,0,{"$error":"#VALUE!"},{"$error":"#VALUE!"},{"$error":"#VALUE!"},{"$error":"#VALUE!"},{"$error":"#VALUE!"},{"$error":"#VALUE!"},{"$error":"#VALUE!"},{"$error":"#VALUE!"},{"$error":"#VALUE!"},{"$error":"#VALUE!"},{"$error":"#VALUE!"},{"$error":"#VALUE!"},{"$error":"#VALUE!"},{"$error":"#VALUE!"},{"$error":"#VALUE!"},{"$error":"#VALUE!"},{"$error":"#VALUE!"},{"$error":"#VALUE!"},{"$error":"#VALUE!"},{"$error":"#VALUE!"},{"$error":"#VALUE!"},{"$error":"#VALUE!"},{"$error":"#VALUE!"},{"$error":"#VALUE!"},{"$error":"#VALUE!"},{"$error":"#VALUE!"},{"$error":"#VALUE!"},{"$error":"#VALUE!"},{"$error":"#VALUE!"},{"$error":"#VALUE!"},{"$error":"#VALUE!"},{"$error":"#VALUE!"},{"$error":"#VALUE!"},2,0,{"$error":"#VALUE!"},{"$error":"#VALUE!"},{"$error":"#VALUE!"},{"$error":"#VALUE!"},{"$error":"#VALUE!"},{"$error":"#VALUE!"},{"$error":"#VALUE!"},{"$error":"#VALUE!"},{"$error":"#VALUE!"},{"$error":"#VALUE!"},{"$error":"#VALUE!"},{"$error":"#VALUE!"},{"$error":"#VALUE!"},{"$error":"#VALUE!"},{"$error":"#VALUE!"},{"$error":"#VALUE!"},{"$error":"#VALUE!"},{"$error":"#VALUE!"},{"$error":"#VALUE!"},{"$error":"#VALUE!"},{"$error":"#VALUE!"},{"$error":"#VALUE!"},{"$error":"#VALUE!"},{"$error":"#VALUE!"},{"$error":"#VALUE!"},{"$error":"#VALUE!"},{"$error":"#VALUE!"},{"$error":"#VALUE!"},{"$error":"#VALUE!"},{"$error":"#VALUE!"},{"$error":"#VALUE!"},{"$error":"#VALUE!"},{"$error":"#VALUE!"},2,0,{"$error":"#VALUE!"},{"$error":"#VALUE!"},{"$error":"#VALUE!"},{"$error":"#VALUE!"},{"$error":"#VALUE!"},{"$error":"#VALUE!"},{"$error":"#VALUE!"},{"$error":"#VALUE!"},{"$error":"#VALUE!"},{"$error":"#VALUE!"},{"$error":"#VALUE!"},{"$error":"#VALUE!"},{"$error":"#VALUE!"},{"$error":"#VALUE!"},{"$error":"#VALUE!"},{"$error":"#VALUE!"},{"$error":"#VALUE!"},{"$error":"#VALUE!"},{"$error":"#VALUE!"},{"$error":"#VALUE!"},{"$error":"#VALUE!"},{"$error":"#VALUE!"},{"$error":"#VALUE!"},{"$error":"#VALUE!"},{"$error":"#VALUE!"},{"$error":"#VALUE!"},{"$error":"#VALUE!"},{"$error":"#VALUE!"},{"$error":"#VALUE!"},{"$error":"#VALUE!"},{"$error":"#VALUE!"},{"$error":"#VALUE!"},{"$error":"#VALUE!"},2,0,{"$error":"#VALUE!"},{"$error":"#VALUE!"},{"$error":"#VALUE!"},{"$error":"#VALUE!"},{"$error":"#VALUE!"},{"$error":"#VALUE!"},{"$error":"#VALUE!"},{"$error":"#VALUE!"},{"$error":"#VALUE!"},{"$error":"#VALUE!"},{"$error":"#VALUE!"},{"$error":"#VALUE!"},{"$error":"#VALUE!"},{"$error":"#VALUE!"},{"$error":"#VALUE!"},{"$error":"#VALUE!"},{"$error":"#VALUE!"},{"$error":"#VALUE!"},{"$error":"#VALUE!"},{"$error":"#VALUE!"},{"$error":"#VALUE!"},{"$error":"#VALUE!"},{"$error":"#VALUE!"},{"$error":"#VALUE!"},{"$error":"#VALUE!"},{"$error":"#VALUE!"},{"$error":"#VALUE!"},{"$error":"#VALUE!"},{"$error":"#VALUE!"},{"$error":"#VALUE!"},{"$error":"#VALUE!"},{"$error":"#VALUE!"},{"$error":"#VALUE!"},2,0,{"$error":"#VALUE!"},{"$error":"#VALUE!"},{"$error":"#VALUE!"},{"$error":"#VALUE!"},{"$error":"#VALUE!"},{"$error":"#VALUE!"},{"$error":"#VALUE!"},{"$error":"#VALUE!"},{"$error":"#VALUE!"},{"$error":"#VALUE!"},{"$error":"#VALUE!"},{"$error":"#VALUE!"},{"$error":"#VALUE!"},{"$error":"#VALUE!"},{"$error":"#VALUE!"},{"$error":"#VALUE!"},{"$error":"#VALUE!"},{"$error":"#VALUE!"},{"$error":"#VALUE!"},{"$error":"#VALUE!"},{"$error":"#VALUE!"},{"$error":"#VALUE!"},{"$error":"#VALUE!"},{"$error":"#VALUE!"},{"$error":"#VALUE!"},{"$error":"#VALUE!"},{"$error":"#VALUE!"},{"$error":"#VALUE!"},{"$error":"#VALUE!"},{"$error":"#VALUE!"},{"$error":"#VALUE!"},{"$error":"#VALUE!"},{"$error":"#VALUE!"},2,0,{"$error":"#VALUE!"},{"$error":"#VALUE!"},{"$error":"#VALUE!"},{"$error":"#VALUE!"},{"$error":"#VALUE!"},{"$error":"#VALUE!"},{"$error":"#VALUE!"},{"$error":"#VALUE!"},{"$error":"#VALUE!"},{"$error":"#VALUE!"},{"$error":"#VALUE!"},{"$error":"#VALUE!"},{"$error":"#VALUE!"},{"$error":"#VALUE!"},{"$error":"#VALUE!"},{"$error":"#VALUE!"},{"$error":"#VALUE!"},{"$error":"#VALUE!"},{"$error":"#VALUE!"},{"$error":"#VALUE!"},{"$error":"#VALUE!"},{"$error":"#VALUE!"},{"$error":"#VALUE!"},{"$error":"#VALUE!"},{"$error":"#VALUE!"},{"$error":"#VALUE!"},{"$error":"#VALUE!"},{"$error":"#VALUE!"},{"$error":"#VALUE!"},{"$error":"#VALUE!"},{"$error":"#VALUE!"},{"$error":"#VALUE!"},{"$error":"#VALUE!"}]
[null,null,null,null,null,null,null,null,null,null,null,null,null,null,null,null,null,null,null,null,null,null,null,3,null,null,null,null,null,null,null,null,null,"N/A",null,false,null,null,null,null,3,null,null,null,null,null,null,null,null,null,null,null,{"$f":"IF(AND(BB43=\"OK\",BC43=\"OK\",BD43=\"OK\"),\"OK\",\"ERR!\")","v":"OK"},"OK",{"$f":"IF(OR(SUM(BN43:BX43)<>1,SUM(BY43:CI43)<>1,SUM(CJ43:CT43)<>1,SUM(CU43:DE43)<>1,SUM(DF43:DP43)<>1,SUM(DQ43:EA43)<>1),\"ERR!\",\"OK\")","v":"OK"},{"$f":"IF(AND(OR(BE43=BK43,BE43=0),OR(BF43=BK43,BF43=0),OR(BG43=BK43,BG43=0),OR(BH43=BK43,BH43=0),OR(BI43=BK43,BI43=0),OR(BJ43=BK43,BJ43=0)),\"OK\",\"ERR!\")","v":"OK"},100,100,100,100,100,100,{"$f":"MAX(BE43:BJ43)","v":100},null,3,null,null,1,null,null,null,null,null,null,null,null,null,null,1,null,null,null,null,null,null,null,null,null,null,1,null,null,null,null,null,null,null,null,null,null,1,null,null,null,null,null,null,null,null,null,null,1,null,null,null,null,null,null,null,null,null,null,1,null,null,null,null,null,null,null,null,null,3,{"$error":"#VALUE!"},{"$error":"#VALUE!"},{"$error":"#VALUE!"},{"$error":"#VALUE!"},{"$error":"#VALUE!"},{"$error":"#VALUE!"},{"$error":"#VALUE!"},{"$error":"#VALUE!"},{"$error":"#VALUE!"},{"$error":"#VALUE!"},{"$error":"#VALUE!"},{"$error":"#VALUE!"},{"$error":"#VALUE!"},{"$error":"#VALUE!"},{"$error":"#VALUE!"},{"$error":"#VALUE!"},{"$error":"#VALUE!"},{"$error":"#VALUE!"},null,3,0,{"$error":"#VALUE!"},{"$error":"#VALUE!"},{"$error":"#VALUE!"},{"$error":"#VALUE!"},{"$error":"#VALUE!"},{"$error":"#VALUE!"},{"$error":"#VALUE!"},{"$error":"#VALUE!"},{"$error":"#VALUE!"},{"$error":"#VALUE!"},{"$error":"#VALUE!"},{"$error":"#VALUE!"},{"$error":"#VALUE!"},{"$error":"#VALUE!"},{"$error":"#VALUE!"},{"$error":"#VALUE!"},{"$error":"#VALUE!"},{"$error":"#VALUE!"},{"$error":"#VALUE!"},{"$error":"#VALUE!"},{"$error":"#VALUE!"},{"$error":"#VALUE!"},{"$error":"#VALUE!"},{"$error":"#VALUE!"},{"$error":"#VALUE!"},{"$error":"#VALUE!"},{"$error":"#VALUE!"},{"$error":"#VALUE!"},{"$error":"#VALUE!"},{"$error":"#VALUE!"},{"$error":"#VALUE!"},{"$error":"#VALUE!"},{"$error":"#VALUE!"},3,0,{"$error":"#VALUE!"},{"$error":"#VALUE!"},{"$error":"#VALUE!"},{"$error":"#VALUE!"},{"$error":"#VALUE!"},{"$error":"#VALUE!"},{"$error":"#VALUE!"},{"$error":"#VALUE!"},{"$error":"#VALUE!"},{"$error":"#VALUE!"},{"$error":"#VALUE!"},{"$error":"#VALUE!"},{"$error":"#VALUE!"},{"$error":"#VALUE!"},{"$error":"#VALUE!"},{"$error":"#VALUE!"},{"$error":"#VALUE!"},{"$error":"#VALUE!"},{"$error":"#VALUE!"},{"$error":"#VALUE!"},{"$error":"#VALUE!"},{"$error":"#VALUE!"},{"$error":"#VALUE!"},{"$error":"#VALUE!"},{"$error":"#VALUE!"},{"$error":"#VALUE!"},{"$error":"#VALUE!"},{"$error":"#VALUE!"},{"$error":"#VALUE!"},{"$error":"#VALUE!"},{"$error":"#VALUE!"},{"$error":"#VALUE!"},{"$error":"#VALUE!"},3,0,{"$error":"#VALUE!"},{"$error":"#VALUE!"},{"$error":"#VALUE!"},{"$error":"#VALUE!"},{"$error":"#VALUE!"},{"$error":"#VALUE!"},{"$error":"#VALUE!"},{"$error":"#VALUE!"},{"$error":"#VALUE!"},{"$error":"#VALUE!"},{"$error":"#VALUE!"},{"$error":"#VALUE!"},{"$error":"#VALUE!"},{"$error":"#VALUE!"},{"$error":"#VALUE!"},{"$error":"#VALUE!"},{"$error":"#VALUE!"},{"$error":"#VALUE!"},{"$error":"#VALUE!"},{"$error":"#VALUE!"},{"$error":"#VALUE!"},{"$error":"#VALUE!"},{"$error":"#VALUE!"},{"$error":"#VALUE!"},{"$error":"#VALUE!"},{"$error":"#VALUE!"},{"$error":"#VALUE!"},{"$error":"#VALUE!"},{"$error":"#VALUE!"},{"$error":"#VALUE!"},{"$error":"#VALUE!"},{"$error":"#VALUE!"},{"$error":"#VALUE!"},3,0,{"$error":"#VALUE!"},{"$error":"#VALUE!"},{"$error":"#VALUE!"},{"$error":"#VALUE!"},{"$error":"#VALUE!"},{"$error":"#VALUE!"},{"$error":"#VALUE!"},{"$error":"#VALUE!"},{"$error":"#VALUE!"},{"$error":"#VALUE!"},{"$error":"#VALUE!"},{"$error":"#VALUE!"},{"$error":"#VALUE!"},{"$error":"#VALUE!"},{"$error":"#VALUE!"},{"$error":"#VALUE!"},{"$error":"#VALUE!"},{"$error":"#VALUE!"},{"$error":"#VALUE!"},{"$error":"#VALUE!"},{"$error":"#VALUE!"},{"$error":"#VALUE!"},{"$error":"#VALUE!"},{"$error":"#VALUE!"},{"$error":"#VALUE!"},{"$error":"#VALUE!"},{"$error":"#VALUE!"},{"$error":"#VALUE!"},{"$error":"#VALUE!"},{"$error":"#VALUE!"},{"$error":"#VALUE!"},{"$error":"#VALUE!"},{"$error":"#VALUE!"},3,0,{"$error":"#VALUE!"},{"$error":"#VALUE!"},{"$error":"#VALUE!"},{"$error":"#VALUE!"},{"$error":"#VALUE!"},{"$error":"#VALUE!"},{"$error":"#VALUE!"},{"$error":"#VALUE!"},{"$error":"#VALUE!"},{"$error":"#VALUE!"},{"$error":"#VALUE!"},{"$error":"#VALUE!"},{"$error":"#VALUE!"},{"$error":"#VALUE!"},{"$error":"#VALUE!"},{"$error":"#VALUE!"},{"$error":"#VALUE!"},{"$error":"#VALUE!"},{"$error":"#VALUE!"},{"$error":"#VALUE!"},{"$error":"#VALUE!"},{"$error":"#VALUE!"},{"$error":"#VALUE!"},{"$error":"#VALUE!"},{"$error":"#VALUE!"},{"$error":"#VALUE!"},{"$error":"#VALUE!"},{"$error":"#VALUE!"},{"$error":"#VALUE!"},{"$error":"#VALUE!"},{"$error":"#VALUE!"},{"$error":"#VALUE!"},{"$error":"#VALUE!"},3,0,{"$error":"#VALUE!"},{"$error":"#VALUE!"},{"$error":"#VALUE!"},{"$error":"#VALUE!"},{"$error":"#VALUE!"},{"$error":"#VALUE!"},{"$error":"#VALUE!"},{"$error":"#VALUE!"},{"$error":"#VALUE!"},{"$error":"#VALUE!"},{"$error":"#VALUE!"},{"$error":"#VALUE!"},{"$error":"#VALUE!"},{"$error":"#VALUE!"},{"$error":"#VALUE!"},{"$error":"#VALUE!"},{"$error":"#VALUE!"},{"$error":"#VALUE!"},{"$error":"#VALUE!"},{"$error":"#VALUE!"},{"$error":"#VALUE!"},{"$error":"#VALUE!"},{"$error":"#VALUE!"},{"$error":"#VALUE!"},{"$error":"#VALUE!"},{"$error":"#VALUE!"},{"$error":"#VALUE!"},{"$error":"#VALUE!"},{"$error":"#VALUE!"},{"$error":"#VALUE!"},{"$error":"#VALUE!"},{"$error":"#VALUE!"},{"$error":"#VALUE!"}]
[null,null,null,null,null,null,null,null,null,null,null,null,null,null,null,null,null,null,null,null,null,null,null,4,null,null,null,null,null,null,null,null,null,"N/A",null,false,null,null,null,null,4,null,null,null,null,null,null,null,null,null,null,null,{"$f":"IF(AND(BB44=\"OK\",BC44=\"OK\",BD44=\"OK\"),\"OK\",\"ERR!\")","v":"OK"},"OK","OK",{"$f":"IF(AND(OR(BE44=BK44,BE44=0),OR(BF44=BK44,BF44=0),OR(BG44=BK44,BG44=0),OR(BH44=BK44,BH44=0),OR(BI44=BK44,BI44=0),OR(BJ44=BK44,BJ44=0)),\"OK\",\"ERR!\")","v":"OK"},100,100,100,100,100,100,100,null,4,null,null,1,null,null,null,null,null,null,null,null,null,null,1,null,null,null,null,null,null,null,null,null,null,1,null,null,null,null,null,null,null,null,null,null,1,null,null,null,null,null,null,null,null,null,null,1,null,null,null,null,null,null,null,null,null,null,1,null,null,null,null,null,null,null,null,null,4,{"$error":"#VALUE!"},{"$error":"#VALUE!"},{"$error":"#VALUE!"},{"$error":"#VALUE!"},{"$error":"#VALUE!"},{"$error":"#VALUE!"},{"$error":"#VALUE!"},{"$error":"#VALUE!"},{"$error":"#VALUE!"},{"$error":"#VALUE!"},{"$error":"#VALUE!"},{"$error":"#VALUE!"},{"$error":"#VALUE!"},{"$error":"#VALUE!"},{"$error":"#VALUE!"},{"$error":"#VALUE!"},{"$error":"#VALUE!"},{"$error":"#VALUE!"},null,4,0,{"$error":"#VALUE!"},{"$error":"#VALUE!"},{"$error":"#VALUE!"},{"$error":"#VALUE!"},{"$error":"#VALUE!"},{"$error":"#VALUE!"},{"$error":"#VALUE!"},{"$error":"#VALUE!"},{"$error":"#VALUE!"},{"$error":"#VALUE!"},{"$error":"#VALUE!"},{"$error":"#VALUE!"},{"$error":"#VALUE!"},{"$error":"#VALUE!"},{"$error":"#VALUE!"},{"$error":"#VALUE!"},{"$error":"#VALUE!"},{"$error":"#VALUE!"},{"$error":"#VALUE!"},{"$error":"#VALUE!"},{"$error":"#VALUE!"},{"$error":"#VALUE!"},{"$error":"#VALUE!"},{"$error":"#VALUE!"},{"$error":"#VALUE!"},{"$error":"#VALUE!"},{"$error":"#VALUE!"},{"$error":"#VALUE!"},{"$error":"#VALUE!"},{"$error":"#VALUE!"},{"$error":"#VALUE!"},{"$error":"#VALUE!"},{"$error":"#VALUE!"},4,0,{"$error":"#VALUE!"},{"$error":"#VALUE!"},{"$error":"#VALUE!"},{"$error":"#VALUE!"},{"$error":"#VALUE!"},{"$error":"#VALUE!"},{"$error":"#VALUE!"},{"$error":"#VALUE!"},{"$error":"#VALUE!"},{"$error":"#VALUE!"},{"$error":"#VALUE!"},{"$error":"#VALUE!"},{"$error":"#VALUE!"},{"$error":"#VALUE!"},{"$error":"#VALUE!"},{"$error":"#VALUE!"},{"$error":"#VALUE!"},{"$error":"#VALUE!"},{"$error":"#VALUE!"},{"$error":"#VALUE!"},{"$error":"#VALUE!"},{"$error":"#VALUE!"},{"$error":"#VALUE!"},{"$error":"#VALUE!"},{"$error":"#VALUE!"},{"$error":"#VALUE!"},{"$error":"#VALUE!"},{"$error":"#VALUE!"},{"$error":"#VALUE!"},{"$error":"#VALUE!"},{"$error":"#VALUE!"},{"$error":"#VALUE!"},{"$error":"#VALUE!"},4,0,{"$error":"#VALUE!"},{"$error":"#VALUE!"},{"$error":"#VALUE!"},{"$error":"#VALUE!"},{"$error":"#VALUE!"},{"$error":"#VALUE!"},{"$error":"#VALUE!"},{"$error":"#VALUE!"},{"$error":"#VALUE!"},{"$error":"#VALUE!"},{"$error":"#VALUE!"},{"$error":"#VALUE!"},{"$error":"#VALUE!"},{"$error":"#VALUE!"},{"$error":"#VALUE!"},{"$error":"#VALUE!"},{"$error":"#VALUE!"},{"$error":"#VALUE!"},{"$error":"#VALUE!"},{"$error":"#VALUE!"},{"$error":"#VALUE!"},{"$error":"#VALUE!"},{"$error":"#VALUE!"},{"$error":"#VALUE!"},{"$error":"#VALUE!"},{"$error":"#VALUE!"},{"$error":"#VALUE!"},{"$error":"#VALUE!"},{"$error":"#VALUE!"},{"$error":"#VALUE!"},{"$error":"#VALUE!"},{"$error":"#VALUE!"},{"$error":"#VALUE!"},4,0,{"$error":"#VALUE!"},{"$error":"#VALUE!"},{"$error":"#VALUE!"},{"$error":"#VALUE!"},{"$error":"#VALUE!"},{"$error":"#VALUE!"},{"$error":"#VALUE!"},{"$error":"#VALUE!"},{"$error":"#VALUE!"},{"$error":"#VALUE!"},{"$error":"#VALUE!"},{"$error":"#VALUE!"},{"$error":"#VALUE!"},{"$error":"#VALUE!"},{"$error":"#VALUE!"},{"$error":"#VALUE!"},{"$error":"#VALUE!"},{"$error":"#VALUE!"},{"$error":"#VALUE!"},{"$error":"#VALUE!"},{"$error":"#VALUE!"},{"$error":"#VALUE!"},{"$error":"#VALUE!"},{"$error":"#VALUE!"},{"$error":"#VALUE!"},{"$error":"#VALUE!"},{"$error":"#VALUE!"},{"$error":"#VALUE!"},{"$error":"#VALUE!"},{"$error":"#VALUE!"},{"$error":"#VALUE!"},{"$error":"#VALUE!"},{"$error":"#VALUE!"},4,0,{"$error":"#VALUE!"},{"$error":"#VALUE!"},{"$error":"#VALUE!"},{"$error":"#VALUE!"},{"$error":"#VALUE!"},{"$error":"#VALUE!"},{"$error":"#VALUE!"},{"$error":"#VALUE!"},{"$error":"#VALUE!"},{"$error":"#VALUE!"},{"$error":"#VALUE!"},{"$error":"#VALUE!"},{"$error":"#VALUE!"},{"$error":"#VALUE!"},{"$error":"#VALUE!"},{"$error":"#VALUE!"},{"$error":"#VALUE!"},{"$error":"#VALUE!"},{"$error":"#VALUE!"},{"$error":"#VALUE!"},{"$error":"#VALUE!"},{"$error":"#VALUE!"},{"$error":"#VALUE!"},{"$error":"#VALUE!"},{"$error":"#VALUE!"},{"$error":"#VALUE!"},{"$error":"#VALUE!"},{"$error":"#VALUE!"},{"$error":"#VALUE!"},{"$error":"#VALUE!"},{"$error":"#VALUE!"},{"$error":"#VALUE!"},{"$error":"#VALUE!"},4,0,{"$error":"#VALUE!"},{"$error":"#VALUE!"},{"$error":"#VALUE!"},{"$error":"#VALUE!"},{"$error":"#VALUE!"},{"$error":"#VALUE!"},{"$error":"#VALUE!"},{"$error":"#VALUE!"},{"$error":"#VALUE!"},{"$error":"#VALUE!"},{"$error":"#VALUE!"},{"$error":"#VALUE!"},{"$error":"#VALUE!"},{"$error":"#VALUE!"},{"$error":"#VALUE!"},{"$error":"#VALUE!"},{"$error":"#VALUE!"},{"$error":"#VALUE!"},{"$error":"#VALUE!"},{"$error":"#VALUE!"},{"$error":"#VALUE!"},{"$error":"#VALUE!"},{"$error":"#VALUE!"},{"$error":"#VALUE!"},{"$error":"#VALUE!"},{"$error":"#VALUE!"},{"$error":"#VALUE!"},{"$error":"#VALUE!"},{"$error":"#VALUE!"},{"$error":"#VALUE!"},{"$error":"#VALUE!"},{"$error":"#VALUE!"},{"$error":"#VALUE!"}]
[null,null,null,null,null,null,null,null,null,null,null,null,null,null,null,null,null,null,null,null,null,null,null,7,null,null,null,null,null,null,null,null,null,"N/A",null,false,null,null,null,null,7,null,null,null,null,null,null,null,null,null,null,null,{"$f":"IF(AND(BB45=\"OK\",BC45=\"OK\",BD45=\"OK\"),\"OK\",\"ERR!\")","v":"OK"},"OK","OK","OK",100,100,100,100,100,100,100,null,7,null,null,1,null,null,null,null,null,null,null,null,null,null,1,null,null,null,null,null,null,null,null,null,null,1,null,null,null,null,null,null,null,null,null,null,1,null,null,null,null,null,null,null,null,null,null,1,null,null,null,null,null,null,null,null,null,null,1,null,null,null,null,null,null,null,null,null,7,{"$error":"#VALUE!"},{"$error":"#VALUE!"},{"$error":"#VALUE!"},{"$error":"#VALUE!"},{"$error":"#VALUE!"},{"$error":"#VALUE!"},{"$error":"#VALUE!"},{"$error":"#VALUE!"},{"$error":"#VALUE!"},{"$error":"#VALUE!"},{"$error":"#VALUE!"},{"$error":"#VALUE!"},{"$error":"#VALUE!"},{"$error":"#VALUE!"},{"$error":"#VALUE!"},{"$error":"#VALUE!"},{"$error":"#VALUE!"},{"$error":"#VALUE!"},null,7,0,{"$error":"#VALUE!"},{"$error":"#VALUE!"},{"$error":"#VALUE!"},{"$error":"#VALUE!"},{"$error":"#VALUE!"},{"$error":"#VALUE!"},{"$error":"#VALUE!"},{"$error":"#VALUE!"},{"$error":"#VALUE!"},{"$error":"#VALUE!"},{"$error":"#VALUE!"},{"$error":"#VALUE!"},{"$error":"#VALUE!"},{"$error":"#VALUE!"},{"$error":"#VALUE!"},{"$error":"#VALUE!"},{"$error":"#VALUE!"},{"$error":"#VALUE!"},{"$error":"#VALUE!"},{"$error":"#VALUE!"},{"$error":"#VALUE!"},{"$error":"#VALUE!"},{"$error":"#VALUE!"},{"$error":"#VALUE!"},{"$error":"#VALUE!"},{"$error":"#VALUE!"},{"$error":"#VALUE!"},{"$error":"#VALUE!"},{"$error":"#VALUE!"},{"$error":"#VALUE!"},{"$error":"#VALUE!"},{"$error":"#VALUE!"},{"$error":"#VALUE!"},7,0,{"$error":"#VALUE!"},{"$error":"#VALUE!"},{"$error":"#VALUE!"},{"$error":"#VALUE!"},{"$error":"#VALUE!"},{"$error":"#VALUE!"},{"$error":"#VALUE!"},{"$error":"#VALUE!"},{"$error":"#VALUE!"},{"$error":"#VALUE!"},{"$error":"#VALUE!"},{"$error":"#VALUE!"},{"$error":"#VALUE!"},{"$error":"#VALUE!"},{"$error":"#VALUE!"},{"$error":"#VALUE!"},{"$error":"#VALUE!"},{"$error":"#VALUE!"},{"$error":"#VALUE!"},{"$error":"#VALUE!"},{"$error":"#VALUE!"},{"$error":"#VALUE!"},{"$error":"#VALUE!"},{"$error":"#VALUE!"},{"$error":"#VALUE!"},{"$error":"#VALUE!"},{"$error":"#VALUE!"},{"$error":"#VALUE!"},{"$error":"#VALUE!"},{"$error":"#VALUE!"},{"$error":"#VALUE!"},{"$error":"#VALUE!"},{"$error":"#VALUE!"},7,0,{"$error":"#VALUE!"},{"$error":"#VALUE!"},{"$error":"#VALUE!"},{"$error":"#VALUE!"},{"$error":"#VALUE!"},{"$error":"#VALUE!"},{"$error":"#VALUE!"},{"$error":"#VALUE!"},{"$error":"#VALUE!"},{"$error":"#VALUE!"},{"$error":"#VALUE!"},{"$error":"#VALUE!"},{"$error":"#VALUE!"},{"$error":"#VALUE!"},{"$error":"#VALUE!"},{"$error":"#VALUE!"},{"$error":"#VALUE!"},{"$error":"#VALUE!"},{"$error":"#VALUE!"},{"$error":"#VALUE!"},{"$error":"#VALUE!"},{"$error":"#VALUE!"},{"$error":"#VALUE!"},{"$error":"#VALUE!"},{"$error":"#VALUE!"},{"$error":"#VALUE!"},{"$error":"#VALUE!"},{"$error":"#VALUE!"},{"$error":"#VALUE!"},{"$error":"#VALUE!"},{"$error":"#VALUE!"},{"$error":"#VALUE!"},{"$error":"#VALUE!"},7,0,{"$error":"#VALUE!"},{"$error":"#VALUE!"},{"$error":"#VALUE!"},{"$error":"#VALUE!"},{"$error":"#VALUE!"},{"$error":"#VALUE!"},{"$error":"#VALUE!"},{"$error":"#VALUE!"},{"$error":"#VALUE!"},{"$error":"#VALUE!"},{"$error":"#VALUE!"},{"$error":"#VALUE!"},{"$error":"#VALUE!"},{"$error":"#VALUE!"},{"$error":"#VALUE!"},{"$error":"#VALUE!"},{"$error":"#VALUE!"},{"$error":"#VALUE!"},{"$error":"#VALUE!"},{"$error":"#VALUE!"},{"$error":"#VALUE!"},{"$error":"#VALUE!"},{"$error":"#VALUE!"},{"$error":"#VALUE!"},{"$error":"#VALUE!"},{"$error":"#VALUE!"},{"$error":"#VALUE!"},{"$error":"#VALUE!"},{"$error":"#VALUE!"},{"$error":"#VALUE!"},{"$error":"#VALUE!"},{"$error":"#VALUE!"},{"$error":"#VALUE!"},7,0,{"$error":"#VALUE!"},{"$error":"#VALUE!"},{"$error":"#VALUE!"},{"$error":"#VALUE!"},{"$error":"#VALUE!"},{"$error":"#VALUE!"},{"$error":"#VALUE!"},{"$error":"#VALUE!"},{"$error":"#VALUE!"},{"$error":"#VALUE!"},{"$error":"#VALUE!"},{"$error":"#VALUE!"},{"$error":"#VALUE!"},{"$error":"#VALUE!"},{"$error":"#VALUE!"},{"$error":"#VALUE!"},{"$error":"#VALUE!"},{"$error":"#VALUE!"},{"$error":"#VALUE!"},{"$error":"#VALUE!"},{"$error":"#VALUE!"},{"$error":"#VALUE!"},{"$error":"#VALUE!"},{"$error":"#VALUE!"},{"$error":"#VALUE!"},{"$error":"#VALUE!"},{"$error":"#VALUE!"},{"$error":"#VALUE!"},{"$error":"#VALUE!"},{"$error":"#VALUE!"},{"$error":"#VALUE!"},{"$error":"#VALUE!"},{"$error":"#VALUE!"},7,0,{"$error":"#VALUE!"},{"$error":"#VALUE!"},{"$error":"#VALUE!"},{"$error":"#VALUE!"},{"$error":"#VALUE!"},{"$error":"#VALUE!"},{"$error":"#VALUE!"},{"$error":"#VALUE!"},{"$error":"#VALUE!"},{"$error":"#VALUE!"},{"$error":"#VALUE!"},{"$error":"#VALUE!"},{"$error":"#VALUE!"},{"$error":"#VALUE!"},{"$error":"#VALUE!"},{"$error":"#VALUE!"},{"$error":"#VALUE!"},{"$error":"#VALUE!"},{"$error":"#VALUE!"},{"$error":"#VALUE!"},{"$error":"#VALUE!"},{"$error":"#VALUE!"},{"$error":"#VALUE!"},{"$error":"#VALUE!"},{"$error":"#VALUE!"},{"$error":"#VALUE!"},{"$error":"#VALUE!"},{"$error":"#VALUE!"},{"$error":"#VALUE!"},{"$error":"#VALUE!"},{"$error":"#VALUE!"},{"$error":"#VALUE!"},{"$error":"#VALUE!"}]
[null,null,null,null,null,null,null,null,null,null,null,null,null,null,null,null,null,null,null,null,null,null,null,8,null,null,null,null,null,null,null,null,null,"N/A",null,false,null,null,null,null,8,null,null,null,null,null,null,null,null,null,null,null,"OK","OK","OK","OK",100,100,100,100,100,100,100,null,8,null,null,1,null,null,null,null,null,null,null,null,null,null,1,null,null,null,null,null,null,null,null,null,null,1,null,null,null,null,null,null,null,null,null,null,1,null,null,null,null,null,null,null,null,null,null,1,null,null,null,null,null,null,null,null,null,null,1,null,null,null,null,null,null,null,null,null,8,{"$error":"#VALUE!"},{"$error":"#VALUE!"},{"$error":"#VALUE!"},{"$error":"#VALUE!"},{"$error":"#VALUE!"},{"$error":"#VALUE!"},{"$error":"#VALUE!"},{"$error":"#VALUE!"},{"$error":"#VALUE!"},{"$error":"#VALUE!"},{"$error":"#VALUE!"},{"$error":"#VALUE!"},{"$error":"#VALUE!"},{"$error":"#VALUE!"},{"$error":"#VALUE!"},{"$error":"#VALUE!"},{"$error":"#VALUE!"},{"$error":"#VALUE!"},null,8,0,{"$error":"#VALUE!"},{"$error":"#VALUE!"},{"$error":"#VALUE!"},{"$error":"#VALUE!"},{"$error":"#VALUE!"},{"$error":"#VALUE!"},{"$error":"#VALUE!"},{"$error":"#VALUE!"},{"$error":"#VALUE!"},{"$error":"#VALUE!"},{"$error":"#VALUE!"},{"$error":"#VALUE!"},{"$error":"#VALUE!"},{"$error":"#VALUE!"},{"$error":"#VALUE!"},{"$error":"#VALUE!"},{"$error":"#VALUE!"},{"$error":"#VALUE!"},{"$error":"#VALUE!"},{"$error":"#VALUE!"},{"$error":"#VALUE!"},{"$error":"#VALUE!"},{"$error":"#VALUE!"},{"$error":"#VALUE!"},{"$error":"#VALUE!"},{"$error":"#VALUE!"},{"$error":"#VALUE!"},{"$error":"#VALUE!"},{"$error":"#VALUE!"},{"$error":"#VALUE!"},{"$error":"#VALUE!"},{"$error":"#VALUE!"},{"$error":"#VALUE!"},8,0,{"$error":"#VALUE!"},{"$error":"#VALUE!"},{"$error":"#VALUE!"},{"$error":"#VALUE!"},{"$error":"#VALUE!"},{"$error":"#VALUE!"},{"$error":"#VALUE!"},{"$error":"#VALUE!"},{"$error":"#VALUE!"},{"$error":"#VALUE!"},{"$error":"#VALUE!"},{"$error":"#VALUE!"},{"$error":"#VALUE!"},{"$error":"#VALUE!"},{"$error":"#VALUE!"},{"$error":"#VALUE!"},{"$error":"#VALUE!"},{"$error":"#VALUE!"},{"$error":"#VALUE!"},{"$error":"#VALUE!"},{"$error":"#VALUE!"},{"$error":"#VALUE!"},{"$error":"#VALUE!"},{"$error":"#VALUE!"},{"$error":"#VALUE!"},{"$error":"#VALUE!"},{"$error":"#VALUE!"},{"$error":"#VALUE!"},{"$error":"#VALUE!"},{"$error":"#VALUE!"},{"$error":"#VALUE!"},{"$error":"#VALUE!"},{"$error":"#VALUE!"},8,0,{"$error":"#VALUE!"},{"$error":"#VALUE!"},{"$error":"#VALUE!"},{"$error":"#VALUE!"},{"$error":"#VALUE!"},{"$error":"#VALUE!"},{"$error":"#VALUE!"},{"$error":"#VALUE!"},{"$error":"#VALUE!"},{"$error":"#VALUE!"},{"$error":"#VALUE!"},{"$error":"#VALUE!"},{"$error":"#VALUE!"},{"$error":"#VALUE!"},{"$error":"#VALUE!"},{"$error":"#VALUE!"},{"$error":"#VALUE!"},{"$error":"#VALUE!"},{"$error":"#VALUE!"},{"$error":"#VALUE!"},{"$error":"#VALUE!"},{"$error":"#VALUE!"},{"$error":"#VALUE!"},{"$error":"#VALUE!"},{"$error":"#VALUE!"},{"$error":"#VALUE!"},{"$error":"#VALUE!"},{"$error":"#VALUE!"},{"$error":"#VALUE!"},{"$error":"#VALUE!"},{"$error":"#VALUE!"},{"$error":"#VALUE!"},{"$error":"#VALUE!"},8,0,{"$error":"#VALUE!"},{"$error":"#VALUE!"},{"$error":"#VALUE!"},{"$error":"#VALUE!"},{"$error":"#VALUE!"},{"$error":"#VALUE!"},{"$error":"#VALUE!"},{"$error":"#VALUE!"},{"$error":"#VALUE!"},{"$error":"#VALUE!"},{"$error":"#VALUE!"},{"$error":"#VALUE!"},{"$error":"#VALUE!"},{"$error":"#VALUE!"},{"$error":"#VALUE!"},{"$error":"#VALUE!"},{"$error":"#VALUE!"},{"$error":"#VALUE!"},{"$error":"#VALUE!"},{"$error":"#VALUE!"},{"$error":"#VALUE!"},{"$error":"#VALUE!"},{"$error":"#VALUE!"},{"$error":"#VALUE!"},{"$error":"#VALUE!"},{"$error":"#VALUE!"},{"$error":"#VALUE!"},{"$error":"#VALUE!"},{"$error":"#VALUE!"},{"$error":"#VALUE!"},{"$error":"#VALUE!"},{"$error":"#VALUE!"},{"$error":"#VALUE!"},8,0,{"$error":"#VALUE!"},{"$error":"#VALUE!"},{"$error":"#VALUE!"},{"$error":"#VALUE!"},{"$error":"#VALUE!"},{"$error":"#VALUE!"},{"$error":"#VALUE!"},{"$error":"#VALUE!"},{"$error":"#VALUE!"},{"$error":"#VALUE!"},{"$error":"#VALUE!"},{"$error":"#VALUE!"},{"$error":"#VALUE!"},{"$error":"#VALUE!"},{"$error":"#VALUE!"},{"$error":"#VALUE!"},{"$error":"#VALUE!"},{"$error":"#VALUE!"},{"$error":"#VALUE!"},{"$error":"#VALUE!"},{"$error":"#VALUE!"},{"$error":"#VALUE!"},{"$error":"#VALUE!"},{"$error":"#VALUE!"},{"$error":"#VALUE!"},{"$error":"#VALUE!"},{"$error":"#VALUE!"},{"$error":"#VALUE!"},{"$error":"#VALUE!"},{"$error":"#VALUE!"},{"$error":"#VALUE!"},{"$error":"#VALUE!"},{"$error":"#VALUE!"},8,0,{"$error":"#VALUE!"},{"$error":"#VALUE!"},{"$error":"#VALUE!"},{"$error":"#VALUE!"},{"$error":"#VALUE!"},{"$error":"#VALUE!"},{"$error":"#VALUE!"},{"$error":"#VALUE!"},{"$error":"#VALUE!"},{"$error":"#VALUE!"},{"$error":"#VALUE!"},{"$error":"#VALUE!"},{"$error":"#VALUE!"},{"$error":"#VALUE!"},{"$error":"#VALUE!"},{"$error":"#VALUE!"},{"$error":"#VALUE!"},{"$error":"#VALUE!"},{"$error":"#VALUE!"},{"$error":"#VALUE!"},{"$error":"#VALUE!"},{"$error":"#VALUE!"},{"$error":"#VALUE!"},{"$error":"#VALUE!"},{"$error":"#VALUE!"},{"$error":"#VALUE!"},{"$error":"#VALUE!"},{"$error":"#VALUE!"},{"$error":"#VALUE!"},{"$error":"#VALUE!"},{"$error":"#VALUE!"},{"$error":"#VALUE!"},{"$error":"#VALUE!"}]
[null,null,null,null,null,null,null,null,null,null,null,null,null,null,null,null,null,null,null,null,null,null,null,9,null,null,null,null,null,null,null,null,null,"N/A",null,false,null,null,null,null,9,null,null,null,null,null,null,null,null,null,null,null,"OK","OK","OK","OK",100,100,100,{"$f":"(CU47*POWER(10,0)+CV47*POWER(10,1)+CW47*POWER(10,2)+CX47*POWER(10,3)+CY47*POWER(10,4)+CZ47*POWER(10,5)+DA47*POWER(10,6)+DB47*POWER(10,7)+DC47*POWER(10,8)+DD47*POWER(10,9)+DE47*POWER(10,10))","v":100},{"$f":"(DF47*POWER(10,0)+DG47*POWER(10,1)+DH47*POWER(10,2)+DI47*POWER(10,3)+DJ47*POWER(10,4)+DK47*POWER(10,5)+DL47*POWER(10,6)+DM47*POWER(10,7)+DN47*POWER(10,8)+DO47*POWER(10,9)+DP47*POWER(10,10))","v":100},100,100,null,9,null,null,1,null,null,null,null,null,null,null,null,null,null,1,null,null,null,null,null,null,null,null,null,null,1,null,null,null,null,null,null,null,null,null,null,1,null,null,null,null,null,null,null,null,null,null,1,null,null,null,null,null,null,null,null,null,null,1,null,null,null,null,null,null,null,null,null,9,{"$error":"#VALUE!"},{"$error":"#VALUE!"},{"$error":"#VALUE!"},{"$error":"#VALUE!"},{"$error":"#VALUE!"},{"$error":"#VALUE!"},{"$error":"#VALUE!"},{"$error":"#VALUE!"},{"$error":"#VALUE!"},{"$error":"#VALUE!"},{"$error":"#VALUE!"},{"$error":"#VALUE!"},{"$error":"#VALUE!"},{"$error":"#VALUE!"},{"$error":"#VALUE!"},{"$error":"#VALUE!"},{"$error":"#VALUE!"},{"$error":"#VALUE!"},null,9,0,{"$error":"#VALUE!"},{"$error":"#VALUE!"},{"$error":"#VALUE!"},{"$error":"#VALUE!"},{"$error":"#VALUE!"},{"$error":"#VALUE!"},{"$error":"#VALUE!"},{"$error":"#VALUE!"},{"$error":"#VALUE!"},{"$error":"#VALUE!"},{"$error":"#VALUE!"},{"$error":"#VALUE!"},{"$error":"#VALUE!"},{"$error":"#VALUE!"},{"$error":"#VALUE!"},{"$error":"#VALUE!"},{"$error":"#VALUE!"},{"$error":"#VALUE!"},{"$error":"#VALUE!"},{"$error":"#VALUE!"},{"$error":"#VALUE!"},{"$error":"#VALUE!"},{"$error":"#VALUE!"},{"$error":"#VALUE!"},{"$error":"#VALUE!"},{"$error":"#VALUE!"},{"$error":"#VALUE!"},{"$error":"#VALUE!"},{"$error":"#VALUE!"},{"$error":"#VALUE!"},{"$error":"#VALUE!"},{"$error":"#VALUE!"},{"$error":"#VALUE!"},9,0,{"$error":"#VALUE!"},{"$error":"#VALUE!"},{"$error":"#VALUE!"},{"$error":"#VALUE!"},{"$error":"#VALUE!"},{"$error":"#VALUE!"},{"$error":"#VALUE!"},{"$error":"#VALUE!"},{"$error":"#VALUE!"},{"$error":"#VALUE!"},{"$error":"#VALUE!"},{"$error":"#VALUE!"},{"$error":"#VALUE!"},{"$error":"#VALUE!"},{"$error":"#VALUE!"},{"$error":"#VALUE!"},{"$error":"#VALUE!"},{"$error":"#VALUE!"},{"$error":"#VALUE!"},{"$error":"#VALUE!"},{"$error":"#VALUE!"},{"$error":"#VALUE!"},{"$error":"#VALUE!"},{"$error":"#VALUE!"},{"$error":"#VALUE!"},{"$error":"#VALUE!"},{"$error":"#VALUE!"},{"$error":"#VALUE!"},{"$error":"#VALUE!"},{"$error":"#VALUE!"},{"$error":"#VALUE!"},{"$error":"#VALUE!"},{"$error":"#VALUE!"},9,0,{"$error":"#VALUE!"},{"$error":"#VALUE!"},{"$error":"#VALUE!"},{"$error":"#VALUE!"},{"$error":"#VALUE!"},{"$error":"#VALUE!"},{"$error":"#VALUE!"},{"$error":"#VALUE!"},{"$error":"#VALUE!"},{"$error":"#VALUE!"},{"$error":"#VALUE!"},{"$error":"#VALUE!"},{"$error":"#VALUE!"},{"$error":"#VALUE!"},{"$error":"#VALUE!"},{"$error":"#VALUE!"},{"$error":"#VALUE!"},{"$error":"#VALUE!"},{"$error":"#VALUE!"},{"$error":"#VALUE!"},{"$error":"#VALUE!"},{"$error":"#VALUE!"},{"$error":"#VALUE!"},{"$error":"#VALUE!"},{"$error":"#VALUE!"},{"$error":"#VALUE!"},{"$error":"#VALUE!"},{"$error":"#VALUE!"},{"$error":"#VALUE!"},{"$error":"#VALUE!"},{"$error":"#VALUE!"},{"$error":"#VALUE!"},{"$error":"#VALUE!"},9,0,{"$error":"#VALUE!"},{"$error":"#VALUE!"},{"$error":"#VALUE!"},{"$error":"#VALUE!"},{"$error":"#VALUE!"},{"$error":"#VALUE!"},{"$error":"#VALUE!"},{"$error":"#VALUE!"},{"$error":"#VALUE!"},{"$error":"#VALUE!"},{"$error":"#VALUE!"},{"$error":"#VALUE!"},{"$error":"#VALUE!"},{"$error":"#VALUE!"},{"$error":"#VALUE!"},{"$error":"#VALUE!"},{"$error":"#VALUE!"},{"$error":"#VALUE!"},{"$error":"#VALUE!"},{"$error":"#VALUE!"},{"$error":"#VALUE!"},{"$error":"#VALUE!"},{"$error":"#VALUE!"},{"$error":"#VALUE!"},{"$error":"#VALUE!"},{"$error":"#VALUE!"},{"$error":"#VALUE!"},{"$error":"#VALUE!"},{"$error":"#VALUE!"},{"$error":"#VALUE!"},{"$error":"#VALUE!"},{"$error":"#VALUE!"},{"$error":"#VALUE!"},9,0,{"$error":"#VALUE!"},{"$error":"#VALUE!"},{"$error":"#VALUE!"},{"$error":"#VALUE!"},{"$error":"#VALUE!"},{"$error":"#VALUE!"},{"$error":"#VALUE!"},{"$error":"#VALUE!"},{"$error":"#VALUE!"},{"$error":"#VALUE!"},{"$error":"#VALUE!"},{"$error":"#VALUE!"},{"$error":"#VALUE!"},{"$error":"#VALUE!"},{"$error":"#VALUE!"},{"$error":"#VALUE!"},{"$error":"#VALUE!"},{"$error":"#VALUE!"},{"$error":"#VALUE!"},{"$error":"#VALUE!"},{"$error":"#VALUE!"},{"$error":"#VALUE!"},{"$error":"#VALUE!"},{"$error":"#VALUE!"},{"$error":"#VALUE!"},{"$error":"#VALUE!"},{"$error":"#VALUE!"},{"$error":"#VALUE!"},{"$error":"#VALUE!"},{"$error":"#VALUE!"},{"$error":"#VALUE!"},{"$error":"#VALUE!"},{"$error":"#VALUE!"},9,0,{"$error":"#VALUE!"},{"$error":"#VALUE!"},{"$error":"#VALUE!"},{"$error":"#VALUE!"},{"$error":"#VALUE!"},{"$error":"#VALUE!"},{"$error":"#VALUE!"},{"$error":"#VALUE!"},{"$error":"#VALUE!"},{"$error":"#VALUE!"},{"$error":"#VALUE!"},{"$error":"#VALUE!"},{"$error":"#VALUE!"},{"$error":"#VALUE!"},{"$error":"#VALUE!"},{"$error":"#VALUE!"},{"$error":"#VALUE!"},{"$error":"#VALUE!"},{"$error":"#VALUE!"},{"$error":"#VALUE!"},{"$error":"#VALUE!"},{"$error":"#VALUE!"},{"$error":"#VALUE!"},{"$error":"#VALUE!"},{"$error":"#VALUE!"},{"$error":"#VALUE!"},{"$error":"#VALUE!"},{"$error":"#VALUE!"},{"$error":"#VALUE!"},{"$error":"#VALUE!"},{"$error":"#VALUE!"},{"$error":"#VALUE!"},{"$error":"#VALUE!"}]
[null,null,null,null,null,null,null,null,null,null,null,null,null,null,null,null,null,null,null,null,null,null,null,"Total",{"$f":"SUM(Y41:Y47)","v":0},{"$f":"SUM(Z41:Z47)","v":0},0,0,0,0,null,null,null,"N/A",null,false,null,null,null,null,"Total",null,null,null,null,null,null,null,null,null,null,null,null,null,null,null,null,null,null,null,null,null,null,null,"Total",null,null,null,null,null,null,null,null,null,null,null,null,null,null,null,null,null,null,null,null,null,null,null,null,null,null,null,null,null,null,null,null,null,null,null,null,null,null,null,null,null,null,null,null,null,null,null,null,null,null,null,null,null,null,null,null,null,null,null,null,null,null,null,null,null,null,null,"Total",{"$f":"SUM(ED41:ED47)","v":{"$error":"#VALUE!"}},{"$f":"SUM(EE41:EE47)","v":{"$error":"#VALUE!"}},{"$f":"SUM(EF41:EF47)","v":{"$error":"#VALUE!"}},{"$f":"SUM(EG41:EG47)","v":{"$error":"#VALUE!"}},{"$f":"SUM(EH41:EH47)","v":{"$error":"#VALUE!"}},{"$f":"SUM(EI41:EI47)","v":{"$error":"#VALUE!"}},{"$error":"#VALUE!"},{"$error":"#VALUE!"},{"$error":"#VALUE!"},{"$error":"#VALUE!"},{"$error":"#VALUE!"},{"$error":"#VALUE!"},{"$error":"#VALUE!"},{"$error":"#VALUE!"},{"$error":"#VALUE!"},{"$error":"#VALUE!"},{"$error":"#VALUE!"},{"$error":"#VALUE!"},null,"Total",{"$f":"SUM(EX41:EX47)","v":0},{"$f":"SUM(EY41:EY47)","v":{"$error":"#VALUE!"}},{"$f":"SUM(EZ41:EZ47)","v":{"$error":"#VALUE!"}},{"$error":"#VALUE!"},{"$error":"#VALUE!"},{"$f":"SUM(FC41:FC47)","v":{"$error":"#VALUE!"}},{"$f":"SUM(FD41:FD47)","v":{"$error":"#VALUE!"}},{"$error":"#VALUE!"},{"$error":"#VALUE!"},{"$error":"#VALUE!"},{"$error":"#VALUE!"},{"$error":"#VALUE!"},{"$error":"#VALUE!"},{"$error":"#VALUE!"},{"$error":"#VALUE!"},{"$error":"#VALUE!"},{"$f":"SUM(FN41:FN47)","v":{"$error":"#VALUE!"}},{"$f":"SUM(FO41:FO47)","v":{"$error":"#VALUE!"}},{"$f":"SUM(FP41:FP47)","v":{"$error":"#VALUE!"}},{"$f":"SUM(FQ41:FQ47)","v":{"$error":"#VALUE!"}},{"$error":"#VALUE!"},{"$error":"#VALUE!"},{"$error":"#VALUE!"},{"$error":"#VALUE!"},{"$error":"#VALUE!"},{"$error":"#VALUE!"},{"$error":"#VALUE!"},{"$error":"#VALUE!"},{"$error":"#VALUE!"},{"$error":"#VALUE!"},{"$error":"#VALUE!"},{"$f":"SUM(GC41:GC47)","v":{"$error":"#VALUE!"}},{"$f":"SUM(GD41:GD47)","v":{"$error":"#VALUE!"}},{"$error":"#VALUE!"},"Total",{"$f":"SUM(GG41:GG47)","v":0},{"$f":"SUM(GH41:GH47)","v":{"$error":"#VALUE!"}},{"$f":"SUM(GI41:GI47)","v":{"$error":"#VALUE!"}},{"$error":"#VALUE!"},{"$error":"#VALUE!"},{"$f":"SUM(GL41:GL47)","v":{"$error":"#VALUE!"}},{"$f":"SUM(GM41:GM47)","v":{"$error":"#VALUE!"}},{"$f":"SUM(GN41:GN47)","v":{"$error":"#VALUE!"}},{"$error":"#VALUE!"},{"$error":"#VALUE!"},{"$error":"#VALUE!"},{"$error":"#VALUE!"},{"$error":"#VALUE!"},{"$error":"#VALUE!"},{"$error":"#VALUE!"},{"$error":"#VALUE!"},{"$f":"SUM(GW41:GW47)","v":{"$error":"#VALUE!"}},{"$f":"SUM(GX41:GX47)","v":{"$error":"#VALUE!"}},{"$f":"SUM(GY41:GY47)","v":{"$error":"#VALUE!"}},{"$f":"SUM(GZ41:GZ47)","v":{"$error":"#VALUE!"}},{"$error":"#VALUE!"},{"$error":"#VALUE!"},{"$error":"#VALUE!"},{"$error":"#VALUE!"},{"$error":"#VALUE!"},{"$error":"#VALUE!"},{"$error":"#VALUE!"},{"$error":"#VALUE!"},{"$error":"#VALUE!"},{"$error":"#VALUE!"},{"$error":"#VALUE!"},{"$f":"SUM(HL41:HL47)","v":{"$error":"#VALUE!"}},{"$f":"SUM(HM41:HM47)","v":{"$error":"#VALUE!"}},{"$error":"#VALUE!"},"Total",{"$f":"SUM(HP41:HP47)","v":0},{"$f":"SUM(HQ41:HQ47)","v":{"$error":"#VALUE!"}},{"$f":"SUM(HR41:HR47)","v":{"$error":"#VALUE!"}},{"$error":"#VALUE!"},{"$error":"#VALUE!"},{"$f":"SUM(HU41:HU47)","v":{"$error":"#VALUE!"}},{"$f":"SUM(HV41:HV47)","v":{"$error":"#VALUE!"}},{"$error":"#VALUE!"},{"$error":"#VALUE!"},{"$error":"#VALUE!"},{"$error":"#VALUE!"},{"$error":"#VALUE!"},{"$error":"#VALUE!"},{"$error":"#VALUE!"},{"$error":"#VALUE!"},{"$error":"#VALUE!"},{"$f":"SUM(IF41:IF47)","v":{"$error":"#VALUE!"}},{"$f":"SUM(IG41:IG47)","v":{"$error":"#VALUE!"}},{"$f":"SUM(IH41:IH47)","v":{"$error":"#VALUE!"}},{"$f":"SUM(II41:II47)","v":{"$error":"#VALUE!"}},{"$error":"#VALUE!"},{"$error":"#VALUE!"},{"$error":"#VALUE!"},{"$error":"#VALUE!"},{"$error":"#VALUE!"},{"$error":"#VALUE!"},{"$error":"#VALUE!"},{"$error":"#VALUE!"},{"$error":"#VALUE!"},{"$error":"#VALUE!"},{"$error":"#VALUE!"},{"$f":"SUM(IU41:IU47)","v":{"$error":"#VALUE!"}},{"$f":"SUM(IV41:IV47)","v":{"$error":"#VALUE!"}},{"$error":"#VALUE!"},"Total",{"$f":"SUM(IY41:IY47)","v":0},{"$f":"SUM(IZ41:IZ47)","v":{"$error":"#VALUE!"}},{"$f":"SUM(JA41:JA47)","v":{"$error":"#VALUE!"}},{"$error":"#VALUE!"},{"$error":"#VALUE!"},{"$f":"SUM(JD41:JD47)","v":{"$error":"#VALUE!"}},{"$f":"SUM(JE41:JE47)","v":{"$error":"#VALUE!"}},{"$error":"#VALUE!"},{"$error":"#VALUE!"},{"$error":"#VALUE!"},{"$error":"#VALUE!"},{"$error":"#VALUE!"},{"$error":"#VALUE!"},{"$error":"#VALUE!"},{"$error":"#VALUE!"},{"$error":"#VALUE!"},{"$f":"SUM(JO41:JO47)","v":{"$error":"#VALUE!"}},{"$f":"SUM(JP41:JP47)","v":{"$error":"#VALUE!"}},{"$f":"SUM(JQ41:JQ47)","v":{"$error":"#VALUE!"}},{"$f":"SUM(JR41:JR47)","v":{"$error":"#VALUE!"}},{"$error":"#VALUE!"},{"$error":"#VALUE!"},{"$error":"#VALUE!"},{"$error":"#VALUE!"},{"$error":"#VALUE!"},{"$error":"#VALUE!"},{"$error":"#VALUE!"},{"$error":"#VALUE!"},{"$error":"#VALUE!"},{"$error":"#VALUE!"},{"$error":"#VALUE!"},{"$f":"SUM(KD41:KD47)","v":{"$error":"#VALUE!"}},{"$f":"SUM(KE41:KE47)","v":{"$error":"#VALUE!"}},{"$error":"#VALUE!"},"Total",{"$f":"SUM(KH41:KH47)","v":0},{"$f":"SUM(KI41:KI47)","v":{"$error":"#VALUE!"}},{"$f":"SUM(KJ41:KJ47)","v":{"$error":"#VALUE!"}},{"$error":"#VALUE!"},{"$error":"#VALUE!"},{"$f":"SUM(KM41:KM47)","v":{"$error":"#VALUE!"}},{"$f":"SUM(KN41:KN47)","v":{"$error":"#VALUE!"}},{"$error":"#VALUE!"},{"$error":"#VALUE!"},{"$error":"#VALUE!"},{"$error":"#VALUE!"},{"$error":"#VALUE!"},{"$error":"#VALUE!"},{"$error":"#VALUE!"},{"$error":"#VALUE!"},{"$error":"#VALUE!"},{"$f":"SUM(KX41:KX47)","v":{"$error":"#VALUE!"}},{"$f":"SUM(KY41:KY47)","v":{"$error":"#VALUE!"}},{"$f":"SUM(KZ41:KZ47)","v":{"$error":"#VALUE!"}},{"$f":"SUM(LA41:LA47)","v":{"$error":"#VALUE!"}},{"$error":"#VALUE!"},{"$error":"#VALUE!"},{"$error":"#VALUE!"},{"$error":"#VALUE!"},{"$error":"#VALUE!"},{"$error":"#VALUE!"},{"$error":"#VALUE!"},{"$error":"#VALUE!"},{"$error":"#VALUE!"},{"$error":"#VALUE!"},{"$error":"#VALUE!"},{"$f":"SUM(LM41:LM47)","v":{"$error":"#VALUE!"}},{"$f":"SUM(LN41:LN47)","v":{"$error":"#VALUE!"}},{"$error":"#VALUE!"},"Total",{"$f":"SUM(LQ41:LQ47)","v":0},{"$f":"SUM(LR41:LR47)","v":{"$error":"#VALUE!"}},{"$f":"SUM(LS41:LS47)","v":{"$error":"#VALUE!"}},{"$error":"#VALUE!"},{"$error":"#VALUE!"},{"$f":"SUM(LV41:LV47)","v":{"$error":"#VALUE!"}},{"$f":"SUM(LW41:LW47)","v":{"$error":"#VALUE!"}},{"$error":"#VALUE!"},{"$error":"#VALUE!"},{"$error":"#VALUE!"},{"$error":"#VALUE!"},{"$error":"#VALUE!"},{"$error":"#VALUE!"},{"$error":"#VALUE!"},{"$error":"#VALUE!"},{"$f":"SUM(MF41:MF47)","v":{"$error":"#VALUE!"}},{"$f":"SUM(MG41:MG47)","v":{"$error":"#VALUE!"}},{"$f":"SUM(MH41:MH47)","v":{"$error":"#VALUE!"}},{"$f":"SUM(MI41:MI47)","v":{"$error":"#VALUE!"}},{"$f":"SUM(MJ41:MJ47)","v":{"$error":"#VALUE!"}},{"$error":"#VALUE!"},{"$error":"#VALUE!"},{"$error":"#VALUE!"},{"$error":"#VALUE!"},{"$error":"#VALUE!"},{"$error":"#VALUE!"},{"$error":"#VALUE!"},{"$error":"#VALUE!"},{"$error":"#VALUE!"},{"$error":"#VALUE!"},{"$error":"#VALUE!"},{"$f":"SUM(MV41:MV47)","v":{"$error":"#VALUE!"}},{"$f":"SUM(MW41:MW47)","v":{"$error":"#VALUE!"}},{"$error":"#VALUE!"}]
[null,{"$f":"B41+1","v":3},{"$f":"'Regional Project List Sheet'!F7","v":0},{"$f":"IF('Regional Project List Sheet'!$G7=\"New\",1,\"\")","v":""},{"$f":"IF('Regional Project List Sheet'!$G7=\"Funded Old\",1,\"\")","v":""},{"$f":"IF('Regional Project List Sheet'!$G7=\"Unfunded Old\",1,\"\")","v":""},{"$f":"'Regional Project List Sheet'!H7","v":0},{"$f":"'Regional Project List Sheet'!I7","v":0},{"$f":"'Regional Project List Sheet'!L7","v":0},{"$f":"'Regional Project List Sheet'!M7","v":0},{"$f":"'Regional Project List Sheet'!N7","v":0},{"$f":"'Regional Project List Sheet'!O7","v":0},{"$f":"'Regional Project List Sheet'!P7","v":0},{"$f":"IF('Regional Project List Sheet'!$Q7=\"N/A\",\"N/A\",IF($Y52<>0,5,IF($Z52<>0,4,IF($AA52<>0,3,IF($AB52<>0,2,1)))))","v":1},{"$f":"VLOOKUP($C49,'[2]Ranking|Priority'!$B$5:$O$68,12,FALSE)","v":{"$error":"#N/A"}},{"$f":"VLOOKUP($C49,'[2]Ranking|Priority'!$B$5:$O$68,13,FALSE)","v":{"$error":"#N/A"}},{"$f":"VLOOKUP($C49,'[2]Ranking|Priority'!$B$5:$O$68,14,FALSE)","v":{"$error":"#N/A"}},{"$f":"'Regional Project List Sheet'!T7","v":0},{"$f":"'Regional Project List Sheet'!U7","v":0},{"$f":"'Regional Project List Sheet'!V7","v":0},{"$f":"'Regional Project List Sheet'!W7","v":0},{"$f":"'Regional Project List Sheet'!X7","v":0},{"$f":"'Regional Project List Sheet'!Y7","v":"Choose from Project List in cell I2"},0,null,null,null,null,null,null,null,{"$f":"'Regional Project List Sheet'!AJ7","v":0},{"$f":"IF(OR('Regional Project List Sheet'!$AA7<>'Regional Project List Sheet'!$A$40,'Regional Project List Sheet'!$AD7<>'Regional Project List Sheet'!$A$40,'Regional Project List Sheet'!$AG7<>'Regional Project List Sheet'!$A$40),_xlfn.CONCAT(IF(ISNUMBER('Regional Project List Sheet'!$AA7),'Regional Project List Sheet'!$A$36,\"\"),\" \",IF(ISNUMBER('Regional Project List Sheet'!$AD7),'Regional Project List Sheet'!$A$37,\"\"),\" \",IF(ISNUMBER('Regional Project List Sheet'!$AG7),'Regional Project List Sheet'!$A$38,\"\")),\"N/A\")","v":"N/A"},"N/A",{"$f":"IF(OR('Regional Project List Sheet'!AC7<>'Regional Project List Sheet'!$A$40,'Regional Project List Sheet'!AF7<>'Regional Project List Sheet'!$A$40,'Regional Project List Sheet'!AI7<>'Regional Project List Sheet'!$A$40),\n\nIF(LEN(_xlfn.CONCAT(IF('Regional Project List Sheet'!AC7=\"Yes\",'Regional Project List Sheet'!$A$36,\"\"),\" \",\n\nIF('Regional Project List Sheet'!AF7=\"Yes\",'Regional Project List Sheet'!$A$37,\"\"),\" \",\n\nIF('Regional Project List Sheet'!AI7=\"Yes\",'Regional Project List Sheet'!$A$38,\"\")))<3,\"No\",\n\n_xlfn.CONCAT(IF('Regional Project List Sheet'!AC7=\"Yes\",'Regional Project List Sheet'!$A$36,\"\"),\" \",\n\nIF('Regional Project List Sheet'!AF7=\"Yes\",'Regional Project List Sheet'!$A$37,\"\"),\" \",\n\nIF('Regional Project List Sheet'!AI7=\"Yes\",'Regional Project List Sheet'!$A$38,\"\"))))","v":false},false,{"$f":"'Regional Project List Sheet'!AK7","v":0},null,{"$f":"'Regional Project List Sheet'!AL7","v":0},null,0,null,null,null,null,null,null,null,null,null,null,1,{"$f":"IF(AND(BB49=\"OK\",BC49=\"OK\",BD49=\"OK\"),\"OK\",\"ERR!\")","v":"OK"},{"$f":"IF(AND(Y49>0,SUM(BN49:BX49)<1),\"ERR!\",IF(AND(Z49>0,SUM(BY49:CI49)<1),\"ERR!\",IF(AND(AA49>0,SUM(CJ49:CT49)<1),\"ERR\",IF(AND(AB49>0,SUM(CU49:DE49)<1),\"ERR\",IF(AND(AC49>0,SUM(DF49:DP49)<1),\"ERR\",IF(AND(AD49>0,SUM(DQ49:EA49)<1),\"ERR\",\"OK\"))))))","v":"OK"},{"$f":"IF(OR(SUM(BN49:BX49)<>1,SUM(BY49:CI49)<>1,SUM(CJ49:CT49)<>1,SUM(CU49:DE49)<>1,SUM(DF49:DP49)<>1,SUM(DQ49:EA49)<>1),\"ERR!\",\"OK\")","v":"OK"},{"$f":"IF(AND(OR(BE49=BK49,BE49=0),OR(BF49=BK49,BF49=0),OR(BG49=BK49,BG49=0),OR(BH49=BK49,BH49=0),OR(BI49=BK49,BI49=0),OR(BJ49=BK49,BJ49=0)),\"OK\",\"ERR!\")","v":"OK"},{"$f":"(BN49*POWER(10,0)+BO49*POWER(10,1)+BP49*POWER(10,2)+BQ49*POWER(10,3)+BR49*POWER(10,4)+BS49*POWER(10,5)+BT49*POWER(10,6)+BU49*POWER(10,7)+BV49*POWER(10,8)+BW49*POWER(10,9)+BX49*POWER(10,10))","v":100},{"$f":"(BY49*POWER(10,0)+BZ49*POWER(10,1)+CA49*POWER(10,2)+CB49*POWER(10,3)+CC49*POWER(10,4)+CD49*POWER(10,5)+CE49*POWER(10,6)+CF49*POWER(10,7)+CG49*POWER(10,8)+CH49*POWER(10,9)+CI49*POWER(10,10))","v":100},{"$f":"(CJ49*POWER(10,0)+CK49*POWER(10,1)+CL49*POWER(10,2)+CM49*POWER(10,3)+CN49*POWER(10,4)+CO49*POWER(10,5)+CP49*POWER(10,6)+CQ49*POWER(10,7)+CR49*POWER(10,8)+CS49*POWER(10,9)+CT49*POWER(10,10))","v":100},{"$f":"(CU49*POWER(10,0)+CV49*POWER(10,1)+CW49*POWER(10,2)+CX49*POWER(10,3)+CY49*POWER(10,4)+CZ49*POWER(10,5)+DA49*POWER(10,6)+DB49*POWER(10,7)+DC49*POWER(10,8)+DD49*POWER(10,9)+DE49*POWER(10,10))","v":100},{"$f":"(DF49*POWER(10,0)+DG49*POWER(10,1)+DH49*POWER(10,2)+DI49*POWER(10,3)+DJ49*POWER(10,4)+DK49*POWER(10,5)+DL49*POWER(10,6)+DM49*POWER(10,7)+DN49*POWER(10,8)+DO49*POWER(10,9)+DP49*POWER(10,10))","v":100},{"$f":"(DQ49*POWER(10,0)+DR49*POWER(10,1)+DS49*POWER(10,2)+DT49*POWER(10,3)+DU49*POWER(10,4)+DV49*POWER(10,5)+DW49*POWER(10,6)+DX49*POWER(10,7)+DY49*POWER(10,8)+DZ49*POWER(10,9)+EA49*POWER(10,10))","v":100},{"$f":"MAX(BE49:BJ49)","v":100},null,0,null,null,1,null,null,null,null,null,null,null,null,null,null,1,null,null,null,null,null,null,null,null,null,null,1,null,null,null,null,null,null,null,null,null,null,1,null,null,null,null,null,null,null,null,null,null,1,null,null,null,null,null,null,null,null,null,null,1,null,null,null,null,null,null,null,null,null,0,{"$f":"($Y49*D$49)/1000","v":{"$error":"#VALUE!"}},{"$error":"#VALUE!"},{"$error":"#VALUE!"},{"$f":"($Z49*D$49)/1000","v":{"$error":"#VALUE!"}},{"$error":"#VALUE!"},{"$error":"#VALUE!"},{"$f":"($AA49*D$49)/1000","v":{"$error":"#VALUE!"}},{"$error":"#VALUE!"},{"$error":"#VALUE!"},{"$f":"($AB49*D$49)/1000","v":{"$error":"#VALUE!"}},{"$error":"#VALUE!"},{"$error":"#VALUE!"},{"$f":"($AC49*D$49)/1000","v":{"$error":"#VALUE!"}},{"$error":"#VALUE!"},{"$error":"#VALUE!"},{"$f":"($AD49*D$49)/1000","v":{"$error":"#VALUE!"}},{"$error":"#VALUE!"},{"$error":"#VALUE!"},null,0,{"$f":"$AZ$49*$Y49","v":0},{"$f":"($AZ$49*$BN49*D$49*$Y49)/1000","v":{"$error":"#VALUE!"}},{"$error":"#VALUE!"},{"$error":"#VALUE!"},{"$f":"($AZ$49*$BO49*D$49*$Y49)/1000","v":{"$error":"#VALUE!"}},{"$error":"#VALUE!"},{"$error":"#VALUE!"},{"$f":"($AZ$49*$BP49*D$49*$Y49)/1000","v":{"$error":"#VALUE!"}},{"$error":"#VALUE!"},{"$error":"#VALUE!"},{"$f":"($AZ$49*$BQ49*D$49*$Y49)/1000","v":{"$error":"#VALUE!"}},{"$error":"#VALUE!"},{"$error":"#VALUE!"},{"$f":"($AZ$49*$BR49*D$49*$Y49)/1000","v":{"$error":"#VALUE!"}},{"$error":"#VALUE!"},{"$error":"#VALUE!"},{"$f":"($AZ$49*$BS49*D$49*$Y49)/1000","v":{"$error":"#VALUE!"}},{"$error":"#VALUE!"},{"$error":"#VALUE!"},{"$f":"($AZ$49*$BT49*D$49*$Y49)/1000","v":{"$error":"#VALUE!"}},{"$error":"#VALUE!"},{"$error":"#VALUE!"},{"$f":"($AZ$49*$BU49*D$49*$Y49)/1000","v":{"$error":"#VALUE!"}},{"$error":"#VALUE!"},{"$error":"#VALUE!"},{"$f":"($AZ$49*$BV49*D$49*$Y49)/1000","v":{"$error":"#VALUE!"}},{"$error":"#VALUE!"},{"$error":"#VALUE!"},{"$f":"($AZ$49*$BW49*D$49*$Y49)/1000","v":{"$error":"#VALUE!"}},{"$error":"#VALUE!"},{"$error":"#VALUE!"},{"$f":"($AZ$49*$BX49*D$49*$Y49)/1000","v":{"$error":"#VALUE!"}},{"$error":"#VALUE!"},{"$error":"#VALUE!"},0,{"$f":"$AZ$49*$Z49","v":0},{"$f":"($AZ$49*$BY49*D$49*$Z49)/1000","v":{"$error":"#VALUE!"}},{"$error":"#VALUE!"},{"$error":"#VALUE!"},{"$f":"($AZ$49*$BZ49*D$49*$Z49)/1000","v":{"$error":"#VALUE!"}},{"$error":"#VALUE!"},{"$error":"#VALUE!"},{"$f":"($AZ$49*$CA49*D$49*$Z49)/1000","v":{"$error":"#VALUE!"}},{"$error":"#VALUE!"},{"$error":"#VALUE!"},{"$f":"($AZ$49*$CB49*D$49*$Z49)/1000","v":{"$error":"#VALUE!"}},{"$error":"#VALUE!"},{"$error":"#VALUE!"},{"$f":"($AZ$49*$CD49*D$49*$Z49)/1000","v":{"$error":"#VALUE!"}},{"$error":"#VALUE!"},{"$error":"#VALUE!"},{"$f":"($AZ$49*$CD49*D$49*$Z49)/1000","v":{"$error":"#VALUE!"}},{"$error":"#VALUE!"},{"$error":"#VALUE!"},{"$f":"($AZ$49*$CE49*D$49*$Z49)/1000","v":{"$error":"#VALUE!"}},{"$error":"#VALUE!"},{"$error":"#VALUE!"},{"$f":"($AZ$49*$CF49*D$49*$Z49)/1000","v":{"$error":"#VALUE!"}},{"$error":"#VALUE!"},{"$error":"#VALUE!"},{"$f":"($AZ$49*$CG49*D$49*$Z49)/1000","v":{"$error":"#VALUE!"}},{"$error":"#VALUE!"},{"$error":"#VALUE!"},{"$f":"($AZ$49*$CH49*D$49*$Z49)/1000","v":{"$error":"#VALUE!"}},{"$error":"#VALUE!"},{"$error":"#VALUE!"},{"$f":"($AZ$49*$CI49*D$49*$Z49)/1000","v":{"$error":"#VALUE!"}},{"$error":"#VALUE!"},{"$error":"#VALUE!"},0,{"$f":"$AZ$49*$AA49","v":0},{"$f":"($AZ$49*$CJ49*D$49*$AA49)/1000","v":{"$error":"#VALUE!"}},{"$error":"#VALUE!"},{"$error":"#VALUE!"},{"$f":"($AZ$49*$CK49*D$49*$AA49)/1000","v":{"$error":"#VALUE!"}},{"$error":"#VALUE!"},{"$error":"#VALUE!"},{"$f":"($AZ$49*$CL49*D$49*$AA49)/1000","v":{"$error":"#VALUE!"}},{"$error":"#VALUE!"},{"$error":"#VALUE!"},{"$f":"($AZ$49*$CM49*D$49*$AA49)/1000","v":{"$error":"#VALUE!"}},{"$error":"#VALUE!"},{"$error":"#VALUE!"},{"$f":"($AZ$49*$CN49*D$49*$AA49)/1000","v":{"$error":"#VALUE!"}},{"$error":"#VALUE!"},{"$error":"#VALUE!"},{"$f":"($AZ$49*$CO49*D$49*$AA49)/1000","v":{"$error":"#VALUE!"}},{"$error":"#VALUE!"},{"$error":"#VALUE!"},{"$f":"($AZ$49*$CP49*D$49*$AA49)/1000","v":{"$error":"#VALUE!"}},{"$error":"#VALUE!"},{"$error":"#VALUE!"},{"$f":"($AZ$49*$CQ49*D$49*$AA49)/1000","v":{"$error":"#VALUE!"}},{"$error":"#VALUE!"},{"$error":"#VALUE!"},{"$f":"($AZ$49*$CR49*D$49*$AA49)/1000","v":{"$error":"#VALUE!"}},{"$error":"#VALUE!"},{"$error":"#VALUE!"},{"$f":"($AZ$49*$CS49*D$49*$AA49)/1000","v":{"$error":"#VALUE!"}},{"$error":"#VALUE!"},{"$error":"#VALUE!"},{"$f":"($AZ$49*$CT49*D$49*$AA49)/1000","v":{"$error":"#VALUE!"}},{"$error":"#VALUE!"},{"$error":"#VALUE!"},0,{"$f":"$AZ$49*$AB49","v":0},{"$f":"($AZ$49*$CU49*D$49*$AB49)/1000","v":{"$error":"#VALUE!"}},{"$error":"#VALUE!"},{"$error":"#VALUE!"},{"$f":"($AZ$49*$CV49*D$49*$AB49)/1000","v":{"$error":"#VALUE!"}},{"$error":"#VALUE!"},{"$error":"#VALUE!"},{"$f":"($AZ$49*$CW49*D$49*$AB49)/1000","v":{"$error":"#VALUE!"}},{"$error":"#VALUE!"},{"$error":"#VALUE!"},{"$f":"($AZ$49*$CX49*D$49*$AB49)/1000","v":{"$error":"#VALUE!"}},{"$error":"#VALUE!"},{"$error":"#VALUE!"},{"$f":"($AZ$49*$CY49*D$49*$AB49)/1000","v":{"$error":"#VALUE!"}},{"$error":"#VALUE!"},{"$error":"#VALUE!"},{"$f":"($AZ$49*$CZ49*D$49*$AB49)/1000","v":{"$error":"#VALUE!"}},{"$error":"#VALUE!"},{"$error":"#VALUE!"},{"$f":"($AZ$49*$DA49*D$49*$AB49)/1000","v":{"$error":"#VALUE!"}},{"$error":"#VALUE!"},{"$error":"#VALUE!"},{"$f":"($AZ$49*$DB49*D$49*$AB49)/1000","v":{"$error":"#VALUE!"}},{"$error":"#VALUE!"},{"$error":"#VALUE!"},{"$f":"($AZ$49*$DC49*D$49*$AB49)/1000","v":{"$error":"#VALUE!"}},{"$error":"#VALUE!"},{"$error":"#VALUE!"},{"$f":"($AZ$49*$DD49*D$49*$AB49)/1000","v":{"$error":"#VALUE!"}},{"$error":"#VALUE!"},{"$error":"#VALUE!"},{"$f":"($AZ$49*$DE49*D$49*$AB49)/1000","v":{"$error":"#VALUE!"}},{"$error":"#VALUE!"},{"$error":"#VALUE!"},0,{"$f":"$AZ$49*$AC49","v":0},{"$f":"($AZ$49*$DF49*D$49*$AC49)/1000","v":{"$error":"#VALUE!"}},{"$error":"#VALUE!"},{"$error":"#VALUE!"},{"$f":"($AZ$49*$DG49*D$49*$AC49)/1000","v":{"$error":"#VALUE!"}},{"$error":"#VALUE!"},{"$error":"#VALUE!"},{"$f":"($AZ$49*$DH49*D$49*$AC49)/1000","v":{"$error":"#VALUE!"}},{"$error":"#VALUE!"},{"$error":"#VALUE!"},{"$f":"($AZ$49*$DI49*D$49*$AC49)/1000","v":{"$error":"#VALUE!"}},{"$error":"#VALUE!"},{"$error":"#VALUE!"},{"$f":"($AZ$49*$DJ49*D$49*$AC49)/1000","v":{"$error":"#VALUE!"}},{"$error":"#VALUE!"},{"$error":"#VALUE!"},{"$f":"($AZ$49*$DK49*D$49*$AC49)/1000","v":{"$error":"#VALUE!"}},{"$error":"#VALUE!"},{"$error":"#VALUE!"},{"$f":"($AZ$49*$DL49*D$49*$AC49)/1000","v":{"$error":"#VALUE!"}},{"$error":"#VALUE!"},{"$error":"#VALUE!"},{"$f":"($AZ$49*$DM49*D$49*$AC49)/1000","v":{"$error":"#VALUE!"}},{"$error":"#VALUE!"},{"$error":"#VALUE!"},{"$f":"($AZ$49*$DN49*D$49*$AC49)/1000","v":{"$error":"#VALUE!"}},{"$error":"#VALUE!"},{"$error":"#VALUE!"},{"$f":"($AZ$49*$DO49*D$49*$AC49)/1000","v":{"$error":"#VALUE!"}},{"$error":"#VALUE!"},{"$error":"#VALUE!"},{"$f":"($AZ$49*$DP49*D$49*$AC49)/1000","v":{"$error":"#VALUE!"}},{"$error":"#VALUE!"},{"$error":"#VALUE!"},0,{"$f":"$AZ$49*$AD49","v":0},{"$f":"($AZ$49*$DQ49*D$49*$AD49)/1000","v":{"$error":"#VALUE!"}},{"$error":"#VALUE!"},{"$error":"#VALUE!"},{"$f":"($AZ$49*$DR49*D$49*$AD49)/1000","v":{"$error":"#VALUE!"}},{"$error":"#VALUE!"},{"$error":"#VALUE!"},{"$f":"($AZ$49*$DS49*D$49*$AD49)/1000","v":{"$error":"#VALUE!"}},{"$error":"#VALUE!"},{"$error":"#VALUE!"},{"$f":"($AZ$49*$DT49*D$49*$AD49)/1000","v":{"$error":"#VALUE!"}},{"$error":"#VALUE!"},{"$error":"#VALUE!"},{"$f":"($AZ$49*$DU49*D$49*$AD49)/1000","v":{"$error":"#VALUE!"}},{"$error":"#VALUE!"},{"$error":"#VALUE!"},{"$f":"($AZ$49*$DV49*D$49*$AD49)/1000","v":{"$error":"#VALUE!"}},{"$error":"#VALUE!"},{"$error":"#VALUE!"},{"$f":"($AZ$49*$DW49*D$49*$AD49)/1000","v":{"$error":"#VALUE!"}},{"$error":"#VALUE!"},{"$error":"#VALUE!"},{"$f":"($AZ$49*$DX49*D$49*$AD49)/1000","v":{"$error":"#VALUE!"}},{"$error":"#VALUE!"},{"$error":"#VALUE!"},{"$f":"($AZ$49*$DY49*D$49*$AD49)/1000","v":{"$error":"#VALUE!"}},{"$error":"#VALUE!"},{"$error":"#VALUE!"},{"$f":"($AZ$49*$DZ49*D$49*$AD49)/1000","v":{"$error":"#VALUE!"}},{"$error":"#VALUE!"},{"$error":"#VALUE!"},{"$f":"($AZ$49*$EA49*D$49*$AD49)/1000","v":{"$error":"#VALUE!"}},{"$error":"#VALUE!"},{"$error":"#VALUE!"}]
[null,null,null,null,null,null,null,null,null,null,null,null,null,null,null,null,null,null,null,null,null,null,null,2,null,null,null,null,null,null,null,null,null,"N/A",null,false,null,null,null,null,2,null,null,null,null,null,null,null,null,null,null,null,{"$f":"IF(AND(BB50=\"OK\",BC50=\"OK\",BD50=\"OK\"),\"OK\",\"ERR!\")","v":"OK"},"OK",{"$f":"IF(OR(SUM(BN50:BX50)<>1,SUM(BY50:CI50)<>1,SUM(CJ50:CT50)<>1,SUM(CU50:DE50)<>1,SUM(DF50:DP50)<>1,SUM(DQ50:EA50)<>1),\"ERR!\",\"OK\")","v":"OK"},{"$f":"IF(AND(OR(BE50=BK50,BE50=0),OR(BF50=BK50,BF50=0),OR(BG50=BK50,BG50=0),OR(BH50=BK50,BH50=0),OR(BI50=BK50,BI50=0),OR(BJ50=BK50,BJ50=0)),\"OK\",\"ERR!\")","v":"OK"},{"$f":"(BN50*POWER(10,0)+BO50*POWER(10,1)+BP50*POWER(10,2)+BQ50*POWER(10,3)+BR50*POWER(10,4)+BS50*POWER(10,5)+BT50*POWER(10,6)+BU50*POWER(10,7)+BV50*POWER(10,8)+BW50*POWER(10,9)+BX50*POWER(10,10))","v":100},{"$f":"(BY50*POWER(10,0)+BZ50*POWER(10,1)+CA50*POWER(10,2)+CB50*POWER(10,3)+CC50*POWER(10,4)+CD50*POWER(10,5)+CE50*POWER(10,6)+CF50*POWER(10,7)+CG50*POWER(10,8)+CH50*POWER(10,9)+CI50*POWER(10,10))","v":100},{"$f":"(CJ50*POWER(10,0)+CK50*POWER(10,1)+CL50*POWER(10,2)+CM50*POWER(10,3)+CN50*POWER(10,4)+CO50*POWER(10,5)+CP50*POWER(10,6)+CQ50*POWER(10,7)+CR50*POWER(10,8)+CS50*POWER(10,9)+CT50*POWER(10,10))","v":100},{"$f":"(CU50*POWER(10,0)+CV50*POWER(10,1)+CW50*POWER(10,2)+CX50*POWER(10,3)+CY50*POWER(10,4)+CZ50*POWER(10,5)+DA50*POWER(10,6)+DB50*POWER(10,7)+DC50*POWER(10,8)+DD50*POWER(10,9)+DE50*POWER(10,10))","v":100},{"$f":"(DF50*POWER(10,0)+DG50*POWER(10,1)+DH50*POWER(10,2)+DI50*POWER(10,3)+DJ50*POWER(10,4)+DK50*POWER(10,5)+DL50*POWER(10,6)+DM50*POWER(10,7)+DN50*POWER(10,8)+DO50*POWER(10,9)+DP50*POWER(10,10))","v":100},{"$f":"(DQ50*POWER(10,0)+DR50*POWER(10,1)+DS50*POWER(10,2)+DT50*POWER(10,3)+DU50*POWER(10,4)+DV50*POWER(10,5)+DW50*POWER(10,6)+DX50*POWER(10,7)+DY50*POWER(10,8)+DZ50*POWER(10,9)+EA50*POWER(10,10))","v":100},{"$f":"MAX(BE50:BJ50)","v":100},null,2,null,null,1,null,null,null,null,null,null,null,null,null,null,1,null,null,null,null,null,null,null,null,null,null,1,null,null,null,null,null,null,null,null,null,null,1,null,null,null,null,null,null,null,null,null,null,1,null,null,null,null,null,null,null,null,null,null,1,null,null,null,null,null,null,null,null,null,2,{"$error":"#VALUE!"},{"$error":"#VALUE!"},{"$error":"#VALUE!"},{"$error":"#VALUE!"},{"$error":"#VALUE!"},{"$error":"#VALUE!"},{"$error":"#VALUE!"},{"$error":"#VALUE!"},{"$error":"#VALUE!"},{"$error":"#VALUE!"},{"$error":"#VALUE!"},{"$error":"#VALUE!"},{"$error":"#VALUE!"},{"$error":"#VALUE!"},{"$error":"#VALUE!"},{"$error":"#VALUE!"},{"$error":"#VALUE!"},{"$error":"#VALUE!"},null,2,0,{"$error":"#VALUE!"},{"$error":"#VALUE!"},{"$error":"#VALUE!"},{"$error":"#VALUE!"},{"$error":"#VALUE!"},{"$error":"#VALUE!"},{"$error":"#VALUE!"},{"$error":"#VALUE!"},{"$error":"#VALUE!"},{"$error":"#VALUE!"},{"$error":"#VALUE!"},{"$error":"#VALUE!"},{"$error":"#VALUE!"},{"$error":"#VALUE!"},{"$error":"#VALUE!"},{"$error":"#VALUE!"},{"$error":"#VALUE!"},{"$error":"#VALUE!"},{"$error":"#VALUE!"},{"$error":"#VALUE!"},{"$error":"#VALUE!"},{"$error":"#VALUE!"},{"$error":"#VALUE!"},{"$error":"#VALUE!"},{"$error":"#VALUE!"},{"$error":"#VALUE!"},{"$error":"#VALUE!"},{"$error":"#VALUE!"},{"$error":"#VALUE!"},{"$error":"#VALUE!"},{"$error":"#VALUE!"},{"$error":"#VALUE!"},{"$error":"#VALUE!"},2,0,{"$error":"#VALUE!"},{"$error":"#VALUE!"},{"$error":"#VALUE!"},{"$error":"#VALUE!"},{"$error":"#VALUE!"},{"$error":"#VALUE!"},{"$error":"#VALUE!"},{"$error":"#VALUE!"},{"$error":"#VALUE!"},{"$error":"#VALUE!"},{"$error":"#VALUE!"},{"$error":"#VALUE!"},{"$error":"#VALUE!"},{"$error":"#VALUE!"},{"$error":"#VALUE!"},{"$error":"#VALUE!"},{"$error":"#VALUE!"},{"$error":"#VALUE!"},{"$error":"#VALUE!"},{"$error":"#VALUE!"},{"$error":"#VALUE!"},{"$error":"#VALUE!"},{"$error":"#VALUE!"},{"$error":"#VALUE!"},{"$error":"#VALUE!"},{"$error":"#VALUE!"},{"$error":"#VALUE!"},{"$error":"#VALUE!"},{"$error":"#VALUE!"},{"$error":"#VALUE!"},{"$error":"#VALUE!"},{"$error":"#VALUE!"},{"$error":"#VALUE!"},2,0,{"$error":"#VALUE!"},{"$error":"#VALUE!"},{"$error":"#VALUE!"},{"$error":"#VALUE!"},{"$error":"#VALUE!"},{"$error":"#VALUE!"},{"$error":"#VALUE!"},{"$error":"#VALUE!"},{"$error":"#VALUE!"},{"$error":"#VALUE!"},{"$error":"#VALUE!"},{"$error":"#VALUE!"},{"$error":"#VALUE!"},{"$error":"#VALUE!"},{"$error":"#VALUE!"},{"$error":"#VALUE!"},{"$error":"#VALUE!"},{"$error":"#VALUE!"},{"$error":"#VALUE!"},{"$error":"#VALUE!"},{"$error":"#VALUE!"},{"$error":"#VALUE!"},{"$error":"#VALUE!"},{"$error":"#VALUE!"},{"$error":"#VALUE!"},{"$error":"#VALUE!"},{"$error":"#VALUE!"},{"$error":"#VALUE!"},{"$error":"#VALUE!"},{"$error":"#VALUE!"},{"$error":"#VALUE!"},{"$error":"#VALUE!"},{"$error":"#VALUE!"},2,0,{"$error":"#VALUE!"},{"$error":"#VALUE!"},{"$error":"#VALUE!"},{"$error":"#VALUE!"},{"$error":"#VALUE!"},{"$error":"#VALUE!"},{"$error":"#VALUE!"},{"$error":"#VALUE!"},{"$error":"#VALUE!"},{"$error":"#VALUE!"},{"$error":"#VALUE!"},{"$error":"#VALUE!"},{"$error":"#VALUE!"},{"$error":"#VALUE!"},{"$error":"#VALUE!"},{"$error":"#VALUE!"},{"$error":"#VALUE!"},{"$error":"#VALUE!"},{"$error":"#VALUE!"},{"$error":"#VALUE!"},{"$error":"#VALUE!"},{"$error":"#VALUE!"},{"$error":"#VALUE!"},{"$error":"#VALUE!"},{"$error":"#VALUE!"},{"$error":"#VALUE!"},{"$error":"#VALUE!"},{"$error":"#VALUE!"},{"$error":"#VALUE!"},{"$error":"#VALUE!"},{"$error":"#VALUE!"},{"$error":"#VALUE!"},{"$error":"#VALUE!"},2,0,{"$error":"#VALUE!"},{"$error":"#VALUE!"},{"$error":"#VALUE!"},{"$error":"#VALUE!"},{"$error":"#VALUE!"},{"$error":"#VALUE!"},{"$error":"#VALUE!"},{"$error":"#VALUE!"},{"$error":"#VALUE!"},{"$error":"#VALUE!"},{"$error":"#VALUE!"},{"$error":"#VALUE!"},{"$error":"#VALUE!"},{"$error":"#VALUE!"},{"$error":"#VALUE!"},{"$error":"#VALUE!"},{"$error":"#VALUE!"},{"$error":"#VALUE!"},{"$error":"#VALUE!"},{"$error":"#VALUE!"},{"$error":"#VALUE!"},{"$error":"#VALUE!"},{"$error":"#VALUE!"},{"$error":"#VALUE!"},{"$error":"#VALUE!"},{"$error":"#VALUE!"},{"$error":"#VALUE!"},{"$error":"#VALUE!"},{"$error":"#VALUE!"},{"$error":"#VALUE!"},{"$error":"#VALUE!"},{"$error":"#VALUE!"},{"$error":"#VALUE!"},2,0,{"$error":"#VALUE!"},{"$error":"#VALUE!"},{"$error":"#VALUE!"},{"$error":"#VALUE!"},{"$error":"#VALUE!"},{"$error":"#VALUE!"},{"$error":"#VALUE!"},{"$error":"#VALUE!"},{"$error":"#VALUE!"},{"$error":"#VALUE!"},{"$error":"#VALUE!"},{"$error":"#VALUE!"},{"$error":"#VALUE!"},{"$error":"#VALUE!"},{"$error":"#VALUE!"},{"$error":"#VALUE!"},{"$error":"#VALUE!"},{"$error":"#VALUE!"},{"$error":"#VALUE!"},{"$error":"#VALUE!"},{"$error":"#VALUE!"},{"$error":"#VALUE!"},{"$error":"#VALUE!"},{"$error":"#VALUE!"},{"$error":"#VALUE!"},{"$error":"#VALUE!"},{"$error":"#VALUE!"},{"$error":"#VALUE!"},{"$error":"#VALUE!"},{"$error":"#VALUE!"},{"$error":"#VALUE!"},{"$error":"#VALUE!"},{"$error":"#VALUE!"}]
[null,null,null,null,null,null,null,null,null,null,null,null,null,null,null,null,null,null,null,null,null,null,null,3,null,null,null,null,null,null,null,null,null,"N/A",null,false,null,null,null,null,3,null,null,null,null,null,null,null,null,null,null,null,{"$f":"IF(AND(BB51=\"OK\",BC51=\"OK\",BD51=\"OK\"),\"OK\",\"ERR!\")","v":"OK"},"OK",{"$f":"IF(OR(SUM(BN51:BX51)<>1,SUM(BY51:CI51)<>1,SUM(CJ51:CT51)<>1,SUM(CU51:DE51)<>1,SUM(DF51:DP51)<>1,SUM(DQ51:EA51)<>1),\"ERR!\",\"OK\")","v":"OK"},{"$f":"IF(AND(OR(BE51=BK51,BE51=0),OR(BF51=BK51,BF51=0),OR(BG51=BK51,BG51=0),OR(BH51=BK51,BH51=0),OR(BI51=BK51,BI51=0),OR(BJ51=BK51,BJ51=0)),\"OK\",\"ERR!\")","v":"OK"},100,100,100,100,100,100,{"$f":"MAX(BE51:BJ51)","v":100},null,3,null,null,1,null,null,null,null,null,null,null,null,null,null,1,null,null,null,null,null,null,null,null,null,null,1,null,null,null,null,null,null,null,null,null,null,1,null,null,null,null,null,null,null,null,null,null,1,null,null,null,null,null,null,null,null,null,null,1,null,null,null,null,null,null,null,null,null,3,{"$error":"#VALUE!"},{"$error":"#VALUE!"},{"$error":"#VALUE!"},{"$error":"#VALUE!"},{"$error":"#VALUE!"},{"$error":"#VALUE!"},{"$error":"#VALUE!"},{"$error":"#VALUE!"},{"$error":"#VALUE!"},{"$error":"#VALUE!"},{"$error":"#VALUE!"},{"$error":"#VALUE!"},{"$error":"#VALUE!"},{"$error":"#VALUE!"},{"$error":"#VALUE!"},{"$error":"#VALUE!"},{"$error":"#VALUE!"},{"$error":"#VALUE!"},null,3,0,{"$error":"#VALUE!"},{"$error":"#VALUE!"},{"$error":"#VALUE!"},{"$error":"#VALUE!"},{"$error":"#VALUE!"},{"$error":"#VALUE!"},{"$error":"#VALUE!"},{"$error":"#VALUE!"},{"$error":"#VALUE!"},{"$error":"#VALUE!"},{"$error":"#VALUE!"},{"$error":"#VALUE!"},{"$error":"#VALUE!"},{"$error":"#VALUE!"},{"$error":"#VALUE!"},{"$error":"#VALUE!"},{"$error":"#VALUE!"},{"$error":"#VALUE!"},{"$error":"#VALUE!"},{"$error":"#VALUE!"},{"$error":"#VALUE!"},{"$error":"#VALUE!"},{"$error":"#VALUE!"},{"$error":"#VALUE!"},{"$error":"#VALUE!"},{"$error":"#VALUE!"},{"$error":"#VALUE!"},{"$error":"#VALUE!"},{"$error":"#VALUE!"},{"$error":"#VALUE!"},{"$error":"#VALUE!"},{"$error":"#VALUE!"},{"$error":"#VALUE!"},3,0,{"$error":"#VALUE!"},{"$error":"#VALUE!"},{"$error":"#VALUE!"},{"$error":"#VALUE!"},{"$error":"#VALUE!"},{"$error":"#VALUE!"},{"$error":"#VALUE!"},{"$error":"#VALUE!"},{"$error":"#VALUE!"},{"$error":"#VALUE!"},{"$error":"#VALUE!"},{"$error":"#VALUE!"},{"$error":"#VALUE!"},{"$error":"#VALUE!"},{"$error":"#VALUE!"},{"$error":"#VALUE!"},{"$error":"#VALUE!"},{"$error":"#VALUE!"},{"$error":"#VALUE!"},{"$error":"#VALUE!"},{"$error":"#VALUE!"},{"$error":"#VALUE!"},{"$error":"#VALUE!"},{"$error":"#VALUE!"},{"$error":"#VALUE!"},{"$error":"#VALUE!"},{"$error":"#VALUE!"},{"$error":"#VALUE!"},{"$error":"#VALUE!"},{"$error":"#VALUE!"},{"$error":"#VALUE!"},{"$error":"#VALUE!"},{"$error":"#VALUE!"},3,0,{"$error":"#VALUE!"},{"$error":"#VALUE!"},{"$error":"#VALUE!"},{"$error":"#VALUE!"},{"$error":"#VALUE!"},{"$error":"#VALUE!"},{"$error":"#VALUE!"},{"$error":"#VALUE!"},{"$error":"#VALUE!"},{"$error":"#VALUE!"},{"$error":"#VALUE!"},{"$error":"#VALUE!"},{"$error":"#VALUE!"},{"$error":"#VALUE!"},{"$error":"#VALUE!"},{"$error":"#VALUE!"},{"$error":"#VALUE!"},{"$error":"#VALUE!"},{"$error":"#VALUE!"},{"$error":"#VALUE!"},{"$error":"#VALUE!"},{"$error":"#VALUE!"},{"$error":"#VALUE!"},{"$error":"#VALUE!"},{"$error":"#VALUE!"},{"$error":"#VALUE!"},{"$error":"#VALUE!"},{"$error":"#VALUE!"},{"$error":"#VALUE!"},{"$error":"#VALUE!"},{"$error":"#VALUE!"},{"$error":"#VALUE!"},{"$error":"#VALUE!"},3,0,{"$error":"#VALUE!"},{"$error":"#VALUE!"},{"$error":"#VALUE!"},{"$error":"#VALUE!"},{"$error":"#VALUE!"},{"$error":"#VALUE!"},{"$error":"#VALUE!"},{"$error":"#VALUE!"},{"$error":"#VALUE!"},{"$error":"#VALUE!"},{"$error":"#VALUE!"},{"$error":"#VALUE!"},{"$error":"#VALUE!"},{"$error":"#VALUE!"},{"$error":"#VALUE!"},{"$error":"#VALUE!"},{"$error":"#VALUE!"},{"$error":"#VALUE!"},{"$error":"#VALUE!"},{"$error":"#VALUE!"},{"$error":"#VALUE!"},{"$error":"#VALUE!"},{"$error":"#VALUE!"},{"$error":"#VALUE!"},{"$error":"#VALUE!"},{"$error":"#VALUE!"},{"$error":"#VALUE!"},{"$error":"#VALUE!"},{"$error":"#VALUE!"},{"$error":"#VALUE!"},{"$error":"#VALUE!"},{"$error":"#VALUE!"},{"$error":"#VALUE!"},3,0,{"$error":"#VALUE!"},{"$error":"#VALUE!"},{"$error":"#VALUE!"},{"$error":"#VALUE!"},{"$error":"#VALUE!"},{"$error":"#VALUE!"},{"$error":"#VALUE!"},{"$error":"#VALUE!"},{"$error":"#VALUE!"},{"$error":"#VALUE!"},{"$error":"#VALUE!"},{"$error":"#VALUE!"},{"$error":"#VALUE!"},{"$error":"#VALUE!"},{"$error":"#VALUE!"},{"$error":"#VALUE!"},{"$error":"#VALUE!"},{"$error":"#VALUE!"},{"$error":"#VALUE!"},{"$error":"#VALUE!"},{"$error":"#VALUE!"},{"$error":"#VALUE!"},{"$error":"#VALUE!"},{"$error":"#VALUE!"},{"$error":"#VALUE!"},{"$error":"#VALUE!"},{"$error":"#VALUE!"},{"$error":"#VALUE!"},{"$error":"#VALUE!"},{"$error":"#VALUE!"},{"$error":"#VALUE!"},{"$error":"#VALUE!"},{"$error":"#VALUE!"},3,0,{"$error":"#VALUE!"},{"$error":"#VALUE!"},{"$error":"#VALUE!"},{"$error":"#VALUE!"},{"$error":"#VALUE!"},{"$error":"#VALUE!"},{"$error":"#VALUE!"},{"$error":"#VALUE!"},{"$error":"#VALUE!"},{"$error":"#VALUE!"},{"$error":"#VALUE!"},{"$error":"#VALUE!"},{"$error":"#VALUE!"},{"$error":"#VALUE!"},{"$error":"#VALUE!"},{"$error":"#VALUE!"},{"$error":"#VALUE!"},{"$error":"#VALUE!"},{"$error":"#VALUE!"},{"$error":"#VALUE!"},{"$error":"#VALUE!"},{"$error":"#VALUE!"},{"$error":"#VALUE!"},{"$error":"#VALUE!"},{"$error":"#VALUE!"},{"$error":"#VALUE!"},{"$error":"#VALUE!"},{"$error":"#VALUE!"},{"$error":"#VALUE!"},{"$error":"#VALUE!"},{"$error":"#VALUE!"},{"$error":"#VALUE!"},{"$error":"#VALUE!"}]
[null,null,null,null,null,null,null,null,null,null,null,null,null,null,null,null,null,null,null,null,null,null,null,4,null,null,null,null,null,null,null,null,null,"N/A",null,false,null,null,null,null,4,null,null,null,null,null,null,null,null,null,null,null,{"$f":"IF(AND(BB52=\"OK\",BC52=\"OK\",BD52=\"OK\"),\"OK\",\"ERR!\")","v":"OK"},"OK","OK",{"$f":"IF(AND(OR(BE52=BK52,BE52=0),OR(BF52=BK52,BF52=0),OR(BG52=BK52,BG52=0),OR(BH52=BK52,BH52=0),OR(BI52=BK52,BI52=0),OR(BJ52=BK52,BJ52=0)),\"OK\",\"ERR!\")","v":"OK"},100,100,100,100,100,100,100,null,4,null,null,1,null,null,null,null,null,null,null,null,null,null,1,null,null,null,null,null,null,null,null,null,null,1,null,null,null,null,null,null,null,null,null,null,1,null,null,null,null,null,null,null,null,null,null,1,null,null,null,null,null,null,null,null,null,null,1,null,null,null,null,null,null,null,null,null,4,{"$error":"#VALUE!"},{"$error":"#VALUE!"},{"$error":"#VALUE!"},{"$error":"#VALUE!"},{"$error":"#VALUE!"},{"$error":"#VALUE!"},{"$error":"#VALUE!"},{"$error":"#VALUE!"},{"$error":"#VALUE!"},{"$error":"#VALUE!"},{"$error":"#VALUE!"},{"$error":"#VALUE!"},{"$error":"#VALUE!"},{"$error":"#VALUE!"},{"$error":"#VALUE!"},{"$error":"#VALUE!"},{"$error":"#VALUE!"},{"$error":"#VALUE!"},null,4,0,{"$error":"#VALUE!"},{"$error":"#VALUE!"},{"$error":"#VALUE!"},{"$error":"#VALUE!"},{"$error":"#VALUE!"},{"$error":"#VALUE!"},{"$error":"#VALUE!"},{"$error":"#VALUE!"},{"$error":"#VALUE!"},{"$error":"#VALUE!"},{"$error":"#VALUE!"},{"$error":"#VALUE!"},{"$error":"#VALUE!"},{"$error":"#VALUE!"},{"$error":"#VALUE!"},{"$error":"#VALUE!"},{"$error":"#VALUE!"},{"$error":"#VALUE!"},{"$error":"#VALUE!"},{"$error":"#VALUE!"},{"$error":"#VALUE!"},{"$error":"#VALUE!"},{"$error":"#VALUE!"},{"$error":"#VALUE!"},{"$error":"#VALUE!"},{"$error":"#VALUE!"},{"$error":"#VALUE!"},{"$error":"#VALUE!"},{"$error":"#VALUE!"},{"$error":"#VALUE!"},{"$error":"#VALUE!"},{"$error":"#VALUE!"},{"$error":"#VALUE!"},4,0,{"$error":"#VALUE!"},{"$error":"#VALUE!"},{"$error":"#VALUE!"},{"$error":"#VALUE!"},{"$error":"#VALUE!"},{"$error":"#VALUE!"},{"$error":"#VALUE!"},{"$error":"#VALUE!"},{"$error":"#VALUE!"},{"$error":"#VALUE!"},{"$error":"#VALUE!"},{"$error":"#VALUE!"},{"$error":"#VALUE!"},{"$error":"#VALUE!"},{"$error":"#VALUE!"},{"$error":"#VALUE!"},{"$error":"#VALUE!"},{"$error":"#VALUE!"},{"$error":"#VALUE!"},{"$error":"#VALUE!"},{"$error":"#VALUE!"},{"$error":"#VALUE!"},{"$error":"#VALUE!"},{"$error":"#VALUE!"},{"$error":"#VALUE!"},{"$error":"#VALUE!"},{"$error":"#VALUE!"},{"$error":"#VALUE!"},{"$error":"#VALUE!"},{"$error":"#VALUE!"},{"$error":"#VALUE!"},{"$error":"#VALUE!"},{"$error":"#VALUE!"},4,0,{"$error":"#VALUE!"},{"$error":"#VALUE!"},{"$error":"#VALUE!"},{"$error":"#VALUE!"},{"$error":"#VALUE!"},{"$error":"#VALUE!"},{"$error":"#VALUE!"},{"$error":"#VALUE!"},{"$error":"#VALUE!"},{"$error":"#VALUE!"},{"$error":"#VALUE!"},{"$error":"#VALUE!"},{"$error":"#VALUE!"},{"$error":"#VALUE!"},{"$error":"#VALUE!"},{"$error":"#VALUE!"},{"$error":"#VALUE!"},{"$error":"#VALUE!"},{"$error":"#VALUE!"},{"$error":"#VALUE!"},{"$error":"#VALUE!"},{"$error":"#VALUE!"},{"$error":"#VALUE!"},{"$error":"#VALUE!"},{"$error":"#VALUE!"},{"$error":"#VALUE!"},{"$error":"#VALUE!"},{"$error":"#VALUE!"},{"$error":"#VALUE!"},{"$error":"#VALUE!"},{"$error":"#VALUE!"},{"$error":"#VALUE!"},{"$error":"#VALUE!"},4,0,{"$error":"#VALUE!"},{"$error":"#VALUE!"},{"$error":"#VALUE!"},{"$error":"#VALUE!"},{"$error":"#VALUE!"},{"$error":"#VALUE!"},{"$error":"#VALUE!"},{"$error":"#VALUE!"},{"$error":"#VALUE!"},{"$error":"#VALUE!"},{"$error":"#VALUE!"},{"$error":"#VALUE!"},{"$error":"#VALUE!"},{"$error":"#VALUE!"},{"$error":"#VALUE!"},{"$error":"#VALUE!"},{"$error":"#VALUE!"},{"$error":"#VALUE!"},{"$error":"#VALUE!"},{"$error":"#VALUE!"},{"$error":"#VALUE!"},{"$error":"#VALUE!"},{"$error":"#VALUE!"},{"$error":"#VALUE!"},{"$error":"#VALUE!"},{"$error":"#VALUE!"},{"$error":"#VALUE!"},{"$error":"#VALUE!"},{"$error":"#VALUE!"},{"$error":"#VALUE!"},{"$error":"#VALUE!"},{"$error":"#VALUE!"},{"$error":"#VALUE!"},4,0,{"$error":"#VALUE!"},{"$error":"#VALUE!"},{"$error":"#VALUE!"},{"$error":"#VALUE!"},{"$error":"#VALUE!"},{"$error":"#VALUE!"},{"$error":"#VALUE!"},{"$error":"#VALUE!"},{"$error":"#VALUE!"},{"$error":"#VALUE!"},{"$error":"#VALUE!"},{"$error":"#VALUE!"},{"$error":"#VALUE!"},{"$error":"#VALUE!"},{"$error":"#VALUE!"},{"$error":"#VALUE!"},{"$error":"#VALUE!"},{"$error":"#VALUE!"},{"$error":"#VALUE!"},{"$error":"#VALUE!"},{"$error":"#VALUE!"},{"$error":"#VALUE!"},{"$error":"#VALUE!"},{"$error":"#VALUE!"},{"$error":"#VALUE!"},{"$error":"#VALUE!"},{"$error":"#VALUE!"},{"$error":"#VALUE!"},{"$error":"#VALUE!"},{"$error":"#VALUE!"},{"$error":"#VALUE!"},{"$error":"#VALUE!"},{"$error":"#VALUE!"},4,0,{"$error":"#VALUE!"},{"$error":"#VALUE!"},{"$error":"#VALUE!"},{"$error":"#VALUE!"},{"$error":"#VALUE!"},{"$error":"#VALUE!"},{"$error":"#VALUE!"},{"$error":"#VALUE!"},{"$error":"#VALUE!"},{"$error":"#VALUE!"},{"$error":"#VALUE!"},{"$error":"#VALUE!"},{"$error":"#VALUE!"},{"$error":"#VALUE!"},{"$error":"#VALUE!"},{"$error":"#VALUE!"},{"$error":"#VALUE!"},{"$error":"#VALUE!"},{"$error":"#VALUE!"},{"$error":"#VALUE!"},{"$error":"#VALUE!"},{"$error":"#VALUE!"},{"$error":"#VALUE!"},{"$error":"#VALUE!"},{"$error":"#VALUE!"},{"$error":"#VALUE!"},{"$error":"#VALUE!"},{"$error":"#VALUE!"},{"$error":"#VALUE!"},{"$error":"#VALUE!"},{"$error":"#VALUE!"},{"$error":"#VALUE!"},{"$error":"#VALUE!"}]
[null,null,null,null,null,null,null,null,null,null,null,null,null,null,null,null,null,null,null,null,null,null,null,7,null,null,null,null,null,null,null,null,null,"N/A",null,false,null,null,null,null,7,null,null,null,null,null,null,null,null,null,null,null,{"$f":"IF(AND(BB53=\"OK\",BC53=\"OK\",BD53=\"OK\"),\"OK\",\"ERR!\")","v":"OK"},"OK","OK","OK",100,100,100,100,100,100,100,null,7,null,null,1,null,null,null,null,null,null,null,null,null,null,1,null,null,null,null,null,null,null,null,null,null,1,null,null,null,null,null,null,null,null,null,null,1,null,null,null,null,null,null,null,null,null,null,1,null,null,null,null,null,null,null,null,null,null,1,null,null,null,null,null,null,null,null,null,7,{"$error":"#VALUE!"},{"$error":"#VALUE!"},{"$error":"#VALUE!"},{"$error":"#VALUE!"},{"$error":"#VALUE!"},{"$error":"#VALUE!"},{"$error":"#VALUE!"},{"$error":"#VALUE!"},{"$error":"#VALUE!"},{"$error":"#VALUE!"},{"$error":"#VALUE!"},{"$error":"#VALUE!"},{"$error":"#VALUE!"},{"$error":"#VALUE!"},{"$error":"#VALUE!"},{"$error":"#VALUE!"},{"$error":"#VALUE!"},{"$error":"#VALUE!"},null,7,0,{"$error":"#VALUE!"},{"$error":"#VALUE!"},{"$error":"#VALUE!"},{"$error":"#VALUE!"},{"$error":"#VALUE!"},{"$error":"#VALUE!"},{"$error":"#VALUE!"},{"$error":"#VALUE!"},{"$error":"#VALUE!"},{"$error":"#VALUE!"},{"$error":"#VALUE!"},{"$error":"#VALUE!"},{"$error":"#VALUE!"},{"$error":"#VALUE!"},{"$error":"#VALUE!"},{"$error":"#VALUE!"},{"$error":"#VALUE!"},{"$error":"#VALUE!"},{"$error":"#VALUE!"},{"$error":"#VALUE!"},{"$error":"#VALUE!"},{"$error":"#VALUE!"},{"$error":"#VALUE!"},{"$error":"#VALUE!"},{"$error":"#VALUE!"},{"$error":"#VALUE!"},{"$error":"#VALUE!"},{"$error":"#VALUE!"},{"$error":"#VALUE!"},{"$error":"#VALUE!"},{"$error":"#VALUE!"},{"$error":"#VALUE!"},{"$error":"#VALUE!"},7,0,{"$error":"#VALUE!"},{"$error":"#VALUE!"},{"$error":"#VALUE!"},{"$error":"#VALUE!"},{"$error":"#VALUE!"},{"$error":"#VALUE!"},{"$error":"#VALUE!"},{"$error":"#VALUE!"},{"$error":"#VALUE!"},{"$error":"#VALUE!"},{"$error":"#VALUE!"},{"$error":"#VALUE!"},{"$error":"#VALUE!"},{"$error":"#VALUE!"},{"$error":"#VALUE!"},{"$error":"#VALUE!"},{"$error":"#VALUE!"},{"$error":"#VALUE!"},{"$error":"#VALUE!"},{"$error":"#VALUE!"},{"$error":"#VALUE!"},{"$error":"#VALUE!"},{"$error":"#VALUE!"},{"$error":"#VALUE!"},{"$error":"#VALUE!"},{"$error":"#VALUE!"},{"$error":"#VALUE!"},{"$error":"#VALUE!"},{"$error":"#VALUE!"},{"$error":"#VALUE!"},{"$error":"#VALUE!"},{"$error":"#VALUE!"},{"$error":"#VALUE!"},7,0,{"$error":"#VALUE!"},{"$error":"#VALUE!"},{"$error":"#VALUE!"},{"$error":"#VALUE!"},{"$error":"#VALUE!"},{"$error":"#VALUE!"},{"$error":"#VALUE!"},{"$error":"#VALUE!"},{"$error":"#VALUE!"},{"$error":"#VALUE!"},{"$error":"#VALUE!"},{"$error":"#VALUE!"},{"$error":"#VALUE!"},{"$error":"#VALUE!"},{"$error":"#VALUE!"},{"$error":"#VALUE!"},{"$error":"#VALUE!"},{"$error":"#VALUE!"},{"$error":"#VALUE!"},{"$error":"#VALUE!"},{"$error":"#VALUE!"},{"$error":"#VALUE!"},{"$error":"#VALUE!"},{"$error":"#VALUE!"},{"$error":"#VALUE!"},{"$error":"#VALUE!"},{"$error":"#VALUE!"},{"$error":"#VALUE!"},{"$error":"#VALUE!"},{"$error":"#VALUE!"},{"$error":"#VALUE!"},{"$error":"#VALUE!"},{"$error":"#VALUE!"},7,0,{"$error":"#VALUE!"},{"$error":"#VALUE!"},{"$error":"#VALUE!"},{"$error":"#VALUE!"},{"$error":"#VALUE!"},{"$error":"#VALUE!"},{"$error":"#VALUE!"},{"$error":"#VALUE!"},{"$error":"#VALUE!"},{"$error":"#VALUE!"},{"$error":"#VALUE!"},{"$error":"#VALUE!"},{"$error":"#VALUE!"},{"$error":"#VALUE!"},{"$error":"#VALUE!"},{"$error":"#VALUE!"},{"$error":"#VALUE!"},{"$error":"#VALUE!"},{"$error":"#VALUE!"},{"$error":"#VALUE!"},{"$error":"#VALUE!"},{"$error":"#VALUE!"},{"$error":"#VALUE!"},{"$error":"#VALUE!"},{"$error":"#VALUE!"},{"$error":"#VALUE!"},{"$error":"#VALUE!"},{"$error":"#VALUE!"},{"$error":"#VALUE!"},{"$error":"#VALUE!"},{"$error":"#VALUE!"},{"$error":"#VALUE!"},{"$error":"#VALUE!"},7,0,{"$error":"#VALUE!"},{"$error":"#VALUE!"},{"$error":"#VALUE!"},{"$error":"#VALUE!"},{"$error":"#VALUE!"},{"$error":"#VALUE!"},{"$error":"#VALUE!"},{"$error":"#VALUE!"},{"$error":"#VALUE!"},{"$error":"#VALUE!"},{"$error":"#VALUE!"},{"$error":"#VALUE!"},{"$error":"#VALUE!"},{"$error":"#VALUE!"},{"$error":"#VALUE!"},{"$error":"#VALUE!"},{"$error":"#VALUE!"},{"$error":"#VALUE!"},{"$error":"#VALUE!"},{"$error":"#VALUE!"},{"$error":"#VALUE!"},{"$error":"#VALUE!"},{"$error":"#VALUE!"},{"$error":"#VALUE!"},{"$error":"#VALUE!"},{"$error":"#VALUE!"},{"$error":"#VALUE!"},{"$error":"#VALUE!"},{"$error":"#VALUE!"},{"$error":"#VALUE!"},{"$error":"#VALUE!"},{"$error":"#VALUE!"},{"$error":"#VALUE!"},7,0,{"$error":"#VALUE!"},{"$error":"#VALUE!"},{"$error":"#VALUE!"},{"$error":"#VALUE!"},{"$error":"#VALUE!"},{"$error":"#VALUE!"},{"$error":"#VALUE!"},{"$error":"#VALUE!"},{"$error":"#VALUE!"},{"$error":"#VALUE!"},{"$error":"#VALUE!"},{"$error":"#VALUE!"},{"$error":"#VALUE!"},{"$error":"#VALUE!"},{"$error":"#VALUE!"},{"$error":"#VALUE!"},{"$error":"#VALUE!"},{"$error":"#VALUE!"},{"$error":"#VALUE!"},{"$error":"#VALUE!"},{"$error":"#VALUE!"},{"$error":"#VALUE!"},{"$error":"#VALUE!"},{"$error":"#VALUE!"},{"$error":"#VALUE!"},{"$error":"#VALUE!"},{"$error":"#VALUE!"},{"$error":"#VALUE!"},{"$error":"#VALUE!"},{"$error":"#VALUE!"},{"$error":"#VALUE!"},{"$error":"#VALUE!"},{"$error":"#VALUE!"}]
[null,null,null,null,null,null,null,null,null,null,null,null,null,null,null,null,null,null,null,null,null,null,null,8,null,null,null,null,null,null,null,null,null,"N/A",null,false,null,null,null,null,8,null,null,null,null,null,null,null,null,null,null,null,"OK","OK","OK","OK",100,100,100,100,100,100,100,null,8,null,null,1,null,null,null,null,null,null,null,null,null,null,1,null,null,null,null,null,null,null,null,null,null,1,null,null,null,null,null,null,null,null,null,null,1,null,null,null,null,null,null,null,null,null,null,1,null,null,null,null,null,null,null,null,null,null,1,null,null,null,null,null,null,null,null,null,8,{"$error":"#VALUE!"},{"$error":"#VALUE!"},{"$error":"#VALUE!"},{"$error":"#VALUE!"},{"$error":"#VALUE!"},{"$error":"#VALUE!"},{"$error":"#VALUE!"},{"$error":"#VALUE!"},{"$error":"#VALUE!"},{"$error":"#VALUE!"},{"$error":"#VALUE!"},{"$error":"#VALUE!"},{"$error":"#VALUE!"},{"$error":"#VALUE!"},{"$error":"#VALUE!"},{"$error":"#VALUE!"},{"$error":"#VALUE!"},{"$error":"#VALUE!"},null,8,0,{"$error":"#VALUE!"},{"$error":"#VALUE!"},{"$error":"#VALUE!"},{"$error":"#VALUE!"},{"$error":"#VALUE!"},{"$error":"#VALUE!"},{"$error":"#VALUE!"},{"$error":"#VALUE!"},{"$error":"#VALUE!"},{"$error":"#VALUE!"},{"$error":"#VALUE!"},{"$error":"#VALUE!"},{"$error":"#VALUE!"},{"$error":"#VALUE!"},{"$error":"#VALUE!"},{"$error":"#VALUE!"},{"$error":"#VALUE!"},{"$error":"#VALUE!"},{"$error":"#VALUE!"},{"$error":"#VALUE!"},{"$error":"#VALUE!"},{"$error":"#VALUE!"},{"$error":"#VALUE!"},{"$error":"#VALUE!"},{"$error":"#VALUE!"},{"$error":"#VALUE!"},{"$error":"#VALUE!"},{"$error":"#VALUE!"},{"$error":"#VALUE!"},{"$error":"#VALUE!"},{"$error":"#VALUE!"},{"$error":"#VALUE!"},{"$error":"#VALUE!"},8,0,{"$error":"#VALUE!"},{"$error":"#VALUE!"},{"$error":"#VALUE!"},{"$error":"#VALUE!"},{"$error":"#VALUE!"},{"$error":"#VALUE!"},{"$error":"#VALUE!"},{"$error":"#VALUE!"},{"$error":"#VALUE!"},{"$error":"#VALUE!"},{"$error":"#VALUE!"},{"$error":"#VALUE!"},{"$error":"#VALUE!"},{"$error":"#VALUE!"},{"$error":"#VALUE!"},{"$error":"#VALUE!"},{"$error":"#VALUE!"},{"$error":"#VALUE!"},{"$error":"#VALUE!"},{"$error":"#VALUE!"},{"$error":"#VALUE!"},{"$error":"#VALUE!"},{"$error":"#VALUE!"},{"$error":"#VALUE!"},{"$error":"#VALUE!"},{"$error":"#VALUE!"},{"$error":"#VALUE!"},{"$error":"#VALUE!"},{"$error":"#VALUE!"},{"$error":"#VALUE!"},{"$error":"#VALUE!"},{"$error":"#VALUE!"},{"$error":"#VALUE!"},8,0,{"$error":"#VALUE!"},{"$error":"#VALUE!"},{"$error":"#VALUE!"},{"$error":"#VALUE!"},{"$error":"#VALUE!"},{"$error":"#VALUE!"},{"$error":"#VALUE!"},{"$error":"#VALUE!"},{"$error":"#VALUE!"},{"$error":"#VALUE!"},{"$error":"#VALUE!"},{"$error":"#VALUE!"},{"$error":"#VALUE!"},{"$error":"#VALUE!"},{"$error":"#VALUE!"},{"$error":"#VALUE!"},{"$error":"#VALUE!"},{"$error":"#VALUE!"},{"$error":"#VALUE!"},{"$error":"#VALUE!"},{"$error":"#VALUE!"},{"$error":"#VALUE!"},{"$error":"#VALUE!"},{"$error":"#VALUE!"},{"$error":"#VALUE!"},{"$error":"#VALUE!"},{"$error":"#VALUE!"},{"$error":"#VALUE!"},{"$error":"#VALUE!"},{"$error":"#VALUE!"},{"$error":"#VALUE!"},{"$error":"#VALUE!"},{"$error":"#VALUE!"},8,0,{"$error":"#VALUE!"},{"$error":"#VALUE!"},{"$error":"#VALUE!"},{"$error":"#VALUE!"},{"$error":"#VALUE!"},{"$error":"#VALUE!"},{"$error":"#VALUE!"},{"$error":"#VALUE!"},{"$error":"#VALUE!"},{"$error":"#VALUE!"},{"$error":"#VALUE!"},{"$error":"#VALUE!"},{"$error":"#VALUE!"},{"$error":"#VALUE!"},{"$error":"#VALUE!"},{"$error":"#VALUE!"},{"$error":"#VALUE!"},{"$error":"#VALUE!"},{"$error":"#VALUE!"},{"$error":"#VALUE!"},{"$error":"#VALUE!"},{"$error":"#VALUE!"},{"$error":"#VALUE!"},{"$error":"#VALUE!"},{"$error":"#VALUE!"},{"$error":"#VALUE!"},{"$error":"#VALUE!"},{"$error":"#VALUE!"},{"$error":"#VALUE!"},{"$error":"#VALUE!"},{"$error":"#VALUE!"},{"$error":"#VALUE!"},{"$error":"#VALUE!"},8,0,{"$error":"#VALUE!"},{"$error":"#VALUE!"},{"$error":"#VALUE!"},{"$error":"#VALUE!"},{"$error":"#VALUE!"},{"$error":"#VALUE!"},{"$error":"#VALUE!"},{"$error":"#VALUE!"},{"$error":"#VALUE!"},{"$error":"#VALUE!"},{"$error":"#VALUE!"},{"$error":"#VALUE!"},{"$error":"#VALUE!"},{"$error":"#VALUE!"},{"$error":"#VALUE!"},{"$error":"#VALUE!"},{"$error":"#VALUE!"},{"$error":"#VALUE!"},{"$error":"#VALUE!"},{"$error":"#VALUE!"},{"$error":"#VALUE!"},{"$error":"#VALUE!"},{"$error":"#VALUE!"},{"$error":"#VALUE!"},{"$error":"#VALUE!"},{"$error":"#VALUE!"},{"$error":"#VALUE!"},{"$error":"#VALUE!"},{"$error":"#VALUE!"},{"$error":"#VALUE!"},{"$error":"#VALUE!"},{"$error":"#VALUE!"},{"$error":"#VALUE!"},8,0,{"$error":"#VALUE!"},{"$error":"#VALUE!"},{"$error":"#VALUE!"},{"$error":"#VALUE!"},{"$error":"#VALUE!"},{"$error":"#VALUE!"},{"$error":"#VALUE!"},{"$error":"#VALUE!"},{"$error":"#VALUE!"},{"$error":"#VALUE!"},{"$error":"#VALUE!"},{"$error":"#VALUE!"},{"$error":"#VALUE!"},{"$error":"#VALUE!"},{"$error":"#VALUE!"},{"$error":"#VALUE!"},{"$error":"#VALUE!"},{"$error":"#VALUE!"},{"$error":"#VALUE!"},{"$error":"#VALUE!"},{"$error":"#VALUE!"},{"$error":"#VALUE!"},{"$error":"#VALUE!"},{"$error":"#VALUE!"},{"$error":"#VALUE!"},{"$error":"#VALUE!"},{"$error":"#VALUE!"},{"$error":"#VALUE!"},{"$error":"#VALUE!"},{"$error":"#VALUE!"},{"$error":"#VALUE!"},{"$error":"#VALUE!"},{"$error":"#VALUE!"}]
[null,null,null,null,null,null,null,null,null,null,null,null,null,null,null,null,null,null,null,null,null,null,null,9,null,null,null,null,null,null,null,null,null,"N/A",null,false,null,null,null,null,9,null,null,null,null,null,null,null,null,null,null,null,"OK","OK","OK","OK",100,100,100,{"$f":"(CU55*POWER(10,0)+CV55*POWER(10,1)+CW55*POWER(10,2)+CX55*POWER(10,3)+CY55*POWER(10,4)+CZ55*POWER(10,5)+DA55*POWER(10,6)+DB55*POWER(10,7)+DC55*POWER(10,8)+DD55*POWER(10,9)+DE55*POWER(10,10))","v":100},{"$f":"(DF55*POWER(10,0)+DG55*POWER(10,1)+DH55*POWER(10,2)+DI55*POWER(10,3)+DJ55*POWER(10,4)+DK55*POWER(10,5)+DL55*POWER(10,6)+DM55*POWER(10,7)+DN55*POWER(10,8)+DO55*POWER(10,9)+DP55*POWER(10,10))","v":100},100,100,null,9,null,null,1,null,null,null,null,null,null,null,null,null,null,1,null,null,null,null,null,null,null,null,null,null,1,null,null,null,null,null,null,null,null,null,null,1,null,null,null,null,null,null,null,null,null,null,1,null,null,null,null,null,null,null,null,null,null,1,null,null,null,null,null,null,null,null,null,9,{"$error":"#VALUE!"},{"$error":"#VALUE!"},{"$error":"#VALUE!"},{"$error":"#VALUE!"},{"$error":"#VALUE!"},{"$error":"#VALUE!"},{"$error":"#VALUE!"},{"$error":"#VALUE!"},{"$error":"#VALUE!"},{"$error":"#VALUE!"},{"$error":"#VALUE!"},{"$error":"#VALUE!"},{"$error":"#VALUE!"},{"$error":"#VALUE!"},{"$error":"#VALUE!"},{"$error":"#VALUE!"},{"$error":"#VALUE!"},{"$error":"#VALUE!"},null,9,0,{"$error":"#VALUE!"},{"$error":"#VALUE!"},{"$error":"#VALUE!"},{"$error":"#VALUE!"},{"$error":"#VALUE!"},{"$error":"#VALUE!"},{"$error":"#VALUE!"},{"$error":"#VALUE!"},{"$error":"#VALUE!"},{"$error":"#VALUE!"},{"$error":"#VALUE!"},{"$error":"#VALUE!"},{"$error":"#VALUE!"},{"$error":"#VALUE!"},{"$error":"#VALUE!"},{"$error":"#VALUE!"},{"$error":"#VALUE!"},{"$error":"#VALUE!"},{"$error":"#VALUE!"},{"$error":"#VALUE!"},{"$error":"#VALUE!"},{"$error":"#VALUE!"},{"$error":"#VALUE!"},{"$error":"#VALUE!"},{"$error":"#VALUE!"},{"$error":"#VALUE!"},{"$error":"#VALUE!"},{"$error":"#VALUE!"},{"$error":"#VALUE!"},{"$error":"#VALUE!"},{"$error":"#VALUE!"},{"$error":"#VALUE!"},{"$error":"#VALUE!"},9,0,{"$error":"#VALUE!"},{"$error":"#VALUE!"},{"$error":"#VALUE!"},{"$error":"#VALUE!"},{"$error":"#VALUE!"},{"$error":"#VALUE!"},{"$error":"#VALUE!"},{"$error":"#VALUE!"},{"$error":"#VALUE!"},{"$error":"#VALUE!"},{"$error":"#VALUE!"},{"$error":"#VALUE!"},{"$error":"#VALUE!"},{"$error":"#VALUE!"},{"$error":"#VALUE!"},{"$error":"#VALUE!"},{"$error":"#VALUE!"},{"$error":"#VALUE!"},{"$error":"#VALUE!"},{"$error":"#VALUE!"},{"$error":"#VALUE!"},{"$error":"#VALUE!"},{"$error":"#VALUE!"},{"$error":"#VALUE!"},{"$error":"#VALUE!"},{"$error":"#VALUE!"},{"$error":"#VALUE!"},{"$error":"#VALUE!"},{"$error":"#VALUE!"},{"$error":"#VALUE!"},{"$error":"#VALUE!"},{"$error":"#VALUE!"},{"$error":"#VALUE!"},9,0,{"$error":"#VALUE!"},{"$error":"#VALUE!"},{"$error":"#VALUE!"},{"$error":"#VALUE!"},{"$error":"#VALUE!"},{"$error":"#VALUE!"},{"$error":"#VALUE!"},{"$error":"#VALUE!"},{"$error":"#VALUE!"},{"$error":"#VALUE!"},{"$error":"#VALUE!"},{"$error":"#VALUE!"},{"$error":"#VALUE!"},{"$error":"#VALUE!"},{"$error":"#VALUE!"},{"$error":"#VALUE!"},{"$error":"#VALUE!"},{"$error":"#VALUE!"},{"$error":"#VALUE!"},{"$error":"#VALUE!"},{"$error":"#VALUE!"},{"$error":"#VALUE!"},{"$error":"#VALUE!"},{"$error":"#VALUE!"},{"$error":"#VALUE!"},{"$error":"#VALUE!"},{"$error":"#VALUE!"},{"$error":"#VALUE!"},{"$error":"#VALUE!"},{"$error":"#VALUE!"},{"$error":"#VALUE!"},{"$error":"#VALUE!"},{"$error":"#VALUE!"},9,0,{"$error":"#VALUE!"},{"$error":"#VALUE!"},{"$error":"#VALUE!"},{"$error":"#VALUE!"},{"$error":"#VALUE!"},{"$error":"#VALUE!"},{"$error":"#VALUE!"},{"$error":"#VALUE!"},{"$error":"#VALUE!"},{"$error":"#VALUE!"},{"$error":"#VALUE!"},{"$error":"#VALUE!"},{"$error":"#VALUE!"},{"$error":"#VALUE!"},{"$error":"#VALUE!"},{"$error":"#VALUE!"},{"$error":"#VALUE!"},{"$error":"#VALUE!"},{"$error":"#VALUE!"},{"$error":"#VALUE!"},{"$error":"#VALUE!"},{"$error":"#VALUE!"},{"$error":"#VALUE!"},{"$error":"#VALUE!"},{"$error":"#VALUE!"},{"$error":"#VALUE!"},{"$error":"#VALUE!"},{"$error":"#VALUE!"},{"$error":"#VALUE!"},{"$error":"#VALUE!"},{"$error":"#VALUE!"},{"$error":"#VALUE!"},{"$error":"#VALUE!"},9,0,{"$error":"#VALUE!"},{"$error":"#VALUE!"},{"$error":"#VALUE!"},{"$error":"#VALUE!"},{"$error":"#VALUE!"},{"$error":"#VALUE!"},{"$error":"#VALUE!"},{"$error":"#VALUE!"},{"$error":"#VALUE!"},{"$error":"#VALUE!"},{"$error":"#VALUE!"},{"$error":"#VALUE!"},{"$error":"#VALUE!"},{"$error":"#VALUE!"},{"$error":"#VALUE!"},{"$error":"#VALUE!"},{"$error":"#VALUE!"},{"$error":"#VALUE!"},{"$error":"#VALUE!"},{"$error":"#VALUE!"},{"$error":"#VALUE!"},{"$error":"#VALUE!"},{"$error":"#VALUE!"},{"$error":"#VALUE!"},{"$error":"#VALUE!"},{"$error":"#VALUE!"},{"$error":"#VALUE!"},{"$error":"#VALUE!"},{"$error":"#VALUE!"},{"$error":"#VALUE!"},{"$error":"#VALUE!"},{"$error":"#VALUE!"},{"$error":"#VALUE!"},9,0,{"$error":"#VALUE!"},{"$error":"#VALUE!"},{"$error":"#VALUE!"},{"$error":"#VALUE!"},{"$error":"#VALUE!"},{"$error":"#VALUE!"},{"$error":"#VALUE!"},{"$error":"#VALUE!"},{"$error":"#VALUE!"},{"$error":"#VALUE!"},{"$error":"#VALUE!"},{"$error":"#VALUE!"},{"$error":"#VALUE!"},{"$error":"#VALUE!"},{"$error":"#VALUE!"},{"$error":"#VALUE!"},{"$error":"#VALUE!"},{"$error":"#VALUE!"},{"$error":"#VALUE!"},{"$error":"#VALUE!"},{"$error":"#VALUE!"},{"$error":"#VALUE!"},{"$error":"#VALUE!"},{"$error":"#VALUE!"},{"$error":"#VALUE!"},{"$error":"#VALUE!"},{"$error":"#VALUE!"},{"$error":"#VALUE!"},{"$error":"#VALUE!"},{"$error":"#VALUE!"},{"$error":"#VALUE!"},{"$error":"#VALUE!"},{"$error":"#VALUE!"}]
[null,null,null,null,null,null,null,null,null,null,null,null,null,null,null,null,null,null,null,null,null,null,null,"Total",{"$f":"SUM(Y49:Y55)","v":0},{"$f":"SUM(Z49:Z55)","v":0},0,0,0,0,null,null,null,"N/A",null,false,null,null,null,null,"Total",null,null,null,null,null,null,null,null,null,null,null,null,null,null,null,null,null,null,null,null,null,null,null,"Total",null,null,null,null,null,null,null,null,null,null,null,null,null,null,null,null,null,null,null,null,null,null,null,null,null,null,null,null,null,null,null,null,null,null,null,null,null,null,null,null,null,null,null,null,null,null,null,null,null,null,null,null,null,null,null,null,null,null,null,null,null,null,null,null,null,null,null,"Total",{"$f":"SUM(ED49:ED55)","v":{"$error":"#VALUE!"}},{"$f":"SUM(EE49:EE55)","v":{"$error":"#VALUE!"}},{"$f":"SUM(EF49:EF55)","v":{"$error":"#VALUE!"}},{"$f":"SUM(EG49:EG55)","v":{"$error":"#VALUE!"}},{"$f":"SUM(EH49:EH55)","v":{"$error":"#VALUE!"}},{"$f":"SUM(EI49:EI55)","v":{"$error":"#VALUE!"}},{"$error":"#VALUE!"},{"$error":"#VALUE!"},{"$error":"#VALUE!"},{"$error":"#VALUE!"},{"$error":"#VALUE!"},{"$error":"#VALUE!"},{"$error":"#VALUE!"},{"$error":"#VALUE!"},{"$error":"#VALUE!"},{"$error":"#VALUE!"},{"$error":"#VALUE!"},{"$error":"#VALUE!"},null,"Total",{"$f":"SUM(EX49:EX55)","v":0},{"$f":"SUM(EY49:EY55)","v":{"$error":"#VALUE!"}},{"$f":"SUM(EZ49:EZ55)","v":{"$error":"#VALUE!"}},{"$error":"#VALUE!"},{"$error":"#VALUE!"},{"$f":"SUM(FC49:FC55)","v":{"$error":"#VALUE!"}},{"$f":"SUM(FD49:FD55)","v":{"$error":"#VALUE!"}},{"$error":"#VALUE!"},{"$error":"#VALUE!"},{"$error":"#VALUE!"},{"$error":"#VALUE!"},{"$error":"#VALUE!"},{"$error":"#VALUE!"},{"$error":"#VALUE!"},{"$error":"#VALUE!"},{"$error":"#VALUE!"},{"$f":"SUM(FN49:FN55)","v":{"$error":"#VALUE!"}},{"$f":"SUM(FO49:FO55)","v":{"$error":"#VALUE!"}},{"$f":"SUM(FP49:FP55)","v":{"$error":"#VALUE!"}},{"$f":"SUM(FQ49:FQ55)","v":{"$error":"#VALUE!"}},{"$error":"#VALUE!"},{"$error":"#VALUE!"},{"$error":"#VALUE!"},{"$error":"#VALUE!"},{"$error":"#VALUE!"},{"$error":"#VALUE!"},{"$error":"#VALUE!"},{"$error":"#VALUE!"},{"$error":"#VALUE!"},{"$error":"#VALUE!"},{"$error":"#VALUE!"},{"$f":"SUM(GC49:GC55)","v":{"$error":"#VALUE!"}},{"$f":"SUM(GD49:GD55)","v":{"$error":"#VALUE!"}},{"$error":"#VALUE!"},"Total",{"$f":"SUM(GG49:GG55)","v":0},{"$f":"SUM(GH49:GH55)","v":{"$error":"#VALUE!"}},{"$f":"SUM(GI49:GI55)","v":{"$error":"#VALUE!"}},{"$error":"#VALUE!"},{"$error":"#VALUE!"},{"$f":"SUM(GL49:GL55)","v":{"$error":"#VALUE!"}},{"$f":"SUM(GM49:GM55)","v":{"$error":"#VALUE!"}},{"$f":"SUM(GN49:GN55)","v":{"$error":"#VALUE!"}},{"$error":"#VALUE!"},{"$error":"#VALUE!"},{"$error":"#VALUE!"},{"$error":"#VALUE!"},{"$error":"#VALUE!"},{"$error":"#VALUE!"},{"$error":"#VALUE!"},{"$error":"#VALUE!"},{"$f":"SUM(GW49:GW55)","v":{"$error":"#VALUE!"}},{"$f":"SUM(GX49:GX55)","v":{"$error":"#VALUE!"}},{"$f":"SUM(GY49:GY55)","v":{"$error":"#VALUE!"}},{"$f":"SUM(GZ49:GZ55)","v":{"$error":"#VALUE!"}},{"$error":"#VALUE!"},{"$error":"#VALUE!"},{"$error":"#VALUE!"},{"$error":"#VALUE!"},{"$error":"#VALUE!"},{"$error":"#VALUE!"},{"$error":"#VALUE!"},{"$error":"#VALUE!"},{"$error":"#VALUE!"},{"$error":"#VALUE!"},{"$error":"#VALUE!"},{"$f":"SUM(HL49:HL55)","v":{"$error":"#VALUE!"}},{"$f":"SUM(HM49:HM55)","v":{"$error":"#VALUE!"}},{"$error":"#VALUE!"},"Total",{"$f":"SUM(HP49:HP55)","v":0},{"$f":"SUM(HQ49:HQ55)","v":{"$error":"#VALUE!"}},{"$f":"SUM(HR49:HR55)","v":{"$error":"#VALUE!"}},{"$error":"#VALUE!"},{"$error":"#VALUE!"},{"$f":"SUM(HU49:HU55)","v":{"$error":"#VALUE!"}},{"$f":"SUM(HV49:HV55)","v":{"$error":"#VALUE!"}},{"$error":"#VALUE!"},{"$error":"#VALUE!"},{"$error":"#VALUE!"},{"$error":"#VALUE!"},{"$error":"#VALUE!"},{"$error":"#VALUE!"},{"$error":"#VALUE!"},{"$error":"#VALUE!"},{"$error":"#VALUE!"},{"$f":"SUM(IF49:IF55)","v":{"$error":"#VALUE!"}},{"$f":"SUM(IG49:IG55)","v":{"$error":"#VALUE!"}},{"$f":"SUM(IH49:IH55)","v":{"$error":"#VALUE!"}},{"$f":"SUM(II49:II55)","v":{"$error":"#VALUE!"}},{"$error":"#VALUE!"},{"$error":"#VALUE!"},{"$error":"#VALUE!"},{"$error":"#VALUE!"},{"$error":"#VALUE!"},{"$error":"#VALUE!"},{"$error":"#VALUE!"},{"$error":"#VALUE!"},{"$error":"#VALUE!"},{"$error":"#VALUE!"},{"$error":"#VALUE!"},{"$f":"SUM(IU49:IU55)","v":{"$error":"#VALUE!"}},{"$f":"SUM(IV49:IV55)","v":{"$error":"#VALUE!"}},{"$error":"#VALUE!"},"Total",{"$f":"SUM(IY49:IY55)","v":0},{"$f":"SUM(IZ49:IZ55)","v":{"$error":"#VALUE!"}},{"$f":"SUM(JA49:JA55)","v":{"$error":"#VALUE!"}},{"$error":"#VALUE!"},{"$error":"#VALUE!"},{"$f":"SUM(JD49:JD55)","v":{"$error":"#VALUE!"}},{"$f":"SUM(JE49:JE55)","v":{"$error":"#VALUE!"}},{"$error":"#VALUE!"},{"$error":"#VALUE!"},{"$error":"#VALUE!"},{"$error":"#VALUE!"},{"$error":"#VALUE!"},{"$error":"#VALUE!"},{"$error":"#VALUE!"},{"$error":"#VALUE!"},{"$error":"#VALUE!"},{"$f":"SUM(JO49:JO55)","v":{"$error":"#VALUE!"}},{"$f":"SUM(JP49:JP55)","v":{"$error":"#VALUE!"}},{"$f":"SUM(JQ49:JQ55)","v":{"$error":"#VALUE!"}},{"$f":"SUM(JR49:JR55)","v":{"$error":"#VALUE!"}},{"$error":"#VALUE!"},{"$error":"#VALUE!"},{"$error":"#VALUE!"},{"$error":"#VALUE!"},{"$error":"#VALUE!"},{"$error":"#VALUE!"},{"$error":"#VALUE!"},{"$error":"#VALUE!"},{"$error":"#VALUE!"},{"$error":"#VALUE!"},{"$error":"#VALUE!"},{"$f":"SUM(KD49:KD55)","v":{"$error":"#VALUE!"}},{"$f":"SUM(KE49:KE55)","v":{"$error":"#VALUE!"}},{"$error":"#VALUE!"},"Total",{"$f":"SUM(KH49:KH55)","v":0},{"$f":"SUM(KI49:KI55)","v":{"$error":"#VALUE!"}},{"$f":"SUM(KJ49:KJ55)","v":{"$error":"#VALUE!"}},{"$error":"#VALUE!"},{"$error":"#VALUE!"},{"$f":"SUM(KM49:KM55)","v":{"$error":"#VALUE!"}},{"$f":"SUM(KN49:KN55)","v":{"$error":"#VALUE!"}},{"$error":"#VALUE!"},{"$error":"#VALUE!"},{"$error":"#VALUE!"},{"$error":"#VALUE!"},{"$error":"#VALUE!"},{"$error":"#VALUE!"},{"$error":"#VALUE!"},{"$error":"#VALUE!"},{"$error":"#VALUE!"},{"$f":"SUM(KX49:KX55)","v":{"$error":"#VALUE!"}},{"$f":"SUM(KY49:KY55)","v":{"$error":"#VALUE!"}},{"$f":"SUM(KZ49:KZ55)","v":{"$error":"#VALUE!"}},{"$f":"SUM(LA49:LA55)","v":{"$error":"#VALUE!"}},{"$error":"#VALUE!"},{"$error":"#VALUE!"},{"$error":"#VALUE!"},{"$error":"#VALUE!"},{"$error":"#VALUE!"},{"$error":"#VALUE!"},{"$error":"#VALUE!"},{"$error":"#VALUE!"},{"$error":"#VALUE!"},{"$error":"#VALUE!"},{"$error":"#VALUE!"},{"$f":"SUM(LM49:LM55)","v":{"$error":"#VALUE!"}},{"$f":"SUM(LN49:LN55)","v":{"$error":"#VALUE!"}},{"$error":"#VALUE!"},"Total",{"$f":"SUM(LQ49:LQ55)","v":0},{"$f":"SUM(LR49:LR55)","v":{"$error":"#VALUE!"}},{"$f":"SUM(LS49:LS55)","v":{"$error":"#VALUE!"}},{"$error":"#VALUE!"},{"$error":"#VALUE!"},{"$f":"SUM(LV49:LV55)","v":{"$error":"#VALUE!"}},{"$f":"SUM(LW49:LW55)","v":{"$error":"#VALUE!"}},{"$error":"#VALUE!"},{"$error":"#VALUE!"},{"$error":"#VALUE!"},{"$error":"#VALUE!"},{"$error":"#VALUE!"},{"$error":"#VALUE!"},{"$error":"#VALUE!"},{"$error":"#VALUE!"},{"$f":"SUM(MF49:MF55)","v":{"$error":"#VALUE!"}},{"$f":"SUM(MG49:MG55)","v":{"$error":"#VALUE!"}},{"$f":"SUM(MH49:MH55)","v":{"$error":"#VALUE!"}},{"$f":"SUM(MI49:MI55)","v":{"$error":"#VALUE!"}},{"$f":"SUM(MJ49:MJ55)","v":{"$error":"#VALUE!"}},{"$error":"#VALUE!"},{"$error":"#VALUE!"},{"$error":"#VALUE!"},{"$error":"#VALUE!"},{"$error":"#VALUE!"},{"$error":"#VALUE!"},{"$error":"#VALUE!"},{"$error":"#VALUE!"},{"$error":"#VALUE!"},{"$error":"#VALUE!"},{"$error":"#VALUE!"},{"$f":"SUM(MV49:MV55)","v":{"$error":"#VALUE!"}},{"$f":"SUM(MW49:MW55)","v":{"$error":"#VALUE!"}},{"$error":"#VALUE!"}]
[null,{"$f":"B49+1","v":4},{"$f":"'Regional Project List Sheet'!F8","v":0},{"$f":"IF('Regional Project List Sheet'!$G8=\"New\",1,\"\")","v":""},{"$f":"IF('Regional Project List Sheet'!$G8=\"Funded Old\",1,\"\")","v":""},{"$f":"IF('Regional Project List Sheet'!$G8=\"Unfunded Old\",1,\"\")","v":""},{"$f":"'Regional Project List Sheet'!H8","v":0},{"$f":"'Regional Project List Sheet'!I8","v":0},{"$f":"'Regional Project List Sheet'!L8","v":0},{"$f":"'Regional Project List Sheet'!M8","v":0},{"$f":"'Regional Project List Sheet'!N8","v":0},{"$f":"'Regional Project List Sheet'!O8","v":0},{"$f":"'Regional Project List Sheet'!P8","v":0},{"$f":"IF('Regional Project List Sheet'!$Q8=\"N/A\",\"N/A\",IF($Y60<>0,5,IF($Z60<>0,4,IF($AA60<>0,3,IF($AB60<>0,2,1)))))","v":1},{"$f":"VLOOKUP($C57,'[2]Ranking|Priority'!$B$5:$O$40,12,FALSE)","v":{"$error":"#N/A"}},{"$f":"VLOOKUP($C57,'[2]Ranking|Priority'!$B$5:$O$68,13,FALSE)","v":{"$error":"#N/A"}},{"$f":"VLOOKUP($C57,'[2]Ranking|Priority'!$B$5:$O$68,14,FALSE)","v":{"$error":"#N/A"}},{"$f":"'Regional Project List Sheet'!T8","v":0},{"$f":"'Regional Project List Sheet'!U8","v":0},{"$f":"'Regional Project List Sheet'!V8","v":0},{"$f":"'Regional Project List Sheet'!W8","v":0},{"$f":"'Regional Project List Sheet'!X8","v":0},{"$f":"'Regional Project List Sheet'!Y8","v":"Choose from Project List in cell I2"},0,null,null,null,null,null,null,null,{"$f":"'Regional Project List Sheet'!AJ8","v":0},{"$f":"IF(OR('Regional Project List Sheet'!$AA8<>'Regional Project List Sheet'!$A$40,'Regional Project List Sheet'!$AD8<>'Regional Project List Sheet'!$A$40,'Regional Project List Sheet'!$AG8<>'Regional Project List Sheet'!$A$40),_xlfn.CONCAT(IF(ISNUMBER('Regional Project List Sheet'!$AA8),'Regional Project List Sheet'!$A$36,\"\"),\" \",IF(ISNUMBER('Regional Project List Sheet'!$AD8),'Regional Project List Sheet'!$A$37,\"\"),\" \",IF(ISNUMBER('Regional Project List Sheet'!$AG8),'Regional Project List Sheet'!$A$38,\"\")),\"N/A\")","v":"N/A"},"N/A",{"$f":"IF(OR('Regional Project List Sheet'!AC8<>'Regional Project List Sheet'!$A$40,'Regional Project List Sheet'!AF8<>'Regional Project List Sheet'!$A$40,'Regional Project List Sheet'!AI8<>'Regional Project List Sheet'!$A$40),\n\nIF(LEN(_xlfn.CONCAT(IF('Regional Project List Sheet'!AC8=\"Yes\",'Regional Project List Sheet'!$A$36,\"\"),\" \",\n\nIF('Regional Project List Sheet'!AF8=\"Yes\",'Regional Project List Sheet'!$A$37,\"\"),\" \",\n\nIF('Regional Project List Sheet'!AI8=\"Yes\",'Regional Project List Sheet'!$A$38,\"\")))<3,\"No\",\n\n_xlfn.CONCAT(IF('Regional Project List Sheet'!AC8=\"Yes\",'Regional Project List Sheet'!$A$36,\"\"),\" \",\n\nIF('Regional Project List Sheet'!AF8=\"Yes\",'Regional Project List Sheet'!$A$37,\"\"),\" \",\n\nIF('Regional Project List Sheet'!AI8=\"Yes\",'Regional Project List Sheet'!$A$38,\"\"))))","v":false},false,{"$f":"'Regional Project List Sheet'!AK8","v":0},null,{"$f":"'Regional Project List Sheet'!AL8","v":0},null,0,null,null,null,null,null,null,null,null,null,null,1,{"$f":"IF(AND(BB57=\"OK\",BC57=\"OK\",BD57=\"OK\"),\"OK\",\"ERR!\")","v":"OK"},{"$f":"IF(AND(Y57>0,SUM(BN57:BX57)<1),\"ERR!\",IF(AND(Z57>0,SUM(BY57:CI57)<1),\"ERR!\",IF(AND(AA57>0,SUM(CJ57:CT57)<1),\"ERR\",IF(AND(AB57>0,SUM(CU57:DE57)<1),\"ERR\",IF(AND(AC57>0,SUM(DF57:DP57)<1),\"ERR\",IF(AND(AD57>0,SUM(DQ57:EA57)<1),\"ERR\",\"OK\"))))))","v":"OK"},{"$f":"IF(OR(SUM(BN57:BX57)<>1,SUM(BY57:CI57)<>1,SUM(CJ57:CT57)<>1,SUM(CU57:DE57)<>1,SUM(DF57:DP57)<>1,SUM(DQ57:EA57)<>1),\"ERR!\",\"OK\")","v":"OK"},{"$f":"IF(AND(OR(BE57=BK57,BE57=0),OR(BF57=BK57,BF57=0),OR(BG57=BK57,BG57=0),OR(BH57=BK57,BH57=0),OR(BI57=BK57,BI57=0),OR(BJ57=BK57,BJ57=0)),\"OK\",\"ERR!\")","v":"OK"},{"$f":"(BN57*POWER(10,0)+BO57*POWER(10,1)+BP57*POWER(10,2)+BQ57*POWER(10,3)+BR57*POWER(10,4)+BS57*POWER(10,5)+BT57*POWER(10,6)+BU57*POWER(10,7)+BV57*POWER(10,8)+BW57*POWER(10,9)+BX57*POWER(10,10))","v":100},{"$f":"(BY57*POWER(10,0)+BZ57*POWER(10,1)+CA57*POWER(10,2)+CB57*POWER(10,3)+CC57*POWER(10,4)+CD57*POWER(10,5)+CE57*POWER(10,6)+CF57*POWER(10,7)+CG57*POWER(10,8)+CH57*POWER(10,9)+CI57*POWER(10,10))","v":100},{"$f":"(CJ57*POWER(10,0)+CK57*POWER(10,1)+CL57*POWER(10,2)+CM57*POWER(10,3)+CN57*POWER(10,4)+CO57*POWER(10,5)+CP57*POWER(10,6)+CQ57*POWER(10,7)+CR57*POWER(10,8)+CS57*POWER(10,9)+CT57*POWER(10,10))","v":100},{"$f":"(CU57*POWER(10,0)+CV57*POWER(10,1)+CW57*POWER(10,2)+CX57*POWER(10,3)+CY57*POWER(10,4)+CZ57*POWER(10,5)+DA57*POWER(10,6)+DB57*POWER(10,7)+DC57*POWER(10,8)+DD57*POWER(10,9)+DE57*POWER(10,10))","v":100},{"$f":"(DF57*POWER(10,0)+DG57*POWER(10,1)+DH57*POWER(10,2)+DI57*POWER(10,3)+DJ57*POWER(10,4)+DK57*POWER(10,5)+DL57*POWER(10,6)+DM57*POWER(10,7)+DN57*POWER(10,8)+DO57*POWER(10,9)+DP57*POWER(10,10))","v":100},{"$f":"(DQ57*POWER(10,0)+DR57*POWER(10,1)+DS57*POWER(10,2)+DT57*POWER(10,3)+DU57*POWER(10,4)+DV57*POWER(10,5)+DW57*POWER(10,6)+DX57*POWER(10,7)+DY57*POWER(10,8)+DZ57*POWER(10,9)+EA57*POWER(10,10))","v":100},{"$f":"MAX(BE57:BJ57)","v":100},null,0,null,null,1,null,null,null,null,null,null,null,null,null,null,1,null,null,null,null,null,null,null,null,null,null,1,null,null,null,null,null,null,null,null,null,null,1,null,null,null,null,null,null,null,null,null,null,1,null,null,null,null,null,null,null,null,null,null,1,null,null,null,null,null,null,null,null,null,0,{"$f":"($Y57*D$57)/1000","v":{"$error":"#VALUE!"}},{"$error":"#VALUE!"},{"$error":"#VALUE!"},{"$f":"($Z57*D$57)/1000","v":{"$error":"#VALUE!"}},{"$error":"#VALUE!"},{"$error":"#VALUE!"},{"$f":"($AA57*D$57)/1000","v":{"$error":"#VALUE!"}},{"$error":"#VALUE!"},{"$error":"#VALUE!"},{"$f":"($AB57*D$57)/1000","v":{"$error":"#VALUE!"}},{"$error":"#VALUE!"},{"$error":"#VALUE!"},{"$f":"($AC57*D$57)/1000","v":{"$error":"#VALUE!"}},{"$error":"#VALUE!"},{"$error":"#VALUE!"},{"$f":"($AD57*D$57)/1000","v":{"$error":"#VALUE!"}},{"$error":"#VALUE!"},{"$error":"#VALUE!"},null,0,{"$f":"$AZ$57*$Y57","v":0},{"$f":"($AZ$57*$BN57*D$57*$Y57)/1000","v":{"$error":"#VALUE!"}},{"$error":"#VALUE!"},{"$error":"#VALUE!"},{"$f":"($AZ$57*$BO57*D$57*$Y57)/1000","v":{"$error":"#VALUE!"}},{"$error":"#VALUE!"},{"$error":"#VALUE!"},{"$f":"($AZ$57*$BP57*D$57*$Y57)/1000","v":{"$error":"#VALUE!"}},{"$error":"#VALUE!"},{"$error":"#VALUE!"},{"$f":"($AZ$57*$BQ57*D$57*$Y57)/1000","v":{"$error":"#VALUE!"}},{"$error":"#VALUE!"},{"$error":"#VALUE!"},{"$f":"($AZ$57*$BR57*D$57*$Y57)/1000","v":{"$error":"#VALUE!"}},{"$error":"#VALUE!"},{"$error":"#VALUE!"},{"$f":"($AZ$57*$BS57*D$57*$Y57)/1000","v":{"$error":"#VALUE!"}},{"$error":"#VALUE!"},{"$error":"#VALUE!"},{"$f":"($AZ$57*$BT57*D$57*$Y57)/1000","v":{"$error":"#VALUE!"}},{"$error":"#VALUE!"},{"$error":"#VALUE!"},{"$f":"($AZ$57*$BU57*D$57*$Y57)/1000","v":{"$error":"#VALUE!"}},{"$error":"#VALUE!"},{"$error":"#VALUE!"},{"$f":"($AZ$57*$BV57*D$57*$Y57)/1000","v":{"$error":"#VALUE!"}},{"$error":"#VALUE!"},{"$error":"#VALUE!"},{"$f":"($AZ$57*$BW57*D$57*$Y57)/1000","v":{"$error":"#VALUE!"}},{"$error":"#VALUE!"},{"$error":"#VALUE!"},{"$f":"($AZ$57*$BX57*D$57*$Y57)/1000","v":{"$error":"#VALUE!"}},{"$error":"#VALUE!"},{"$error":"#VALUE!"},0,{"$f":"$AZ$57*$Z57","v":0},{"$f":"($AZ$57*$BY57*D$57*$Z57)/1000","v":{"$error":"#VALUE!"}},{"$error":"#VALUE!"},{"$error":"#VALUE!"},{"$f":"($AZ$57*$BZ57*D$57*$Z57)/1000","v":{"$error":"#VALUE!"}},{"$error":"#VALUE!"},{"$error":"#VALUE!"},{"$f":"($AZ$57*$CA57*D$57*$Z57)/1000","v":{"$error":"#VALUE!"}},{"$error":"#VALUE!"},{"$error":"#VALUE!"},{"$f":"($AZ$57*$CB57*D$57*$Z57)/1000","v":{"$error":"#VALUE!"}},{"$error":"#VALUE!"},{"$error":"#VALUE!"},{"$f":"($AZ$57*$CD57*D$57*$Z57)/1000","v":{"$error":"#VALUE!"}},{"$error":"#VALUE!"},{"$error":"#VALUE!"},{"$f":"($AZ$57*$CD57*D$57*$Z57)/1000","v":{"$error":"#VALUE!"}},{"$error":"#VALUE!"},{"$error":"#VALUE!"},{"$f":"($AZ$57*$CE57*D$57*$Z57)/1000","v":{"$error":"#VALUE!"}},{"$error":"#VALUE!"},{"$error":"#VALUE!"},{"$f":"($AZ$57*$CF57*D$57*$Z57)/1000","v":{"$error":"#VALUE!"}},{"$error":"#VALUE!"},{"$error":"#VALUE!"},{"$f":"($AZ$57*$CG57*D$57*$Z57)/1000","v":{"$error":"#VALUE!"}},{"$error":"#VALUE!"},{"$error":"#VALUE!"},{"$f":"($AZ$57*$CH57*D$57*$Z57)/1000","v":{"$error":"#VALUE!"}},{"$error":"#VALUE!"},{"$error":"#VALUE!"},{"$f":"($AZ$57*$CI57*D$57*$Z57)/1000","v":{"$error":"#VALUE!"}},{"$error":"#VALUE!"},{"$error":"#VALUE!"},0,{"$f":"$AZ$57*$AA57","v":0},{"$f":"($AZ$57*$CJ57*D$57*$AA57)/1000","v":{"$error":"#VALUE!"}},{"$error":"#VALUE!"},{"$error":"#VALUE!"},{"$f":"($AZ$57*$CK57*D$57*$AA57)/1000","v":{"$error":"#VALUE!"}},{"$error":"#VALUE!"},{"$error":"#VALUE!"},{"$f":"($AZ$57*$CL57*D$57*$AA57)/1000","v":{"$error":"#VALUE!"}},{"$error":"#VALUE!"},{"$error":"#VALUE!"},{"$f":"($AZ$57*$CM57*D$57*$AA57)/1000","v":{"$error":"#VALUE!"}},{"$error":"#VALUE!"},{"$error":"#VALUE!"},{"$f":"($AZ$57*$CN57*D$57*$AA57)/1000","v":{"$error":"#VALUE!"}},{"$error":"#VALUE!"},{"$error":"#VALUE!"},{"$f":"($AZ$57*$CO57*D$57*$AA57)/1000","v":{"$error":"#VALUE!"}},{"$error":"#VALUE!"},{"$error":"#VALUE!"},{"$f":"($AZ$57*$CP57*D$57*$AA57)/1000","v":{"$error":"#VALUE!"}},{"$error":"#VALUE!"},{"$error":"#VALUE!"},{"$f":"($AZ$57*$CQ57*D$57*$AA57)/1000","v":{"$error":"#VALUE!"}},{"$error":"#VALUE!"},{"$error":"#VALUE!"},{"$f":"($AZ$57*$CR57*D$57*$AA57)/1000","v":{"$error":"#VALUE!"}},{"$error":"#VALUE!"},{"$error":"#VALUE!"},{"$f":"($AZ$57*$CS57*D$57*$AA57)/1000","v":{"$error":"#VALUE!"}},{"$error":"#VALUE!"},{"$error":"#VALUE!"},{"$f":"($AZ$57*$CT57*D$57*$AA57)/1000","v":{"$error":"#VALUE!"}},{"$error":"#VALUE!"},{"$error":"#VALUE!"},0,{"$f":"$AZ$57*$AB57","v":0},{"$f":"($AZ$57*$CU57*D$57*$AB57)/1000","v":{"$error":"#VALUE!"}},{"$error":"#VALUE!"},{"$error":"#VALUE!"},{"$f":"($AZ$57*$CV57*D$57*$AB57)/1000","v":{"$error":"#VALUE!"}},{"$error":"#VALUE!"},{"$error":"#VALUE!"},{"$f":"($AZ$57*$CW57*D$57*$AB57)/1000","v":{"$error":"#VALUE!"}},{"$error":"#VALUE!"},{"$error":"#VALUE!"},{"$f":"($AZ$57*$CX57*D$57*$AB57)/1000","v":{"$error":"#VALUE!"}},{"$error":"#VALUE!"},{"$error":"#VALUE!"},{"$f":"($AZ$57*$CY57*D$57*$AB57)/1000","v":{"$error":"#VALUE!"}},{"$error":"#VALUE!"},{"$error":"#VALUE!"},{"$f":"($AZ$57*$CZ57*D$57*$AB57)/1000","v":{"$error":"#VALUE!"}},{"$error":"#VALUE!"},{"$error":"#VALUE!"},{"$f":"($AZ$57*$DA57*D$57*$AB57)/1000","v":{"$error":"#VALUE!"}},{"$error":"#VALUE!"},{"$error":"#VALUE!"},{"$f":"($AZ$57*$DB57*D$57*$AB57)/1000","v":{"$error":"#VALUE!"}},{"$error":"#VALUE!"},{"$error":"#VALUE!"},{"$f":"($AZ$57*$DC57*D$57*$AB57)/1000","v":{"$error":"#VALUE!"}},{"$error":"#VALUE!"},{"$error":"#VALUE!"},{"$f":"($AZ$57*$DD57*D$57*$AB57)/1000","v":{"$error":"#VALUE!"}},{"$error":"#VALUE!"},{"$error":"#VALUE!"},{"$f":"($AZ$57*$DE57*D$57*$AB57)/1000","v":{"$error":"#VALUE!"}},{"$error":"#VALUE!"},{"$error":"#VALUE!"},0,{"$f":"$AZ$57*$AC57","v":0},{"$f":"($AZ$57*$DF57*D$57*$AC57)/1000","v":{"$error":"#VALUE!"}},{"$error":"#VALUE!"},{"$error":"#VALUE!"},{"$f":"($AZ$57*$DG57*D$57*$AC57)/1000","v":{"$error":"#VALUE!"}},{"$error":"#VALUE!"},{"$error":"#VALUE!"},{"$f":"($AZ$57*$DH57*D$57*$AC57)/1000","v":{"$error":"#VALUE!"}},{"$error":"#VALUE!"},{"$error":"#VALUE!"},{"$f":"($AZ$57*$DI57*D$57*$AC57)/1000","v":{"$error":"#VALUE!"}},{"$error":"#VALUE!"},{"$error":"#VALUE!"},{"$f":"($AZ$57*$DJ57*D$57*$AC57)/1000","v":{"$error":"#VALUE!"}},{"$error":"#VALUE!"},{"$error":"#VALUE!"},{"$f":"($AZ$57*$DK57*D$57*$AC57)/1000","v":{"$error":"#VALUE!"}},{"$error":"#VALUE!"},{"$error":"#VALUE!"},{"$f":"($AZ$57*$DL57*D$57*$AC57)/1000","v":{"$error":"#VALUE!"}},{"$error":"#VALUE!"},{"$error":"#VALUE!"},{"$f":"($AZ$57*$DM57*D$57*$AC57)/1000","v":{"$error":"#VALUE!"}},{"$error":"#VALUE!"},{"$error":"#VALUE!"},{"$f":"($AZ$57*$DN57*D$57*$AC57)/1000","v":{"$error":"#VALUE!"}},{"$error":"#VALUE!"},{"$error":"#VALUE!"},{"$f":"($AZ$57*$DO57*D$57*$AC57)/1000","v":{"$error":"#VALUE!"}},{"$error":"#VALUE!"},{"$error":"#VALUE!"},{"$f":"($AZ$57*$DP57*D$57*$AC57)/1000","v":{"$error":"#VALUE!"}},{"$error":"#VALUE!"},{"$error":"#VALUE!"},0,{"$f":"$AZ$57*$AD57","v":0},{"$f":"($AZ$57*$DQ57*D$57*$AD57)/1000","v":{"$error":"#VALUE!"}},{"$error":"#VALUE!"},{"$error":"#VALUE!"},{"$f":"($AZ$57*$DR57*D$57*$AD57)/1000","v":{"$error":"#VALUE!"}},{"$error":"#VALUE!"},{"$error":"#VALUE!"},{"$f":"($AZ$57*$DS57*D$57*$AD57)/1000","v":{"$error":"#VALUE!"}},{"$error":"#VALUE!"},{"$error":"#VALUE!"},{"$f":"($AZ$57*$DT57*D$57*$AD57)/1000","v":{"$error":"#VALUE!"}},{"$error":"#VALUE!"},{"$error":"#VALUE!"},{"$f":"($AZ$57*$DU57*D$57*$AD57)/1000","v":{"$error":"#VALUE!"}},{"$error":"#VALUE!"},{"$error":"#VALUE!"},{"$f":"($AZ$57*$DV57*D$57*$AD57)/1000","v":{"$error":"#VALUE!"}},{"$error":"#VALUE!"},{"$error":"#VALUE!"},{"$f":"($AZ$57*$DW57*D$57*$AD57)/1000","v":{"$error":"#VALUE!"}},{"$error":"#VALUE!"},{"$error":"#VALUE!"},{"$f":"($AZ$57*$DX57*D$57*$AD57)/1000","v":{"$error":"#VALUE!"}},{"$error":"#VALUE!"},{"$error":"#VALUE!"},{"$f":"($AZ$57*$DY57*D$57*$AD57)/1000","v":{"$error":"#VALUE!"}},{"$error":"#VALUE!"},{"$error":"#VALUE!"},{"$f":"($AZ$57*$DZ57*D$57*$AD57)/1000","v":{"$error":"#VALUE!"}},{"$error":"#VALUE!"},{"$error":"#VALUE!"},{"$f":"($AZ$57*$EA57*D$57*$AD57)/1000","v":{"$error":"#VALUE!"}},{"$error":"#VALUE!"},{"$error":"#VALUE!"}]
[null,null,null,null,null,null,null,null,null,null,null,null,null,null,null,null,null,null,null,null,null,null,null,2,null,null,null,null,null,null,null,null,null,"N/A",null,false,null,null,null,null,2,null,null,null,null,null,null,null,null,null,null,null,{"$f":"IF(AND(BB58=\"OK\",BC58=\"OK\",BD58=\"OK\"),\"OK\",\"ERR!\")","v":"OK"},"OK",{"$f":"IF(OR(SUM(BN58:BX58)<>1,SUM(BY58:CI58)<>1,SUM(CJ58:CT58)<>1,SUM(CU58:DE58)<>1,SUM(DF58:DP58)<>1,SUM(DQ58:EA58)<>1),\"ERR!\",\"OK\")","v":"OK"},{"$f":"IF(AND(OR(BE58=BK58,BE58=0),OR(BF58=BK58,BF58=0),OR(BG58=BK58,BG58=0),OR(BH58=BK58,BH58=0),OR(BI58=BK58,BI58=0),OR(BJ58=BK58,BJ58=0)),\"OK\",\"ERR!\")","v":"OK"},{"$f":"(BN58*POWER(10,0)+BO58*POWER(10,1)+BP58*POWER(10,2)+BQ58*POWER(10,3)+BR58*POWER(10,4)+BS58*POWER(10,5)+BT58*POWER(10,6)+BU58*POWER(10,7)+BV58*POWER(10,8)+BW58*POWER(10,9)+BX58*POWER(10,10))","v":1000},{"$f":"(BY58*POWER(10,0)+BZ58*POWER(10,1)+CA58*POWER(10,2)+CB58*POWER(10,3)+CC58*POWER(10,4)+CD58*POWER(10,5)+CE58*POWER(10,6)+CF58*POWER(10,7)+CG58*POWER(10,8)+CH58*POWER(10,9)+CI58*POWER(10,10))","v":1000},{"$f":"(CJ58*POWER(10,0)+CK58*POWER(10,1)+CL58*POWER(10,2)+CM58*POWER(10,3)+CN58*POWER(10,4)+CO58*POWER(10,5)+CP58*POWER(10,6)+CQ58*POWER(10,7)+CR58*POWER(10,8)+CS58*POWER(10,9)+CT58*POWER(10,10))","v":1000},{"$f":"(CU58*POWER(10,0)+CV58*POWER(10,1)+CW58*POWER(10,2)+CX58*POWER(10,3)+CY58*POWER(10,4)+CZ58*POWER(10,5)+DA58*POWER(10,6)+DB58*POWER(10,7)+DC58*POWER(10,8)+DD58*POWER(10,9)+DE58*POWER(10,10))","v":1000},{"$f":"(DF58*POWER(10,0)+DG58*POWER(10,1)+DH58*POWER(10,2)+DI58*POWER(10,3)+DJ58*POWER(10,4)+DK58*POWER(10,5)+DL58*POWER(10,6)+DM58*POWER(10,7)+DN58*POWER(10,8)+DO58*POWER(10,9)+DP58*POWER(10,10))","v":1000},{"$f":"(DQ58*POWER(10,0)+DR58*POWER(10,1)+DS58*POWER(10,2)+DT58*POWER(10,3)+DU58*POWER(10,4)+DV58*POWER(10,5)+DW58*POWER(10,6)+DX58*POWER(10,7)+DY58*POWER(10,8)+DZ58*POWER(10,9)+EA58*POWER(10,10))","v":1000},{"$f":"MAX(BE58:BJ58)","v":1000},null,2,null,null,null,1,null,null,null,null,null,null,null,null,null,null,1,null,null,null,null,null,null,null,null,null,null,1,null,null,null,null,null,null,null,null,null,null,1,null,null,null,null,null,null,null,null,null,null,1,null,null,null,null,null,null,null,null,null,null,1,null,null,null,null,null,null,null,null,2,{"$error":"#VALUE!"},{"$error":"#VALUE!"},{"$error":"#VALUE!"},{"$error":"#VALUE!"},{"$error":"#VALUE!"},{"$error":"#VALUE!"},{"$error":"#VALUE!"},{"$error":"#VALUE!"},{"$error":"#VALUE!"},{"$error":"#VALUE!"},{"$error":"#VALUE!"},{"$error":"#VALUE!"},{"$error":"#VALUE!"},{"$error":"#VALUE!"},{"$error":"#VALUE!"},{"$error":"#VALUE!"},{"$error":"#VALUE!"},{"$error":"#VALUE!"},null,2,0,{"$error":"#VALUE!"},{"$error":"#VALUE!"},{"$error":"#VALUE!"},{"$error":"#VALUE!"},{"$error":"#VALUE!"},{"$error":"#VALUE!"},{"$error":"#VALUE!"},{"$error":"#VALUE!"},{"$error":"#VALUE!"},{"$error":"#VALUE!"},{"$error":"#VALUE!"},{"$error":"#VALUE!"},{"$error":"#VALUE!"},{"$error":"#VALUE!"},{"$error":"#VALUE!"},{"$error":"#VALUE!"},{"$error":"#VALUE!"},{"$error":"#VALUE!"},{"$error":"#VALUE!"},{"$error":"#VALUE!"},{"$error":"#VALUE!"},{"$error":"#VALUE!"},{"$error":"#VALUE!"},{"$error":"#VALUE!"},{"$error":"#VALUE!"},{"$error":"#VALUE!"},{"$error":"#VALUE!"},{"$error":"#VALUE!"},{"$error":"#VALUE!"},{"$error":"#VALUE!"},{"$error":"#VALUE!"},{"$error":"#VALUE!"},{"$error":"#VALUE!"},2,0,{"$error":"#VALUE!"},{"$error":"#VALUE!"},{"$error":"#VALUE!"},{"$error":"#VALUE!"},{"$error":"#VALUE!"},{"$error":"#VALUE!"},{"$error":"#VALUE!"},{"$error":"#VALUE!"},{"$error":"#VALUE!"},{"$error":"#VALUE!"},{"$error":"#VALUE!"},{"$error":"#VALUE!"},{"$error":"#VALUE!"},{"$error":"#VALUE!"},{"$error":"#VALUE!"},{"$error":"#VALUE!"},{"$error":"#VALUE!"},{"$error":"#VALUE!"},{"$error":"#VALUE!"},{"$error":"#VALUE!"},{"$error":"#VALUE!"},{"$error":"#VALUE!"},{"$error":"#VALUE!"},{"$error":"#VALUE!"},{"$error":"#VALUE!"},{"$error":"#VALUE!"},{"$error":"#VALUE!"},{"$error":"#VALUE!"},{"$error":"#VALUE!"},{"$error":"#VALUE!"},{"$error":"#VALUE!"},{"$error":"#VALUE!"},{"$error":"#VALUE!"},2,0,{"$error":"#VALUE!"},{"$error":"#VALUE!"},{"$error":"#VALUE!"},{"$error":"#VALUE!"},{"$error":"#VALUE!"},{"$error":"#VALUE!"},{"$error":"#VALUE!"},{"$error":"#VALUE!"},{"$error":"#VALUE!"},{"$error":"#VALUE!"},{"$error":"#VALUE!"},{"$error":"#VALUE!"},{"$error":"#VALUE!"},{"$error":"#VALUE!"},{"$error":"#VALUE!"},{"$error":"#VALUE!"},{"$error":"#VALUE!"},{"$error":"#VALUE!"},{"$error":"#VALUE!"},{"$error":"#VALUE!"},{"$error":"#VALUE!"},{"$error":"#VALUE!"},{"$error":"#VALUE!"},{"$error":"#VALUE!"},{"$error":"#VALUE!"},{"$error":"#VALUE!"},{"$error":"#VALUE!"},{"$error":"#VALUE!"},{"$error":"#VALUE!"},{"$error":"#VALUE!"},{"$error":"#VALUE!"},{"$error":"#VALUE!"},{"$error":"#VALUE!"},2,0,{"$error":"#VALUE!"},{"$error":"#VALUE!"},{"$error":"#VALUE!"},{"$error":"#VALUE!"},{"$error":"#VALUE!"},{"$error":"#VALUE!"},{"$error":"#VALUE!"},{"$error":"#VALUE!"},{"$error":"#VALUE!"},{"$error":"#VALUE!"},{"$error":"#VALUE!"},{"$error":"#VALUE!"},{"$error":"#VALUE!"},{"$error":"#VALUE!"},{"$error":"#VALUE!"},{"$error":"#VALUE!"},{"$error":"#VALUE!"},{"$error":"#VALUE!"},{"$error":"#VALUE!"},{"$error":"#VALUE!"},{"$error":"#VALUE!"},{"$error":"#VALUE!"},{"$error":"#VALUE!"},{"$error":"#VALUE!"},{"$error":"#VALUE!"},{"$error":"#VALUE!"},{"$error":"#VALUE!"},{"$error":"#VALUE!"},{"$error":"#VALUE!"},{"$error":"#VALUE!"},{"$error":"#VALUE!"},{"$error":"#VALUE!"},{"$error":"#VALUE!"},2,0,{"$error":"#VALUE!"},{"$error":"#VALUE!"},{"$error":"#VALUE!"},{"$error":"#VALUE!"},{"$error":"#VALUE!"},{"$error":"#VALUE!"},{"$error":"#VALUE!"},{"$error":"#VALUE!"},{"$error":"#VALUE!"},{"$error":"#VALUE!"},{"$error":"#VALUE!"},{"$error":"#VALUE!"},{"$error":"#VALUE!"},{"$error":"#VALUE!"},{"$error":"#VALUE!"},{"$error":"#VALUE!"},{"$error":"#VALUE!"},{"$error":"#VALUE!"},{"$error":"#VALUE!"},{"$error":"#VALUE!"},{"$error":"#VALUE!"},{"$error":"#VALUE!"},{"$error":"#VALUE!"},{"$error":"#VALUE!"},{"$error":"#VALUE!"},{"$error":"#VALUE!"},{"$error":"#VALUE!"},{"$error":"#VALUE!"},{"$error":"#VALUE!"},{"$error":"#VALUE!"},{"$error":"#VALUE!"},{"$error":"#VALUE!"},{"$error":"#VALUE!"},2,0,{"$error":"#VALUE!"},{"$error":"#VALUE!"},{"$error":"#VALUE!"},{"$error":"#VALUE!"},{"$error":"#VALUE!"},{"$error":"#VALUE!"},{"$error":"#VALUE!"},{"$error":"#VALUE!"},{"$error":"#VALUE!"},{"$error":"#VALUE!"},{"$error":"#VALUE!"},{"$error":"#VALUE!"},{"$error":"#VALUE!"},{"$error":"#VALUE!"},{"$error":"#VALUE!"},{"$error":"#VALUE!"},{"$error":"#VALUE!"},{"$error":"#VALUE!"},{"$error":"#VALUE!"},{"$error":"#VALUE!"},{"$error":"#VALUE!"},{"$error":"#VALUE!"},{"$error":"#VALUE!"},{"$error":"#VALUE!"},{"$error":"#VALUE!"},{"$error":"#VALUE!"},{"$error":"#VALUE!"},{"$error":"#VALUE!"},{"$error":"#VALUE!"},{"$error":"#VALUE!"},{"$error":"#VALUE!"},{"$error":"#VALUE!"},{"$error":"#VALUE!"}]
[null,null,null,null,null,null,null,null,null,null,null,null,null,null,null,null,null,null,null,null,null,null,null,3,null,null,null,null,null,null,null,null,null,"N/A",null,false,null,null,null,null,3,null,null,null,null,null,null,null,null,null,null,null,{"$f":"IF(AND(BB59=\"OK\",BC59=\"OK\",BD59=\"OK\"),\"OK\",\"ERR!\")","v":"OK"},"OK",{"$f":"IF(OR(SUM(BN59:BX59)<>1,SUM(BY59:CI59)<>1,SUM(CJ59:CT59)<>1,SUM(CU59:DE59)<>1,SUM(DF59:DP59)<>1,SUM(DQ59:EA59)<>1),\"ERR!\",\"OK\")","v":"OK"},{"$f":"IF(AND(OR(BE59=BK59,BE59=0),OR(BF59=BK59,BF59=0),OR(BG59=BK59,BG59=0),OR(BH59=BK59,BH59=0),OR(BI59=BK59,BI59=0),OR(BJ59=BK59,BJ59=0)),\"OK\",\"ERR!\")","v":"OK"},100,100,100,100,100,100,{"$f":"MAX(BE59:BJ59)","v":100},null,3,null,null,1,null,null,null,null,null,null,null,null,null,null,1,null,null,null,null,null,null,null,null,null,null,1,null,null,null,null,null,null,null,null,null,null,1,null,null,null,null,null,null,null,null,null,null,1,null,null,null,null,null,null,null,null,null,null,1,null,null,null,null,null,null,null,null,null,3,{"$error":"#VALUE!"},{"$error":"#VALUE!"},{"$error":"#VALUE!"},{"$error":"#VALUE!"},{"$error":"#VALUE!"},{"$error":"#VALUE!"},{"$error":"#VALUE!"},{"$error":"#VALUE!"},{"$error":"#VALUE!"},{"$error":"#VALUE!"},{"$error":"#VALUE!"},{"$error":"#VALUE!"},{"$error":"#VALUE!"},{"$error":"#VALUE!"},{"$error":"#VALUE!"},{"$error":"#VALUE!"},{"$error":"#VALUE!"},{"$error":"#VALUE!"},null,3,0,{"$error":"#VALUE!"},{"$error":"#VALUE!"},{"$error":"#VALUE!"},{"$error":"#VALUE!"},{"$error":"#VALUE!"},{"$error":"#VALUE!"},{"$error":"#VALUE!"},{"$error":"#VALUE!"},{"$error":"#VALUE!"},{"$error":"#VALUE!"},{"$error":"#VALUE!"},{"$error":"#VALUE!"},{"$error":"#VALUE!"},{"$error":"#VALUE!"},{"$error":"#VALUE!"},{"$error":"#VALUE!"},{"$error":"#VALUE!"},{"$error":"#VALUE!"},{"$error":"#VALUE!"},{"$error":"#VALUE!"},{"$error":"#VALUE!"},{"$error":"#VALUE!"},{"$error":"#VALUE!"},{"$error":"#VALUE!"},{"$error":"#VALUE!"},{"$error":"#VALUE!"},{"$error":"#VALUE!"},{"$error":"#VALUE!"},{"$error":"#VALUE!"},{"$error":"#VALUE!"},{"$error":"#VALUE!"},{"$error":"#VALUE!"},{"$error":"#VALUE!"},3,0,{"$error":"#VALUE!"},{"$error":"#VALUE!"},{"$error":"#VALUE!"},{"$error":"#VALUE!"},{"$error":"#VALUE!"},{"$error":"#VALUE!"},{"$error":"#VALUE!"},{"$error":"#VALUE!"},{"$error":"#VALUE!"},{"$error":"#VALUE!"},{"$error":"#VALUE!"},{"$error":"#VALUE!"},{"$error":"#VALUE!"},{"$error":"#VALUE!"},{"$error":"#VALUE!"},{"$error":"#VALUE!"},{"$error":"#VALUE!"},{"$error":"#VALUE!"},{"$error":"#VALUE!"},{"$error":"#VALUE!"},{"$error":"#VALUE!"},{"$error":"#VALUE!"},{"$error":"#VALUE!"},{"$error":"#VALUE!"},{"$error":"#VALUE!"},{"$error":"#VALUE!"},{"$error":"#VALUE!"},{"$error":"#VALUE!"},{"$error":"#VALUE!"},{"$error":"#VALUE!"},{"$error":"#VALUE!"},{"$error":"#VALUE!"},{"$error":"#VALUE!"},3,0,{"$error":"#VALUE!"},{"$error":"#VALUE!"},{"$error":"#VALUE!"},{"$error":"#VALUE!"},{"$error":"#VALUE!"},{"$error":"#VALUE!"},{"$error":"#VALUE!"},{"$error":"#VALUE!"},{"$error":"#VALUE!"},{"$error":"#VALUE!"},{"$error":"#VALUE!"},{"$error":"#VALUE!"},{"$error":"#VALUE!"},{"$error":"#VALUE!"},{"$error":"#VALUE!"},{"$error":"#VALUE!"},{"$error":"#VALUE!"},{"$error":"#VALUE!"},{"$error":"#VALUE!"},{"$error":"#VALUE!"},{"$error":"#VALUE!"},{"$error":"#VALUE!"},{"$error":"#VALUE!"},{"$error":"#VALUE!"},{"$error":"#VALUE!"},{"$error":"#VALUE!"},{"$error":"#VALUE!"},{"$error":"#VALUE!"},{"$error":"#VALUE!"},{"$error":"#VALUE!"},{"$error":"#VALUE!"},{"$error":"#VALUE!"},{"$error":"#VALUE!"},3,0,{"$error":"#VALUE!"},{"$error":"#VALUE!"},{"$error":"#VALUE!"},{"$error":"#VALUE!"},{"$error":"#VALUE!"},{"$error":"#VALUE!"},{"$error":"#VALUE!"},{"$error":"#VALUE!"},{"$error":"#VALUE!"},{"$error":"#VALUE!"},{"$error":"#VALUE!"},{"$error":"#VALUE!"},{"$error":"#VALUE!"},{"$error":"#VALUE!"},{"$error":"#VALUE!"},{"$error":"#VALUE!"},{"$error":"#VALUE!"},{"$error":"#VALUE!"},{"$error":"#VALUE!"},{"$error":"#VALUE!"},{"$error":"#VALUE!"},{"$error":"#VALUE!"},{"$error":"#VALUE!"},{"$error":"#VALUE!"},{"$error":"#VALUE!"},{"$error":"#VALUE!"},{"$error":"#VALUE!"},{"$error":"#VALUE!"},{"$error":"#VALUE!"},{"$error":"#VALUE!"},{"$error":"#VALUE!"},{"$error":"#VALUE!"},{"$error":"#VALUE!"},3,0,{"$error":"#VALUE!"},{"$error":"#VALUE!"},{"$error":"#VALUE!"},{"$error":"#VALUE!"},{"$error":"#VALUE!"},{"$error":"#VALUE!"},{"$error":"#VALUE!"},{"$error":"#VALUE!"},{"$error":"#VALUE!"},{"$error":"#VALUE!"},{"$error":"#VALUE!"},{"$error":"#VALUE!"},{"$error":"#VALUE!"},{"$error":"#VALUE!"},{"$error":"#VALUE!"},{"$error":"#VALUE!"},{"$error":"#VALUE!"},{"$error":"#VALUE!"},{"$error":"#VALUE!"},{"$error":"#VALUE!"},{"$error":"#VALUE!"},{"$error":"#VALUE!"},{"$error":"#VALUE!"},{"$error":"#VALUE!"},{"$error":"#VALUE!"},{"$error":"#VALUE!"},{"$error":"#VALUE!"},{"$error":"#VALUE!"},{"$error":"#VALUE!"},{"$error":"#VALUE!"},{"$error":"#VALUE!"},{"$error":"#VALUE!"},{"$error":"#VALUE!"},3,0,{"$error":"#VALUE!"},{"$error":"#VALUE!"},{"$error":"#VALUE!"},{"$error":"#VALUE!"},{"$error":"#VALUE!"},{"$error":"#VALUE!"},{"$error":"#VALUE!"},{"$error":"#VALUE!"},{"$error":"#VALUE!"},{"$error":"#VALUE!"},{"$error":"#VALUE!"},{"$error":"#VALUE!"},{"$error":"#VALUE!"},{"$error":"#VALUE!"},{"$error":"#VALUE!"},{"$error":"#VALUE!"},{"$error":"#VALUE!"},{"$error":"#VALUE!"},{"$error":"#VALUE!"},{"$error":"#VALUE!"},{"$error":"#VALUE!"},{"$error":"#VALUE!"},{"$error":"#VALUE!"},{"$error":"#VALUE!"},{"$error":"#VALUE!"},{"$error":"#VALUE!"},{"$error":"#VALUE!"},{"$error":"#VALUE!"},{"$error":"#VALUE!"},{"$error":"#VALUE!"},{"$error":"#VALUE!"},{"$error":"#VALUE!"},{"$error":"#VALUE!"}]
[null,null,null,null,null,null,null,null,null,null,null,null,null,null,null,null,null,null,null,null,null,null,null,4,null,null,null,null,null,null,null,null,null,"N/A",null,false,null,null,null,null,4,null,null,null,null,null,null,null,null,null,null,null,{"$f":"IF(AND(BB60=\"OK\",BC60=\"OK\",BD60=\"OK\"),\"OK\",\"ERR!\")","v":"OK"},"OK","OK",{"$f":"IF(AND(OR(BE60=BK60,BE60=0),OR(BF60=BK60,BF60=0),OR(BG60=BK60,BG60=0),OR(BH60=BK60,BH60=0),OR(BI60=BK60,BI60=0),OR(BJ60=BK60,BJ60=0)),\"OK\",\"ERR!\")","v":"OK"},100,100,100,100,100,100,100,null,4,null,null,1,null,null,null,null,null,null,null,null,null,null,1,null,null,null,null,null,null,null,null,null,null,1,null,null,null,null,null,null,null,null,null,null,1,null,null,null,null,null,null,null,null,null,null,1,null,null,null,null,null,null,null,null,null,null,1,null,null,null,null,null,null,null,null,null,4,{"$error":"#VALUE!"},{"$error":"#VALUE!"},{"$error":"#VALUE!"},{"$error":"#VALUE!"},{"$error":"#VALUE!"},{"$error":"#VALUE!"},{"$error":"#VALUE!"},{"$error":"#VALUE!"},{"$error":"#VALUE!"},{"$error":"#VALUE!"},{"$error":"#VALUE!"},{"$error":"#VALUE!"},{"$error":"#VALUE!"},{"$error":"#VALUE!"},{"$error":"#VALUE!"},{"$error":"#VALUE!"},{"$error":"#VALUE!"},{"$error":"#VALUE!"},null,4,0,{"$error":"#VALUE!"},{"$error":"#VALUE!"},{"$error":"#VALUE!"},{"$error":"#VALUE!"},{"$error":"#VALUE!"},{"$error":"#VALUE!"},{"$error":"#VALUE!"},{"$error":"#VALUE!"},{"$error":"#VALUE!"},{"$error":"#VALUE!"},{"$error":"#VALUE!"},{"$error":"#VALUE!"},{"$error":"#VALUE!"},{"$error":"#VALUE!"},{"$error":"#VALUE!"},{"$error":"#VALUE!"},{"$error":"#VALUE!"},{"$error":"#VALUE!"},{"$error":"#VALUE!"},{"$error":"#VALUE!"},{"$error":"#VALUE!"},{"$error":"#VALUE!"},{"$error":"#VALUE!"},{"$error":"#VALUE!"},{"$error":"#VALUE!"},{"$error":"#VALUE!"},{"$error":"#VALUE!"},{"$error":"#VALUE!"},{"$error":"#VALUE!"},{"$error":"#VALUE!"},{"$error":"#VALUE!"},{"$error":"#VALUE!"},{"$error":"#VALUE!"},4,0,{"$error":"#VALUE!"},{"$error":"#VALUE!"},{"$error":"#VALUE!"},{"$error":"#VALUE!"},{"$error":"#VALUE!"},{"$error":"#VALUE!"},{"$error":"#VALUE!"},{"$error":"#VALUE!"},{"$error":"#VALUE!"},{"$error":"#VALUE!"},{"$error":"#VALUE!"},{"$error":"#VALUE!"},{"$error":"#VALUE!"},{"$error":"#VALUE!"},{"$error":"#VALUE!"},{"$error":"#VALUE!"},{"$error":"#VALUE!"},{"$error":"#VALUE!"},{"$error":"#VALUE!"},{"$error":"#VALUE!"},{"$error":"#VALUE!"},{"$error":"#VALUE!"},{"$error":"#VALUE!"},{"$error":"#VALUE!"},{"$error":"#VALUE!"},{"$error":"#VALUE!"},{"$error":"#VALUE!"},{"$error":"#VALUE!"},{"$error":"#VALUE!"},{"$error":"#VALUE!"},{"$error":"#VALUE!"},{"$error":"#VALUE!"},{"$error":"#VALUE!"},4,0,{"$error":"#VALUE!"},{"$error":"#VALUE!"},{"$error":"#VALUE!"},{"$error":"#VALUE!"},{"$error":"#VALUE!"},{"$error":"#VALUE!"},{"$error":"#VALUE!"},{"$error":"#VALUE!"},{"$error":"#VALUE!"},{"$error":"#VALUE!"},{"$error":"#VALUE!"},{"$error":"#VALUE!"},{"$error":"#VALUE!"},{"$error":"#VALUE!"},{"$error":"#VALUE!"},{"$error":"#VALUE!"},{"$error":"#VALUE!"},{"$error":"#VALUE!"},{"$error":"#VALUE!"},{"$error":"#VALUE!"},{"$error":"#VALUE!"},{"$error":"#VALUE!"},{"$error":"#VALUE!"},{"$error":"#VALUE!"},{"$error":"#VALUE!"},{"$error":"#VALUE!"},{"$error":"#VALUE!"},{"$error":"#VALUE!"},{"$error":"#VALUE!"},{"$error":"#VALUE!"},{"$error":"#VALUE!"},{"$error":"#VALUE!"},{"$error":"#VALUE!"},4,0,{"$error":"#VALUE!"},{"$error":"#VALUE!"},{"$error":"#VALUE!"},{"$error":"#VALUE!"},{"$error":"#VALUE!"},{"$error":"#VALUE!"},{"$error":"#VALUE!"},{"$error":"#VALUE!"},{"$error":"#VALUE!"},{"$error":"#VALUE!"},{"$error":"#VALUE!"},{"$error":"#VALUE!"},{"$error":"#VALUE!"},{"$error":"#VALUE!"},{"$error":"#VALUE!"},{"$error":"#VALUE!"},{"$error":"#VALUE!"},{"$error":"#VALUE!"},{"$error":"#VALUE!"},{"$error":"#VALUE!"},{"$error":"#VALUE!"},{"$error":"#VALUE!"},{"$error":"#VALUE!"},{"$error":"#VALUE!"},{"$error":"#VALUE!"},{"$error":"#VALUE!"},{"$error":"#VALUE!"},{"$error":"#VALUE!"},{"$error":"#VALUE!"},{"$error":"#VALUE!"},{"$error":"#VALUE!"},{"$error":"#VALUE!"},{"$error":"#VALUE!"},4,0,{"$error":"#VALUE!"},{"$error":"#VALUE!"},{"$error":"#VALUE!"},{"$error":"#VALUE!"},{"$error":"#VALUE!"},{"$error":"#VALUE!"},{"$error":"#VALUE!"},{"$error":"#VALUE!"},{"$error":"#VALUE!"},{"$error":"#VALUE!"},{"$error":"#VALUE!"},{"$error":"#VALUE!"},{"$error":"#VALUE!"},{"$error":"#VALUE!"},{"$error":"#VALUE!"},{"$error":"#VALUE!"},{"$error":"#VALUE!"},{"$error":"#VALUE!"},{"$error":"#VALUE!"},{"$error":"#VALUE!"},{"$error":"#VALUE!"},{"$error":"#VALUE!"},{"$error":"#VALUE!"},{"$error":"#VALUE!"},{"$error":"#VALUE!"},{"$error":"#VALUE!"},{"$error":"#VALUE!"},{"$error":"#VALUE!"},{"$error":"#VALUE!"},{"$error":"#VALUE!"},{"$error":"#VALUE!"},{"$error":"#VALUE!"},{"$error":"#VALUE!"},4,0,{"$error":"#VALUE!"},{"$error":"#VALUE!"},{"$error":"#VALUE!"},{"$error":"#VALUE!"},{"$error":"#VALUE!"},{"$error":"#VALUE!"},{"$error":"#VALUE!"},{"$error":"#VALUE!"},{"$error":"#VALUE!"},{"$error":"#VALUE!"},{"$error":"#VALUE!"},{"$error":"#VALUE!"},{"$error":"#VALUE!"},{"$error":"#VALUE!"},{"$error":"#VALUE!"},{"$error":"#VALUE!"},{"$error":"#VALUE!"},{"$error":"#VALUE!"},{"$error":"#VALUE!"},{"$error":"#VALUE!"},{"$error":"#VALUE!"},{"$error":"#VALUE!"},{"$error":"#VALUE!"},{"$error":"#VALUE!"},{"$error":"#VALUE!"},{"$error":"#VALUE!"},{"$error":"#VALUE!"},{"$error":"#VALUE!"},{"$error":"#VALUE!"},{"$error":"#VALUE!"},{"$error":"#VALUE!"},{"$error":"#VALUE!"},{"$error":"#VALUE!"}]
[null,null,null,null,null,null,null,null,null,null,null,null,null,null,null,null,null,null,null,null,null,null,null,7,null,null,null,null,null,null,null,null,null,"N/A",null,false,null,null,null,null,7,null,null,null,null,null,null,null,null,null,null,null,{"$f":"IF(AND(BB61=\"OK\",BC61=\"OK\",BD61=\"OK\"),\"OK\",\"ERR!\")","v":"OK"},"OK","OK","OK",100,100,100,100,100,100,100,null,7,null,null,1,null,null,null,null,null,null,null,null,null,null,1,null,null,null,null,null,null,null,null,null,null,1,null,null,null,null,null,null,null,null,null,null,1,null,null,null,null,null,null,null,null,null,null,1,null,null,null,null,null,null,null,null,null,null,1,null,null,null,null,null,null,null,null,null,7,{"$error":"#VALUE!"},{"$error":"#VALUE!"},{"$error":"#VALUE!"},{"$error":"#VALUE!"},{"$error":"#VALUE!"},{"$error":"#VALUE!"},{"$error":"#VALUE!"},{"$error":"#VALUE!"},{"$error":"#VALUE!"},{"$error":"#VALUE!"},{"$error":"#VALUE!"},{"$error":"#VALUE!"},{"$error":"#VALUE!"},{"$error":"#VALUE!"},{"$error":"#VALUE!"},{"$error":"#VALUE!"},{"$error":"#VALUE!"},{"$error":"#VALUE!"},null,7,0,{"$error":"#VALUE!"},{"$error":"#VALUE!"},{"$error":"#VALUE!"},{"$error":"#VALUE!"},{"$error":"#VALUE!"},{"$error":"#VALUE!"},{"$error":"#VALUE!"},{"$error":"#VALUE!"},{"$error":"#VALUE!"},{"$error":"#VALUE!"},{"$error":"#VALUE!"},{"$error":"#VALUE!"},{"$error":"#VALUE!"},{"$error":"#VALUE!"},{"$error":"#VALUE!"},{"$error":"#VALUE!"},{"$error":"#VALUE!"},{"$error":"#VALUE!"},{"$error":"#VALUE!"},{"$error":"#VALUE!"},{"$error":"#VALUE!"},{"$error":"#VALUE!"},{"$error":"#VALUE!"},{"$error":"#VALUE!"},{"$error":"#VALUE!"},{"$error":"#VALUE!"},{"$error":"#VALUE!"},{"$error":"#VALUE!"},{"$error":"#VALUE!"},{"$error":"#VALUE!"},{"$error":"#VALUE!"},{"$error":"#VALUE!"},{"$error":"#VALUE!"},7,0,{"$error":"#VALUE!"},{"$error":"#VALUE!"},{"$error":"#VALUE!"},{"$error":"#VALUE!"},{"$error":"#VALUE!"},{"$error":"#VALUE!"},{"$error":"#VALUE!"},{"$error":"#VALUE!"},{"$error":"#VALUE!"},{"$error":"#VALUE!"},{"$error":"#VALUE!"},{"$error":"#VALUE!"},{"$error":"#VALUE!"},{"$error":"#VALUE!"},{"$error":"#VALUE!"},{"$error":"#VALUE!"},{"$error":"#VALUE!"},{"$error":"#VALUE!"},{"$error":"#VALUE!"},{"$error":"#VALUE!"},{"$error":"#VALUE!"},{"$error":"#VALUE!"},{"$error":"#VALUE!"},{"$error":"#VALUE!"},{"$error":"#VALUE!"},{"$error":"#VALUE!"},{"$error":"#VALUE!"},{"$error":"#VALUE!"},{"$error":"#VALUE!"},{"$error":"#VALUE!"},{"$error":"#VALUE!"},{"$error":"#VALUE!"},{"$error":"#VALUE!"},7,0,{"$error":"#VALUE!"},{"$error":"#VALUE!"},{"$error":"#VALUE!"},{"$error":"#VALUE!"},{"$error":"#VALUE!"},{"$error":"#VALUE!"},{"$error":"#VALUE!"},{"$error":"#VALUE!"},{"$error":"#VALUE!"},{"$error":"#VALUE!"},{"$error":"#VALUE!"},{"$error":"#VALUE!"},{"$error":"#VALUE!"},{"$error":"#VALUE!"},{"$error":"#VALUE!"},{"$error":"#VALUE!"},{"$error":"#VALUE!"},{"$error":"#VALUE!"},{"$error":"#VALUE!"},{"$error":"#VALUE!"},{"$error":"#VALUE!"},{"$error":"#VALUE!"},{"$error":"#VALUE!"},{"$error":"#VALUE!"},{"$error":"#VALUE!"},{"$error":"#VALUE!"},{"$error":"#VALUE!"},{"$error":"#VALUE!"},{"$error":"#VALUE!"},{"$error":"#VALUE!"},{"$error":"#VALUE!"},{"$error":"#VALUE!"},{"$error":"#VALUE!"},7,0,{"$error":"#VALUE!"},{"$error":"#VALUE!"},{"$error":"#VALUE!"},{"$error":"#VALUE!"},{"$error":"#VALUE!"},{"$error":"#VALUE!"},{"$error":"#VALUE!"},{"$error":"#VALUE!"},{"$error":"#VALUE!"},{"$error":"#VALUE!"},{"$error":"#VALUE!"},{"$error":"#VALUE!"},{"$error":"#VALUE!"},{"$error":"#VALUE!"},{"$error":"#VALUE!"},{"$error":"#VALUE!"},{"$error":"#VALUE!"},{"$error":"#VALUE!"},{"$error":"#VALUE!"},{"$error":"#VALUE!"},{"$error":"#VALUE!"},{"$error":"#VALUE!"},{"$error":"#VALUE!"},{"$error":"#VALUE!"},{"$error":"#VALUE!"},{"$error":"#VALUE!"},{"$error":"#VALUE!"},{"$error":"#VALUE!"},{"$error":"#VALUE!"},{"$error":"#VALUE!"},{"$error":"#VALUE!"},{"$error":"#VALUE!"},{"$error":"#VALUE!"},7,0,{"$error":"#VALUE!"},{"$error":"#VALUE!"},{"$error":"#VALUE!"},{"$error":"#VALUE!"},{"$error":"#VALUE!"},{"$error":"#VALUE!"},{"$error":"#VALUE!"},{"$error":"#VALUE!"},{"$error":"#VALUE!"},{"$error":"#VALUE!"},{"$error":"#VALUE!"},{"$error":"#VALUE!"},{"$error":"#VALUE!"},{"$error":"#VALUE!"},{"$error":"#VALUE!"},{"$error":"#VALUE!"},{"$error":"#VALUE!"},{"$error":"#VALUE!"},{"$error":"#VALUE!"},{"$error":"#VALUE!"},{"$error":"#VALUE!"},{"$error":"#VALUE!"},{"$error":"#VALUE!"},{"$error":"#VALUE!"},{"$error":"#VALUE!"},{"$error":"#VALUE!"},{"$error":"#VALUE!"},{"$error":"#VALUE!"},{"$error":"#VALUE!"},{"$error":"#VALUE!"},{"$error":"#VALUE!"},{"$error":"#VALUE!"},{"$error":"#VALUE!"},7,0,{"$error":"#VALUE!"},{"$error":"#VALUE!"},{"$error":"#VALUE!"},{"$error":"#VALUE!"},{"$error":"#VALUE!"},{"$error":"#VALUE!"},{"$error":"#VALUE!"},{"$error":"#VALUE!"},{"$error":"#VALUE!"},{"$error":"#VALUE!"},{"$error":"#VALUE!"},{"$error":"#VALUE!"},{"$error":"#VALUE!"},{"$error":"#VALUE!"},{"$error":"#VALUE!"},{"$error":"#VALUE!"},{"$error":"#VALUE!"},{"$error":"#VALUE!"},{"$error":"#VALUE!"},{"$error":"#VALUE!"},{"$error":"#VALUE!"},{"$error":"#VALUE!"},{"$error":"#VALUE!"},{"$error":"#VALUE!"},{"$error":"#VALUE!"},{"$error":"#VALUE!"},{"$error":"#VALUE!"},{"$error":"#VALUE!"},{"$error":"#VALUE!"},{"$error":"#VALUE!"},{"$error":"#VALUE!"},{"$error":"#VALUE!"},{"$error":"#VALUE!"}]
[null,null,null,null,null,null,null,null,null,null,null,null,null,null,null,null,null,null,null,null,null,null,null,8,null,null,null,null,null,null,null,null,null,"N/A",null,false,null,null,null,null,8,null,null,null,null,null,null,null,null,null,null,null,"OK","OK","OK","OK",100,100,100,100,100,100,100,null,8,null,null,1,null,null,null,null,null,null,null,null,null,null,1,null,null,null,null,null,null,null,null,null,null,1,null,null,null,null,null,null,null,null,null,null,1,null,null,null,null,null,null,null,null,null,null,1,null,null,null,null,null,null,null,null,null,null,1,null,null,null,null,null,null,null,null,null,8,{"$error":"#VALUE!"},{"$error":"#VALUE!"},{"$error":"#VALUE!"},{"$error":"#VALUE!"},{"$error":"#VALUE!"},{"$error":"#VALUE!"},{"$error":"#VALUE!"},{"$error":"#VALUE!"},{"$error":"#VALUE!"},{"$error":"#VALUE!"},{"$error":"#VALUE!"},{"$error":"#VALUE!"},{"$error":"#VALUE!"},{"$error":"#VALUE!"},{"$error":"#VALUE!"},{"$error":"#VALUE!"},{"$error":"#VALUE!"},{"$error":"#VALUE!"},null,8,0,{"$error":"#VALUE!"},{"$error":"#VALUE!"},{"$error":"#VALUE!"},{"$error":"#VALUE!"},{"$error":"#VALUE!"},{"$error":"#VALUE!"},{"$error":"#VALUE!"},{"$error":"#VALUE!"},{"$error":"#VALUE!"},{"$error":"#VALUE!"},{"$error":"#VALUE!"},{"$error":"#VALUE!"},{"$error":"#VALUE!"},{"$error":"#VALUE!"},{"$error":"#VALUE!"},{"$error":"#VALUE!"},{"$error":"#VALUE!"},{"$error":"#VALUE!"},{"$error":"#VALUE!"},{"$error":"#VALUE!"},{"$error":"#VALUE!"},{"$error":"#VALUE!"},{"$error":"#VALUE!"},{"$error":"#VALUE!"},{"$error":"#VALUE!"},{"$error":"#VALUE!"},{"$error":"#VALUE!"},{"$error":"#VALUE!"},{"$error":"#VALUE!"},{"$error":"#VALUE!"},{"$error":"#VALUE!"},{"$error":"#VALUE!"},{"$error":"#VALUE!"},8,0,{"$error":"#VALUE!"},{"$error":"#VALUE!"},{"$error":"#VALUE!"},{"$error":"#VALUE!"},{"$error":"#VALUE!"},{"$error":"#VALUE!"},{"$error":"#VALUE!"},{"$error":"#VALUE!"},{"$error":"#VALUE!"},{"$error":"#VALUE!"},{"$error":"#VALUE!"},{"$error":"#VALUE!"},{"$error":"#VALUE!"},{"$error":"#VALUE!"},{"$error":"#VALUE!"},{"$error":"#VALUE!"},{"$error":"#VALUE!"},{"$error":"#VALUE!"},{"$error":"#VALUE!"},{"$error":"#VALUE!"},{"$error":"#VALUE!"},{"$error":"#VALUE!"},{"$error":"#VALUE!"},{"$error":"#VALUE!"},{"$error":"#VALUE!"},{"$error":"#VALUE!"},{"$error":"#VALUE!"},{"$error":"#VALUE!"},{"$error":"#VALUE!"},{"$error":"#VALUE!"},{"$error":"#VALUE!"},{"$error":"#VALUE!"},{"$error":"#VALUE!"},8,0,{"$error":"#VALUE!"},{"$error":"#VALUE!"},{"$error":"#VALUE!"},{"$error":"#VALUE!"},{"$error":"#VALUE!"},{"$error":"#VALUE!"},{"$error":"#VALUE!"},{"$error":"#VALUE!"},{"$error":"#VALUE!"},{"$error":"#VALUE!"},{"$error":"#VALUE!"},{"$error":"#VALUE!"},{"$error":"#VALUE!"},{"$error":"#VALUE!"},{"$error":"#VALUE!"},{"$error":"#VALUE!"},{"$error":"#VALUE!"},{"$error":"#VALUE!"},{"$error":"#VALUE!"},{"$error":"#VALUE!"},{"$error":"#VALUE!"},{"$error":"#VALUE!"},{"$error":"#VALUE!"},{"$error":"#VALUE!"},{"$error":"#VALUE!"},{"$error":"#VALUE!"},{"$error":"#VALUE!"},{"$error":"#VALUE!"},{"$error":"#VALUE!"},{"$error":"#VALUE!"},{"$error":"#VALUE!"},{"$error":"#VALUE!"},{"$error":"#VALUE!"},8,0,{"$error":"#VALUE!"},{"$error":"#VALUE!"},{"$error":"#VALUE!"},{"$error":"#VALUE!"},{"$error":"#VALUE!"},{"$error":"#VALUE!"},{"$error":"#VALUE!"},{"$error":"#VALUE!"},{"$error":"#VALUE!"},{"$error":"#VALUE!"},{"$error":"#VALUE!"},{"$error":"#VALUE!"},{"$error":"#VALUE!"},{"$error":"#VALUE!"},{"$error":"#VALUE!"},{"$error":"#VALUE!"},{"$error":"#VALUE!"},{"$error":"#VALUE!"},{"$error":"#VALUE!"},{"$error":"#VALUE!"},{"$error":"#VALUE!"},{"$error":"#VALUE!"},{"$error":"#VALUE!"},{"$error":"#VALUE!"},{"$error":"#VALUE!"},{"$error":"#VALUE!"},{"$error":"#VALUE!"},{"$error":"#VALUE!"},{"$error":"#VALUE!"},{"$error":"#VALUE!"},{"$error":"#VALUE!"},{"$error":"#VALUE!"},{"$error":"#VALUE!"},8,0,{"$error":"#VALUE!"},{"$error":"#VALUE!"},{"$error":"#VALUE!"},{"$error":"#VALUE!"},{"$error":"#VALUE!"},{"$error":"#VALUE!"},{"$error":"#VALUE!"},{"$error":"#VALUE!"},{"$error":"#VALUE!"},{"$error":"#VALUE!"},{"$error":"#VALUE!"},{"$error":"#VALUE!"},{"$error":"#VALUE!"},{"$error":"#VALUE!"},{"$error":"#VALUE!"},{"$error":"#VALUE!"},{"$error":"#VALUE!"},{"$error":"#VALUE!"},{"$error":"#VALUE!"},{"$error":"#VALUE!"},{"$error":"#VALUE!"},{"$error":"#VALUE!"},{"$error":"#VALUE!"},{"$error":"#VALUE!"},{"$error":"#VALUE!"},{"$error":"#VALUE!"},{"$error":"#VALUE!"},{"$error":"#VALUE!"},{"$error":"#VALUE!"},{"$error":"#VALUE!"},{"$error":"#VALUE!"},{"$error":"#VALUE!"},{"$error":"#VALUE!"},8,0,{"$error":"#VALUE!"},{"$error":"#VALUE!"},{"$error":"#VALUE!"},{"$error":"#VALUE!"},{"$error":"#VALUE!"},{"$error":"#VALUE!"},{"$error":"#VALUE!"},{"$error":"#VALUE!"},{"$error":"#VALUE!"},{"$error":"#VALUE!"},{"$error":"#VALUE!"},{"$error":"#VALUE!"},{"$error":"#VALUE!"},{"$error":"#VALUE!"},{"$error":"#VALUE!"},{"$error":"#VALUE!"},{"$error":"#VALUE!"},{"$error":"#VALUE!"},{"$error":"#VALUE!"},{"$error":"#VALUE!"},{"$error":"#VALUE!"},{"$error":"#VALUE!"},{"$error":"#VALUE!"},{"$error":"#VALUE!"},{"$error":"#VALUE!"},{"$error":"#VALUE!"},{"$error":"#VALUE!"},{"$error":"#VALUE!"},{"$error":"#VALUE!"},{"$error":"#VALUE!"},{"$error":"#VALUE!"},{"$error":"#VALUE!"},{"$error":"#VALUE!"}]
[null,null,null,null,null,null,null,null,null,null,null,null,null,null,null,null,null,null,null,null,null,null,null,9,null,null,null,null,null,null,null,null,null,"N/A",null,false,null,null,null,null,9,null,null,null,null,null,null,null,null,null,null,null,"OK","OK","OK","OK",100,100,100,{"$f":"(CU63*POWER(10,0)+CV63*POWER(10,1)+CW63*POWER(10,2)+CX63*POWER(10,3)+CY63*POWER(10,4)+CZ63*POWER(10,5)+DA63*POWER(10,6)+DB63*POWER(10,7)+DC63*POWER(10,8)+DD63*POWER(10,9)+DE63*POWER(10,10))","v":100},{"$f":"(DF63*POWER(10,0)+DG63*POWER(10,1)+DH63*POWER(10,2)+DI63*POWER(10,3)+DJ63*POWER(10,4)+DK63*POWER(10,5)+DL63*POWER(10,6)+DM63*POWER(10,7)+DN63*POWER(10,8)+DO63*POWER(10,9)+DP63*POWER(10,10))","v":100},100,100,null,9,null,null,1,null,null,null,null,null,null,null,null,null,null,1,null,null,null,null,null,null,null,null,null,null,1,null,null,null,null,null,null,null,null,null,null,1,null,null,null,null,null,null,null,null,null,null,1,null,null,null,null,null,null,null,null,null,null,1,null,null,null,null,null,null,null,null,null,9,{"$error":"#VALUE!"},{"$error":"#VALUE!"},{"$error":"#VALUE!"},{"$error":"#VALUE!"},{"$error":"#VALUE!"},{"$error":"#VALUE!"},{"$error":"#VALUE!"},{"$error":"#VALUE!"},{"$error":"#VALUE!"},{"$error":"#VALUE!"},{"$error":"#VALUE!"},{"$error":"#VALUE!"},{"$error":"#VALUE!"},{"$error":"#VALUE!"},{"$error":"#VALUE!"},{"$error":"#VALUE!"},{"$error":"#VALUE!"},{"$error":"#VALUE!"},null,9,0,{"$error":"#VALUE!"},{"$error":"#VALUE!"},{"$error":"#VALUE!"},{"$error":"#VALUE!"},{"$error":"#VALUE!"},{"$error":"#VALUE!"},{"$error":"#VALUE!"},{"$error":"#VALUE!"},{"$error":"#VALUE!"},{"$error":"#VALUE!"},{"$error":"#VALUE!"},{"$error":"#VALUE!"},{"$error":"#VALUE!"},{"$error":"#VALUE!"},{"$error":"#VALUE!"},{"$error":"#VALUE!"},{"$error":"#VALUE!"},{"$error":"#VALUE!"},{"$error":"#VALUE!"},{"$error":"#VALUE!"},{"$error":"#VALUE!"},{"$error":"#VALUE!"},{"$error":"#VALUE!"},{"$error":"#VALUE!"},{"$error":"#VALUE!"},{"$error":"#VALUE!"},{"$error":"#VALUE!"},{"$error":"#VALUE!"},{"$error":"#VALUE!"},{"$error":"#VALUE!"},{"$error":"#VALUE!"},{"$error":"#VALUE!"},{"$error":"#VALUE!"},9,0,{"$error":"#VALUE!"},{"$error":"#VALUE!"},{"$error":"#VALUE!"},{"$error":"#VALUE!"},{"$error":"#VALUE!"},{"$error":"#VALUE!"},{"$error":"#VALUE!"},{"$error":"#VALUE!"},{"$error":"#VALUE!"},{"$error":"#VALUE!"},{"$error":"#VALUE!"},{"$error":"#VALUE!"},{"$error":"#VALUE!"},{"$error":"#VALUE!"},{"$error":"#VALUE!"},{"$error":"#VALUE!"},{"$error":"#VALUE!"},{"$error":"#VALUE!"},{"$error":"#VALUE!"},{"$error":"#VALUE!"},{"$error":"#VALUE!"},{"$error":"#VALUE!"},{"$error":"#VALUE!"},{"$error":"#VALUE!"},{"$error":"#VALUE!"},{"$error":"#VALUE!"},{"$error":"#VALUE!"},{"$error":"#VALUE!"},{"$error":"#VALUE!"},{"$error":"#VALUE!"},{"$error":"#VALUE!"},{"$error":"#VALUE!"},{"$error":"#VALUE!"},9,0,{"$error":"#VALUE!"},{"$error":"#VALUE!"},{"$error":"#VALUE!"},{"$error":"#VALUE!"},{"$error":"#VALUE!"},{"$error":"#VALUE!"},{"$error":"#VALUE!"},{"$error":"#VALUE!"},{"$error":"#VALUE!"},{"$error":"#VALUE!"},{"$error":"#VALUE!"},{"$error":"#VALUE!"},{"$error":"#VALUE!"},{"$error":"#VALUE!"},{"$error":"#VALUE!"},{"$error":"#VALUE!"},{"$error":"#VALUE!"},{"$error":"#VALUE!"},{"$error":"#VALUE!"},{"$error":"#VALUE!"},{"$error":"#VALUE!"},{"$error":"#VALUE!"},{"$error":"#VALUE!"},{"$error":"#VALUE!"},{"$error":"#VALUE!"},{"$error":"#VALUE!"},{"$error":"#VALUE!"},{"$error":"#VALUE!"},{"$error":"#VALUE!"},{"$error":"#VALUE!"},{"$error":"#VALUE!"},{"$error":"#VALUE!"},{"$error":"#VALUE!"},9,0,{"$error":"#VALUE!"},{"$error":"#VALUE!"},{"$error":"#VALUE!"},{"$error":"#VALUE!"},{"$error":"#VALUE!"},{"$error":"#VALUE!"},{"$error":"#VALUE!"},{"$error":"#VALUE!"},{"$error":"#VALUE!"},{"$error":"#VALUE!"},{"$error":"#VALUE!"},{"$error":"#VALUE!"},{"$error":"#VALUE!"},{"$error":"#VALUE!"},{"$error":"#VALUE!"},{"$error":"#VALUE!"},{"$error":"#VALUE!"},{"$error":"#VALUE!"},{"$error":"#VALUE!"},{"$error":"#VALUE!"},{"$error":"#VALUE!"},{"$error":"#VALUE!"},{"$error":"#VALUE!"},{"$error":"#VALUE!"},{"$error":"#VALUE!"},{"$error":"#VALUE!"},{"$error":"#VALUE!"},{"$error":"#VALUE!"},{"$error":"#VALUE!"},{"$error":"#VALUE!"},{"$error":"#VALUE!"},{"$error":"#VALUE!"},{"$error":"#VALUE!"},9,0,{"$error":"#VALUE!"},{"$error":"#VALUE!"},{"$error":"#VALUE!"},{"$error":"#VALUE!"},{"$error":"#VALUE!"},{"$error":"#VALUE!"},{"$error":"#VALUE!"},{"$error":"#VALUE!"},{"$error":"#VALUE!"},{"$error":"#VALUE!"},{"$error":"#VALUE!"},{"$error":"#VALUE!"},{"$error":"#VALUE!"},{"$error":"#VALUE!"},{"$error":"#VALUE!"},{"$error":"#VALUE!"},{"$error":"#VALUE!"},{"$error":"#VALUE!"},{"$error":"#VALUE!"},{"$error":"#VALUE!"},{"$error":"#VALUE!"},{"$error":"#VALUE!"},{"$error":"#VALUE!"},{"$error":"#VALUE!"},{"$error":"#VALUE!"},{"$error":"#VALUE!"},{"$error":"#VALUE!"},{"$error":"#VALUE!"},{"$error":"#VALUE!"},{"$error":"#VALUE!"},{"$error":"#VALUE!"},{"$error":"#VALUE!"},{"$error":"#VALUE!"},9,0,{"$error":"#VALUE!"},{"$error":"#VALUE!"},{"$error":"#VALUE!"},{"$error":"#VALUE!"},{"$error":"#VALUE!"},{"$error":"#VALUE!"},{"$error":"#VALUE!"},{"$error":"#VALUE!"},{"$error":"#VALUE!"},{"$error":"#VALUE!"},{"$error":"#VALUE!"},{"$error":"#VALUE!"},{"$error":"#VALUE!"},{"$error":"#VALUE!"},{"$error":"#VALUE!"},{"$error":"#VALUE!"},{"$error":"#VALUE!"},{"$error":"#VALUE!"},{"$error":"#VALUE!"},{"$error":"#VALUE!"},{"$error":"#VALUE!"},{"$error":"#VALUE!"},{"$error":"#VALUE!"},{"$error":"#VALUE!"},{"$error":"#VALUE!"},{"$error":"#VALUE!"},{"$error":"#VALUE!"},{"$error":"#VALUE!"},{"$error":"#VALUE!"},{"$error":"#VALUE!"},{"$error":"#VALUE!"},{"$error":"#VALUE!"},{"$error":"#VALUE!"}]
[null,null,null,null,null,null,null,null,null,null,null,null,null,null,null,null,null,null,null,null,null,null,null,"Total",{"$f":"SUM(Y57:Y63)","v":0},{"$f":"SUM(Z57:Z63)","v":0},0,0,0,0,null,null,null,"N/A",null,false,null,null,null,null,"Total",null,null,null,null,null,null,null,null,null,null,null,null,null,null,null,null,null,null,null,null,null,null,null,"Total",null,null,null,null,null,null,null,null,null,null,null,null,null,null,null,null,null,null,null,null,null,null,null,null,null,null,null,null,null,null,null,null,null,null,null,null,null,null,null,null,null,null,null,null,null,null,null,null,null,null,null,null,null,null,null,null,null,null,null,null,null,null,null,null,null,null,null,"Total",{"$f":"SUM(ED57:ED63)","v":{"$error":"#VALUE!"}},{"$f":"SUM(EE57:EE63)","v":{"$error":"#VALUE!"}},{"$f":"SUM(EF57:EF63)","v":{"$error":"#VALUE!"}},{"$f":"SUM(EG57:EG63)","v":{"$error":"#VALUE!"}},{"$f":"SUM(EH57:EH63)","v":{"$error":"#VALUE!"}},{"$f":"SUM(EI57:EI63)","v":{"$error":"#VALUE!"}},{"$error":"#VALUE!"},{"$error":"#VALUE!"},{"$error":"#VALUE!"},{"$error":"#VALUE!"},{"$error":"#VALUE!"},{"$error":"#VALUE!"},{"$error":"#VALUE!"},{"$error":"#VALUE!"},{"$error":"#VALUE!"},{"$error":"#VALUE!"},{"$error":"#VALUE!"},{"$error":"#VALUE!"},null,"Total",{"$f":"SUM(EX57:EX63)","v":0},{"$f":"SUM(EY57:EY63)","v":{"$error":"#VALUE!"}},{"$f":"SUM(EZ57:EZ63)","v":{"$error":"#VALUE!"}},{"$error":"#VALUE!"},{"$error":"#VALUE!"},{"$f":"SUM(FC57:FC63)","v":{"$error":"#VALUE!"}},{"$f":"SUM(FD57:FD63)","v":{"$error":"#VALUE!"}},{"$error":"#VALUE!"},{"$error":"#VALUE!"},{"$error":"#VALUE!"},{"$error":"#VALUE!"},{"$error":"#VALUE!"},{"$error":"#VALUE!"},{"$error":"#VALUE!"},{"$error":"#VALUE!"},{"$error":"#VALUE!"},{"$f":"SUM(FN57:FN63)","v":{"$error":"#VALUE!"}},{"$f":"SUM(FO57:FO63)","v":{"$error":"#VALUE!"}},{"$f":"SUM(FP57:FP63)","v":{"$error":"#VALUE!"}},{"$f":"SUM(FQ57:FQ63)","v":{"$error":"#VALUE!"}},{"$error":"#VALUE!"},{"$error":"#VALUE!"},{"$error":"#VALUE!"},{"$error":"#VALUE!"},{"$error":"#VALUE!"},{"$error":"#VALUE!"},{"$error":"#VALUE!"},{"$error":"#VALUE!"},{"$error":"#VALUE!"},{"$error":"#VALUE!"},{"$error":"#VALUE!"},{"$f":"SUM(GC57:GC63)","v":{"$error":"#VALUE!"}},{"$f":"SUM(GD57:GD63)","v":{"$error":"#VALUE!"}},{"$error":"#VALUE!"},"Total",{"$f":"SUM(GG57:GG63)","v":0},{"$f":"SUM(GH57:GH63)","v":{"$error":"#VALUE!"}},{"$f":"SUM(GI57:GI63)","v":{"$error":"#VALUE!"}},{"$error":"#VALUE!"},{"$error":"#VALUE!"},{"$f":"SUM(GL57:GL63)","v":{"$error":"#VALUE!"}},{"$f":"SUM(GM57:GM63)","v":{"$error":"#VALUE!"}},{"$f":"SUM(GN57:GN63)","v":{"$error":"#VALUE!"}},{"$error":"#VALUE!"},{"$error":"#VALUE!"},{"$error":"#VALUE!"},{"$error":"#VALUE!"},{"$error":"#VALUE!"},{"$error":"#VALUE!"},{"$error":"#VALUE!"},{"$error":"#VALUE!"},{"$f":"SUM(GW57:GW63)","v":{"$error":"#VALUE!"}},{"$f":"SUM(GX57:GX63)","v":{"$error":"#VALUE!"}},{"$f":"SUM(GY57:GY63)","v":{"$error":"#VALUE!"}},{"$f":"SUM(GZ57:GZ63)","v":{"$error":"#VALUE!"}},{"$error":"#VALUE!"},{"$error":"#VALUE!"},{"$error":"#VALUE!"},{"$error":"#VALUE!"},{"$error":"#VALUE!"},{"$error":"#VALUE!"},{"$error":"#VALUE!"},{"$error":"#VALUE!"},{"$error":"#VALUE!"},{"$error":"#VALUE!"},{"$error":"#VALUE!"},{"$f":"SUM(HL57:HL63)","v":{"$error":"#VALUE!"}},{"$f":"SUM(HM57:HM63)","v":{"$error":"#VALUE!"}},{"$error":"#VALUE!"},"Total",{"$f":"SUM(HP57:HP63)","v":0},{"$f":"SUM(HQ57:HQ63)","v":{"$error":"#VALUE!"}},{"$f":"SUM(HR57:HR63)","v":{"$error":"#VALUE!"}},{"$error":"#VALUE!"},{"$error":"#VALUE!"},{"$f":"SUM(HU57:HU63)","v":{"$error":"#VALUE!"}},{"$f":"SUM(HV57:HV63)","v":{"$error":"#VALUE!"}},{"$error":"#VALUE!"},{"$error":"#VALUE!"},{"$error":"#VALUE!"},{"$error":"#VALUE!"},{"$error":"#VALUE!"},{"$error":"#VALUE!"},{"$error":"#VALUE!"},{"$error":"#VALUE!"},{"$error":"#VALUE!"},{"$f":"SUM(IF57:IF63)","v":{"$error":"#VALUE!"}},{"$f":"SUM(IG57:IG63)","v":{"$error":"#VALUE!"}},{"$f":"SUM(IH57:IH63)","v":{"$error":"#VALUE!"}},{"$f":"SUM(II57:II63)","v":{"$error":"#VALUE!"}},{"$error":"#VALUE!"},{"$error":"#VALUE!"},{"$error":"#VALUE!"},{"$error":"#VALUE!"},{"$error":"#VALUE!"},{"$error":"#VALUE!"},{"$error":"#VALUE!"},{"$error":"#VALUE!"},{"$error":"#VALUE!"},{"$error":"#VALUE!"},{"$error":"#VALUE!"},{"$f":"SUM(IU57:IU63)","v":{"$error":"#VALUE!"}},{"$f":"SUM(IV57:IV63)","v":{"$error":"#VALUE!"}},{"$error":"#VALUE!"},"Total",{"$f":"SUM(IY57:IY63)","v":0},{"$f":"SUM(IZ57:IZ63)","v":{"$error":"#VALUE!"}},{"$f":"SUM(JA57:JA63)","v":{"$error":"#VALUE!"}},{"$error":"#VALUE!"},{"$error":"#VALUE!"},{"$f":"SUM(JD57:JD63)","v":{"$error":"#VALUE!"}},{"$f":"SUM(JE57:JE63)","v":{"$error":"#VALUE!"}},{"$error":"#VALUE!"},{"$error":"#VALUE!"},{"$error":"#VALUE!"},{"$error":"#VALUE!"},{"$error":"#VALUE!"},{"$error":"#VALUE!"},{"$error":"#VALUE!"},{"$error":"#VALUE!"},{"$error":"#VALUE!"},{"$f":"SUM(JO57:JO63)","v":{"$error":"#VALUE!"}},{"$f":"SUM(JP57:JP63)","v":{"$error":"#VALUE!"}},{"$f":"SUM(JQ57:JQ63)","v":{"$error":"#VALUE!"}},{"$f":"SUM(JR57:JR63)","v":{"$error":"#VALUE!"}},{"$error":"#VALUE!"},{"$error":"#VALUE!"},{"$error":"#VALUE!"},{"$error":"#VALUE!"},{"$error":"#VALUE!"},{"$error":"#VALUE!"},{"$error":"#VALUE!"},{"$error":"#VALUE!"},{"$error":"#VALUE!"},{"$error":"#VALUE!"},{"$error":"#VALUE!"},{"$f":"SUM(KD57:KD63)","v":{"$error":"#VALUE!"}},{"$f":"SUM(KE57:KE63)","v":{"$error":"#VALUE!"}},{"$error":"#VALUE!"},"Total",{"$f":"SUM(KH57:KH63)","v":0},{"$f":"SUM(KI57:KI63)","v":{"$error":"#VALUE!"}},{"$f":"SUM(KJ57:KJ63)","v":{"$error":"#VALUE!"}},{"$error":"#VALUE!"},{"$error":"#VALUE!"},{"$f":"SUM(KM57:KM63)","v":{"$error":"#VALUE!"}},{"$f":"SUM(KN57:KN63)","v":{"$error":"#VALUE!"}},{"$error":"#VALUE!"},{"$error":"#VALUE!"},{"$error":"#VALUE!"},{"$error":"#VALUE!"},{"$error":"#VALUE!"},{"$error":"#VALUE!"},{"$error":"#VALUE!"},{"$error":"#VALUE!"},{"$error":"#VALUE!"},{"$f":"SUM(KX57:KX63)","v":{"$error":"#VALUE!"}},{"$f":"SUM(KY57:KY63)","v":{"$error":"#VALUE!"}},{"$f":"SUM(KZ57:KZ63)","v":{"$error":"#VALUE!"}},{"$f":"SUM(LA57:LA63)","v":{"$error":"#VALUE!"}},{"$error":"#VALUE!"},{"$error":"#VALUE!"},{"$error":"#VALUE!"},{"$error":"#VALUE!"},{"$error":"#VALUE!"},{"$error":"#VALUE!"},{"$error":"#VALUE!"},{"$error":"#VALUE!"},{"$error":"#VALUE!"},{"$error":"#VALUE!"},{"$error":"#VALUE!"},{"$f":"SUM(LM57:LM63)","v":{"$error":"#VALUE!"}},{"$f":"SUM(LN57:LN63)","v":{"$error":"#VALUE!"}},{"$error":"#VALUE!"},"Total",{"$f":"SUM(LQ57:LQ63)","v":0},{"$f":"SUM(LR57:LR63)","v":{"$error":"#VALUE!"}},{"$f":"SUM(LS57:LS63)","v":{"$error":"#VALUE!"}},{"$error":"#VALUE!"},{"$error":"#VALUE!"},{"$f":"SUM(LV57:LV63)","v":{"$error":"#VALUE!"}},{"$f":"SUM(LW57:LW63)","v":{"$error":"#VALUE!"}},{"$error":"#VALUE!"},{"$error":"#VALUE!"},{"$error":"#VALUE!"},{"$error":"#VALUE!"},{"$error":"#VALUE!"},{"$error":"#VALUE!"},{"$error":"#VALUE!"},{"$error":"#VALUE!"},{"$f":"SUM(MF57:MF63)","v":{"$error":"#VALUE!"}},{"$f":"SUM(MG57:MG63)","v":{"$error":"#VALUE!"}},{"$f":"SUM(MH57:MH63)","v":{"$error":"#VALUE!"}},{"$f":"SUM(MI57:MI63)","v":{"$error":"#VALUE!"}},{"$f":"SUM(MJ57:MJ63)","v":{"$error":"#VALUE!"}},{"$error":"#VALUE!"},{"$error":"#VALUE!"},{"$error":"#VALUE!"},{"$error":"#VALUE!"},{"$error":"#VALUE!"},{"$error":"#VALUE!"},{"$error":"#VALUE!"},{"$error":"#VALUE!"},{"$error":"#VALUE!"},{"$error":"#VALUE!"},{"$error":"#VALUE!"},{"$f":"SUM(MV57:MV63)","v":{"$error":"#VALUE!"}},{"$f":"SUM(MW57:MW63)","v":{"$error":"#VALUE!"}},{"$error":"#VALUE!"}]
[null,{"$f":"B57+1","v":5},{"$f":"'Regional Project List Sheet'!F9","v":0},{"$f":"IF('Regional Project List Sheet'!$G9=\"New\",1,\"\")","v":""},{"$f":"IF('Regional Project List Sheet'!$G9=\"Funded Old\",1,\"\")","v":""},{"$f":"IF('Regional Project List Sheet'!$G9=\"Unfunded Old\",1,\"\")","v":""},{"$f":"'Regional Project List Sheet'!H9","v":0},{"$f":"'Regional Project List Sheet'!I9","v":0},{"$f":"'Regional Project List Sheet'!L9","v":0},{"$f":"'Regional Project List Sheet'!M9","v":0},{"$f":"'Regional Project List Sheet'!N9","v":0},{"$f":"'Regional Project List Sheet'!O9","v":0},{"$f":"'Regional Project List Sheet'!P9","v":0},{"$f":"IF('Regional Project List Sheet'!$Q9=\"N/A\",\"N/A\",IF($Y68<>0,5,IF($Z68<>0,4,IF($AA68<>0,3,IF($AB68<>0,2,1)))))","v":1},{"$f":"VLOOKUP($C65,'[2]Ranking|Priority'!$B$5:$O$68,12,FALSE)","v":{"$error":"#N/A"}},{"$f":"VLOOKUP($C65,'[2]Ranking|Priority'!$B$5:$O$68,13,FALSE)","v":{"$error":"#N/A"}},{"$f":"VLOOKUP($C65,'[2]Ranking|Priority'!$B$5:$O$68,14,FALSE)","v":{"$error":"#N/A"}},{"$f":"'Regional Project List Sheet'!T9","v":0},{"$f":"'Regional Project List Sheet'!U9","v":0},{"$f":"'Regional Project List Sheet'!V9","v":0},{"$f":"'Regional Project List Sheet'!W9","v":0},{"$f":"'Regional Project List Sheet'!X9","v":0},{"$f":"'Regional Project List Sheet'!Y9","v":"Choose from Project List in cell I2"},0,null,null,null,null,null,null,null,{"$f":"'Regional Project List Sheet'!AJ9","v":0},{"$f":"IF(OR('Regional Project List Sheet'!$AA9<>'Regional Project List Sheet'!$A$40,'Regional Project List Sheet'!$AD9<>'Regional Project List Sheet'!$A$40,'Regional Project List Sheet'!$AG9<>'Regional Project List Sheet'!$A$40),_xlfn.CONCAT(IF(ISNUMBER('Regional Project List Sheet'!$AA9),'Regional Project List Sheet'!$A$36,\"\"),\" \",IF(ISNUMBER('Regional Project List Sheet'!$AD9),'Regional Project List Sheet'!$A$37,\"\"),\" \",IF(ISNUMBER('Regional Project List Sheet'!$AG9),'Regional Project List Sheet'!$A$38,\"\")),\"N/A\")","v":"N/A"},"N/A",{"$f":"IF(OR('Regional Project List Sheet'!AC9<>'Regional Project List Sheet'!$A$40,'Regional Project List Sheet'!AF9<>'Regional Project List Sheet'!$A$40,'Regional Project List Sheet'!AI9<>'Regional Project List Sheet'!$A$40),\n\nIF(LEN(_xlfn.CONCAT(IF('Regional Project List Sheet'!AC9=\"Yes\",'Regional Project List Sheet'!$A$36,\"\"),\" \",\n\nIF('Regional Project List Sheet'!AF9=\"Yes\",'Regional Project List Sheet'!$A$9,\"\"),\" \",\n\nIF('Regional Project List Sheet'!AI9=\"Yes\",'Regional Project List Sheet'!$A$38,\"\")))<3,\"No\",\n\n_xlfn.CONCAT(IF('Regional Project List Sheet'!AC9=\"Yes\",'Regional Project List Sheet'!$A$36,\"\"),\" \",\n\nIF('Regional Project List Sheet'!AF9=\"Yes\",'Regional Project List Sheet'!$A$9,\"\"),\" \",\n\nIF('Regional Project List Sheet'!AI9=\"Yes\",'Regional Project List Sheet'!$A$38,\"\"))))","v":false},false,{"$f":"'Regional Project List Sheet'!AK9","v":0},null,{"$f":"'Regional Project List Sheet'!AL9","v":0},null,0,null,null,null,null,null,null,null,null,null,null,1,{"$f":"IF(AND(BB65=\"OK\",BC65=\"OK\",BD65=\"OK\"),\"OK\",\"ERR!\")","v":"OK"},{"$f":"IF(AND(Y65>0,SUM(BN65:BX65)<1),\"ERR!\",IF(AND(Z65>0,SUM(BY65:CI65)<1),\"ERR!\",IF(AND(AA65>0,SUM(CJ65:CT65)<1),\"ERR\",IF(AND(AB65>0,SUM(CU65:DE65)<1),\"ERR\",IF(AND(AC65>0,SUM(DF65:DP65)<1),\"ERR\",IF(AND(AD65>0,SUM(DQ65:EA65)<1),\"ERR\",\"OK\"))))))","v":"OK"},{"$f":"IF(OR(SUM(BN65:BX65)<>1,SUM(BY65:CI65)<>1,SUM(CJ65:CT65)<>1,SUM(CU65:DE65)<>1,SUM(DF65:DP65)<>1,SUM(DQ65:EA65)<>1),\"ERR!\",\"OK\")","v":"OK"},{"$f":"IF(AND(OR(BE65=BK65,BE65=0),OR(BF65=BK65,BF65=0),OR(BG65=BK65,BG65=0),OR(BH65=BK65,BH65=0),OR(BI65=BK65,BI65=0),OR(BJ65=BK65,BJ65=0)),\"OK\",\"ERR!\")","v":"OK"},{"$f":"(BN65*POWER(10,0)+BO65*POWER(10,1)+BP65*POWER(10,2)+BQ65*POWER(10,3)+BR65*POWER(10,4)+BS65*POWER(10,5)+BT65*POWER(10,6)+BU65*POWER(10,7)+BV65*POWER(10,8)+BW65*POWER(10,9)+BX65*POWER(10,10))","v":1000},{"$f":"(BY65*POWER(10,0)+BZ65*POWER(10,1)+CA65*POWER(10,2)+CB65*POWER(10,3)+CC65*POWER(10,4)+CD65*POWER(10,5)+CE65*POWER(10,6)+CF65*POWER(10,7)+CG65*POWER(10,8)+CH65*POWER(10,9)+CI65*POWER(10,10))","v":1000},{"$f":"(CJ65*POWER(10,0)+CK65*POWER(10,1)+CL65*POWER(10,2)+CM65*POWER(10,3)+CN65*POWER(10,4)+CO65*POWER(10,5)+CP65*POWER(10,6)+CQ65*POWER(10,7)+CR65*POWER(10,8)+CS65*POWER(10,9)+CT65*POWER(10,10))","v":1000},{"$f":"(CU65*POWER(10,0)+CV65*POWER(10,1)+CW65*POWER(10,2)+CX65*POWER(10,3)+CY65*POWER(10,4)+CZ65*POWER(10,5)+DA65*POWER(10,6)+DB65*POWER(10,7)+DC65*POWER(10,8)+DD65*POWER(10,9)+DE65*POWER(10,10))","v":1000},{"$f":"(DF65*POWER(10,0)+DG65*POWER(10,1)+DH65*POWER(10,2)+DI65*POWER(10,3)+DJ65*POWER(10,4)+DK65*POWER(10,5)+DL65*POWER(10,6)+DM65*POWER(10,7)+DN65*POWER(10,8)+DO65*POWER(10,9)+DP65*POWER(10,10))","v":1000},{"$f":"(DQ65*POWER(10,0)+DR65*POWER(10,1)+DS65*POWER(10,2)+DT65*POWER(10,3)+DU65*POWER(10,4)+DV65*POWER(10,5)+DW65*POWER(10,6)+DX65*POWER(10,7)+DY65*POWER(10,8)+DZ65*POWER(10,9)+EA65*POWER(10,10))","v":1000},{"$f":"MAX(BE65:BJ65)","v":1000},null,0,null,null,null,1,null,null,null,null,null,null,null,null,null,null,1,null,null,null,null,null,null,null,null,null,null,1,null,null,null,null,null,null,null,null,null,null,1,null,null,null,null,null,null,null,null,null,null,1,null,null,null,null,null,null,null,null,null,null,1,null,null,null,null,null,null,null,null,0,{"$f":"($Y65*D$65)/1000","v":{"$error":"#VALUE!"}},{"$error":"#VALUE!"},{"$error":"#VALUE!"},{"$f":"($Z65*D$65)/1000","v":{"$error":"#VALUE!"}},{"$error":"#VALUE!"},{"$error":"#VALUE!"},{"$f":"($AA65*D$65)/1000","v":{"$error":"#VALUE!"}},{"$error":"#VALUE!"},{"$error":"#VALUE!"},{"$f":"($AB65*D$65)/1000","v":{"$error":"#VALUE!"}},{"$error":"#VALUE!"},{"$error":"#VALUE!"},{"$f":"($AC65*D$65)/1000","v":{"$error":"#VALUE!"}},{"$error":"#VALUE!"},{"$error":"#VALUE!"},{"$f":"($AD65*D$65)/1000","v":{"$error":"#VALUE!"}},{"$error":"#VALUE!"},{"$error":"#VALUE!"},null,0,{"$f":"$AZ$65*$Y65","v":0},{"$f":"($AZ$65*$BN65*D$65*$Y65)/1000","v":{"$error":"#VALUE!"}},{"$error":"#VALUE!"},{"$error":"#VALUE!"},{"$f":"($AZ$65*$BO65*D$65*$Y65)/1000","v":{"$error":"#VALUE!"}},{"$error":"#VALUE!"},{"$error":"#VALUE!"},{"$f":"($AZ$65*$BP65*D$65*$Y65)/1000","v":{"$error":"#VALUE!"}},{"$error":"#VALUE!"},{"$error":"#VALUE!"},{"$f":"($AZ$65*$BQ65*D$65*$Y65)/1000","v":{"$error":"#VALUE!"}},{"$error":"#VALUE!"},{"$error":"#VALUE!"},{"$f":"($AZ$65*$BR65*D$65*$Y65)/1000","v":{"$error":"#VALUE!"}},{"$error":"#VALUE!"},{"$error":"#VALUE!"},{"$f":"($AZ$65*$BS65*D$65*$Y65)/1000","v":{"$error":"#VALUE!"}},{"$error":"#VALUE!"},{"$error":"#VALUE!"},{"$f":"($AZ$65*$BT65*D$65*$Y65)/1000","v":{"$error":"#VALUE!"}},{"$error":"#VALUE!"},{"$error":"#VALUE!"},{"$f":"($AZ$65*$BU65*D$65*$Y65)/1000","v":{"$error":"#VALUE!"}},{"$error":"#VALUE!"},{"$error":"#VALUE!"},{"$f":"($AZ$65*$BV65*D$65*$Y65)/1000","v":{"$error":"#VALUE!"}},{"$error":"#VALUE!"},{"$error":"#VALUE!"},{"$f":"($AZ$65*$BW65*D$65*$Y65)/1000","v":{"$error":"#VALUE!"}},{"$error":"#VALUE!"},{"$error":"#VALUE!"},{"$f":"($AZ$65*$BX65*D$65*$Y65)/1000","v":{"$error":"#VALUE!"}},{"$error":"#VALUE!"},{"$error":"#VALUE!"},0,{"$f":"$AZ$65*$Z65","v":0},{"$f":"($AZ$65*$BY65*D$65*$Z65)/1000","v":{"$error":"#VALUE!"}},{"$error":"#VALUE!"},{"$error":"#VALUE!"},{"$f":"($AZ$65*$BZ65*D$65*$Z65)/1000","v":{"$error":"#VALUE!"}},{"$error":"#VALUE!"},{"$error":"#VALUE!"},{"$f":"($AZ$65*$CA65*D$65*$Z65)/1000","v":{"$error":"#VALUE!"}},{"$error":"#VALUE!"},{"$error":"#VALUE!"},{"$f":"($AZ$65*$CB65*D$65*$Z65)/1000","v":{"$error":"#VALUE!"}},{"$error":"#VALUE!"},{"$error":"#VALUE!"},{"$f":"($AZ$65*$CD65*D$65*$Z65)/1000","v":{"$error":"#VALUE!"}},{"$error":"#VALUE!"},{"$error":"#VALUE!"},{"$f":"($AZ$65*$CD65*D$65*$Z65)/1000","v":{"$error":"#VALUE!"}},{"$error":"#VALUE!"},{"$error":"#VALUE!"},{"$f":"($AZ$65*$CE65*D$65*$Z65)/1000","v":{"$error":"#VALUE!"}},{"$error":"#VALUE!"},{"$error":"#VALUE!"},{"$f":"($AZ$65*$CF65*D$65*$Z65)/1000","v":{"$error":"#VALUE!"}},{"$error":"#VALUE!"},{"$error":"#VALUE!"},{"$f":"($AZ$65*$CG65*D$65*$Z65)/1000","v":{"$error":"#VALUE!"}},{"$error":"#VALUE!"},{"$error":"#VALUE!"},{"$f":"($AZ$65*$CH65*D$65*$Z65)/1000","v":{"$error":"#VALUE!"}},{"$error":"#VALUE!"},{"$error":"#VALUE!"},{"$f":"($AZ$65*$CI65*D$65*$Z65)/1000","v":{"$error":"#VALUE!"}},{"$error":"#VALUE!"},{"$error":"#VALUE!"},0,{"$f":"$AZ$65*$AA65","v":0},{"$f":"($AZ$65*$CJ65*D$65*$AA65)/1000","v":{"$error":"#VALUE!"}},{"$error":"#VALUE!"},{"$error":"#VALUE!"},{"$f":"($AZ$65*$CK65*D$65*$AA65)/1000","v":{"$error":"#VALUE!"}},{"$error":"#VALUE!"},{"$error":"#VALUE!"},{"$f":"($AZ$65*$CL65*D$65*$AA65)/1000","v":{"$error":"#VALUE!"}},{"$error":"#VALUE!"},{"$error":"#VALUE!"},{"$f":"($AZ$65*$CM65*D$65*$AA65)/1000","v":{"$error":"#VALUE!"}},{"$error":"#VALUE!"},{"$error":"#VALUE!"},{"$f":"($AZ$65*$CN65*D$65*$AA65)/1000","v":{"$error":"#VALUE!"}},{"$error":"#VALUE!"},{"$error":"#VALUE!"},{"$f":"($AZ$65*$CO65*D$65*$AA65)/1000","v":{"$error":"#VALUE!"}},{"$error":"#VALUE!"},{"$error":"#VALUE!"},{"$f":"($AZ$65*$CP65*D$65*$AA65)/1000","v":{"$error":"#VALUE!"}},{"$error":"#VALUE!"},{"$error":"#VALUE!"},{"$f":"($AZ$65*$CQ65*D$65*$AA65)/1000","v":{"$error":"#VALUE!"}},{"$error":"#VALUE!"},{"$error":"#VALUE!"},{"$f":"($AZ$65*$CR65*D$65*$AA65)/1000","v":{"$error":"#VALUE!"}},{"$error":"#VALUE!"},{"$error":"#VALUE!"},{"$f":"($AZ$65*$CS65*D$65*$AA65)/1000","v":{"$error":"#VALUE!"}},{"$error":"#VALUE!"},{"$error":"#VALUE!"},{"$f":"($AZ$65*$CT65*D$65*$AA65)/1000","v":{"$error":"#VALUE!"}},{"$error":"#VALUE!"},{"$error":"#VALUE!"},0,{"$f":"$AZ$65*$AB65","v":0},{"$f":"($AZ$65*$CU65*D$65*$AB65)/1000","v":{"$error":"#VALUE!"}},{"$error":"#VALUE!"},{"$error":"#VALUE!"},{"$f":"($AZ$65*$CV65*D$65*$AB65)/1000","v":{"$error":"#VALUE!"}},{"$error":"#VALUE!"},{"$error":"#VALUE!"},{"$f":"($AZ$65*$CW65*D$65*$AB65)/1000","v":{"$error":"#VALUE!"}},{"$error":"#VALUE!"},{"$error":"#VALUE!"},{"$f":"($AZ$65*$CX65*D$65*$AB65)/1000","v":{"$error":"#VALUE!"}},{"$error":"#VALUE!"},{"$error":"#VALUE!"},{"$f":"($AZ$65*$CY65*D$65*$AB65)/1000","v":{"$error":"#VALUE!"}},{"$error":"#VALUE!"},{"$error":"#VALUE!"},{"$f":"($AZ$65*$CZ65*D$65*$AB65)/1000","v":{"$error":"#VALUE!"}},{"$error":"#VALUE!"},{"$error":"#VALUE!"},{"$f":"($AZ$65*$DA65*D$65*$AB65)/1000","v":{"$error":"#VALUE!"}},{"$error":"#VALUE!"},{"$error":"#VALUE!"},{"$f":"($AZ$65*$DB65*D$65*$AB65)/1000","v":{"$error":"#VALUE!"}},{"$error":"#VALUE!"},{"$error":"#VALUE!"},{"$f":"($AZ$65*$DC65*D$65*$AB65)/1000","v":{"$error":"#VALUE!"}},{"$error":"#VALUE!"},{"$error":"#VALUE!"},{"$f":"($AZ$65*$DD65*D$65*$AB65)/1000","v":{"$error":"#VALUE!"}},{"$error":"#VALUE!"},{"$error":"#VALUE!"},{"$f":"($AZ$65*$DE65*D$65*$AB65)/1000","v":{"$error":"#VALUE!"}},{"$error":"#VALUE!"},{"$error":"#VALUE!"},0,{"$f":"$AZ$65*$AC65","v":0},{"$f":"($AZ$65*$DF65*D$65*$AC65)/1000","v":{"$error":"#VALUE!"}},{"$error":"#VALUE!"},{"$error":"#VALUE!"},{"$f":"($AZ$65*$DG65*D$65*$AC65)/1000","v":{"$error":"#VALUE!"}},{"$error":"#VALUE!"},{"$error":"#VALUE!"},{"$f":"($AZ$65*$DH65*D$65*$AC65)/1000","v":{"$error":"#VALUE!"}},{"$error":"#VALUE!"},{"$error":"#VALUE!"},{"$f":"($AZ$65*$DI65*D$65*$AC65)/1000","v":{"$error":"#VALUE!"}},{"$error":"#VALUE!"},{"$error":"#VALUE!"},{"$f":"($AZ$65*$DJ65*D$65*$AC65)/1000","v":{"$error":"#VALUE!"}},{"$error":"#VALUE!"},{"$error":"#VALUE!"},{"$f":"($AZ$65*$DK65*D$65*$AC65)/1000","v":{"$error":"#VALUE!"}},{"$error":"#VALUE!"},{"$error":"#VALUE!"},{"$f":"($AZ$65*$DL65*D$65*$AC65)/1000","v":{"$error":"#VALUE!"}},{"$error":"#VALUE!"},{"$error":"#VALUE!"},{"$f":"($AZ$65*$DM65*D$65*$AC65)/1000","v":{"$error":"#VALUE!"}},{"$error":"#VALUE!"},{"$error":"#VALUE!"},{"$f":"($AZ$65*$DN65*D$65*$AC65)/1000","v":{"$error":"#VALUE!"}},{"$error":"#VALUE!"},{"$error":"#VALUE!"},{"$f":"($AZ$65*$DO65*D$65*$AC65)/1000","v":{"$error":"#VALUE!"}},{"$error":"#VALUE!"},{"$error":"#VALUE!"},{"$f":"($AZ$65*$DP65*D$65*$AC65)/1000","v":{"$error":"#VALUE!"}},{"$error":"#VALUE!"},{"$error":"#VALUE!"},0,{"$f":"$AZ$65*$AD65","v":0},{"$f":"($AZ$65*$DQ65*D$65*$AD65)/1000","v":{"$error":"#VALUE!"}},{"$error":"#VALUE!"},{"$error":"#VALUE!"},{"$f":"($AZ$65*$DR65*D$65*$AD65)/1000","v":{"$error":"#VALUE!"}},{"$error":"#VALUE!"},{"$error":"#VALUE!"},{"$f":"($AZ$65*$DS65*D$65*$AD65)/1000","v":{"$error":"#VALUE!"}},{"$error":"#VALUE!"},{"$error":"#VALUE!"},{"$f":"($AZ$65*$DT65*D$65*$AD65)/1000","v":{"$error":"#VALUE!"}},{"$error":"#VALUE!"},{"$error":"#VALUE!"},{"$f":"($AZ$65*$DU65*D$65*$AD65)/1000","v":{"$error":"#VALUE!"}},{"$error":"#VALUE!"},{"$error":"#VALUE!"},{"$f":"($AZ$65*$DV65*D$65*$AD65)/1000","v":{"$error":"#VALUE!"}},{"$error":"#VALUE!"},{"$error":"#VALUE!"},{"$f":"($AZ$65*$DW65*D$65*$AD65)/1000","v":{"$error":"#VALUE!"}},{"$error":"#VALUE!"},{"$error":"#VALUE!"},{"$f":"($AZ$65*$DX65*D$65*$AD65)/1000","v":{"$error":"#VALUE!"}},{"$error":"#VALUE!"},{"$error":"#VALUE!"},{"$f":"($AZ$65*$DY65*D$65*$AD65)/1000","v":{"$error":"#VALUE!"}},{"$error":"#VALUE!"},{"$error":"#VALUE!"},{"$f":"($AZ$65*$DZ65*D$65*$AD65)/1000","v":{"$error":"#VALUE!"}},{"$error":"#VALUE!"},{"$error":"#VALUE!"},{"$f":"($AZ$65*$EA65*D$65*$AD65)/1000","v":{"$error":"#VALUE!"}},{"$error":"#VALUE!"},{"$error":"#VALUE!"}]
[null,null,null,null,null,null,null,null,null,null,null,null,null,null,null,null,null,null,null,null,null,null,null,2,null,null,null,null,null,null,null,null,null,"N/A",null,false,null,null,null,null,2,null,null,null,null,null,null,null,null,null,null,null,{"$f":"IF(AND(BB66=\"OK\",BC66=\"OK\",BD66=\"OK\"),\"OK\",\"ERR!\")","v":"OK"},"OK",{"$f":"IF(OR(SUM(BN66:BX66)<>1,SUM(BY66:CI66)<>1,SUM(CJ66:CT66)<>1,SUM(CU66:DE66)<>1,SUM(DF66:DP66)<>1,SUM(DQ66:EA66)<>1),\"ERR!\",\"OK\")","v":"OK"},{"$f":"IF(AND(OR(BE66=BK66,BE66=0),OR(BF66=BK66,BF66=0),OR(BG66=BK66,BG66=0),OR(BH66=BK66,BH66=0),OR(BI66=BK66,BI66=0),OR(BJ66=BK66,BJ66=0)),\"OK\",\"ERR!\")","v":"OK"},{"$f":"(BN66*POWER(10,0)+BO66*POWER(10,1)+BP66*POWER(10,2)+BQ66*POWER(10,3)+BR66*POWER(10,4)+BS66*POWER(10,5)+BT66*POWER(10,6)+BU66*POWER(10,7)+BV66*POWER(10,8)+BW66*POWER(10,9)+BX66*POWER(10,10))","v":1000},{"$f":"(BY66*POWER(10,0)+BZ66*POWER(10,1)+CA66*POWER(10,2)+CB66*POWER(10,3)+CC66*POWER(10,4)+CD66*POWER(10,5)+CE66*POWER(10,6)+CF66*POWER(10,7)+CG66*POWER(10,8)+CH66*POWER(10,9)+CI66*POWER(10,10))","v":1000},{"$f":"(CJ66*POWER(10,0)+CK66*POWER(10,1)+CL66*POWER(10,2)+CM66*POWER(10,3)+CN66*POWER(10,4)+CO66*POWER(10,5)+CP66*POWER(10,6)+CQ66*POWER(10,7)+CR66*POWER(10,8)+CS66*POWER(10,9)+CT66*POWER(10,10))","v":1000},{"$f":"(CU66*POWER(10,0)+CV66*POWER(10,1)+CW66*POWER(10,2)+CX66*POWER(10,3)+CY66*POWER(10,4)+CZ66*POWER(10,5)+DA66*POWER(10,6)+DB66*POWER(10,7)+DC66*POWER(10,8)+DD66*POWER(10,9)+DE66*POWER(10,10))","v":1000},{"$f":"(DF66*POWER(10,0)+DG66*POWER(10,1)+DH66*POWER(10,2)+DI66*POWER(10,3)+DJ66*POWER(10,4)+DK66*POWER(10,5)+DL66*POWER(10,6)+DM66*POWER(10,7)+DN66*POWER(10,8)+DO66*POWER(10,9)+DP66*POWER(10,10))","v":1000},{"$f":"(DQ66*POWER(10,0)+DR66*POWER(10,1)+DS66*POWER(10,2)+DT66*POWER(10,3)+DU66*POWER(10,4)+DV66*POWER(10,5)+DW66*POWER(10,6)+DX66*POWER(10,7)+DY66*POWER(10,8)+DZ66*POWER(10,9)+EA66*POWER(10,10))","v":1000},{"$f":"MAX(BE66:BJ66)","v":1000},null,2,null,null,null,1,null,null,null,null,null,null,null,null,null,null,1,null,null,null,null,null,null,null,null,null,null,1,null,null,null,null,null,null,null,null,null,null,1,null,null,null,null,null,null,null,null,null,null,1,null,null,null,null,null,null,null,null,null,null,1,null,null,null,null,null,null,null,null,2,{"$error":"#VALUE!"},{"$error":"#VALUE!"},{"$error":"#VALUE!"},{"$error":"#VALUE!"},{"$error":"#VALUE!"},{"$error":"#VALUE!"},{"$error":"#VALUE!"},{"$error":"#VALUE!"},{"$error":"#VALUE!"},{"$error":"#VALUE!"},{"$error":"#VALUE!"},{"$error":"#VALUE!"},{"$error":"#VALUE!"},{"$error":"#VALUE!"},{"$error":"#VALUE!"},{"$error":"#VALUE!"},{"$error":"#VALUE!"},{"$error":"#VALUE!"},null,2,0,{"$error":"#VALUE!"},{"$error":"#VALUE!"},{"$error":"#VALUE!"},{"$error":"#VALUE!"},{"$error":"#VALUE!"},{"$error":"#VALUE!"},{"$error":"#VALUE!"},{"$error":"#VALUE!"},{"$error":"#VALUE!"},{"$error":"#VALUE!"},{"$error":"#VALUE!"},{"$error":"#VALUE!"},{"$error":"#VALUE!"},{"$error":"#VALUE!"},{"$error":"#VALUE!"},{"$error":"#VALUE!"},{"$error":"#VALUE!"},{"$error":"#VALUE!"},{"$error":"#VALUE!"},{"$error":"#VALUE!"},{"$error":"#VALUE!"},{"$error":"#VALUE!"},{"$error":"#VALUE!"},{"$error":"#VALUE!"},{"$error":"#VALUE!"},{"$error":"#VALUE!"},{"$error":"#VALUE!"},{"$error":"#VALUE!"},{"$error":"#VALUE!"},{"$error":"#VALUE!"},{"$error":"#VALUE!"},{"$error":"#VALUE!"},{"$error":"#VALUE!"},2,0,{"$error":"#VALUE!"},{"$error":"#VALUE!"},{"$error":"#VALUE!"},{"$error":"#VALUE!"},{"$error":"#VALUE!"},{"$error":"#VALUE!"},{"$error":"#VALUE!"},{"$error":"#VALUE!"},{"$error":"#VALUE!"},{"$error":"#VALUE!"},{"$error":"#VALUE!"},{"$error":"#VALUE!"},{"$error":"#VALUE!"},{"$error":"#VALUE!"},{"$error":"#VALUE!"},{"$error":"#VALUE!"},{"$error":"#VALUE!"},{"$error":"#VALUE!"},{"$error":"#VALUE!"},{"$error":"#VALUE!"},{"$error":"#VALUE!"},{"$error":"#VALUE!"},{"$error":"#VALUE!"},{"$error":"#VALUE!"},{"$error":"#VALUE!"},{"$error":"#VALUE!"},{"$error":"#VALUE!"},{"$error":"#VALUE!"},{"$error":"#VALUE!"},{"$error":"#VALUE!"},{"$error":"#VALUE!"},{"$error":"#VALUE!"},{"$error":"#VALUE!"},2,0,{"$error":"#VALUE!"},{"$error":"#VALUE!"},{"$error":"#VALUE!"},{"$error":"#VALUE!"},{"$error":"#VALUE!"},{"$error":"#VALUE!"},{"$error":"#VALUE!"},{"$error":"#VALUE!"},{"$error":"#VALUE!"},{"$error":"#VALUE!"},{"$error":"#VALUE!"},{"$error":"#VALUE!"},{"$error":"#VALUE!"},{"$error":"#VALUE!"},{"$error":"#VALUE!"},{"$error":"#VALUE!"},{"$error":"#VALUE!"},{"$error":"#VALUE!"},{"$error":"#VALUE!"},{"$error":"#VALUE!"},{"$error":"#VALUE!"},{"$error":"#VALUE!"},{"$error":"#VALUE!"},{"$error":"#VALUE!"},{"$error":"#VALUE!"},{"$error":"#VALUE!"},{"$error":"#VALUE!"},{"$error":"#VALUE!"},{"$error":"#VALUE!"},{"$error":"#VALUE!"},{"$error":"#VALUE!"},{"$error":"#VALUE!"},{"$error":"#VALUE!"},2,0,{"$error":"#VALUE!"},{"$error":"#VALUE!"},{"$error":"#VALUE!"},{"$error":"#VALUE!"},{"$error":"#VALUE!"},{"$error":"#VALUE!"},{"$error":"#VALUE!"},{"$error":"#VALUE!"},{"$error":"#VALUE!"},{"$error":"#VALUE!"},{"$error":"#VALUE!"},{"$error":"#VALUE!"},{"$error":"#VALUE!"},{"$error":"#VALUE!"},{"$error":"#VALUE!"},{"$error":"#VALUE!"},{"$error":"#VALUE!"},{"$error":"#VALUE!"},{"$error":"#VALUE!"},{"$error":"#VALUE!"},{"$error":"#VALUE!"},{"$error":"#VALUE!"},{"$error":"#VALUE!"},{"$error":"#VALUE!"},{"$error":"#VALUE!"},{"$error":"#VALUE!"},{"$error":"#VALUE!"},{"$error":"#VALUE!"},{"$error":"#VALUE!"},{"$error":"#VALUE!"},{"$error":"#VALUE!"},{"$error":"#VALUE!"},{"$error":"#VALUE!"},2,0,{"$error":"#VALUE!"},{"$error":"#VALUE!"},{"$error":"#VALUE!"},{"$error":"#VALUE!"},{"$error":"#VALUE!"},{"$error":"#VALUE!"},{"$error":"#VALUE!"},{"$error":"#VALUE!"},{"$error":"#VALUE!"},{"$error":"#VALUE!"},{"$error":"#VALUE!"},{"$error":"#VALUE!"},{"$error":"#VALUE!"},{"$error":"#VALUE!"},{"$error":"#VALUE!"},{"$error":"#VALUE!"},{"$error":"#VALUE!"},{"$error":"#VALUE!"},{"$error":"#VALUE!"},{"$error":"#VALUE!"},{"$error":"#VALUE!"},{"$error":"#VALUE!"},{"$error":"#VALUE!"},{"$error":"#VALUE!"},{"$error":"#VALUE!"},{"$error":"#VALUE!"},{"$error":"#VALUE!"},{"$error":"#VALUE!"},{"$error":"#VALUE!"},{"$error":"#VALUE!"},{"$error":"#VALUE!"},{"$error":"#VALUE!"},{"$error":"#VALUE!"},2,0,{"$error":"#VALUE!"},{"$error":"#VALUE!"},{"$error":"#VALUE!"},{"$error":"#VALUE!"},{"$error":"#VALUE!"},{"$error":"#VALUE!"},{"$error":"#VALUE!"},{"$error":"#VALUE!"},{"$error":"#VALUE!"},{"$error":"#VALUE!"},{"$error":"#VALUE!"},{"$error":"#VALUE!"},{"$error":"#VALUE!"},{"$error":"#VALUE!"},{"$error":"#VALUE!"},{"$error":"#VALUE!"},{"$error":"#VALUE!"},{"$error":"#VALUE!"},{"$error":"#VALUE!"},{"$error":"#VALUE!"},{"$error":"#VALUE!"},{"$error":"#VALUE!"},{"$error":"#VALUE!"},{"$error":"#VALUE!"},{"$error":"#VALUE!"},{"$error":"#VALUE!"},{"$error":"#VALUE!"},{"$error":"#VALUE!"},{"$error":"#VALUE!"},{"$error":"#VALUE!"},{"$error":"#VALUE!"},{"$error":"#VALUE!"},{"$error":"#VALUE!"}]
[null,null,null,null,null,null,null,null,null,null,null,null,null,null,null,null,null,null,null,null,null,null,null,3,null,null,null,null,null,null,null,null,null,"N/A",null,false,null,null,null,null,3,null,null,null,null,null,null,null,null,null,null,null,{"$f":"IF(AND(BB67=\"OK\",BC67=\"OK\",BD67=\"OK\"),\"OK\",\"ERR!\")","v":"OK"},"OK",{"$f":"IF(OR(SUM(BN67:BX67)<>1,SUM(BY67:CI67)<>1,SUM(CJ67:CT67)<>1,SUM(CU67:DE67)<>1,SUM(DF67:DP67)<>1,SUM(DQ67:EA67)<>1),\"ERR!\",\"OK\")","v":"OK"},{"$f":"IF(AND(OR(BE67=BK67,BE67=0),OR(BF67=BK67,BF67=0),OR(BG67=BK67,BG67=0),OR(BH67=BK67,BH67=0),OR(BI67=BK67,BI67=0),OR(BJ67=BK67,BJ67=0)),\"OK\",\"ERR!\")","v":"OK"},1000,1000,1000,1000,1000,1000,{"$f":"MAX(BE67:BJ67)","v":1000},null,3,null,null,null,1,null,null,null,null,null,null,null,null,null,null,1,null,null,null,null,null,null,null,null,null,null,1,null,null,null,null,null,null,null,null,null,null,1,null,null,null,null,null,null,null,null,null,null,1,null,null,null,null,null,null,null,null,null,null,1,null,null,null,null,null,null,null,null,3,{"$error":"#VALUE!"},{"$error":"#VALUE!"},{"$error":"#VALUE!"},{"$error":"#VALUE!"},{"$error":"#VALUE!"},{"$error":"#VALUE!"},{"$error":"#VALUE!"},{"$error":"#VALUE!"},{"$error":"#VALUE!"},{"$error":"#VALUE!"},{"$error":"#VALUE!"},{"$error":"#VALUE!"},{"$error":"#VALUE!"},{"$error":"#VALUE!"},{"$error":"#VALUE!"},{"$error":"#VALUE!"},{"$error":"#VALUE!"},{"$error":"#VALUE!"},null,3,0,{"$error":"#VALUE!"},{"$error":"#VALUE!"},{"$error":"#VALUE!"},{"$error":"#VALUE!"},{"$error":"#VALUE!"},{"$error":"#VALUE!"},{"$error":"#VALUE!"},{"$error":"#VALUE!"},{"$error":"#VALUE!"},{"$error":"#VALUE!"},{"$error":"#VALUE!"},{"$error":"#VALUE!"},{"$error":"#VALUE!"},{"$error":"#VALUE!"},{"$error":"#VALUE!"},{"$error":"#VALUE!"},{"$error":"#VALUE!"},{"$error":"#VALUE!"},{"$error":"#VALUE!"},{"$error":"#VALUE!"},{"$error":"#VALUE!"},{"$error":"#VALUE!"},{"$error":"#VALUE!"},{"$error":"#VALUE!"},{"$error":"#VALUE!"},{"$error":"#VALUE!"},{"$error":"#VALUE!"},{"$error":"#VALUE!"},{"$error":"#VALUE!"},{"$error":"#VALUE!"},{"$error":"#VALUE!"},{"$error":"#VALUE!"},{"$error":"#VALUE!"},3,0,{"$error":"#VALUE!"},{"$error":"#VALUE!"},{"$error":"#VALUE!"},{"$error":"#VALUE!"},{"$error":"#VALUE!"},{"$error":"#VALUE!"},{"$error":"#VALUE!"},{"$error":"#VALUE!"},{"$error":"#VALUE!"},{"$error":"#VALUE!"},{"$error":"#VALUE!"},{"$error":"#VALUE!"},{"$error":"#VALUE!"},{"$error":"#VALUE!"},{"$error":"#VALUE!"},{"$error":"#VALUE!"},{"$error":"#VALUE!"},{"$error":"#VALUE!"},{"$error":"#VALUE!"},{"$error":"#VALUE!"},{"$error":"#VALUE!"},{"$error":"#VALUE!"},{"$error":"#VALUE!"},{"$error":"#VALUE!"},{"$error":"#VALUE!"},{"$error":"#VALUE!"},{"$error":"#VALUE!"},{"$error":"#VALUE!"},{"$error":"#VALUE!"},{"$error":"#VALUE!"},{"$error":"#VALUE!"},{"$error":"#VALUE!"},{"$error":"#VALUE!"},3,0,{"$error":"#VALUE!"},{"$error":"#VALUE!"},{"$error":"#VALUE!"},{"$error":"#VALUE!"},{"$error":"#VALUE!"},{"$error":"#VALUE!"},{"$error":"#VALUE!"},{"$error":"#VALUE!"},{"$error":"#VALUE!"},{"$error":"#VALUE!"},{"$error":"#VALUE!"},{"$error":"#VALUE!"},{"$error":"#VALUE!"},{"$error":"#VALUE!"},{"$error":"#VALUE!"},{"$error":"#VALUE!"},{"$error":"#VALUE!"},{"$error":"#VALUE!"},{"$error":"#VALUE!"},{"$error":"#VALUE!"},{"$error":"#VALUE!"},{"$error":"#VALUE!"},{"$error":"#VALUE!"},{"$error":"#VALUE!"},{"$error":"#VALUE!"},{"$error":"#VALUE!"},{"$error":"#VALUE!"},{"$error":"#VALUE!"},{"$error":"#VALUE!"},{"$error":"#VALUE!"},{"$error":"#VALUE!"},{"$error":"#VALUE!"},{"$error":"#VALUE!"},3,0,{"$error":"#VALUE!"},{"$error":"#VALUE!"},{"$error":"#VALUE!"},{"$error":"#VALUE!"},{"$error":"#VALUE!"},{"$error":"#VALUE!"},{"$error":"#VALUE!"},{"$error":"#VALUE!"},{"$error":"#VALUE!"},{"$error":"#VALUE!"},{"$error":"#VALUE!"},{"$error":"#VALUE!"},{"$error":"#VALUE!"},{"$error":"#VALUE!"},{"$error":"#VALUE!"},{"$error":"#VALUE!"},{"$error":"#VALUE!"},{"$error":"#VALUE!"},{"$error":"#VALUE!"},{"$error":"#VALUE!"},{"$error":"#VALUE!"},{"$error":"#VALUE!"},{"$error":"#VALUE!"},{"$error":"#VALUE!"},{"$error":"#VALUE!"},{"$error":"#VALUE!"},{"$error":"#VALUE!"},{"$error":"#VALUE!"},{"$error":"#VALUE!"},{"$error":"#VALUE!"},{"$error":"#VALUE!"},{"$error":"#VALUE!"},{"$error":"#VALUE!"},3,0,{"$error":"#VALUE!"},{"$error":"#VALUE!"},{"$error":"#VALUE!"},{"$error":"#VALUE!"},{"$error":"#VALUE!"},{"$error":"#VALUE!"},{"$error":"#VALUE!"},{"$error":"#VALUE!"},{"$error":"#VALUE!"},{"$error":"#VALUE!"},{"$error":"#VALUE!"},{"$error":"#VALUE!"},{"$error":"#VALUE!"},{"$error":"#VALUE!"},{"$error":"#VALUE!"},{"$error":"#VALUE!"},{"$error":"#VALUE!"},{"$error":"#VALUE!"},{"$error":"#VALUE!"},{"$error":"#VALUE!"},{"$error":"#VALUE!"},{"$error":"#VALUE!"},{"$error":"#VALUE!"},{"$error":"#VALUE!"},{"$error":"#VALUE!"},{"$error":"#VALUE!"},{"$error":"#VALUE!"},{"$error":"#VALUE!"},{"$error":"#VALUE!"},{"$error":"#VALUE!"},{"$error":"#VALUE!"},{"$error":"#VALUE!"},{"$error":"#VALUE!"},3,0,{"$error":"#VALUE!"},{"$error":"#VALUE!"},{"$error":"#VALUE!"},{"$error":"#VALUE!"},{"$error":"#VALUE!"},{"$error":"#VALUE!"},{"$error":"#VALUE!"},{"$error":"#VALUE!"},{"$error":"#VALUE!"},{"$error":"#VALUE!"},{"$error":"#VALUE!"},{"$error":"#VALUE!"},{"$error":"#VALUE!"},{"$error":"#VALUE!"},{"$error":"#VALUE!"},{"$error":"#VALUE!"},{"$error":"#VALUE!"},{"$error":"#VALUE!"},{"$error":"#VALUE!"},{"$error":"#VALUE!"},{"$error":"#VALUE!"},{"$error":"#VALUE!"},{"$error":"#VALUE!"},{"$error":"#VALUE!"},{"$error":"#VALUE!"},{"$error":"#VALUE!"},{"$error":"#VALUE!"},{"$error":"#VALUE!"},{"$error":"#VALUE!"},{"$error":"#VALUE!"},{"$error":"#VALUE!"},{"$error":"#VALUE!"},{"$error":"#VALUE!"}]
[null,null,null,null,null,null,null,null,null,null,null,null,null,null,null,null,null,null,null,null,null,null,null,4,null,null,null,null,null,null,null,null,null,"N/A",null,false,null,null,null,null,4,null,null,null,null,null,null,null,null,null,null,null,{"$f":"IF(AND(BB68=\"OK\",BC68=\"OK\",BD68=\"OK\"),\"OK\",\"ERR!\")","v":"OK"},"OK","OK",{"$f":"IF(AND(OR(BE68=BK68,BE68=0),OR(BF68=BK68,BF68=0),OR(BG68=BK68,BG68=0),OR(BH68=BK68,BH68=0),OR(BI68=BK68,BI68=0),OR(BJ68=BK68,BJ68=0)),\"OK\",\"ERR!\")","v":"OK"},1000,1000,1000,1000,1000,1000,1000,null,4,null,null,null,1,null,null,null,null,null,null,null,null,null,null,1,null,null,null,null,null,null,null,null,null,null,1,null,null,null,null,null,null,null,null,null,null,1,null,null,null,null,null,null,null,null,null,null,1,null,null,null,null,null,null,null,null,null,null,1,null,null,null,null,null,null,null,null,4,{"$error":"#VALUE!"},{"$error":"#VALUE!"},{"$error":"#VALUE!"},{"$error":"#VALUE!"},{"$error":"#VALUE!"},{"$error":"#VALUE!"},{"$error":"#VALUE!"},{"$error":"#VALUE!"},{"$error":"#VALUE!"},{"$error":"#VALUE!"},{"$error":"#VALUE!"},{"$error":"#VALUE!"},{"$error":"#VALUE!"},{"$error":"#VALUE!"},{"$error":"#VALUE!"},{"$error":"#VALUE!"},{"$error":"#VALUE!"},{"$error":"#VALUE!"},null,4,0,{"$error":"#VALUE!"},{"$error":"#VALUE!"},{"$error":"#VALUE!"},{"$error":"#VALUE!"},{"$error":"#VALUE!"},{"$error":"#VALUE!"},{"$error":"#VALUE!"},{"$error":"#VALUE!"},{"$error":"#VALUE!"},{"$error":"#VALUE!"},{"$error":"#VALUE!"},{"$error":"#VALUE!"},{"$error":"#VALUE!"},{"$error":"#VALUE!"},{"$error":"#VALUE!"},{"$error":"#VALUE!"},{"$error":"#VALUE!"},{"$error":"#VALUE!"},{"$error":"#VALUE!"},{"$error":"#VALUE!"},{"$error":"#VALUE!"},{"$error":"#VALUE!"},{"$error":"#VALUE!"},{"$error":"#VALUE!"},{"$error":"#VALUE!"},{"$error":"#VALUE!"},{"$error":"#VALUE!"},{"$error":"#VALUE!"},{"$error":"#VALUE!"},{"$error":"#VALUE!"},{"$error":"#VALUE!"},{"$error":"#VALUE!"},{"$error":"#VALUE!"},4,0,{"$error":"#VALUE!"},{"$error":"#VALUE!"},{"$error":"#VALUE!"},{"$error":"#VALUE!"},{"$error":"#VALUE!"},{"$error":"#VALUE!"},{"$error":"#VALUE!"},{"$error":"#VALUE!"},{"$error":"#VALUE!"},{"$error":"#VALUE!"},{"$error":"#VALUE!"},{"$error":"#VALUE!"},{"$error":"#VALUE!"},{"$error":"#VALUE!"},{"$error":"#VALUE!"},{"$error":"#VALUE!"},{"$error":"#VALUE!"},{"$error":"#VALUE!"},{"$error":"#VALUE!"},{"$error":"#VALUE!"},{"$error":"#VALUE!"},{"$error":"#VALUE!"},{"$error":"#VALUE!"},{"$error":"#VALUE!"},{"$error":"#VALUE!"},{"$error":"#VALUE!"},{"$error":"#VALUE!"},{"$error":"#VALUE!"},{"$error":"#VALUE!"},{"$error":"#VALUE!"},{"$error":"#VALUE!"},{"$error":"#VALUE!"},{"$error":"#VALUE!"},4,0,{"$error":"#VALUE!"},{"$error":"#VALUE!"},{"$error":"#VALUE!"},{"$error":"#VALUE!"},{"$error":"#VALUE!"},{"$error":"#VALUE!"},{"$error":"#VALUE!"},{"$error":"#VALUE!"},{"$error":"#VALUE!"},{"$error":"#VALUE!"},{"$error":"#VALUE!"},{"$error":"#VALUE!"},{"$error":"#VALUE!"},{"$error":"#VALUE!"},{"$error":"#VALUE!"},{"$error":"#VALUE!"},{"$error":"#VALUE!"},{"$error":"#VALUE!"},{"$error":"#VALUE!"},{"$error":"#VALUE!"},{"$error":"#VALUE!"},{"$error":"#VALUE!"},{"$error":"#VALUE!"},{"$error":"#VALUE!"},{"$error":"#VALUE!"},{"$error":"#VALUE!"},{"$error":"#VALUE!"},{"$error":"#VALUE!"},{"$error":"#VALUE!"},{"$error":"#VALUE!"},{"$error":"#VALUE!"},{"$error":"#VALUE!"},{"$error":"#VALUE!"},4,0,{"$error":"#VALUE!"},{"$error":"#VALUE!"},{"$error":"#VALUE!"},{"$error":"#VALUE!"},{"$error":"#VALUE!"},{"$error":"#VALUE!"},{"$error":"#VALUE!"},{"$error":"#VALUE!"},{"$error":"#VALUE!"},{"$error":"#VALUE!"},{"$error":"#VALUE!"},{"$error":"#VALUE!"},{"$error":"#VALUE!"},{"$error":"#VALUE!"},{"$error":"#VALUE!"},{"$error":"#VALUE!"},{"$error":"#VALUE!"},{"$error":"#VALUE!"},{"$error":"#VALUE!"},{"$error":"#VALUE!"},{"$error":"#VALUE!"},{"$error":"#VALUE!"},{"$error":"#VALUE!"},{"$error":"#VALUE!"},{"$error":"#VALUE!"},{"$error":"#VALUE!"},{"$error":"#VALUE!"},{"$error":"#VALUE!"},{"$error":"#VALUE!"},{"$error":"#VALUE!"},{"$error":"#VALUE!"},{"$error":"#VALUE!"},{"$error":"#VALUE!"},4,0,{"$error":"#VALUE!"},{"$error":"#VALUE!"},{"$error":"#VALUE!"},{"$error":"#VALUE!"},{"$error":"#VALUE!"},{"$error":"#VALUE!"},{"$error":"#VALUE!"},{"$error":"#VALUE!"},{"$error":"#VALUE!"},{"$error":"#VALUE!"},{"$error":"#VALUE!"},{"$error":"#VALUE!"},{"$error":"#VALUE!"},{"$error":"#VALUE!"},{"$error":"#VALUE!"},{"$error":"#VALUE!"},{"$error":"#VALUE!"},{"$error":"#VALUE!"},{"$error":"#VALUE!"},{"$error":"#VALUE!"},{"$error":"#VALUE!"},{"$error":"#VALUE!"},{"$error":"#VALUE!"},{"$error":"#VALUE!"},{"$error":"#VALUE!"},{"$error":"#VALUE!"},{"$error":"#VALUE!"},{"$error":"#VALUE!"},{"$error":"#VALUE!"},{"$error":"#VALUE!"},{"$error":"#VALUE!"},{"$error":"#VALUE!"},{"$error":"#VALUE!"},4,0,{"$error":"#VALUE!"},{"$error":"#VALUE!"},{"$error":"#VALUE!"},{"$error":"#VALUE!"},{"$error":"#VALUE!"},{"$error":"#VALUE!"},{"$error":"#VALUE!"},{"$error":"#VALUE!"},{"$error":"#VALUE!"},{"$error":"#VALUE!"},{"$error":"#VALUE!"},{"$error":"#VALUE!"},{"$error":"#VALUE!"},{"$error":"#VALUE!"},{"$error":"#VALUE!"},{"$error":"#VALUE!"},{"$error":"#VALUE!"},{"$error":"#VALUE!"},{"$error":"#VALUE!"},{"$error":"#VALUE!"},{"$error":"#VALUE!"},{"$error":"#VALUE!"},{"$error":"#VALUE!"},{"$error":"#VALUE!"},{"$error":"#VALUE!"},{"$error":"#VALUE!"},{"$error":"#VALUE!"},{"$error":"#VALUE!"},{"$error":"#VALUE!"},{"$error":"#VALUE!"},{"$error":"#VALUE!"},{"$error":"#VALUE!"},{"$error":"#VALUE!"}]
[null,null,null,null,null,null,null,null,null,null,null,null,null,null,null,null,null,null,null,null,null,null,null,7,null,null,null,null,null,null,null,null,null,"N/A",null,false,null,null,null,null,7,null,null,null,null,null,null,null,null,null,null,null,{"$f":"IF(AND(BB69=\"OK\",BC69=\"OK\",BD69=\"OK\"),\"OK\",\"ERR!\")","v":"OK"},"OK","OK","OK",1000,1000,1000,1000,1000,1000,1000,null,7,null,null,null,1,null,null,null,null,null,null,null,null,null,null,1,null,null,null,null,null,null,null,null,null,null,1,null,null,null,null,null,null,null,null,null,null,1,null,null,null,null,null,null,null,null,null,null,1,null,null,null,null,null,null,null,null,null,null,1,null,null,null,null,null,null,null,null,7,{"$error":"#VALUE!"},{"$error":"#VALUE!"},{"$error":"#VALUE!"},{"$error":"#VALUE!"},{"$error":"#VALUE!"},{"$error":"#VALUE!"},{"$error":"#VALUE!"},{"$error":"#VALUE!"},{"$error":"#VALUE!"},{"$error":"#VALUE!"},{"$error":"#VALUE!"},{"$error":"#VALUE!"},{"$error":"#VALUE!"},{"$error":"#VALUE!"},{"$error":"#VALUE!"},{"$error":"#VALUE!"},{"$error":"#VALUE!"},{"$error":"#VALUE!"},null,7,0,{"$error":"#VALUE!"},{"$error":"#VALUE!"},{"$error":"#VALUE!"},{"$error":"#VALUE!"},{"$error":"#VALUE!"},{"$error":"#VALUE!"},{"$error":"#VALUE!"},{"$error":"#VALUE!"},{"$error":"#VALUE!"},{"$error":"#VALUE!"},{"$error":"#VALUE!"},{"$error":"#VALUE!"},{"$error":"#VALUE!"},{"$error":"#VALUE!"},{"$error":"#VALUE!"},{"$error":"#VALUE!"},{"$error":"#VALUE!"},{"$error":"#VALUE!"},{"$error":"#VALUE!"},{"$error":"#VALUE!"},{"$error":"#VALUE!"},{"$error":"#VALUE!"},{"$error":"#VALUE!"},{"$error":"#VALUE!"},{"$error":"#VALUE!"},{"$error":"#VALUE!"},{"$error":"#VALUE!"},{"$error":"#VALUE!"},{"$error":"#VALUE!"},{"$error":"#VALUE!"},{"$error":"#VALUE!"},{"$error":"#VALUE!"},{"$error":"#VALUE!"},7,0,{"$error":"#VALUE!"},{"$error":"#VALUE!"},{"$error":"#VALUE!"},{"$error":"#VALUE!"},{"$error":"#VALUE!"},{"$error":"#VALUE!"},{"$error":"#VALUE!"},{"$error":"#VALUE!"},{"$error":"#VALUE!"},{"$error":"#VALUE!"},{"$error":"#VALUE!"},{"$error":"#VALUE!"},{"$error":"#VALUE!"},{"$error":"#VALUE!"},{"$error":"#VALUE!"},{"$error":"#VALUE!"},{"$error":"#VALUE!"},{"$error":"#VALUE!"},{"$error":"#VALUE!"},{"$error":"#VALUE!"},{"$error":"#VALUE!"},{"$error":"#VALUE!"},{"$error":"#VALUE!"},{"$error":"#VALUE!"},{"$error":"#VALUE!"},{"$error":"#VALUE!"},{"$error":"#VALUE!"},{"$error":"#VALUE!"},{"$error":"#VALUE!"},{"$error":"#VALUE!"},{"$error":"#VALUE!"},{"$error":"#VALUE!"},{"$error":"#VALUE!"},7,0,{"$error":"#VALUE!"},{"$error":"#VALUE!"},{"$error":"#VALUE!"},{"$error":"#VALUE!"},{"$error":"#VALUE!"},{"$error":"#VALUE!"},{"$error":"#VALUE!"},{"$error":"#VALUE!"},{"$error":"#VALUE!"},{"$error":"#VALUE!"},{"$error":"#VALUE!"},{"$error":"#VALUE!"},{"$error":"#VALUE!"},{"$error":"#VALUE!"},{"$error":"#VALUE!"},{"$error":"#VALUE!"},{"$error":"#VALUE!"},{"$error":"#VALUE!"},{"$error":"#VALUE!"},{"$error":"#VALUE!"},{"$error":"#VALUE!"},{"$error":"#VALUE!"},{"$error":"#VALUE!"},{"$error":"#VALUE!"},{"$error":"#VALUE!"},{"$error":"#VALUE!"},{"$error":"#VALUE!"},{"$error":"#VALUE!"},{"$error":"#VALUE!"},{"$error":"#VALUE!"},{"$error":"#VALUE!"},{"$error":"#VALUE!"},{"$error":"#VALUE!"},7,0,{"$error":"#VALUE!"},{"$error":"#VALUE!"},{"$error":"#VALUE!"},{"$error":"#VALUE!"},{"$error":"#VALUE!"},{"$error":"#VALUE!"},{"$error":"#VALUE!"},{"$error":"#VALUE!"},{"$error":"#VALUE!"},{"$error":"#VALUE!"},{"$error":"#VALUE!"},{"$error":"#VALUE!"},{"$error":"#VALUE!"},{"$error":"#VALUE!"},{"$error":"#VALUE!"},{"$error":"#VALUE!"},{"$error":"#VALUE!"},{"$error":"#VALUE!"},{"$error":"#VALUE!"},{"$error":"#VALUE!"},{"$error":"#VALUE!"},{"$error":"#VALUE!"},{"$error":"#VALUE!"},{"$error":"#VALUE!"},{"$error":"#VALUE!"},{"$error":"#VALUE!"},{"$error":"#VALUE!"},{"$error":"#VALUE!"},{"$error":"#VALUE!"},{"$error":"#VALUE!"},{"$error":"#VALUE!"},{"$error":"#VALUE!"},{"$error":"#VALUE!"},7,0,{"$error":"#VALUE!"},{"$error":"#VALUE!"},{"$error":"#VALUE!"},{"$error":"#VALUE!"},{"$error":"#VALUE!"},{"$error":"#VALUE!"},{"$error":"#VALUE!"},{"$error":"#VALUE!"},{"$error":"#VALUE!"},{"$error":"#VALUE!"},{"$error":"#VALUE!"},{"$error":"#VALUE!"},{"$error":"#VALUE!"},{"$error":"#VALUE!"},{"$error":"#VALUE!"},{"$error":"#VALUE!"},{"$error":"#VALUE!"},{"$error":"#VALUE!"},{"$error":"#VALUE!"},{"$error":"#VALUE!"},{"$error":"#VALUE!"},{"$error":"#VALUE!"},{"$error":"#VALUE!"},{"$error":"#VALUE!"},{"$error":"#VALUE!"},{"$error":"#VALUE!"},{"$error":"#VALUE!"},{"$error":"#VALUE!"},{"$error":"#VALUE!"},{"$error":"#VALUE!"},{"$error":"#VALUE!"},{"$error":"#VALUE!"},{"$error":"#VALUE!"},7,0,{"$error":"#VALUE!"},{"$error":"#VALUE!"},{"$error":"#VALUE!"},{"$error":"#VALUE!"},{"$error":"#VALUE!"},{"$error":"#VALUE!"},{"$error":"#VALUE!"},{"$error":"#VALUE!"},{"$error":"#VALUE!"},{"$error":"#VALUE!"},{"$error":"#VALUE!"},{"$error":"#VALUE!"},{"$error":"#VALUE!"},{"$error":"#VALUE!"},{"$error":"#VALUE!"},{"$error":"#VALUE!"},{"$error":"#VALUE!"},{"$error":"#VALUE!"},{"$error":"#VALUE!"},{"$error":"#VALUE!"},{"$error":"#VALUE!"},{"$error":"#VALUE!"},{"$error":"#VALUE!"},{"$error":"#VALUE!"},{"$error":"#VALUE!"},{"$error":"#VALUE!"},{"$error":"#VALUE!"},{"$error":"#VALUE!"},{"$error":"#VALUE!"},{"$error":"#VALUE!"},{"$error":"#VALUE!"},{"$error":"#VALUE!"},{"$error":"#VALUE!"}]
[null,null,null,null,null,null,null,null,null,null,null,null,null,null,null,null,null,null,null,null,null,null,null,8,null,null,null,null,null,null,null,null,null,"N/A",null,false,null,null,null,null,8,null,null,null,null,null,null,null,null,null,null,null,"OK","OK","OK","OK",1000,1000,1000,1000,1000,1000,1000,null,8,null,null,null,1,null,null,null,null,null,null,null,null,null,null,1,null,null,null,null,null,null,null,null,null,null,1,null,null,null,null,null,null,null,null,null,null,1,null,null,null,null,null,null,null,null,null,null,1,null,null,null,null,null,null,null,null,null,null,1,null,null,null,null,null,null,null,null,8,{"$error":"#VALUE!"},{"$error":"#VALUE!"},{"$error":"#VALUE!"},{"$error":"#VALUE!"},{"$error":"#VALUE!"},{"$error":"#VALUE!"},{"$error":"#VALUE!"},{"$error":"#VALUE!"},{"$error":"#VALUE!"},{"$error":"#VALUE!"},{"$error":"#VALUE!"},{"$error":"#VALUE!"},{"$error":"#VALUE!"},{"$error":"#VALUE!"},{"$error":"#VALUE!"},{"$error":"#VALUE!"},{"$error":"#VALUE!"},{"$error":"#VALUE!"},null,8,0,{"$error":"#VALUE!"},{"$error":"#VALUE!"},{"$error":"#VALUE!"},{"$error":"#VALUE!"},{"$error":"#VALUE!"},{"$error":"#VALUE!"},{"$error":"#VALUE!"},{"$error":"#VALUE!"},{"$error":"#VALUE!"},{"$error":"#VALUE!"},{"$error":"#VALUE!"},{"$error":"#VALUE!"},{"$error":"#VALUE!"},{"$error":"#VALUE!"},{"$error":"#VALUE!"},{"$error":"#VALUE!"},{"$error":"#VALUE!"},{"$error":"#VALUE!"},{"$error":"#VALUE!"},{"$error":"#VALUE!"},{"$error":"#VALUE!"},{"$error":"#VALUE!"},{"$error":"#VALUE!"},{"$error":"#VALUE!"},{"$error":"#VALUE!"},{"$error":"#VALUE!"},{"$error":"#VALUE!"},{"$error":"#VALUE!"},{"$error":"#VALUE!"},{"$error":"#VALUE!"},{"$error":"#VALUE!"},{"$error":"#VALUE!"},{"$error":"#VALUE!"},8,0,{"$error":"#VALUE!"},{"$error":"#VALUE!"},{"$error":"#VALUE!"},{"$error":"#VALUE!"},{"$error":"#VALUE!"},{"$error":"#VALUE!"},{"$error":"#VALUE!"},{"$error":"#VALUE!"},{"$error":"#VALUE!"},{"$error":"#VALUE!"},{"$error":"#VALUE!"},{"$error":"#VALUE!"},{"$error":"#VALUE!"},{"$error":"#VALUE!"},{"$error":"#VALUE!"},{"$error":"#VALUE!"},{"$error":"#VALUE!"},{"$error":"#VALUE!"},{"$error":"#VALUE!"},{"$error":"#VALUE!"},{"$error":"#VALUE!"},{"$error":"#VALUE!"},{"$error":"#VALUE!"},{"$error":"#VALUE!"},{"$error":"#VALUE!"},{"$error":"#VALUE!"},{"$error":"#VALUE!"},{"$error":"#VALUE!"},{"$error":"#VALUE!"},{"$error":"#VALUE!"},{"$error":"#VALUE!"},{"$error":"#VALUE!"},{"$error":"#VALUE!"},8,0,{"$error":"#VALUE!"},{"$error":"#VALUE!"},{"$error":"#VALUE!"},{"$error":"#VALUE!"},{"$error":"#VALUE!"},{"$error":"#VALUE!"},{"$error":"#VALUE!"},{"$error":"#VALUE!"},{"$error":"#VALUE!"},{"$error":"#VALUE!"},{"$error":"#VALUE!"},{"$error":"#VALUE!"},{"$error":"#VALUE!"},{"$error":"#VALUE!"},{"$error":"#VALUE!"},{"$error":"#VALUE!"},{"$error":"#VALUE!"},{"$error":"#VALUE!"},{"$error":"#VALUE!"},{"$error":"#VALUE!"},{"$error":"#VALUE!"},{"$error":"#VALUE!"},{"$error":"#VALUE!"},{"$error":"#VALUE!"},{"$error":"#VALUE!"},{"$error":"#VALUE!"},{"$error":"#VALUE!"},{"$error":"#VALUE!"},{"$error":"#VALUE!"},{"$error":"#VALUE!"},{"$error":"#VALUE!"},{"$error":"#VALUE!"},{"$error":"#VALUE!"},8,0,{"$error":"#VALUE!"},{"$error":"#VALUE!"},{"$error":"#VALUE!"},{"$error":"#VALUE!"},{"$error":"#VALUE!"},{"$error":"#VALUE!"},{"$error":"#VALUE!"},{"$error":"#VALUE!"},{"$error":"#VALUE!"},{"$error":"#VALUE!"},{"$error":"#VALUE!"},{"$error":"#VALUE!"},{"$error":"#VALUE!"},{"$error":"#VALUE!"},{"$error":"#VALUE!"},{"$error":"#VALUE!"},{"$error":"#VALUE!"},{"$error":"#VALUE!"},{"$error":"#VALUE!"},{"$error":"#VALUE!"},{"$error":"#VALUE!"},{"$error":"#VALUE!"},{"$error":"#VALUE!"},{"$error":"#VALUE!"},{"$error":"#VALUE!"},{"$error":"#VALUE!"},{"$error":"#VALUE!"},{"$error":"#VALUE!"},{"$error":"#VALUE!"},{"$error":"#VALUE!"},{"$error":"#VALUE!"},{"$error":"#VALUE!"},{"$error":"#VALUE!"},8,0,{"$error":"#VALUE!"},{"$error":"#VALUE!"},{"$error":"#VALUE!"},{"$error":"#VALUE!"},{"$error":"#VALUE!"},{"$error":"#VALUE!"},{"$error":"#VALUE!"},{"$error":"#VALUE!"},{"$error":"#VALUE!"},{"$error":"#VALUE!"},{"$error":"#VALUE!"},{"$error":"#VALUE!"},{"$error":"#VALUE!"},{"$error":"#VALUE!"},{"$error":"#VALUE!"},{"$error":"#VALUE!"},{"$error":"#VALUE!"},{"$error":"#VALUE!"},{"$error":"#VALUE!"},{"$error":"#VALUE!"},{"$error":"#VALUE!"},{"$error":"#VALUE!"},{"$error":"#VALUE!"},{"$error":"#VALUE!"},{"$error":"#VALUE!"},{"$error":"#VALUE!"},{"$error":"#VALUE!"},{"$error":"#VALUE!"},{"$error":"#VALUE!"},{"$error":"#VALUE!"},{"$error":"#VALUE!"},{"$error":"#VALUE!"},{"$error":"#VALUE!"},8,0,{"$error":"#VALUE!"},{"$error":"#VALUE!"},{"$error":"#VALUE!"},{"$error":"#VALUE!"},{"$error":"#VALUE!"},{"$error":"#VALUE!"},{"$error":"#VALUE!"},{"$error":"#VALUE!"},{"$error":"#VALUE!"},{"$error":"#VALUE!"},{"$error":"#VALUE!"},{"$error":"#VALUE!"},{"$error":"#VALUE!"},{"$error":"#VALUE!"},{"$error":"#VALUE!"},{"$error":"#VALUE!"},{"$error":"#VALUE!"},{"$error":"#VALUE!"},{"$error":"#VALUE!"},{"$error":"#VALUE!"},{"$error":"#VALUE!"},{"$error":"#VALUE!"},{"$error":"#VALUE!"},{"$error":"#VALUE!"},{"$error":"#VALUE!"},{"$error":"#VALUE!"},{"$error":"#VALUE!"},{"$error":"#VALUE!"},{"$error":"#VALUE!"},{"$error":"#VALUE!"},{"$error":"#VALUE!"},{"$error":"#VALUE!"},{"$error":"#VALUE!"}]
[null,null,null,null,null,null,null,null,null,null,null,null,null,null,null,null,null,null,null,null,null,null,null,9,null,null,null,null,null,null,null,null,null,"N/A",null,false,null,null,null,null,9,null,null,null,null,null,null,null,null,null,null,null,"OK","OK","OK","OK",1000,1000,1000,{"$f":"(CU71*POWER(10,0)+CV71*POWER(10,1)+CW71*POWER(10,2)+CX71*POWER(10,3)+CY71*POWER(10,4)+CZ71*POWER(10,5)+DA71*POWER(10,6)+DB71*POWER(10,7)+DC71*POWER(10,8)+DD71*POWER(10,9)+DE71*POWER(10,10))","v":1000},{"$f":"(DF71*POWER(10,0)+DG71*POWER(10,1)+DH71*POWER(10,2)+DI71*POWER(10,3)+DJ71*POWER(10,4)+DK71*POWER(10,5)+DL71*POWER(10,6)+DM71*POWER(10,7)+DN71*POWER(10,8)+DO71*POWER(10,9)+DP71*POWER(10,10))","v":1000},1000,1000,null,9,null,null,null,1,null,null,null,null,null,null,null,null,null,null,1,null,null,null,null,null,null,null,null,null,null,1,null,null,null,null,null,null,null,null,null,null,1,null,null,null,null,null,null,null,null,null,null,1,null,null,null,null,null,null,null,null,null,null,1,null,null,null,null,null,null,null,null,9,{"$error":"#VALUE!"},{"$error":"#VALUE!"},{"$error":"#VALUE!"},{"$error":"#VALUE!"},{"$error":"#VALUE!"},{"$error":"#VALUE!"},{"$error":"#VALUE!"},{"$error":"#VALUE!"},{"$error":"#VALUE!"},{"$error":"#VALUE!"},{"$error":"#VALUE!"},{"$error":"#VALUE!"},{"$error":"#VALUE!"},{"$error":"#VALUE!"},{"$error":"#VALUE!"},{"$error":"#VALUE!"},{"$error":"#VALUE!"},{"$error":"#VALUE!"},null,9,0,{"$error":"#VALUE!"},{"$error":"#VALUE!"},{"$error":"#VALUE!"},{"$error":"#VALUE!"},{"$error":"#VALUE!"},{"$error":"#VALUE!"},{"$error":"#VALUE!"},{"$error":"#VALUE!"},{"$error":"#VALUE!"},{"$error":"#VALUE!"},{"$error":"#VALUE!"},{"$error":"#VALUE!"},{"$error":"#VALUE!"},{"$error":"#VALUE!"},{"$error":"#VALUE!"},{"$error":"#VALUE!"},{"$error":"#VALUE!"},{"$error":"#VALUE!"},{"$error":"#VALUE!"},{"$error":"#VALUE!"},{"$error":"#VALUE!"},{"$error":"#VALUE!"},{"$error":"#VALUE!"},{"$error":"#VALUE!"},{"$error":"#VALUE!"},{"$error":"#VALUE!"},{"$error":"#VALUE!"},{"$error":"#VALUE!"},{"$error":"#VALUE!"},{"$error":"#VALUE!"},{"$error":"#VALUE!"},{"$error":"#VALUE!"},{"$error":"#VALUE!"},9,0,{"$error":"#VALUE!"},{"$error":"#VALUE!"},{"$error":"#VALUE!"},{"$error":"#VALUE!"},{"$error":"#VALUE!"},{"$error":"#VALUE!"},{"$error":"#VALUE!"},{"$error":"#VALUE!"},{"$error":"#VALUE!"},{"$error":"#VALUE!"},{"$error":"#VALUE!"},{"$error":"#VALUE!"},{"$error":"#VALUE!"},{"$error":"#VALUE!"},{"$error":"#VALUE!"},{"$error":"#VALUE!"},{"$error":"#VALUE!"},{"$error":"#VALUE!"},{"$error":"#VALUE!"},{"$error":"#VALUE!"},{"$error":"#VALUE!"},{"$error":"#VALUE!"},{"$error":"#VALUE!"},{"$error":"#VALUE!"},{"$error":"#VALUE!"},{"$error":"#VALUE!"},{"$error":"#VALUE!"},{"$error":"#VALUE!"},{"$error":"#VALUE!"},{"$error":"#VALUE!"},{"$error":"#VALUE!"},{"$error":"#VALUE!"},{"$error":"#VALUE!"},9,0,{"$error":"#VALUE!"},{"$error":"#VALUE!"},{"$error":"#VALUE!"},{"$error":"#VALUE!"},{"$error":"#VALUE!"},{"$error":"#VALUE!"},{"$error":"#VALUE!"},{"$error":"#VALUE!"},{"$error":"#VALUE!"},{"$error":"#VALUE!"},{"$error":"#VALUE!"},{"$error":"#VALUE!"},{"$error":"#VALUE!"},{"$error":"#VALUE!"},{"$error":"#VALUE!"},{"$error":"#VALUE!"},{"$error":"#VALUE!"},{"$error":"#VALUE!"},{"$error":"#VALUE!"},{"$error":"#VALUE!"},{"$error":"#VALUE!"},{"$error":"#VALUE!"},{"$error":"#VALUE!"},{"$error":"#VALUE!"},{"$error":"#VALUE!"},{"$error":"#VALUE!"},{"$error":"#VALUE!"},{"$error":"#VALUE!"},{"$error":"#VALUE!"},{"$error":"#VALUE!"},{"$error":"#VALUE!"},{"$error":"#VALUE!"},{"$error":"#VALUE!"},9,0,{"$error":"#VALUE!"},{"$error":"#VALUE!"},{"$error":"#VALUE!"},{"$error":"#VALUE!"},{"$error":"#VALUE!"},{"$error":"#VALUE!"},{"$error":"#VALUE!"},{"$error":"#VALUE!"},{"$error":"#VALUE!"},{"$error":"#VALUE!"},{"$error":"#VALUE!"},{"$error":"#VALUE!"},{"$error":"#VALUE!"},{"$error":"#VALUE!"},{"$error":"#VALUE!"},{"$error":"#VALUE!"},{"$error":"#VALUE!"},{"$error":"#VALUE!"},{"$error":"#VALUE!"},{"$error":"#VALUE!"},{"$error":"#VALUE!"},{"$error":"#VALUE!"},{"$error":"#VALUE!"},{"$error":"#VALUE!"},{"$error":"#VALUE!"},{"$error":"#VALUE!"},{"$error":"#VALUE!"},{"$error":"#VALUE!"},{"$error":"#VALUE!"},{"$error":"#VALUE!"},{"$error":"#VALUE!"},{"$error":"#VALUE!"},{"$error":"#VALUE!"},9,0,{"$error":"#VALUE!"},{"$error":"#VALUE!"},{"$error":"#VALUE!"},{"$error":"#VALUE!"},{"$error":"#VALUE!"},{"$error":"#VALUE!"},{"$error":"#VALUE!"},{"$error":"#VALUE!"},{"$error":"#VALUE!"},{"$error":"#VALUE!"},{"$error":"#VALUE!"},{"$error":"#VALUE!"},{"$error":"#VALUE!"},{"$error":"#VALUE!"},{"$error":"#VALUE!"},{"$error":"#VALUE!"},{"$error":"#VALUE!"},{"$error":"#VALUE!"},{"$error":"#VALUE!"},{"$error":"#VALUE!"},{"$error":"#VALUE!"},{"$error":"#VALUE!"},{"$error":"#VALUE!"},{"$error":"#VALUE!"},{"$error":"#VALUE!"},{"$error":"#VALUE!"},{"$error":"#VALUE!"},{"$error":"#VALUE!"},{"$error":"#VALUE!"},{"$error":"#VALUE!"},{"$error":"#VALUE!"},{"$error":"#VALUE!"},{"$error":"#VALUE!"},9,0,{"$error":"#VALUE!"},{"$error":"#VALUE!"},{"$error":"#VALUE!"},{"$error":"#VALUE!"},{"$error":"#VALUE!"},{"$error":"#VALUE!"},{"$error":"#VALUE!"},{"$error":"#VALUE!"},{"$error":"#VALUE!"},{"$error":"#VALUE!"},{"$error":"#VALUE!"},{"$error":"#VALUE!"},{"$error":"#VALUE!"},{"$error":"#VALUE!"},{"$error":"#VALUE!"},{"$error":"#VALUE!"},{"$error":"#VALUE!"},{"$error":"#VALUE!"},{"$error":"#VALUE!"},{"$error":"#VALUE!"},{"$error":"#VALUE!"},{"$error":"#VALUE!"},{"$error":"#VALUE!"},{"$error":"#VALUE!"},{"$error":"#VALUE!"},{"$error":"#VALUE!"},{"$error":"#VALUE!"},{"$error":"#VALUE!"},{"$error":"#VALUE!"},{"$error":"#VALUE!"},{"$error":"#VALUE!"},{"$error":"#VALUE!"},{"$error":"#VALUE!"}]
[null,null,null,null,null,null,null,null,null,null,null,null,null,null,null,null,null,null,null,null,null,null,null,"Total",{"$f":"SUM(Y65:Y71)","v":0},{"$f":"SUM(Z65:Z71)","v":0},0,0,0,0,null,null,null,"N/A",null,false,null,null,null,null,"Total",null,null,null,null,null,null,null,null,null,null,null,null,null,null,null,null,null,null,null,null,null,null,null,"Total",null,null,null,null,null,null,null,null,null,null,null,null,null,null,null,null,null,null,null,null,null,null,null,null,null,null,null,null,null,null,null,null,null,null,null,null,null,null,null,null,null,null,null,null,null,null,null,null,null,null,null,null,null,null,null,null,null,null,null,null,null,null,null,null,null,null,null,"Total",{"$f":"SUM(ED65:ED71)","v":{"$error":"#VALUE!"}},{"$f":"SUM(EE65:EE71)","v":{"$error":"#VALUE!"}},{"$f":"SUM(EF65:EF71)","v":{"$error":"#VALUE!"}},{"$f":"SUM(EG65:EG71)","v":{"$error":"#VALUE!"}},{"$f":"SUM(EH65:EH71)","v":{"$error":"#VALUE!"}},{"$f":"SUM(EI65:EI71)","v":{"$error":"#VALUE!"}},{"$error":"#VALUE!"},{"$error":"#VALUE!"},{"$error":"#VALUE!"},{"$error":"#VALUE!"},{"$error":"#VALUE!"},{"$error":"#VALUE!"},{"$error":"#VALUE!"},{"$error":"#VALUE!"},{"$error":"#VALUE!"},{"$error":"#VALUE!"},{"$error":"#VALUE!"},{"$error":"#VALUE!"},null,"Total",{"$f":"SUM(EX65:EX71)","v":0},{"$f":"SUM(EY65:EY71)","v":{"$error":"#VALUE!"}},{"$f":"SUM(EZ65:EZ71)","v":{"$error":"#VALUE!"}},{"$error":"#VALUE!"},{"$error":"#VALUE!"},{"$f":"SUM(FC65:FC71)","v":{"$error":"#VALUE!"}},{"$f":"SUM(FD65:FD71)","v":{"$error":"#VALUE!"}},{"$error":"#VALUE!"},{"$error":"#VALUE!"},{"$error":"#VALUE!"},{"$error":"#VALUE!"},{"$error":"#VALUE!"},{"$error":"#VALUE!"},{"$error":"#VALUE!"},{"$error":"#VALUE!"},{"$error":"#VALUE!"},{"$f":"SUM(FN65:FN71)","v":{"$error":"#VALUE!"}},{"$f":"SUM(FO65:FO71)","v":{"$error":"#VALUE!"}},{"$f":"SUM(FP65:FP71)","v":{"$error":"#VALUE!"}},{"$f":"SUM(FQ65:FQ71)","v":{"$error":"#VALUE!"}},{"$error":"#VALUE!"},{"$error":"#VALUE!"},{"$error":"#VALUE!"},{"$error":"#VALUE!"},{"$error":"#VALUE!"},{"$error":"#VALUE!"},{"$error":"#VALUE!"},{"$error":"#VALUE!"},{"$error":"#VALUE!"},{"$error":"#VALUE!"},{"$error":"#VALUE!"},{"$f":"SUM(GC65:GC71)","v":{"$error":"#VALUE!"}},{"$f":"SUM(GD65:GD71)","v":{"$error":"#VALUE!"}},{"$error":"#VALUE!"},"Total",{"$f":"SUM(GG65:GG71)","v":0},{"$f":"SUM(GH65:GH71)","v":{"$error":"#VALUE!"}},{"$f":"SUM(GI65:GI71)","v":{"$error":"#VALUE!"}},{"$error":"#VALUE!"},{"$error":"#VALUE!"},{"$f":"SUM(GL65:GL71)","v":{"$error":"#VALUE!"}},{"$f":"SUM(GM65:GM71)","v":{"$error":"#VALUE!"}},{"$f":"SUM(GN65:GN71)","v":{"$error":"#VALUE!"}},{"$error":"#VALUE!"},{"$error":"#VALUE!"},{"$error":"#VALUE!"},{"$error":"#VALUE!"},{"$error":"#VALUE!"},{"$error":"#VALUE!"},{"$error":"#VALUE!"},{"$error":"#VALUE!"},{"$f":"SUM(GW65:GW71)","v":{"$error":"#VALUE!"}},{"$f":"SUM(GX65:GX71)","v":{"$error":"#VALUE!"}},{"$f":"SUM(GY65:GY71)","v":{"$error":"#VALUE!"}},{"$f":"SUM(GZ65:GZ71)","v":{"$error":"#VALUE!"}},{"$error":"#VALUE!"},{"$error":"#VALUE!"},{"$error":"#VALUE!"},{"$error":"#VALUE!"},{"$error":"#VALUE!"},{"$error":"#VALUE!"},{"$error":"#VALUE!"},{"$error":"#VALUE!"},{"$error":"#VALUE!"},{"$error":"#VALUE!"},{"$error":"#VALUE!"},{"$f":"SUM(HL65:HL71)","v":{"$error":"#VALUE!"}},{"$f":"SUM(HM65:HM71)","v":{"$error":"#VALUE!"}},{"$error":"#VALUE!"},"Total",{"$f":"SUM(HP65:HP71)","v":0},{"$f":"SUM(HQ65:HQ71)","v":{"$error":"#VALUE!"}},{"$f":"SUM(HR65:HR71)","v":{"$error":"#VALUE!"}},{"$error":"#VALUE!"},{"$error":"#VALUE!"},{"$f":"SUM(HU65:HU71)","v":{"$error":"#VALUE!"}},{"$f":"SUM(HV65:HV71)","v":{"$error":"#VALUE!"}},{"$error":"#VALUE!"},{"$error":"#VALUE!"},{"$error":"#VALUE!"},{"$error":"#VALUE!"},{"$error":"#VALUE!"},{"$error":"#VALUE!"},{"$error":"#VALUE!"},{"$error":"#VALUE!"},{"$error":"#VALUE!"},{"$f":"SUM(IF65:IF71)","v":{"$error":"#VALUE!"}},{"$f":"SUM(IG65:IG71)","v":{"$error":"#VALUE!"}},{"$f":"SUM(IH65:IH71)","v":{"$error":"#VALUE!"}},{"$f":"SUM(II65:II71)","v":{"$error":"#VALUE!"}},{"$error":"#VALUE!"},{"$error":"#VALUE!"},{"$error":"#VALUE!"},{"$error":"#VALUE!"},{"$error":"#VALUE!"},{"$error":"#VALUE!"},{"$error":"#VALUE!"},{"$error":"#VALUE!"},{"$error":"#VALUE!"},{"$error":"#VALUE!"},{"$error":"#VALUE!"},{"$f":"SUM(IU65:IU71)","v":{"$error":"#VALUE!"}},{"$f":"SUM(IV65:IV71)","v":{"$error":"#VALUE!"}},{"$error":"#VALUE!"},"Total",{"$f":"SUM(IY65:IY71)","v":0},{"$f":"SUM(IZ65:IZ71)","v":{"$error":"#VALUE!"}},{"$f":"SUM(JA65:JA71)","v":{"$error":"#VALUE!"}},{"$error":"#VALUE!"},{"$error":"#VALUE!"},{"$f":"SUM(JD65:JD71)","v":{"$error":"#VALUE!"}},{"$f":"SUM(JE65:JE71)","v":{"$error":"#VALUE!"}},{"$error":"#VALUE!"},{"$error":"#VALUE!"},{"$error":"#VALUE!"},{"$error":"#VALUE!"},{"$error":"#VALUE!"},{"$error":"#VALUE!"},{"$error":"#VALUE!"},{"$error":"#VALUE!"},{"$error":"#VALUE!"},{"$f":"SUM(JO65:JO71)","v":{"$error":"#VALUE!"}},{"$f":"SUM(JP65:JP71)","v":{"$error":"#VALUE!"}},{"$f":"SUM(JQ65:JQ71)","v":{"$error":"#VALUE!"}},{"$f":"SUM(JR65:JR71)","v":{"$error":"#VALUE!"}},{"$error":"#VALUE!"},{"$error":"#VALUE!"},{"$error":"#VALUE!"},{"$error":"#VALUE!"},{"$error":"#VALUE!"},{"$error":"#VALUE!"},{"$error":"#VALUE!"},{"$error":"#VALUE!"},{"$error":"#VALUE!"},{"$error":"#VALUE!"},{"$error":"#VALUE!"},{"$f":"SUM(KD65:KD71)","v":{"$error":"#VALUE!"}},{"$f":"SUM(KE65:KE71)","v":{"$error":"#VALUE!"}},{"$error":"#VALUE!"},"Total",{"$f":"SUM(KH65:KH71)","v":0},{"$f":"SUM(KI65:KI71)","v":{"$error":"#VALUE!"}},{"$f":"SUM(KJ65:KJ71)","v":{"$error":"#VALUE!"}},{"$error":"#VALUE!"},{"$error":"#VALUE!"},{"$f":"SUM(KM65:KM71)","v":{"$error":"#VALUE!"}},{"$f":"SUM(KN65:KN71)","v":{"$error":"#VALUE!"}},{"$error":"#VALUE!"},{"$error":"#VALUE!"},{"$error":"#VALUE!"},{"$error":"#VALUE!"},{"$error":"#VALUE!"},{"$error":"#VALUE!"},{"$error":"#VALUE!"},{"$error":"#VALUE!"},{"$error":"#VALUE!"},{"$f":"SUM(KX65:KX71)","v":{"$error":"#VALUE!"}},{"$f":"SUM(KY65:KY71)","v":{"$error":"#VALUE!"}},{"$f":"SUM(KZ65:KZ71)","v":{"$error":"#VALUE!"}},{"$f":"SUM(LA65:LA71)","v":{"$error":"#VALUE!"}},{"$error":"#VALUE!"},{"$error":"#VALUE!"},{"$error":"#VALUE!"},{"$error":"#VALUE!"},{"$error":"#VALUE!"},{"$error":"#VALUE!"},{"$error":"#VALUE!"},{"$error":"#VALUE!"},{"$error":"#VALUE!"},{"$error":"#VALUE!"},{"$error":"#VALUE!"},{"$f":"SUM(LM65:LM71)","v":{"$error":"#VALUE!"}},{"$f":"SUM(LN65:LN71)","v":{"$error":"#VALUE!"}},{"$error":"#VALUE!"},"Total",{"$f":"SUM(LQ65:LQ71)","v":0},{"$f":"SUM(LR65:LR71)","v":{"$error":"#VALUE!"}},{"$f":"SUM(LS65:LS71)","v":{"$error":"#VALUE!"}},{"$error":"#VALUE!"},{"$error":"#VALUE!"},{"$f":"SUM(LV65:LV71)","v":{"$error":"#VALUE!"}},{"$f":"SUM(LW65:LW71)","v":{"$error":"#VALUE!"}},{"$error":"#VALUE!"},{"$error":"#VALUE!"},{"$error":"#VALUE!"},{"$error":"#VALUE!"},{"$error":"#VALUE!"},{"$error":"#VALUE!"},{"$error":"#VALUE!"},{"$error":"#VALUE!"},{"$f":"SUM(MF65:MF71)","v":{"$error":"#VALUE!"}},{"$f":"SUM(MG65:MG71)","v":{"$error":"#VALUE!"}},{"$f":"SUM(MH65:MH71)","v":{"$error":"#VALUE!"}},{"$f":"SUM(MI65:MI71)","v":{"$error":"#VALUE!"}},{"$f":"SUM(MJ65:MJ71)","v":{"$error":"#VALUE!"}},{"$error":"#VALUE!"},{"$error":"#VALUE!"},{"$error":"#VALUE!"},{"$error":"#VALUE!"},{"$error":"#VALUE!"},{"$error":"#VALUE!"},{"$error":"#VALUE!"},{"$error":"#VALUE!"},{"$error":"#VALUE!"},{"$error":"#VALUE!"},{"$error":"#VALUE!"},{"$f":"SUM(MV65:MV71)","v":{"$error":"#VALUE!"}},{"$f":"SUM(MW65:MW71)","v":{"$error":"#VALUE!"}},{"$error":"#VALUE!"}]
[null,6,{"$f":"'Regional Project List Sheet'!F10","v":0},{"$f":"IF('Regional Project List Sheet'!$G10=\"New\",1,\"\")","v":""},{"$f":"IF('Regional Project List Sheet'!$G10=\"Funded Old\",1,\"\")","v":""},{"$f":"IF('Regional Project List Sheet'!$G10=\"Unfunded Old\",1,\"\")","v":""},{"$f":"'Regional Project List Sheet'!H10","v":0},{"$f":"'Regional Project List Sheet'!I10","v":0},{"$f":"'Regional Project List Sheet'!L10","v":0},{"$f":"'Regional Project List Sheet'!M10","v":0},{"$f":"'Regional Project List Sheet'!N10","v":0},{"$f":"'Regional Project List Sheet'!O10","v":0},{"$f":"'Regional Project List Sheet'!P10","v":0},{"$f":"IF('Regional Project List Sheet'!$Q10=\"N/A\",\"N/A\",IF($Y76<>0,5,IF($Z76<>0,4,IF($AA76<>0,3,IF($AB76<>0,2,1)))))","v":1},{"$f":"VLOOKUP($C73,'[2]Ranking|Priority'!$B$5:$O$40,12,FALSE)","v":{"$error":"#N/A"}},{"$f":"VLOOKUP($C73,'[2]Ranking|Priority'!$B$5:$O$68,13,FALSE)","v":{"$error":"#N/A"}},{"$f":"VLOOKUP($C73,'[2]Ranking|Priority'!$B$5:$O$68,14,FALSE)","v":{"$error":"#N/A"}},{"$f":"'Regional Project List Sheet'!T10","v":0},{"$f":"'Regional Project List Sheet'!U10","v":0},{"$f":"'Regional Project List Sheet'!V10","v":0},{"$f":"'Regional Project List Sheet'!W10","v":0},{"$f":"'Regional Project List Sheet'!X10","v":0},{"$f":"'Regional Project List Sheet'!Y10","v":"Choose from Project List in cell I2"},0,null,null,null,null,null,null,null,{"$f":"'Regional Project List Sheet'!AJ10","v":0},{"$f":"IF(OR('Regional Project List Sheet'!$AA10<>'Regional Project List Sheet'!$A$40,'Regional Project List Sheet'!$AD10<>'Regional Project List Sheet'!$A$40,'Regional Project List Sheet'!$AG10<>'Regional Project List Sheet'!$A$40),_xlfn.CONCAT(IF(ISNUMBER('Regional Project List Sheet'!$AA10),'Regional Project List Sheet'!$A$36,\"\"),\" \",IF(ISNUMBER('Regional Project List Sheet'!$AD10),'Regional Project List Sheet'!$A$37,\"\"),\" \",IF(ISNUMBER('Regional Project List Sheet'!$AG10),'Regional Project List Sheet'!$A$38,\"\")),\"N/A\")","v":"N/A"},"N/A",{"$f":"IF(OR('Regional Project List Sheet'!AC10<>'Regional Project List Sheet'!$A$40,'Regional Project List Sheet'!AF10<>'Regional Project List Sheet'!$A$40,'Regional Project List Sheet'!AI10<>'Regional Project List Sheet'!$A$40),\n\nIF(LEN(_xlfn.CONCAT(IF('Regional Project List Sheet'!AC10=\"Yes\",'Regional Project List Sheet'!$A$36,\"\"),\" \",\n\nIF('Regional Project List Sheet'!AF10=\"Yes\",'Regional Project List Sheet'!$A$37,\"\"),\" \",\n\nIF('Regional Project List Sheet'!AI10=\"Yes\",'Regional Project List Sheet'!$A$38,\"\")))<3,\"No\",\n\n_xlfn.CONCAT(IF('Regional Project List Sheet'!AC10=\"Yes\",'Regional Project List Sheet'!$A$36,\"\"),\" \",\n\nIF('Regional Project List Sheet'!AF10=\"Yes\",'Regional Project List Sheet'!$A$37,\"\"),\" \",\n\nIF('Regional Project List Sheet'!AI10=\"Yes\",'Regional Project List Sheet'!$A$38,\"\"))))","v":false},false,{"$f":"'Regional Project List Sheet'!AK10","v":0},null,{"$f":"'Regional Project List Sheet'!AL10","v":0},null,0,null,null,null,null,null,null,null,null,null,null,1,{"$f":"IF(AND(BB73=\"OK\",BC73=\"OK\",BD73=\"OK\"),\"OK\",\"ERR!\")","v":"OK"},{"$f":"IF(AND(Y73>0,SUM(BN73:BX73)<1),\"ERR!\",IF(AND(Z73>0,SUM(BY73:CI73)<1),\"ERR!\",IF(AND(AA73>0,SUM(CJ73:CT73)<1),\"ERR\",IF(AND(AB73>0,SUM(CU73:DE73)<1),\"ERR\",IF(AND(AC73>0,SUM(DF73:DP73)<1),\"ERR\",IF(AND(AD73>0,SUM(DQ73:EA73)<1),\"ERR\",\"OK\"))))))","v":"OK"},{"$f":"IF(OR(SUM(BN73:BX73)<>1,SUM(BY73:CI73)<>1,SUM(CJ73:CT73)<>1,SUM(CU73:DE73)<>1,SUM(DF73:DP73)<>1,SUM(DQ73:EA73)<>1),\"ERR!\",\"OK\")","v":"OK"},{"$f":"IF(AND(OR(BE73=BK73,BE73=0),OR(BF73=BK73,BF73=0),OR(BG73=BK73,BG73=0),OR(BH73=BK73,BH73=0),OR(BI73=BK73,BI73=0),OR(BJ73=BK73,BJ73=0)),\"OK\",\"ERR!\")","v":"OK"},{"$f":"(BN73*POWER(10,0)+BO73*POWER(10,1)+BP73*POWER(10,2)+BQ73*POWER(10,3)+BR73*POWER(10,4)+BS73*POWER(10,5)+BT73*POWER(10,6)+BU73*POWER(10,7)+BV73*POWER(10,8)+BW73*POWER(10,9)+BX73*POWER(10,10))","v":100},{"$f":"(BY73*POWER(10,0)+BZ73*POWER(10,1)+CA73*POWER(10,2)+CB73*POWER(10,3)+CC73*POWER(10,4)+CD73*POWER(10,5)+CE73*POWER(10,6)+CF73*POWER(10,7)+CG73*POWER(10,8)+CH73*POWER(10,9)+CI73*POWER(10,10))","v":100},{"$f":"(CJ73*POWER(10,0)+CK73*POWER(10,1)+CL73*POWER(10,2)+CM73*POWER(10,3)+CN73*POWER(10,4)+CO73*POWER(10,5)+CP73*POWER(10,6)+CQ73*POWER(10,7)+CR73*POWER(10,8)+CS73*POWER(10,9)+CT73*POWER(10,10))","v":100},{"$f":"(CU73*POWER(10,0)+CV73*POWER(10,1)+CW73*POWER(10,2)+CX73*POWER(10,3)+CY73*POWER(10,4)+CZ73*POWER(10,5)+DA73*POWER(10,6)+DB73*POWER(10,7)+DC73*POWER(10,8)+DD73*POWER(10,9)+DE73*POWER(10,10))","v":100},{"$f":"(DF73*POWER(10,0)+DG73*POWER(10,1)+DH73*POWER(10,2)+DI73*POWER(10,3)+DJ73*POWER(10,4)+DK73*POWER(10,5)+DL73*POWER(10,6)+DM73*POWER(10,7)+DN73*POWER(10,8)+DO73*POWER(10,9)+DP73*POWER(10,10))","v":100},{"$f":"(DQ73*POWER(10,0)+DR73*POWER(10,1)+DS73*POWER(10,2)+DT73*POWER(10,3)+DU73*POWER(10,4)+DV73*POWER(10,5)+DW73*POWER(10,6)+DX73*POWER(10,7)+DY73*POWER(10,8)+DZ73*POWER(10,9)+EA73*POWER(10,10))","v":100},{"$f":"MAX(BE73:BJ73)","v":100},null,0,null,null,1,null,null,null,null,null,null,null,null,null,null,1,null,null,null,null,null,null,null,null,null,null,1,null,null,null,null,null,null,null,null,null,null,1,null,null,null,null,null,null,null,null,null,null,1,null,null,null,null,null,null,null,null,null,null,1,null,null,null,null,null,null,null,null,null,0,{"$f":"($Y73*D$73)/1000","v":{"$error":"#VALUE!"}},{"$error":"#VALUE!"},{"$error":"#VALUE!"},{"$f":"($Z73*D$73)/1000","v":{"$error":"#VALUE!"}},{"$error":"#VALUE!"},{"$error":"#VALUE!"},{"$f":"($AA73*D$73)/1000","v":{"$error":"#VALUE!"}},{"$error":"#VALUE!"},{"$error":"#VALUE!"},{"$f":"($AB73*D$73)/1000","v":{"$error":"#VALUE!"}},{"$error":"#VALUE!"},{"$error":"#VALUE!"},{"$f":"($AC73*D$73)/1000","v":{"$error":"#VALUE!"}},{"$error":"#VALUE!"},{"$error":"#VALUE!"},{"$f":"($AD73*D$73)/1000","v":{"$error":"#VALUE!"}},{"$error":"#VALUE!"},{"$error":"#VALUE!"},null,0,{"$f":"$AZ$73*$Y73","v":0},{"$f":"($AZ$73*$BN73*D$73*$Y73)/1000","v":{"$error":"#VALUE!"}},{"$error":"#VALUE!"},{"$error":"#VALUE!"},{"$f":"($AZ$73*$BO73*D$73*$Y73)/1000","v":{"$error":"#VALUE!"}},{"$error":"#VALUE!"},{"$error":"#VALUE!"},{"$f":"($AZ$73*$BP73*D$73*$Y73)/1000","v":{"$error":"#VALUE!"}},{"$error":"#VALUE!"},{"$error":"#VALUE!"},{"$f":"($AZ$73*$BQ73*D$73*$Y73)/1000","v":{"$error":"#VALUE!"}},{"$error":"#VALUE!"},{"$error":"#VALUE!"},{"$f":"($AZ$73*$BR73*D$73*$Y73)/1000","v":{"$error":"#VALUE!"}},{"$error":"#VALUE!"},{"$error":"#VALUE!"},{"$f":"($AZ$73*$BS73*D$73*$Y73)/1000","v":{"$error":"#VALUE!"}},{"$error":"#VALUE!"},{"$error":"#VALUE!"},{"$f":"($AZ$73*$BT73*D$73*$Y73)/1000","v":{"$error":"#VALUE!"}},{"$error":"#VALUE!"},{"$error":"#VALUE!"},{"$f":"($AZ$73*$BU73*D$73*$Y73)/1000","v":{"$error":"#VALUE!"}},{"$error":"#VALUE!"},{"$error":"#VALUE!"},{"$f":"($AZ$73*$BV73*D$73*$Y73)/1000","v":{"$error":"#VALUE!"}},{"$error":"#VALUE!"},{"$error":"#VALUE!"},{"$f":"($AZ$73*$BW73*D$73*$Y73)/1000","v":{"$error":"#VALUE!"}},{"$error":"#VALUE!"},{"$error":"#VALUE!"},{"$f":"($AZ$73*$BX73*D$73*$Y73)/1000","v":{"$error":"#VALUE!"}},{"$error":"#VALUE!"},{"$error":"#VALUE!"},0,{"$f":"$AZ$73*$Z73","v":0},{"$f":"($AZ$73*$BY73*D$73*$Z73)/1000","v":{"$error":"#VALUE!"}},{"$error":"#VALUE!"},{"$error":"#VALUE!"},{"$f":"($AZ$73*$BZ73*D$73*$Z73)/1000","v":{"$error":"#VALUE!"}},{"$error":"#VALUE!"},{"$error":"#VALUE!"},{"$f":"($AZ$73*$CA73*D$73*$Z73)/1000","v":{"$error":"#VALUE!"}},{"$error":"#VALUE!"},{"$error":"#VALUE!"},{"$f":"($AZ$73*$CB73*D$73*$Z73)/1000","v":{"$error":"#VALUE!"}},{"$error":"#VALUE!"},{"$error":"#VALUE!"},{"$f":"($AZ$73*$CD73*D$73*$Z73)/1000","v":{"$error":"#VALUE!"}},{"$error":"#VALUE!"},{"$error":"#VALUE!"},{"$f":"($AZ$73*$CD73*D$73*$Z73)/1000","v":{"$error":"#VALUE!"}},{"$error":"#VALUE!"},{"$error":"#VALUE!"},{"$f":"($AZ$73*$CE73*D$73*$Z73)/1000","v":{"$error":"#VALUE!"}},{"$error":"#VALUE!"},{"$error":"#VALUE!"},{"$f":"($AZ$73*$CF73*D$73*$Z73)/1000","v":{"$error":"#VALUE!"}},{"$error":"#VALUE!"},{"$error":"#VALUE!"},{"$f":"($AZ$73*$CG73*D$73*$Z73)/1000","v":{"$error":"#VALUE!"}},{"$error":"#VALUE!"},{"$error":"#VALUE!"},{"$f":"($AZ$73*$CH73*D$73*$Z73)/1000","v":{"$error":"#VALUE!"}},{"$error":"#VALUE!"},{"$error":"#VALUE!"},{"$f":"($AZ$73*$CI73*D$73*$Z73)/1000","v":{"$error":"#VALUE!"}},{"$error":"#VALUE!"},{"$error":"#VALUE!"},0,{"$f":"$AZ$73*$AA73","v":0},{"$f":"($AZ$73*$CJ73*D$73*$AA73)/1000","v":{"$error":"#VALUE!"}},{"$error":"#VALUE!"},{"$error":"#VALUE!"},{"$f":"($AZ$73*$CK73*D$73*$AA73)/1000","v":{"$error":"#VALUE!"}},{"$error":"#VALUE!"},{"$error":"#VALUE!"},{"$f":"($AZ$73*$CL73*D$73*$AA73)/1000","v":{"$error":"#VALUE!"}},{"$error":"#VALUE!"},{"$error":"#VALUE!"},{"$f":"($AZ$73*$CM73*D$73*$AA73)/1000","v":{"$error":"#VALUE!"}},{"$error":"#VALUE!"},{"$error":"#VALUE!"},{"$f":"($AZ$73*$CN73*D$73*$AA73)/1000","v":{"$error":"#VALUE!"}},{"$error":"#VALUE!"},{"$error":"#VALUE!"},{"$f":"($AZ$73*$CO73*D$73*$AA73)/1000","v":{"$error":"#VALUE!"}},{"$error":"#VALUE!"},{"$error":"#VALUE!"},{"$f":"($AZ$73*$CP73*D$73*$AA73)/1000","v":{"$error":"#VALUE!"}},{"$error":"#VALUE!"},{"$error":"#VALUE!"},{"$f":"($AZ$73*$CQ73*D$73*$AA73)/1000","v":{"$error":"#VALUE!"}},{"$error":"#VALUE!"},{"$error":"#VALUE!"},{"$f":"($AZ$73*$CR73*D$73*$AA73)/1000","v":{"$error":"#VALUE!"}},{"$error":"#VALUE!"},{"$error":"#VALUE!"},{"$f":"($AZ$73*$CS73*D$73*$AA73)/1000","v":{"$error":"#VALUE!"}},{"$error":"#VALUE!"},{"$error":"#VALUE!"},{"$f":"($AZ$73*$CT73*D$73*$AA73)/1000","v":{"$error":"#VALUE!"}},{"$error":"#VALUE!"},{"$error":"#VALUE!"},0,{"$f":"$AZ$73*$AB73","v":0},{"$f":"($AZ$73*$CU73*D$73*$AB73)/1000","v":{"$error":"#VALUE!"}},{"$error":"#VALUE!"},{"$error":"#VALUE!"},{"$f":"($AZ$73*$CV73*D$73*$AB73)/1000","v":{"$error":"#VALUE!"}},{"$error":"#VALUE!"},{"$error":"#VALUE!"},{"$f":"($AZ$73*$CW73*D$73*$AB73)/1000","v":{"$error":"#VALUE!"}},{"$error":"#VALUE!"},{"$error":"#VALUE!"},{"$f":"($AZ$73*$CX73*D$73*$AB73)/1000","v":{"$error":"#VALUE!"}},{"$error":"#VALUE!"},{"$error":"#VALUE!"},{"$f":"($AZ$73*$CY73*D$73*$AB73)/1000","v":{"$error":"#VALUE!"}},{"$error":"#VALUE!"},{"$error":"#VALUE!"},{"$f":"($AZ$73*$CZ73*D$73*$AB73)/1000","v":{"$error":"#VALUE!"}},{"$error":"#VALUE!"},{"$error":"#VALUE!"},{"$f":"($AZ$73*$DA73*D$73*$AB73)/1000","v":{"$error":"#VALUE!"}},{"$error":"#VALUE!"},{"$error":"#VALUE!"},{"$f":"($AZ$73*$DB73*D$73*$AB73)/1000","v":{"$error":"#VALUE!"}},{"$error":"#VALUE!"},{"$error":"#VALUE!"},{"$f":"($AZ$73*$DC73*D$73*$AB73)/1000","v":{"$error":"#VALUE!"}},{"$error":"#VALUE!"},{"$error":"#VALUE!"},{"$f":"($AZ$73*$DD73*D$73*$AB73)/1000","v":{"$error":"#VALUE!"}},{"$error":"#VALUE!"},{"$error":"#VALUE!"},{"$f":"($AZ$73*$DE73*D$73*$AB73)/1000","v":{"$error":"#VALUE!"}},{"$error":"#VALUE!"},{"$error":"#VALUE!"},0,{"$f":"$AZ$73*$AC73","v":0},{"$f":"($AZ$73*$DF73*D$73*$AC73)/1000","v":{"$error":"#VALUE!"}},{"$error":"#VALUE!"},{"$error":"#VALUE!"},{"$f":"($AZ$73*$DG73*D$73*$AC73)/1000","v":{"$error":"#VALUE!"}},{"$error":"#VALUE!"},{"$error":"#VALUE!"},{"$f":"($AZ$73*$DH73*D$73*$AC73)/1000","v":{"$error":"#VALUE!"}},{"$error":"#VALUE!"},{"$error":"#VALUE!"},{"$f":"($AZ$73*$DI73*D$73*$AC73)/1000","v":{"$error":"#VALUE!"}},{"$error":"#VALUE!"},{"$error":"#VALUE!"},{"$f":"($AZ$73*$DJ73*D$73*$AC73)/1000","v":{"$error":"#VALUE!"}},{"$error":"#VALUE!"},{"$error":"#VALUE!"},{"$f":"($AZ$73*$DK73*D$73*$AC73)/1000","v":{"$error":"#VALUE!"}},{"$error":"#VALUE!"},{"$error":"#VALUE!"},{"$f":"($AZ$73*$DL73*D$73*$AC73)/1000","v":{"$error":"#VALUE!"}},{"$error":"#VALUE!"},{"$error":"#VALUE!"},{"$f":"($AZ$73*$DM73*D$73*$AC73)/1000","v":{"$error":"#VALUE!"}},{"$error":"#VALUE!"},{"$error":"#VALUE!"},{"$f":"($AZ$73*$DN73*D$73*$AC73)/1000","v":{"$error":"#VALUE!"}},{"$error":"#VALUE!"},{"$error":"#VALUE!"},{"$f":"($AZ$73*$DO73*D$73*$AC73)/1000","v":{"$error":"#VALUE!"}},{"$error":"#VALUE!"},{"$error":"#VALUE!"},{"$f":"($AZ$73*$DP73*D$73*$AC73)/1000","v":{"$error":"#VALUE!"}},{"$error":"#VALUE!"},{"$error":"#VALUE!"},0,{"$f":"$AZ$73*$AD73","v":0},{"$f":"($AZ$73*$DQ73*D$73*$AD73)/1000","v":{"$error":"#VALUE!"}},{"$error":"#VALUE!"},{"$error":"#VALUE!"},{"$f":"($AZ$73*$DR73*D$73*$AD73)/1000","v":{"$error":"#VALUE!"}},{"$error":"#VALUE!"},{"$error":"#VALUE!"},{"$f":"($AZ$73*$DS73*D$73*$AD73)/1000","v":{"$error":"#VALUE!"}},{"$error":"#VALUE!"},{"$error":"#VALUE!"},{"$f":"($AZ$73*$DT73*D$73*$AD73)/1000","v":{"$error":"#VALUE!"}},{"$error":"#VALUE!"},{"$error":"#VALUE!"},{"$f":"($AZ$73*$DU73*D$73*$AD73)/1000","v":{"$error":"#VALUE!"}},{"$error":"#VALUE!"},{"$error":"#VALUE!"},{"$f":"($AZ$73*$DV73*D$73*$AD73)/1000","v":{"$error":"#VALUE!"}},{"$error":"#VALUE!"},{"$error":"#VALUE!"},{"$f":"($AZ$73*$DW73*D$73*$AD73)/1000","v":{"$error":"#VALUE!"}},{"$error":"#VALUE!"},{"$error":"#VALUE!"},{"$f":"($AZ$73*$DX73*D$73*$AD73)/1000","v":{"$error":"#VALUE!"}},{"$error":"#VALUE!"},{"$error":"#VALUE!"},{"$f":"($AZ$73*$DY73*D$73*$AD73)/1000","v":{"$error":"#VALUE!"}},{"$error":"#VALUE!"},{"$error":"#VALUE!"},{"$f":"($AZ$73*$DZ73*D$73*$AD73)/1000","v":{"$error":"#VALUE!"}},{"$error":"#VALUE!"},{"$error":"#VALUE!"},{"$f":"($AZ$73*$EA73*D$73*$AD73)/1000","v":{"$error":"#VALUE!"}},{"$error":"#VALUE!"},{"$error":"#VALUE!"}]
[null,null,null,null,null,null,null,null,null,null,null,null,null,null,null,null,null,null,null,null,null,null,null,2,null,null,null,null,null,null,null,null,null,"N/A",null,false,null,null,null,null,2,null,null,null,null,null,null,null,null,null,null,null,{"$f":"IF(AND(BB74=\"OK\",BC74=\"OK\",BD74=\"OK\"),\"OK\",\"ERR!\")","v":"OK"},"OK",{"$f":"IF(OR(SUM(BN74:BX74)<>1,SUM(BY74:CI74)<>1,SUM(CJ74:CT74)<>1,SUM(CU74:DE74)<>1,SUM(DF74:DP74)<>1,SUM(DQ74:EA74)<>1),\"ERR!\",\"OK\")","v":"OK"},{"$f":"IF(AND(OR(BE74=BK74,BE74=0),OR(BF74=BK74,BF74=0),OR(BG74=BK74,BG74=0),OR(BH74=BK74,BH74=0),OR(BI74=BK74,BI74=0),OR(BJ74=BK74,BJ74=0)),\"OK\",\"ERR!\")","v":"OK"},{"$f":"(BN74*POWER(10,0)+BO74*POWER(10,1)+BP74*POWER(10,2)+BQ74*POWER(10,3)+BR74*POWER(10,4)+BS74*POWER(10,5)+BT74*POWER(10,6)+BU74*POWER(10,7)+BV74*POWER(10,8)+BW74*POWER(10,9)+BX74*POWER(10,10))","v":100},{"$f":"(BY74*POWER(10,0)+BZ74*POWER(10,1)+CA74*POWER(10,2)+CB74*POWER(10,3)+CC74*POWER(10,4)+CD74*POWER(10,5)+CE74*POWER(10,6)+CF74*POWER(10,7)+CG74*POWER(10,8)+CH74*POWER(10,9)+CI74*POWER(10,10))","v":100},{"$f":"(CJ74*POWER(10,0)+CK74*POWER(10,1)+CL74*POWER(10,2)+CM74*POWER(10,3)+CN74*POWER(10,4)+CO74*POWER(10,5)+CP74*POWER(10,6)+CQ74*POWER(10,7)+CR74*POWER(10,8)+CS74*POWER(10,9)+CT74*POWER(10,10))","v":100},{"$f":"(CU74*POWER(10,0)+CV74*POWER(10,1)+CW74*POWER(10,2)+CX74*POWER(10,3)+CY74*POWER(10,4)+CZ74*POWER(10,5)+DA74*POWER(10,6)+DB74*POWER(10,7)+DC74*POWER(10,8)+DD74*POWER(10,9)+DE74*POWER(10,10))","v":100},{"$f":"(DF74*POWER(10,0)+DG74*POWER(10,1)+DH74*POWER(10,2)+DI74*POWER(10,3)+DJ74*POWER(10,4)+DK74*POWER(10,5)+DL74*POWER(10,6)+DM74*POWER(10,7)+DN74*POWER(10,8)+DO74*POWER(10,9)+DP74*POWER(10,10))","v":100},{"$f":"(DQ74*POWER(10,0)+DR74*POWER(10,1)+DS74*POWER(10,2)+DT74*POWER(10,3)+DU74*POWER(10,4)+DV74*POWER(10,5)+DW74*POWER(10,6)+DX74*POWER(10,7)+DY74*POWER(10,8)+DZ74*POWER(10,9)+EA74*POWER(10,10))","v":100},{"$f":"MAX(BE74:BJ74)","v":100},null,2,null,null,1,null,null,null,null,null,null,null,null,null,null,1,null,null,null,null,null,null,null,null,null,null,1,null,null,null,null,null,null,null,null,null,null,1,null,null,null,null,null,null,null,null,null,null,1,null,null,null,null,null,null,null,null,null,null,1,null,null,null,null,null,null,null,null,null,2,{"$error":"#VALUE!"},{"$error":"#VALUE!"},{"$error":"#VALUE!"},{"$error":"#VALUE!"},{"$error":"#VALUE!"},{"$error":"#VALUE!"},{"$error":"#VALUE!"},{"$error":"#VALUE!"},{"$error":"#VALUE!"},{"$error":"#VALUE!"},{"$error":"#VALUE!"},{"$error":"#VALUE!"},{"$error":"#VALUE!"},{"$error":"#VALUE!"},{"$error":"#VALUE!"},{"$error":"#VALUE!"},{"$error":"#VALUE!"},{"$error":"#VALUE!"},null,2,0,{"$error":"#VALUE!"},{"$error":"#VALUE!"},{"$error":"#VALUE!"},{"$error":"#VALUE!"},{"$error":"#VALUE!"},{"$error":"#VALUE!"},{"$error":"#VALUE!"},{"$error":"#VALUE!"},{"$error":"#VALUE!"},{"$error":"#VALUE!"},{"$error":"#VALUE!"},{"$error":"#VALUE!"},{"$error":"#VALUE!"},{"$error":"#VALUE!"},{"$error":"#VALUE!"},{"$error":"#VALUE!"},{"$error":"#VALUE!"},{"$error":"#VALUE!"},{"$error":"#VALUE!"},{"$error":"#VALUE!"},{"$error":"#VALUE!"},{"$error":"#VALUE!"},{"$error":"#VALUE!"},{"$error":"#VALUE!"},{"$error":"#VALUE!"},{"$error":"#VALUE!"},{"$error":"#VALUE!"},{"$error":"#VALUE!"},{"$error":"#VALUE!"},{"$error":"#VALUE!"},{"$error":"#VALUE!"},{"$error":"#VALUE!"},{"$error":"#VALUE!"},2,0,{"$error":"#VALUE!"},{"$error":"#VALUE!"},{"$error":"#VALUE!"},{"$error":"#VALUE!"},{"$error":"#VALUE!"},{"$error":"#VALUE!"},{"$error":"#VALUE!"},{"$error":"#VALUE!"},{"$error":"#VALUE!"},{"$error":"#VALUE!"},{"$error":"#VALUE!"},{"$error":"#VALUE!"},{"$error":"#VALUE!"},{"$error":"#VALUE!"},{"$error":"#VALUE!"},{"$error":"#VALUE!"},{"$error":"#VALUE!"},{"$error":"#VALUE!"},{"$error":"#VALUE!"},{"$error":"#VALUE!"},{"$error":"#VALUE!"},{"$error":"#VALUE!"},{"$error":"#VALUE!"},{"$error":"#VALUE!"},{"$error":"#VALUE!"},{"$error":"#VALUE!"},{"$error":"#VALUE!"},{"$error":"#VALUE!"},{"$error":"#VALUE!"},{"$error":"#VALUE!"},{"$error":"#VALUE!"},{"$error":"#VALUE!"},{"$error":"#VALUE!"},2,0,{"$error":"#VALUE!"},{"$error":"#VALUE!"},{"$error":"#VALUE!"},{"$error":"#VALUE!"},{"$error":"#VALUE!"},{"$error":"#VALUE!"},{"$error":"#VALUE!"},{"$error":"#VALUE!"},{"$error":"#VALUE!"},{"$error":"#VALUE!"},{"$error":"#VALUE!"},{"$error":"#VALUE!"},{"$error":"#VALUE!"},{"$error":"#VALUE!"},{"$error":"#VALUE!"},{"$error":"#VALUE!"},{"$error":"#VALUE!"},{"$error":"#VALUE!"},{"$error":"#VALUE!"},{"$error":"#VALUE!"},{"$error":"#VALUE!"},{"$error":"#VALUE!"},{"$error":"#VALUE!"},{"$error":"#VALUE!"},{"$error":"#VALUE!"},{"$error":"#VALUE!"},{"$error":"#VALUE!"},{"$error":"#VALUE!"},{"$error":"#VALUE!"},{"$error":"#VALUE!"},{"$error":"#VALUE!"},{"$error":"#VALUE!"},{"$error":"#VALUE!"},2,0,{"$error":"#VALUE!"},{"$error":"#VALUE!"},{"$error":"#VALUE!"},{"$error":"#VALUE!"},{"$error":"#VALUE!"},{"$error":"#VALUE!"},{"$error":"#VALUE!"},{"$error":"#VALUE!"},{"$error":"#VALUE!"},{"$error":"#VALUE!"},{"$error":"#VALUE!"},{"$error":"#VALUE!"},{"$error":"#VALUE!"},{"$error":"#VALUE!"},{"$error":"#VALUE!"},{"$error":"#VALUE!"},{"$error":"#VALUE!"},{"$error":"#VALUE!"},{"$error":"#VALUE!"},{"$error":"#VALUE!"},{"$error":"#VALUE!"},{"$error":"#VALUE!"},{"$error":"#VALUE!"},{"$error":"#VALUE!"},{"$error":"#VALUE!"},{"$error":"#VALUE!"},{"$error":"#VALUE!"},{"$error":"#VALUE!"},{"$error":"#VALUE!"},{"$error":"#VALUE!"},{"$error":"#VALUE!"},{"$error":"#VALUE!"},{"$error":"#VALUE!"},2,0,{"$error":"#VALUE!"},{"$error":"#VALUE!"},{"$error":"#VALUE!"},{"$error":"#VALUE!"},{"$error":"#VALUE!"},{"$error":"#VALUE!"},{"$error":"#VALUE!"},{"$error":"#VALUE!"},{"$error":"#VALUE!"},{"$error":"#VALUE!"},{"$error":"#VALUE!"},{"$error":"#VALUE!"},{"$error":"#VALUE!"},{"$error":"#VALUE!"},{"$error":"#VALUE!"},{"$error":"#VALUE!"},{"$error":"#VALUE!"},{"$error":"#VALUE!"},{"$error":"#VALUE!"},{"$error":"#VALUE!"},{"$error":"#VALUE!"},{"$error":"#VALUE!"},{"$error":"#VALUE!"},{"$error":"#VALUE!"},{"$error":"#VALUE!"},{"$error":"#VALUE!"},{"$error":"#VALUE!"},{"$error":"#VALUE!"},{"$error":"#VALUE!"},{"$error":"#VALUE!"},{"$error":"#VALUE!"},{"$error":"#VALUE!"},{"$error":"#VALUE!"},2,0,{"$error":"#VALUE!"},{"$error":"#VALUE!"},{"$error":"#VALUE!"},{"$error":"#VALUE!"},{"$error":"#VALUE!"},{"$error":"#VALUE!"},{"$error":"#VALUE!"},{"$error":"#VALUE!"},{"$error":"#VALUE!"},{"$error":"#VALUE!"},{"$error":"#VALUE!"},{"$error":"#VALUE!"},{"$error":"#VALUE!"},{"$error":"#VALUE!"},{"$error":"#VALUE!"},{"$error":"#VALUE!"},{"$error":"#VALUE!"},{"$error":"#VALUE!"},{"$error":"#VALUE!"},{"$error":"#VALUE!"},{"$error":"#VALUE!"},{"$error":"#VALUE!"},{"$error":"#VALUE!"},{"$error":"#VALUE!"},{"$error":"#VALUE!"},{"$error":"#VALUE!"},{"$error":"#VALUE!"},{"$error":"#VALUE!"},{"$error":"#VALUE!"},{"$error":"#VALUE!"},{"$error":"#VALUE!"},{"$error":"#VALUE!"},{"$error":"#VALUE!"}]
[null,null,null,null,null,null,null,null,null,null,null,null,null,null,null,null,null,null,null,null,null,null,null,3,null,null,null,null,null,null,null,null,null,"N/A",null,false,null,null,null,null,3,null,null,null,null,null,null,null,null,null,null,null,{"$f":"IF(AND(BB75=\"OK\",BC75=\"OK\",BD75=\"OK\"),\"OK\",\"ERR!\")","v":"OK"},"OK",{"$f":"IF(OR(SUM(BN75:BX75)<>1,SUM(BY75:CI75)<>1,SUM(CJ75:CT75)<>1,SUM(CU75:DE75)<>1,SUM(DF75:DP75)<>1,SUM(DQ75:EA75)<>1),\"ERR!\",\"OK\")","v":"OK"},{"$f":"IF(AND(OR(BE75=BK75,BE75=0),OR(BF75=BK75,BF75=0),OR(BG75=BK75,BG75=0),OR(BH75=BK75,BH75=0),OR(BI75=BK75,BI75=0),OR(BJ75=BK75,BJ75=0)),\"OK\",\"ERR!\")","v":"OK"},100,100,100,100,100,100,{"$f":"MAX(BE75:BJ75)","v":100},null,3,null,null,1,null,null,null,null,null,null,null,null,null,null,1,null,null,null,null,null,null,null,null,null,null,1,null,null,null,null,null,null,null,null,null,null,1,null,null,null,null,null,null,null,null,null,null,1,null,null,null,null,null,null,null,null,null,null,1,null,null,null,null,null,null,null,null,null,3,{"$error":"#VALUE!"},{"$error":"#VALUE!"},{"$error":"#VALUE!"},{"$error":"#VALUE!"},{"$error":"#VALUE!"},{"$error":"#VALUE!"},{"$error":"#VALUE!"},{"$error":"#VALUE!"},{"$error":"#VALUE!"},{"$error":"#VALUE!"},{"$error":"#VALUE!"},{"$error":"#VALUE!"},{"$error":"#VALUE!"},{"$error":"#VALUE!"},{"$error":"#VALUE!"},{"$error":"#VALUE!"},{"$error":"#VALUE!"},{"$error":"#VALUE!"},null,3,0,{"$error":"#VALUE!"},{"$error":"#VALUE!"},{"$error":"#VALUE!"},{"$error":"#VALUE!"},{"$error":"#VALUE!"},{"$error":"#VALUE!"},{"$error":"#VALUE!"},{"$error":"#VALUE!"},{"$error":"#VALUE!"},{"$error":"#VALUE!"},{"$error":"#VALUE!"},{"$error":"#VALUE!"},{"$error":"#VALUE!"},{"$error":"#VALUE!"},{"$error":"#VALUE!"},{"$error":"#VALUE!"},{"$error":"#VALUE!"},{"$error":"#VALUE!"},{"$error":"#VALUE!"},{"$error":"#VALUE!"},{"$error":"#VALUE!"},{"$error":"#VALUE!"},{"$error":"#VALUE!"},{"$error":"#VALUE!"},{"$error":"#VALUE!"},{"$error":"#VALUE!"},{"$error":"#VALUE!"},{"$error":"#VALUE!"},{"$error":"#VALUE!"},{"$error":"#VALUE!"},{"$error":"#VALUE!"},{"$error":"#VALUE!"},{"$error":"#VALUE!"},3,0,{"$error":"#VALUE!"},{"$error":"#VALUE!"},{"$error":"#VALUE!"},{"$error":"#VALUE!"},{"$error":"#VALUE!"},{"$error":"#VALUE!"},{"$error":"#VALUE!"},{"$error":"#VALUE!"},{"$error":"#VALUE!"},{"$error":"#VALUE!"},{"$error":"#VALUE!"},{"$error":"#VALUE!"},{"$error":"#VALUE!"},{"$error":"#VALUE!"},{"$error":"#VALUE!"},{"$error":"#VALUE!"},{"$error":"#VALUE!"},{"$error":"#VALUE!"},{"$error":"#VALUE!"},{"$error":"#VALUE!"},{"$error":"#VALUE!"},{"$error":"#VALUE!"},{"$error":"#VALUE!"},{"$error":"#VALUE!"},{"$error":"#VALUE!"},{"$error":"#VALUE!"},{"$error":"#VALUE!"},{"$error":"#VALUE!"},{"$error":"#VALUE!"},{"$error":"#VALUE!"},{"$error":"#VALUE!"},{"$error":"#VALUE!"},{"$error":"#VALUE!"},3,0,{"$error":"#VALUE!"},{"$error":"#VALUE!"},{"$error":"#VALUE!"},{"$error":"#VALUE!"},{"$error":"#VALUE!"},{"$error":"#VALUE!"},{"$error":"#VALUE!"},{"$error":"#VALUE!"},{"$error":"#VALUE!"},{"$error":"#VALUE!"},{"$error":"#VALUE!"},{"$error":"#VALUE!"},{"$error":"#VALUE!"},{"$error":"#VALUE!"},{"$error":"#VALUE!"},{"$error":"#VALUE!"},{"$error":"#VALUE!"},{"$error":"#VALUE!"},{"$error":"#VALUE!"},{"$error":"#VALUE!"},{"$error":"#VALUE!"},{"$error":"#VALUE!"},{"$error":"#VALUE!"},{"$error":"#VALUE!"},{"$error":"#VALUE!"},{"$error":"#VALUE!"},{"$error":"#VALUE!"},{"$error":"#VALUE!"},{"$error":"#VALUE!"},{"$error":"#VALUE!"},{"$error":"#VALUE!"},{"$error":"#VALUE!"},{"$error":"#VALUE!"},3,0,{"$error":"#VALUE!"},{"$error":"#VALUE!"},{"$error":"#VALUE!"},{"$error":"#VALUE!"},{"$error":"#VALUE!"},{"$error":"#VALUE!"},{"$error":"#VALUE!"},{"$error":"#VALUE!"},{"$error":"#VALUE!"},{"$error":"#VALUE!"},{"$error":"#VALUE!"},{"$error":"#VALUE!"},{"$error":"#VALUE!"},{"$error":"#VALUE!"},{"$error":"#VALUE!"},{"$error":"#VALUE!"},{"$error":"#VALUE!"},{"$error":"#VALUE!"},{"$error":"#VALUE!"},{"$error":"#VALUE!"},{"$error":"#VALUE!"},{"$error":"#VALUE!"},{"$error":"#VALUE!"},{"$error":"#VALUE!"},{"$error":"#VALUE!"},{"$error":"#VALUE!"},{"$error":"#VALUE!"},{"$error":"#VALUE!"},{"$error":"#VALUE!"},{"$error":"#VALUE!"},{"$error":"#VALUE!"},{"$error":"#VALUE!"},{"$error":"#VALUE!"},3,0,{"$error":"#VALUE!"},{"$error":"#VALUE!"},{"$error":"#VALUE!"},{"$error":"#VALUE!"},{"$error":"#VALUE!"},{"$error":"#VALUE!"},{"$error":"#VALUE!"},{"$error":"#VALUE!"},{"$error":"#VALUE!"},{"$error":"#VALUE!"},{"$error":"#VALUE!"},{"$error":"#VALUE!"},{"$error":"#VALUE!"},{"$error":"#VALUE!"},{"$error":"#VALUE!"},{"$error":"#VALUE!"},{"$error":"#VALUE!"},{"$error":"#VALUE!"},{"$error":"#VALUE!"},{"$error":"#VALUE!"},{"$error":"#VALUE!"},{"$error":"#VALUE!"},{"$error":"#VALUE!"},{"$error":"#VALUE!"},{"$error":"#VALUE!"},{"$error":"#VALUE!"},{"$error":"#VALUE!"},{"$error":"#VALUE!"},{"$error":"#VALUE!"},{"$error":"#VALUE!"},{"$error":"#VALUE!"},{"$error":"#VALUE!"},{"$error":"#VALUE!"},3,0,{"$error":"#VALUE!"},{"$error":"#VALUE!"},{"$error":"#VALUE!"},{"$error":"#VALUE!"},{"$error":"#VALUE!"},{"$error":"#VALUE!"},{"$error":"#VALUE!"},{"$error":"#VALUE!"},{"$error":"#VALUE!"},{"$error":"#VALUE!"},{"$error":"#VALUE!"},{"$error":"#VALUE!"},{"$error":"#VALUE!"},{"$error":"#VALUE!"},{"$error":"#VALUE!"},{"$error":"#VALUE!"},{"$error":"#VALUE!"},{"$error":"#VALUE!"},{"$error":"#VALUE!"},{"$error":"#VALUE!"},{"$error":"#VALUE!"},{"$error":"#VALUE!"},{"$error":"#VALUE!"},{"$error":"#VALUE!"},{"$error":"#VALUE!"},{"$error":"#VALUE!"},{"$error":"#VALUE!"},{"$error":"#VALUE!"},{"$error":"#VALUE!"},{"$error":"#VALUE!"},{"$error":"#VALUE!"},{"$error":"#VALUE!"},{"$error":"#VALUE!"}]
[null,null,null,null,null,null,null,null,null,null,null,null,null,null,null,null,null,null,null,null,null,null,null,4,null,null,null,null,null,null,null,null,null,"N/A",null,false,null,null,null,null,4,null,null,null,null,null,null,null,null,null,null,null,{"$f":"IF(AND(BB76=\"OK\",BC76=\"OK\",BD76=\"OK\"),\"OK\",\"ERR!\")","v":"OK"},"OK","OK",{"$f":"IF(AND(OR(BE76=BK76,BE76=0),OR(BF76=BK76,BF76=0),OR(BG76=BK76,BG76=0),OR(BH76=BK76,BH76=0),OR(BI76=BK76,BI76=0),OR(BJ76=BK76,BJ76=0)),\"OK\",\"ERR!\")","v":"OK"},100,100,100,100,100,100,100,null,4,null,null,1,null,null,null,null,null,null,null,null,null,null,1,null,null,null,null,null,null,null,null,null,null,1,null,null,null,null,null,null,null,null,null,null,1,null,null,null,null,null,null,null,null,null,null,1,null,null,null,null,null,null,null,null,null,null,1,null,null,null,null,null,null,null,null,null,4,{"$error":"#VALUE!"},{"$error":"#VALUE!"},{"$error":"#VALUE!"},{"$error":"#VALUE!"},{"$error":"#VALUE!"},{"$error":"#VALUE!"},{"$error":"#VALUE!"},{"$error":"#VALUE!"},{"$error":"#VALUE!"},{"$error":"#VALUE!"},{"$error":"#VALUE!"},{"$error":"#VALUE!"},{"$error":"#VALUE!"},{"$error":"#VALUE!"},{"$error":"#VALUE!"},{"$error":"#VALUE!"},{"$error":"#VALUE!"},{"$error":"#VALUE!"},null,4,0,{"$error":"#VALUE!"},{"$error":"#VALUE!"},{"$error":"#VALUE!"},{"$error":"#VALUE!"},{"$error":"#VALUE!"},{"$error":"#VALUE!"},{"$error":"#VALUE!"},{"$error":"#VALUE!"},{"$error":"#VALUE!"},{"$error":"#VALUE!"},{"$error":"#VALUE!"},{"$error":"#VALUE!"},{"$error":"#VALUE!"},{"$error":"#VALUE!"},{"$error":"#VALUE!"},{"$error":"#VALUE!"},{"$error":"#VALUE!"},{"$error":"#VALUE!"},{"$error":"#VALUE!"},{"$error":"#VALUE!"},{"$error":"#VALUE!"},{"$error":"#VALUE!"},{"$error":"#VALUE!"},{"$error":"#VALUE!"},{"$error":"#VALUE!"},{"$error":"#VALUE!"},{"$error":"#VALUE!"},{"$error":"#VALUE!"},{"$error":"#VALUE!"},{"$error":"#VALUE!"},{"$error":"#VALUE!"},{"$error":"#VALUE!"},{"$error":"#VALUE!"},4,0,{"$error":"#VALUE!"},{"$error":"#VALUE!"},{"$error":"#VALUE!"},{"$error":"#VALUE!"},{"$error":"#VALUE!"},{"$error":"#VALUE!"},{"$error":"#VALUE!"},{"$error":"#VALUE!"},{"$error":"#VALUE!"},{"$error":"#VALUE!"},{"$error":"#VALUE!"},{"$error":"#VALUE!"},{"$error":"#VALUE!"},{"$error":"#VALUE!"},{"$error":"#VALUE!"},{"$error":"#VALUE!"},{"$error":"#VALUE!"},{"$error":"#VALUE!"},{"$error":"#VALUE!"},{"$error":"#VALUE!"},{"$error":"#VALUE!"},{"$error":"#VALUE!"},{"$error":"#VALUE!"},{"$error":"#VALUE!"},{"$error":"#VALUE!"},{"$error":"#VALUE!"},{"$error":"#VALUE!"},{"$error":"#VALUE!"},{"$error":"#VALUE!"},{"$error":"#VALUE!"},{"$error":"#VALUE!"},{"$error":"#VALUE!"},{"$error":"#VALUE!"},4,0,{"$error":"#VALUE!"},{"$error":"#VALUE!"},{"$error":"#VALUE!"},{"$error":"#VALUE!"},{"$error":"#VALUE!"},{"$error":"#VALUE!"},{"$error":"#VALUE!"},{"$error":"#VALUE!"},{"$error":"#VALUE!"},{"$error":"#VALUE!"},{"$error":"#VALUE!"},{"$error":"#VALUE!"},{"$error":"#VALUE!"},{"$error":"#VALUE!"},{"$error":"#VALUE!"},{"$error":"#VALUE!"},{"$error":"#VALUE!"},{"$error":"#VALUE!"},{"$error":"#VALUE!"},{"$error":"#VALUE!"},{"$error":"#VALUE!"},{"$error":"#VALUE!"},{"$error":"#VALUE!"},{"$error":"#VALUE!"},{"$error":"#VALUE!"},{"$error":"#VALUE!"},{"$error":"#VALUE!"},{"$error":"#VALUE!"},{"$error":"#VALUE!"},{"$error":"#VALUE!"},{"$error":"#VALUE!"},{"$error":"#VALUE!"},{"$error":"#VALUE!"},4,0,{"$error":"#VALUE!"},{"$error":"#VALUE!"},{"$error":"#VALUE!"},{"$error":"#VALUE!"},{"$error":"#VALUE!"},{"$error":"#VALUE!"},{"$error":"#VALUE!"},{"$error":"#VALUE!"},{"$error":"#VALUE!"},{"$error":"#VALUE!"},{"$error":"#VALUE!"},{"$error":"#VALUE!"},{"$error":"#VALUE!"},{"$error":"#VALUE!"},{"$error":"#VALUE!"},{"$error":"#VALUE!"},{"$error":"#VALUE!"},{"$error":"#VALUE!"},{"$error":"#VALUE!"},{"$error":"#VALUE!"},{"$error":"#VALUE!"},{"$error":"#VALUE!"},{"$error":"#VALUE!"},{"$error":"#VALUE!"},{"$error":"#VALUE!"},{"$error":"#VALUE!"},{"$error":"#VALUE!"},{"$error":"#VALUE!"},{"$error":"#VALUE!"},{"$error":"#VALUE!"},{"$error":"#VALUE!"},{"$error":"#VALUE!"},{"$error":"#VALUE!"},4,0,{"$error":"#VALUE!"},{"$error":"#VALUE!"},{"$error":"#VALUE!"},{"$error":"#VALUE!"},{"$error":"#VALUE!"},{"$error":"#VALUE!"},{"$error":"#VALUE!"},{"$error":"#VALUE!"},{"$error":"#VALUE!"},{"$error":"#VALUE!"},{"$error":"#VALUE!"},{"$error":"#VALUE!"},{"$error":"#VALUE!"},{"$error":"#VALUE!"},{"$error":"#VALUE!"},{"$error":"#VALUE!"},{"$error":"#VALUE!"},{"$error":"#VALUE!"},{"$error":"#VALUE!"},{"$error":"#VALUE!"},{"$error":"#VALUE!"},{"$error":"#VALUE!"},{"$error":"#VALUE!"},{"$error":"#VALUE!"},{"$error":"#VALUE!"},{"$error":"#VALUE!"},{"$error":"#VALUE!"},{"$error":"#VALUE!"},{"$error":"#VALUE!"},{"$error":"#VALUE!"},{"$error":"#VALUE!"},{"$error":"#VALUE!"},{"$error":"#VALUE!"},4,0,{"$error":"#VALUE!"},{"$error":"#VALUE!"},{"$error":"#VALUE!"},{"$error":"#VALUE!"},{"$error":"#VALUE!"},{"$error":"#VALUE!"},{"$error":"#VALUE!"},{"$error":"#VALUE!"},{"$error":"#VALUE!"},{"$error":"#VALUE!"},{"$error":"#VALUE!"},{"$error":"#VALUE!"},{"$error":"#VALUE!"},{"$error":"#VALUE!"},{"$error":"#VALUE!"},{"$error":"#VALUE!"},{"$error":"#VALUE!"},{"$error":"#VALUE!"},{"$error":"#VALUE!"},{"$error":"#VALUE!"},{"$error":"#VALUE!"},{"$error":"#VALUE!"},{"$error":"#VALUE!"},{"$error":"#VALUE!"},{"$error":"#VALUE!"},{"$error":"#VALUE!"},{"$error":"#VALUE!"},{"$error":"#VALUE!"},{"$error":"#VALUE!"},{"$error":"#VALUE!"},{"$error":"#VALUE!"},{"$error":"#VALUE!"},{"$error":"#VALUE!"}]
[null,null,null,null,null,null,null,null,null,null,null,null,null,null,null,null,null,null,null,null,null,null,null,7,null,null,null,null,null,null,null,null,null,"N/A",null,false,null,null,null,null,7,null,null,null,null,null,null,null,null,null,null,null,{"$f":"IF(AND(BB77=\"OK\",BC77=\"OK\",BD77=\"OK\"),\"OK\",\"ERR!\")","v":"OK"},"OK","OK","OK",100,100,100,100,100,100,100,null,7,null,null,1,null,null,null,null,null,null,null,null,null,null,1,null,null,null,null,null,null,null,null,null,null,1,null,null,null,null,null,null,null,null,null,null,1,null,null,null,null,null,null,null,null,null,null,1,null,null,null,null,null,null,null,null,null,null,1,null,null,null,null,null,null,null,null,null,7,{"$error":"#VALUE!"},{"$error":"#VALUE!"},{"$error":"#VALUE!"},{"$error":"#VALUE!"},{"$error":"#VALUE!"},{"$error":"#VALUE!"},{"$error":"#VALUE!"},{"$error":"#VALUE!"},{"$error":"#VALUE!"},{"$error":"#VALUE!"},{"$error":"#VALUE!"},{"$error":"#VALUE!"},{"$error":"#VALUE!"},{"$error":"#VALUE!"},{"$error":"#VALUE!"},{"$error":"#VALUE!"},{"$error":"#VALUE!"},{"$error":"#VALUE!"},null,7,0,{"$error":"#VALUE!"},{"$error":"#VALUE!"},{"$error":"#VALUE!"},{"$error":"#VALUE!"},{"$error":"#VALUE!"},{"$error":"#VALUE!"},{"$error":"#VALUE!"},{"$error":"#VALUE!"},{"$error":"#VALUE!"},{"$error":"#VALUE!"},{"$error":"#VALUE!"},{"$error":"#VALUE!"},{"$error":"#VALUE!"},{"$error":"#VALUE!"},{"$error":"#VALUE!"},{"$error":"#VALUE!"},{"$error":"#VALUE!"},{"$error":"#VALUE!"},{"$error":"#VALUE!"},{"$error":"#VALUE!"},{"$error":"#VALUE!"},{"$error":"#VALUE!"},{"$error":"#VALUE!"},{"$error":"#VALUE!"},{"$error":"#VALUE!"},{"$error":"#VALUE!"},{"$error":"#VALUE!"},{"$error":"#VALUE!"},{"$error":"#VALUE!"},{"$error":"#VALUE!"},{"$error":"#VALUE!"},{"$error":"#VALUE!"},{"$error":"#VALUE!"},7,0,{"$error":"#VALUE!"},{"$error":"#VALUE!"},{"$error":"#VALUE!"},{"$error":"#VALUE!"},{"$error":"#VALUE!"},{"$error":"#VALUE!"},{"$error":"#VALUE!"},{"$error":"#VALUE!"},{"$error":"#VALUE!"},{"$error":"#VALUE!"},{"$error":"#VALUE!"},{"$error":"#VALUE!"},{"$error":"#VALUE!"},{"$error":"#VALUE!"},{"$error":"#VALUE!"},{"$error":"#VALUE!"},{"$error":"#VALUE!"},{"$error":"#VALUE!"},{"$error":"#VALUE!"},{"$error":"#VALUE!"},{"$error":"#VALUE!"},{"$error":"#VALUE!"},{"$error":"#VALUE!"},{"$error":"#VALUE!"},{"$error":"#VALUE!"},{"$error":"#VALUE!"},{"$error":"#VALUE!"},{"$error":"#VALUE!"},{"$error":"#VALUE!"},{"$error":"#VALUE!"},{"$error":"#VALUE!"},{"$error":"#VALUE!"},{"$error":"#VALUE!"},7,0,{"$error":"#VALUE!"},{"$error":"#VALUE!"},{"$error":"#VALUE!"},{"$error":"#VALUE!"},{"$error":"#VALUE!"},{"$error":"#VALUE!"},{"$error":"#VALUE!"},{"$error":"#VALUE!"},{"$error":"#VALUE!"},{"$error":"#VALUE!"},{"$error":"#VALUE!"},{"$error":"#VALUE!"},{"$error":"#VALUE!"},{"$error":"#VALUE!"},{"$error":"#VALUE!"},{"$error":"#VALUE!"},{"$error":"#VALUE!"},{"$error":"#VALUE!"},{"$error":"#VALUE!"},{"$error":"#VALUE!"},{"$error":"#VALUE!"},{"$error":"#VALUE!"},{"$error":"#VALUE!"},{"$error":"#VALUE!"},{"$error":"#VALUE!"},{"$error":"#VALUE!"},{"$error":"#VALUE!"},{"$error":"#VALUE!"},{"$error":"#VALUE!"},{"$error":"#VALUE!"},{"$error":"#VALUE!"},{"$error":"#VALUE!"},{"$error":"#VALUE!"},7,0,{"$error":"#VALUE!"},{"$error":"#VALUE!"},{"$error":"#VALUE!"},{"$error":"#VALUE!"},{"$error":"#VALUE!"},{"$error":"#VALUE!"},{"$error":"#VALUE!"},{"$error":"#VALUE!"},{"$error":"#VALUE!"},{"$error":"#VALUE!"},{"$error":"#VALUE!"},{"$error":"#VALUE!"},{"$error":"#VALUE!"},{"$error":"#VALUE!"},{"$error":"#VALUE!"},{"$error":"#VALUE!"},{"$error":"#VALUE!"},{"$error":"#VALUE!"},{"$error":"#VALUE!"},{"$error":"#VALUE!"},{"$error":"#VALUE!"},{"$error":"#VALUE!"},{"$error":"#VALUE!"},{"$error":"#VALUE!"},{"$error":"#VALUE!"},{"$error":"#VALUE!"},{"$error":"#VALUE!"},{"$error":"#VALUE!"},{"$error":"#VALUE!"},{"$error":"#VALUE!"},{"$error":"#VALUE!"},{"$error":"#VALUE!"},{"$error":"#VALUE!"},7,0,{"$error":"#VALUE!"},{"$error":"#VALUE!"},{"$error":"#VALUE!"},{"$error":"#VALUE!"},{"$error":"#VALUE!"},{"$error":"#VALUE!"},{"$error":"#VALUE!"},{"$error":"#VALUE!"},{"$error":"#VALUE!"},{"$error":"#VALUE!"},{"$error":"#VALUE!"},{"$error":"#VALUE!"},{"$error":"#VALUE!"},{"$error":"#VALUE!"},{"$error":"#VALUE!"},{"$error":"#VALUE!"},{"$error":"#VALUE!"},{"$error":"#VALUE!"},{"$error":"#VALUE!"},{"$error":"#VALUE!"},{"$error":"#VALUE!"},{"$error":"#VALUE!"},{"$error":"#VALUE!"},{"$error":"#VALUE!"},{"$error":"#VALUE!"},{"$error":"#VALUE!"},{"$error":"#VALUE!"},{"$error":"#VALUE!"},{"$error":"#VALUE!"},{"$error":"#VALUE!"},{"$error":"#VALUE!"},{"$error":"#VALUE!"},{"$error":"#VALUE!"},7,0,{"$error":"#VALUE!"},{"$error":"#VALUE!"},{"$error":"#VALUE!"},{"$error":"#VALUE!"},{"$error":"#VALUE!"},{"$error":"#VALUE!"},{"$error":"#VALUE!"},{"$error":"#VALUE!"},{"$error":"#VALUE!"},{"$error":"#VALUE!"},{"$error":"#VALUE!"},{"$error":"#VALUE!"},{"$error":"#VALUE!"},{"$error":"#VALUE!"},{"$error":"#VALUE!"},{"$error":"#VALUE!"},{"$error":"#VALUE!"},{"$error":"#VALUE!"},{"$error":"#VALUE!"},{"$error":"#VALUE!"},{"$error":"#VALUE!"},{"$error":"#VALUE!"},{"$error":"#VALUE!"},{"$error":"#VALUE!"},{"$error":"#VALUE!"},{"$error":"#VALUE!"},{"$error":"#VALUE!"},{"$error":"#VALUE!"},{"$error":"#VALUE!"},{"$error":"#VALUE!"},{"$error":"#VALUE!"},{"$error":"#VALUE!"},{"$error":"#VALUE!"}]
[null,null,null,null,null,null,null,null,null,null,null,null,null,null,null,null,null,null,null,null,null,null,null,8,null,null,null,null,null,null,null,null,null,"N/A",null,false,null,null,null,null,8,null,null,null,null,null,null,null,null,null,null,null,"OK","OK","OK","OK",100,100,100,100,100,100,100,null,8,null,null,1,null,null,null,null,null,null,null,null,null,null,1,null,null,null,null,null,null,null,null,null,null,1,null,null,null,null,null,null,null,null,null,null,1,null,null,null,null,null,null,null,null,null,null,1,null,null,null,null,null,null,null,null,null,null,1,null,null,null,null,null,null,null,null,null,8,{"$error":"#VALUE!"},{"$error":"#VALUE!"},{"$error":"#VALUE!"},{"$error":"#VALUE!"},{"$error":"#VALUE!"},{"$error":"#VALUE!"},{"$error":"#VALUE!"},{"$error":"#VALUE!"},{"$error":"#VALUE!"},{"$error":"#VALUE!"},{"$error":"#VALUE!"},{"$error":"#VALUE!"},{"$error":"#VALUE!"},{"$error":"#VALUE!"},{"$error":"#VALUE!"},{"$error":"#VALUE!"},{"$error":"#VALUE!"},{"$error":"#VALUE!"},null,8,0,{"$error":"#VALUE!"},{"$error":"#VALUE!"},{"$error":"#VALUE!"},{"$error":"#VALUE!"},{"$error":"#VALUE!"},{"$error":"#VALUE!"},{"$error":"#VALUE!"},{"$error":"#VALUE!"},{"$error":"#VALUE!"},{"$error":"#VALUE!"},{"$error":"#VALUE!"},{"$error":"#VALUE!"},{"$error":"#VALUE!"},{"$error":"#VALUE!"},{"$error":"#VALUE!"},{"$error":"#VALUE!"},{"$error":"#VALUE!"},{"$error":"#VALUE!"},{"$error":"#VALUE!"},{"$error":"#VALUE!"},{"$error":"#VALUE!"},{"$error":"#VALUE!"},{"$error":"#VALUE!"},{"$error":"#VALUE!"},{"$error":"#VALUE!"},{"$error":"#VALUE!"},{"$error":"#VALUE!"},{"$error":"#VALUE!"},{"$error":"#VALUE!"},{"$error":"#VALUE!"},{"$error":"#VALUE!"},{"$error":"#VALUE!"},{"$error":"#VALUE!"},8,0,{"$error":"#VALUE!"},{"$error":"#VALUE!"},{"$error":"#VALUE!"},{"$error":"#VALUE!"},{"$error":"#VALUE!"},{"$error":"#VALUE!"},{"$error":"#VALUE!"},{"$error":"#VALUE!"},{"$error":"#VALUE!"},{"$error":"#VALUE!"},{"$error":"#VALUE!"},{"$error":"#VALUE!"},{"$error":"#VALUE!"},{"$error":"#VALUE!"},{"$error":"#VALUE!"},{"$error":"#VALUE!"},{"$error":"#VALUE!"},{"$error":"#VALUE!"},{"$error":"#VALUE!"},{"$error":"#VALUE!"},{"$error":"#VALUE!"},{"$error":"#VALUE!"},{"$error":"#VALUE!"},{"$error":"#VALUE!"},{"$error":"#VALUE!"},{"$error":"#VALUE!"},{"$error":"#VALUE!"},{"$error":"#VALUE!"},{"$error":"#VALUE!"},{"$error":"#VALUE!"},{"$error":"#VALUE!"},{"$error":"#VALUE!"},{"$error":"#VALUE!"},8,0,{"$error":"#VALUE!"},{"$error":"#VALUE!"},{"$error":"#VALUE!"},{"$error":"#VALUE!"},{"$error":"#VALUE!"},{"$error":"#VALUE!"},{"$error":"#VALUE!"},{"$error":"#VALUE!"},{"$error":"#VALUE!"},{"$error":"#VALUE!"},{"$error":"#VALUE!"},{"$error":"#VALUE!"},{"$error":"#VALUE!"},{"$error":"#VALUE!"},{"$error":"#VALUE!"},{"$error":"#VALUE!"},{"$error":"#VALUE!"},{"$error":"#VALUE!"},{"$error":"#VALUE!"},{"$error":"#VALUE!"},{"$error":"#VALUE!"},{"$error":"#VALUE!"},{"$error":"#VALUE!"},{"$error":"#VALUE!"},{"$error":"#VALUE!"},{"$error":"#VALUE!"},{"$error":"#VALUE!"},{"$error":"#VALUE!"},{"$error":"#VALUE!"},{"$error":"#VALUE!"},{"$error":"#VALUE!"},{"$error":"#VALUE!"},{"$error":"#VALUE!"},8,0,{"$error":"#VALUE!"},{"$error":"#VALUE!"},{"$error":"#VALUE!"},{"$error":"#VALUE!"},{"$error":"#VALUE!"},{"$error":"#VALUE!"},{"$error":"#VALUE!"},{"$error":"#VALUE!"},{"$error":"#VALUE!"},{"$error":"#VALUE!"},{"$error":"#VALUE!"},{"$error":"#VALUE!"},{"$error":"#VALUE!"},{"$error":"#VALUE!"},{"$error":"#VALUE!"},{"$error":"#VALUE!"},{"$error":"#VALUE!"},{"$error":"#VALUE!"},{"$error":"#VALUE!"},{"$error":"#VALUE!"},{"$error":"#VALUE!"},{"$error":"#VALUE!"},{"$error":"#VALUE!"},{"$error":"#VALUE!"},{"$error":"#VALUE!"},{"$error":"#VALUE!"},{"$error":"#VALUE!"},{"$error":"#VALUE!"},{"$error":"#VALUE!"},{"$error":"#VALUE!"},{"$error":"#VALUE!"},{"$error":"#VALUE!"},{"$error":"#VALUE!"},8,0,{"$error":"#VALUE!"},{"$error":"#VALUE!"},{"$error":"#VALUE!"},{"$error":"#VALUE!"},{"$error":"#VALUE!"},{"$error":"#VALUE!"},{"$error":"#VALUE!"},{"$error":"#VALUE!"},{"$error":"#VALUE!"},{"$error":"#VALUE!"},{"$error":"#VALUE!"},{"$error":"#VALUE!"},{"$error":"#VALUE!"},{"$error":"#VALUE!"},{"$error":"#VALUE!"},{"$error":"#VALUE!"},{"$error":"#VALUE!"},{"$error":"#VALUE!"},{"$error":"#VALUE!"},{"$error":"#VALUE!"},{"$error":"#VALUE!"},{"$error":"#VALUE!"},{"$error":"#VALUE!"},{"$error":"#VALUE!"},{"$error":"#VALUE!"},{"$error":"#VALUE!"},{"$error":"#VALUE!"},{"$error":"#VALUE!"},{"$error":"#VALUE!"},{"$error":"#VALUE!"},{"$error":"#VALUE!"},{"$error":"#VALUE!"},{"$error":"#VALUE!"},8,0,{"$error":"#VALUE!"},{"$error":"#VALUE!"},{"$error":"#VALUE!"},{"$error":"#VALUE!"},{"$error":"#VALUE!"},{"$error":"#VALUE!"},{"$error":"#VALUE!"},{"$error":"#VALUE!"},{"$error":"#VALUE!"},{"$error":"#VALUE!"},{"$error":"#VALUE!"},{"$error":"#VALUE!"},{"$error":"#VALUE!"},{"$error":"#VALUE!"},{"$error":"#VALUE!"},{"$error":"#VALUE!"},{"$error":"#VALUE!"},{"$error":"#VALUE!"},{"$error":"#VALUE!"},{"$error":"#VALUE!"},{"$error":"#VALUE!"},{"$error":"#VALUE!"},{"$error":"#VALUE!"},{"$error":"#VALUE!"},{"$error":"#VALUE!"},{"$error":"#VALUE!"},{"$error":"#VALUE!"},{"$error":"#VALUE!"},{"$error":"#VALUE!"},{"$error":"#VALUE!"},{"$error":"#VALUE!"},{"$error":"#VALUE!"},{"$error":"#VALUE!"}]
[null,null,null,null,null,null,null,null,null,null,null,null,null,null,null,null,null,null,null,null,null,null,null,9,null,null,null,null,null,null,null,null,null,"N/A",null,false,null,null,null,null,9,null,null,null,null,null,null,null,null,null,null,null,"OK","OK","OK","OK",100,100,100,{"$f":"(CU79*POWER(10,0)+CV79*POWER(10,1)+CW79*POWER(10,2)+CX79*POWER(10,3)+CY79*POWER(10,4)+CZ79*POWER(10,5)+DA79*POWER(10,6)+DB79*POWER(10,7)+DC79*POWER(10,8)+DD79*POWER(10,9)+DE79*POWER(10,10))","v":100},{"$f":"(DF79*POWER(10,0)+DG79*POWER(10,1)+DH79*POWER(10,2)+DI79*POWER(10,3)+DJ79*POWER(10,4)+DK79*POWER(10,5)+DL79*POWER(10,6)+DM79*POWER(10,7)+DN79*POWER(10,8)+DO79*POWER(10,9)+DP79*POWER(10,10))","v":100},100,100,null,9,null,null,1,null,null,null,null,null,null,null,null,null,null,1,null,null,null,null,null,null,null,null,null,null,1,null,null,null,null,null,null,null,null,null,null,1,null,null,null,null,null,null,null,null,null,null,1,null,null,null,null,null,null,null,null,null,null,1,null,null,null,null,null,null,null,null,null,9,{"$error":"#VALUE!"},{"$error":"#VALUE!"},{"$error":"#VALUE!"},{"$error":"#VALUE!"},{"$error":"#VALUE!"},{"$error":"#VALUE!"},{"$error":"#VALUE!"},{"$error":"#VALUE!"},{"$error":"#VALUE!"},{"$error":"#VALUE!"},{"$error":"#VALUE!"},{"$error":"#VALUE!"},{"$error":"#VALUE!"},{"$error":"#VALUE!"},{"$error":"#VALUE!"},{"$error":"#VALUE!"},{"$error":"#VALUE!"},{"$error":"#VALUE!"},null,9,0,{"$error":"#VALUE!"},{"$error":"#VALUE!"},{"$error":"#VALUE!"},{"$error":"#VALUE!"},{"$error":"#VALUE!"},{"$error":"#VALUE!"},{"$error":"#VALUE!"},{"$error":"#VALUE!"},{"$error":"#VALUE!"},{"$error":"#VALUE!"},{"$error":"#VALUE!"},{"$error":"#VALUE!"},{"$error":"#VALUE!"},{"$error":"#VALUE!"},{"$error":"#VALUE!"},{"$error":"#VALUE!"},{"$error":"#VALUE!"},{"$error":"#VALUE!"},{"$error":"#VALUE!"},{"$error":"#VALUE!"},{"$error":"#VALUE!"},{"$error":"#VALUE!"},{"$error":"#VALUE!"},{"$error":"#VALUE!"},{"$error":"#VALUE!"},{"$error":"#VALUE!"},{"$error":"#VALUE!"},{"$error":"#VALUE!"},{"$error":"#VALUE!"},{"$error":"#VALUE!"},{"$error":"#VALUE!"},{"$error":"#VALUE!"},{"$error":"#VALUE!"},9,0,{"$error":"#VALUE!"},{"$error":"#VALUE!"},{"$error":"#VALUE!"},{"$error":"#VALUE!"},{"$error":"#VALUE!"},{"$error":"#VALUE!"},{"$error":"#VALUE!"},{"$error":"#VALUE!"},{"$error":"#VALUE!"},{"$error":"#VALUE!"},{"$error":"#VALUE!"},{"$error":"#VALUE!"},{"$error":"#VALUE!"},{"$error":"#VALUE!"},{"$error":"#VALUE!"},{"$error":"#VALUE!"},{"$error":"#VALUE!"},{"$error":"#VALUE!"},{"$error":"#VALUE!"},{"$error":"#VALUE!"},{"$error":"#VALUE!"},{"$error":"#VALUE!"},{"$error":"#VALUE!"},{"$error":"#VALUE!"},{"$error":"#VALUE!"},{"$error":"#VALUE!"},{"$error":"#VALUE!"},{"$error":"#VALUE!"},{"$error":"#VALUE!"},{"$error":"#VALUE!"},{"$error":"#VALUE!"},{"$error":"#VALUE!"},{"$error":"#VALUE!"},9,0,{"$error":"#VALUE!"},{"$error":"#VALUE!"},{"$error":"#VALUE!"},{"$error":"#VALUE!"},{"$error":"#VALUE!"},{"$error":"#VALUE!"},{"$error":"#VALUE!"},{"$error":"#VALUE!"},{"$error":"#VALUE!"},{"$error":"#VALUE!"},{"$error":"#VALUE!"},{"$error":"#VALUE!"},{"$error":"#VALUE!"},{"$error":"#VALUE!"},{"$error":"#VALUE!"},{"$error":"#VALUE!"},{"$error":"#VALUE!"},{"$error":"#VALUE!"},{"$error":"#VALUE!"},{"$error":"#VALUE!"},{"$error":"#VALUE!"},{"$error":"#VALUE!"},{"$error":"#VALUE!"},{"$error":"#VALUE!"},{"$error":"#VALUE!"},{"$error":"#VALUE!"},{"$error":"#VALUE!"},{"$error":"#VALUE!"},{"$error":"#VALUE!"},{"$error":"#VALUE!"},{"$error":"#VALUE!"},{"$error":"#VALUE!"},{"$error":"#VALUE!"},9,0,{"$error":"#VALUE!"},{"$error":"#VALUE!"},{"$error":"#VALUE!"},{"$error":"#VALUE!"},{"$error":"#VALUE!"},{"$error":"#VALUE!"},{"$error":"#VALUE!"},{"$error":"#VALUE!"},{"$error":"#VALUE!"},{"$error":"#VALUE!"},{"$error":"#VALUE!"},{"$error":"#VALUE!"},{"$error":"#VALUE!"},{"$error":"#VALUE!"},{"$error":"#VALUE!"},{"$error":"#VALUE!"},{"$error":"#VALUE!"},{"$error":"#VALUE!"},{"$error":"#VALUE!"},{"$error":"#VALUE!"},{"$error":"#VALUE!"},{"$error":"#VALUE!"},{"$error":"#VALUE!"},{"$error":"#VALUE!"},{"$error":"#VALUE!"},{"$error":"#VALUE!"},{"$error":"#VALUE!"},{"$error":"#VALUE!"},{"$error":"#VALUE!"},{"$error":"#VALUE!"},{"$error":"#VALUE!"},{"$error":"#VALUE!"},{"$error":"#VALUE!"},9,0,{"$error":"#VALUE!"},{"$error":"#VALUE!"},{"$error":"#VALUE!"},{"$error":"#VALUE!"},{"$error":"#VALUE!"},{"$error":"#VALUE!"},{"$error":"#VALUE!"},{"$error":"#VALUE!"},{"$error":"#VALUE!"},{"$error":"#VALUE!"},{"$error":"#VALUE!"},{"$error":"#VALUE!"},{"$error":"#VALUE!"},{"$error":"#VALUE!"},{"$error":"#VALUE!"},{"$error":"#VALUE!"},{"$error":"#VALUE!"},{"$error":"#VALUE!"},{"$error":"#VALUE!"},{"$error":"#VALUE!"},{"$error":"#VALUE!"},{"$error":"#VALUE!"},{"$error":"#VALUE!"},{"$error":"#VALUE!"},{"$error":"#VALUE!"},{"$error":"#VALUE!"},{"$error":"#VALUE!"},{"$error":"#VALUE!"},{"$error":"#VALUE!"},{"$error":"#VALUE!"},{"$error":"#VALUE!"},{"$error":"#VALUE!"},{"$error":"#VALUE!"},9,0,{"$error":"#VALUE!"},{"$error":"#VALUE!"},{"$error":"#VALUE!"},{"$error":"#VALUE!"},{"$error":"#VALUE!"},{"$error":"#VALUE!"},{"$error":"#VALUE!"},{"$error":"#VALUE!"},{"$error":"#VALUE!"},{"$error":"#VALUE!"},{"$error":"#VALUE!"},{"$error":"#VALUE!"},{"$error":"#VALUE!"},{"$error":"#VALUE!"},{"$error":"#VALUE!"},{"$error":"#VALUE!"},{"$error":"#VALUE!"},{"$error":"#VALUE!"},{"$error":"#VALUE!"},{"$error":"#VALUE!"},{"$error":"#VALUE!"},{"$error":"#VALUE!"},{"$error":"#VALUE!"},{"$error":"#VALUE!"},{"$error":"#VALUE!"},{"$error":"#VALUE!"},{"$error":"#VALUE!"},{"$error":"#VALUE!"},{"$error":"#VALUE!"},{"$error":"#VALUE!"},{"$error":"#VALUE!"},{"$error":"#VALUE!"},{"$error":"#VALUE!"}]
[null,null,null,null,null,null,null,null,null,null,null,null,null,null,null,null,null,null,null,null,null,null,null,"Total",{"$f":"SUM(Y73:Y79)","v":0},{"$f":"SUM(Z73:Z79)","v":0},0,0,0,0,null,null,null,"N/A",null,false,null,null,null,null,"Total",null,null,null,null,null,null,null,null,null,null,null,null,null,null,null,null,null,null,null,null,null,null,null,"Total",null,null,null,null,null,null,null,null,null,null,null,null,null,null,null,null,null,null,null,null,null,null,null,null,null,null,null,null,null,null,null,null,null,null,null,null,null,null,null,null,null,null,null,null,null,null,null,null,null,null,null,null,null,null,null,null,null,null,null,null,null,null,null,null,null,null,null,"Total",{"$f":"SUM(ED73:ED79)","v":{"$error":"#VALUE!"}},{"$f":"SUM(EE73:EE79)","v":{"$error":"#VALUE!"}},{"$f":"SUM(EF73:EF79)","v":{"$error":"#VALUE!"}},{"$f":"SUM(EG73:EG79)","v":{"$error":"#VALUE!"}},{"$f":"SUM(EH73:EH79)","v":{"$error":"#VALUE!"}},{"$f":"SUM(EI73:EI79)","v":{"$error":"#VALUE!"}},{"$error":"#VALUE!"},{"$error":"#VALUE!"},{"$error":"#VALUE!"},{"$error":"#VALUE!"},{"$error":"#VALUE!"},{"$error":"#VALUE!"},{"$error":"#VALUE!"},{"$error":"#VALUE!"},{"$error":"#VALUE!"},{"$error":"#VALUE!"},{"$error":"#VALUE!"},{"$error":"#VALUE!"},null,"Total",{"$f":"SUM(EX73:EX79)","v":0},{"$f":"SUM(EY73:EY79)","v":{"$error":"#VALUE!"}},{"$f":"SUM(EZ73:EZ79)","v":{"$error":"#VALUE!"}},{"$error":"#VALUE!"},{"$error":"#VALUE!"},{"$f":"SUM(FC73:FC79)","v":{"$error":"#VALUE!"}},{"$f":"SUM(FD73:FD79)","v":{"$error":"#VALUE!"}},{"$error":"#VALUE!"},{"$error":"#VALUE!"},{"$error":"#VALUE!"},{"$error":"#VALUE!"},{"$error":"#VALUE!"},{"$error":"#VALUE!"},{"$error":"#VALUE!"},{"$error":"#VALUE!"},{"$error":"#VALUE!"},{"$f":"SUM(FN73:FN79)","v":{"$error":"#VALUE!"}},{"$f":"SUM(FO73:FO79)","v":{"$error":"#VALUE!"}},{"$f":"SUM(FP73:FP79)","v":{"$error":"#VALUE!"}},{"$f":"SUM(FQ73:FQ79)","v":{"$error":"#VALUE!"}},{"$error":"#VALUE!"},{"$error":"#VALUE!"},{"$error":"#VALUE!"},{"$error":"#VALUE!"},{"$error":"#VALUE!"},{"$error":"#VALUE!"},{"$error":"#VALUE!"},{"$error":"#VALUE!"},{"$error":"#VALUE!"},{"$error":"#VALUE!"},{"$error":"#VALUE!"},{"$f":"SUM(GC73:GC79)","v":{"$error":"#VALUE!"}},{"$f":"SUM(GD73:GD79)","v":{"$error":"#VALUE!"}},{"$error":"#VALUE!"},"Total",{"$f":"SUM(GG73:GG79)","v":0},{"$f":"SUM(GH73:GH79)","v":{"$error":"#VALUE!"}},{"$f":"SUM(GI73:GI79)","v":{"$error":"#VALUE!"}},{"$error":"#VALUE!"},{"$error":"#VALUE!"},{"$f":"SUM(GL73:GL79)","v":{"$error":"#VALUE!"}},{"$f":"SUM(GM73:GM79)","v":{"$error":"#VALUE!"}},{"$f":"SUM(GN73:GN79)","v":{"$error":"#VALUE!"}},{"$error":"#VALUE!"},{"$error":"#VALUE!"},{"$error":"#VALUE!"},{"$error":"#VALUE!"},{"$error":"#VALUE!"},{"$error":"#VALUE!"},{"$error":"#VALUE!"},{"$error":"#VALUE!"},{"$f":"SUM(GW73:GW79)","v":{"$error":"#VALUE!"}},{"$f":"SUM(GX73:GX79)","v":{"$error":"#VALUE!"}},{"$f":"SUM(GY73:GY79)","v":{"$error":"#VALUE!"}},{"$f":"SUM(GZ73:GZ79)","v":{"$error":"#VALUE!"}},{"$error":"#VALUE!"},{"$error":"#VALUE!"},{"$error":"#VALUE!"},{"$error":"#VALUE!"},{"$error":"#VALUE!"},{"$error":"#VALUE!"},{"$error":"#VALUE!"},{"$error":"#VALUE!"},{"$error":"#VALUE!"},{"$error":"#VALUE!"},{"$error":"#VALUE!"},{"$f":"SUM(HL73:HL79)","v":{"$error":"#VALUE!"}},{"$f":"SUM(HM73:HM79)","v":{"$error":"#VALUE!"}},{"$error":"#VALUE!"},"Total",{"$f":"SUM(HP73:HP79)","v":0},{"$f":"SUM(HQ73:HQ79)","v":{"$error":"#VALUE!"}},{"$f":"SUM(HR73:HR79)","v":{"$error":"#VALUE!"}},{"$error":"#VALUE!"},{"$error":"#VALUE!"},{"$f":"SUM(HU73:HU79)","v":{"$error":"#VALUE!"}},{"$f":"SUM(HV73:HV79)","v":{"$error":"#VALUE!"}},{"$error":"#VALUE!"},{"$error":"#VALUE!"},{"$error":"#VALUE!"},{"$error":"#VALUE!"},{"$error":"#VALUE!"},{"$error":"#VALUE!"},{"$error":"#VALUE!"},{"$error":"#VALUE!"},{"$error":"#VALUE!"},{"$f":"SUM(IF73:IF79)","v":{"$error":"#VALUE!"}},{"$f":"SUM(IG73:IG79)","v":{"$error":"#VALUE!"}},{"$f":"SUM(IH73:IH79)","v":{"$error":"#VALUE!"}},{"$f":"SUM(II73:II79)","v":{"$error":"#VALUE!"}},{"$error":"#VALUE!"},{"$error":"#VALUE!"},{"$error":"#VALUE!"},{"$error":"#VALUE!"},{"$error":"#VALUE!"},{"$error":"#VALUE!"},{"$error":"#VALUE!"},{"$error":"#VALUE!"},{"$error":"#VALUE!"},{"$error":"#VALUE!"},{"$error":"#VALUE!"},{"$f":"SUM(IU73:IU79)","v":{"$error":"#VALUE!"}},{"$f":"SUM(IV73:IV79)","v":{"$error":"#VALUE!"}},{"$error":"#VALUE!"},"Total",{"$f":"SUM(IY73:IY79)","v":0},{"$f":"SUM(IZ73:IZ79)","v":{"$error":"#VALUE!"}},{"$f":"SUM(JA73:JA79)","v":{"$error":"#VALUE!"}},{"$error":"#VALUE!"},{"$error":"#VALUE!"},{"$f":"SUM(JD73:JD79)","v":{"$error":"#VALUE!"}},{"$f":"SUM(JE73:JE79)","v":{"$error":"#VALUE!"}},{"$error":"#VALUE!"},{"$error":"#VALUE!"},{"$error":"#VALUE!"},{"$error":"#VALUE!"},{"$error":"#VALUE!"},{"$error":"#VALUE!"},{"$error":"#VALUE!"},{"$error":"#VALUE!"},{"$error":"#VALUE!"},{"$f":"SUM(JO73:JO79)","v":{"$error":"#VALUE!"}},{"$f":"SUM(JP73:JP79)","v":{"$error":"#VALUE!"}},{"$f":"SUM(JQ73:JQ79)","v":{"$error":"#VALUE!"}},{"$f":"SUM(JR73:JR79)","v":{"$error":"#VALUE!"}},{"$error":"#VALUE!"},{"$error":"#VALUE!"},{"$error":"#VALUE!"},{"$error":"#VALUE!"},{"$error":"#VALUE!"},{"$error":"#VALUE!"},{"$error":"#VALUE!"},{"$error":"#VALUE!"},{"$error":"#VALUE!"},{"$error":"#VALUE!"},{"$error":"#VALUE!"},{"$f":"SUM(KD73:KD79)","v":{"$error":"#VALUE!"}},{"$f":"SUM(KE73:KE79)","v":{"$error":"#VALUE!"}},{"$error":"#VALUE!"},"Total",{"$f":"SUM(KH73:KH79)","v":0},{"$f":"SUM(KI73:KI79)","v":{"$error":"#VALUE!"}},{"$f":"SUM(KJ73:KJ79)","v":{"$error":"#VALUE!"}},{"$error":"#VALUE!"},{"$error":"#VALUE!"},{"$f":"SUM(KM73:KM79)","v":{"$error":"#VALUE!"}},{"$f":"SUM(KN73:KN79)","v":{"$error":"#VALUE!"}},{"$error":"#VALUE!"},{"$error":"#VALUE!"},{"$error":"#VALUE!"},{"$error":"#VALUE!"},{"$error":"#VALUE!"},{"$error":"#VALUE!"},{"$error":"#VALUE!"},{"$error":"#VALUE!"},{"$error":"#VALUE!"},{"$f":"SUM(KX73:KX79)","v":{"$error":"#VALUE!"}},{"$f":"SUM(KY73:KY79)","v":{"$error":"#VALUE!"}},{"$f":"SUM(KZ73:KZ79)","v":{"$error":"#VALUE!"}},{"$f":"SUM(LA73:LA79)","v":{"$error":"#VALUE!"}},{"$error":"#VALUE!"},{"$error":"#VALUE!"},{"$error":"#VALUE!"},{"$error":"#VALUE!"},{"$error":"#VALUE!"},{"$error":"#VALUE!"},{"$error":"#VALUE!"},{"$error":"#VALUE!"},{"$error":"#VALUE!"},{"$error":"#VALUE!"},{"$error":"#VALUE!"},{"$f":"SUM(LM73:LM79)","v":{"$error":"#VALUE!"}},{"$f":"SUM(LN73:LN79)","v":{"$error":"#VALUE!"}},{"$error":"#VALUE!"},"Total",{"$f":"SUM(LQ73:LQ79)","v":0},{"$f":"SUM(LR73:LR79)","v":{"$error":"#VALUE!"}},{"$f":"SUM(LS73:LS79)","v":{"$error":"#VALUE!"}},{"$error":"#VALUE!"},{"$error":"#VALUE!"},{"$f":"SUM(LV73:LV79)","v":{"$error":"#VALUE!"}},{"$f":"SUM(LW73:LW79)","v":{"$error":"#VALUE!"}},{"$error":"#VALUE!"},{"$error":"#VALUE!"},{"$error":"#VALUE!"},{"$error":"#VALUE!"},{"$error":"#VALUE!"},{"$error":"#VALUE!"},{"$error":"#VALUE!"},{"$error":"#VALUE!"},{"$f":"SUM(MF73:MF79)","v":{"$error":"#VALUE!"}},{"$f":"SUM(MG73:MG79)","v":{"$error":"#VALUE!"}},{"$f":"SUM(MH73:MH79)","v":{"$error":"#VALUE!"}},{"$f":"SUM(MI73:MI79)","v":{"$error":"#VALUE!"}},{"$f":"SUM(MJ73:MJ79)","v":{"$error":"#VALUE!"}},{"$error":"#VALUE!"},{"$error":"#VALUE!"},{"$error":"#VALUE!"},{"$error":"#VALUE!"},{"$error":"#VALUE!"},{"$error":"#VALUE!"},{"$error":"#VALUE!"},{"$error":"#VALUE!"},{"$error":"#VALUE!"},{"$error":"#VALUE!"},{"$error":"#VALUE!"},{"$f":"SUM(MV73:MV79)","v":{"$error":"#VALUE!"}},{"$f":"SUM(MW73:MW79)","v":{"$error":"#VALUE!"}},{"$error":"#VALUE!"}]
[null,7,{"$f":"'Regional Project List Sheet'!F11","v":0},{"$f":"IF('Regional Project List Sheet'!$G11=\"New\",1,\"\")","v":""},{"$f":"IF('Regional Project List Sheet'!$G11=\"Funded Old\",1,\"\")","v":""},{"$f":"IF('Regional Project List Sheet'!$G11=\"Unfunded Old\",1,\"\")","v":""},{"$f":"'Regional Project List Sheet'!H11","v":0},{"$f":"'Regional Project List Sheet'!I11","v":0},{"$f":"'Regional Project List Sheet'!L11","v":0},{"$f":"'Regional Project List Sheet'!M11","v":0},{"$f":"'Regional Project List Sheet'!N11","v":0},{"$f":"'Regional Project List Sheet'!O11","v":0},{"$f":"'Regional Project List Sheet'!P11","v":0},{"$f":"IF('Regional Project List Sheet'!$Q11=\"N/A\",\"N/A\",IF($Y84<>0,5,IF($Z84<>0,4,IF($AA84<>0,3,IF($AB84<>0,2,1)))))","v":1},{"$f":"VLOOKUP($C81,'[2]Ranking|Priority'!$B$5:$O$40,12,FALSE)","v":{"$error":"#N/A"}},{"$f":"VLOOKUP($C81,'[2]Ranking|Priority'!$B$5:$O$68,13,FALSE)","v":{"$error":"#N/A"}},{"$f":"VLOOKUP($C81,'[2]Ranking|Priority'!$B$5:$O$68,14,FALSE)","v":{"$error":"#N/A"}},{"$f":"'Regional Project List Sheet'!T11","v":0},{"$f":"'Regional Project List Sheet'!U11","v":0},{"$f":"'Regional Project List Sheet'!V11","v":0},{"$f":"'Regional Project List Sheet'!W11","v":0},{"$f":"'Regional Project List Sheet'!X11","v":0},{"$f":"'Regional Project List Sheet'!Y11","v":"Choose from Project List in cell I2"},0,null,null,null,null,null,null,null,{"$f":"'Regional Project List Sheet'!AJ11","v":0},{"$f":"IF(OR('Regional Project List Sheet'!$AA11<>'Regional Project List Sheet'!$A$40,'Regional Project List Sheet'!$AD11<>'Regional Project List Sheet'!$A$40,'Regional Project List Sheet'!$AG11<>'Regional Project List Sheet'!$A$40),_xlfn.CONCAT(IF(ISNUMBER('Regional Project List Sheet'!$AA11),'Regional Project List Sheet'!$A$36,\"\"),\" \",IF(ISNUMBER('Regional Project List Sheet'!$AD11),'Regional Project List Sheet'!$A$37,\"\"),\" \",IF(ISNUMBER('Regional Project List Sheet'!$AG11),'Regional Project List Sheet'!$A$38,\"\")),\"N/A\")","v":"N/A"},"N/A",{"$f":"IF(OR('Regional Project List Sheet'!AC11<>'Regional Project List Sheet'!$A$40,'Regional Project List Sheet'!AF11<>'Regional Project List Sheet'!$A$40,'Regional Project List Sheet'!AI11<>'Regional Project List Sheet'!$A$40),\n\nIF(LEN(_xlfn.CONCAT(IF('Regional Project List Sheet'!AC11=\"Yes\",'Regional Project List Sheet'!$A$36,\"\"),\" \",\n\nIF('Regional Project List Sheet'!AF11=\"Yes\",'Regional Project List Sheet'!$A$37,\"\"),\" \",\n\nIF('Regional Project List Sheet'!AI11=\"Yes\",'Regional Project List Sheet'!$A$38,\"\")))<3,\"No\",\n\n_xlfn.CONCAT(IF('Regional Project List Sheet'!AC11=\"Yes\",'Regional Project List Sheet'!$A$36,\"\"),\" \",\n\nIF('Regional Project List Sheet'!AF11=\"Yes\",'Regional Project List Sheet'!$A$37,\"\"),\" \",\n\nIF('Regional Project List Sheet'!AI11=\"Yes\",'Regional Project List Sheet'!$A$38,\"\"))))","v":false},false,{"$f":"'Regional Project List Sheet'!AK11","v":0},null,{"$f":"'Regional Project List Sheet'!AL11","v":0},null,0,null,null,null,null,null,null,null,null,null,null,1,{"$f":"IF(AND(BB81=\"OK\",BC81=\"OK\",BD81=\"OK\"),\"OK\",\"ERR!\")","v":"OK"},{"$f":"IF(AND(Y81>0,SUM(BN81:BX81)<1),\"ERR!\",IF(AND(Z81>0,SUM(BY81:CI81)<1),\"ERR!\",IF(AND(AA81>0,SUM(CJ81:CT81)<1),\"ERR\",IF(AND(AB81>0,SUM(CU81:DE81)<1),\"ERR\",IF(AND(AC81>0,SUM(DF81:DP81)<1),\"ERR\",IF(AND(AD81>0,SUM(DQ81:EA81)<1),\"ERR\",\"OK\"))))))","v":"OK"},{"$f":"IF(OR(SUM(BN81:BX81)<>1,SUM(BY81:CI81)<>1,SUM(CJ81:CT81)<>1,SUM(CU81:DE81)<>1,SUM(DF81:DP81)<>1,SUM(DQ81:EA81)<>1),\"ERR!\",\"OK\")","v":"OK"},{"$f":"IF(AND(OR(BE81=BK81,BE81=0),OR(BF81=BK81,BF81=0),OR(BG81=BK81,BG81=0),OR(BH81=BK81,BH81=0),OR(BI81=BK81,BI81=0),OR(BJ81=BK81,BJ81=0)),\"OK\",\"ERR!\")","v":"OK"},{"$f":"(BN81*POWER(10,0)+BO81*POWER(10,1)+BP81*POWER(10,2)+BQ81*POWER(10,3)+BR81*POWER(10,4)+BS81*POWER(10,5)+BT81*POWER(10,6)+BU81*POWER(10,7)+BV81*POWER(10,8)+BW81*POWER(10,9)+BX81*POWER(10,10))","v":100},{"$f":"(BY81*POWER(10,0)+BZ81*POWER(10,1)+CA81*POWER(10,2)+CB81*POWER(10,3)+CC81*POWER(10,4)+CD81*POWER(10,5)+CE81*POWER(10,6)+CF81*POWER(10,7)+CG81*POWER(10,8)+CH81*POWER(10,9)+CI81*POWER(10,10))","v":100},{"$f":"(CJ81*POWER(10,0)+CK81*POWER(10,1)+CL81*POWER(10,2)+CM81*POWER(10,3)+CN81*POWER(10,4)+CO81*POWER(10,5)+CP81*POWER(10,6)+CQ81*POWER(10,7)+CR81*POWER(10,8)+CS81*POWER(10,9)+CT81*POWER(10,10))","v":100},{"$f":"(CU81*POWER(10,0)+CV81*POWER(10,1)+CW81*POWER(10,2)+CX81*POWER(10,3)+CY81*POWER(10,4)+CZ81*POWER(10,5)+DA81*POWER(10,6)+DB81*POWER(10,7)+DC81*POWER(10,8)+DD81*POWER(10,9)+DE81*POWER(10,10))","v":100},{"$f":"(DF81*POWER(10,0)+DG81*POWER(10,1)+DH81*POWER(10,2)+DI81*POWER(10,3)+DJ81*POWER(10,4)+DK81*POWER(10,5)+DL81*POWER(10,6)+DM81*POWER(10,7)+DN81*POWER(10,8)+DO81*POWER(10,9)+DP81*POWER(10,10))","v":100},{"$f":"(DQ81*POWER(10,0)+DR81*POWER(10,1)+DS81*POWER(10,2)+DT81*POWER(10,3)+DU81*POWER(10,4)+DV81*POWER(10,5)+DW81*POWER(10,6)+DX81*POWER(10,7)+DY81*POWER(10,8)+DZ81*POWER(10,9)+EA81*POWER(10,10))","v":100},{"$f":"MAX(BE81:BJ81)","v":100},null,0,null,null,1,null,null,null,null,null,null,null,null,null,null,1,null,null,null,null,null,null,null,null,null,null,1,null,null,null,null,null,null,null,null,null,null,1,null,null,null,null,null,null,null,null,null,null,1,null,null,null,null,null,null,null,null,null,null,1,null,null,null,null,null,null,null,null,null,0,{"$f":"($Y81*D$81)/1000","v":{"$error":"#VALUE!"}},{"$error":"#VALUE!"},{"$error":"#VALUE!"},{"$f":"($Z81*D$81)/1000","v":{"$error":"#VALUE!"}},{"$error":"#VALUE!"},{"$error":"#VALUE!"},{"$f":"($AA81*D$81)/1000","v":{"$error":"#VALUE!"}},{"$error":"#VALUE!"},{"$error":"#VALUE!"},{"$f":"($AB81*D$81)/1000","v":{"$error":"#VALUE!"}},{"$error":"#VALUE!"},{"$error":"#VALUE!"},{"$f":"($AC81*D$81)/1000","v":{"$error":"#VALUE!"}},{"$error":"#VALUE!"},{"$error":"#VALUE!"},{"$f":"($AD81*D$81)/1000","v":{"$error":"#VALUE!"}},{"$error":"#VALUE!"},{"$error":"#VALUE!"},null,0,{"$f":"$AZ$81*$Y81","v":0},{"$f":"($AZ$81*$BN81*D$81*$Y81)/1000","v":{"$error":"#VALUE!"}},{"$error":"#VALUE!"},{"$error":"#VALUE!"},{"$f":"($AZ$81*$BO81*D$81*$Y81)/1000","v":{"$error":"#VALUE!"}},{"$error":"#VALUE!"},{"$error":"#VALUE!"},{"$f":"($AZ$81*$BP81*D$81*$Y81)/1000","v":{"$error":"#VALUE!"}},{"$error":"#VALUE!"},{"$error":"#VALUE!"},{"$f":"($AZ$81*$BQ81*D$81*$Y81)/1000","v":{"$error":"#VALUE!"}},{"$error":"#VALUE!"},{"$error":"#VALUE!"},{"$f":"($AZ$81*$BR81*D$81*$Y81)/1000","v":{"$error":"#VALUE!"}},{"$error":"#VALUE!"},{"$error":"#VALUE!"},{"$f":"($AZ$81*$BS81*D$81*$Y81)/1000","v":{"$error":"#VALUE!"}},{"$error":"#VALUE!"},{"$error":"#VALUE!"},{"$f":"($AZ$81*$BT81*D$81*$Y81)/1000","v":{"$error":"#VALUE!"}},{"$error":"#VALUE!"},{"$error":"#VALUE!"},{"$f":"($AZ$81*$BU81*D$81*$Y81)/1000","v":{"$error":"#VALUE!"}},{"$error":"#VALUE!"},{"$error":"#VALUE!"},{"$f":"($AZ$81*$BV81*D$81*$Y81)/1000","v":{"$error":"#VALUE!"}},{"$error":"#VALUE!"},{"$error":"#VALUE!"},{"$f":"($AZ$81*$BW81*D$81*$Y81)/1000","v":{"$error":"#VALUE!"}},{"$error":"#VALUE!"},{"$error":"#VALUE!"},{"$f":"($AZ$81*$BX81*D$81*$Y81)/1000","v":{"$error":"#VALUE!"}},{"$error":"#VALUE!"},{"$error":"#VALUE!"},0,{"$f":"$AZ$81*$Z81","v":0},{"$f":"($AZ$81*$BY81*D$81*$Z81)/1000","v":{"$error":"#VALUE!"}},{"$error":"#VALUE!"},{"$error":"#VALUE!"},{"$f":"($AZ$81*$BZ81*D$81*$Z81)/1000","v":{"$error":"#VALUE!"}},{"$error":"#VALUE!"},{"$error":"#VALUE!"},{"$f":"($AZ$81*$CA81*D$81*$Z81)/1000","v":{"$error":"#VALUE!"}},{"$error":"#VALUE!"},{"$error":"#VALUE!"},{"$f":"($AZ$81*$CB81*D$81*$Z81)/1000","v":{"$error":"#VALUE!"}},{"$error":"#VALUE!"},{"$error":"#VALUE!"},{"$f":"($AZ$81*$CD81*D$81*$Z81)/1000","v":{"$error":"#VALUE!"}},{"$error":"#VALUE!"},{"$error":"#VALUE!"},{"$f":"($AZ$81*$CD81*D$81*$Z81)/1000","v":{"$error":"#VALUE!"}},{"$error":"#VALUE!"},{"$error":"#VALUE!"},{"$f":"($AZ$81*$CE81*D$81*$Z81)/1000","v":{"$error":"#VALUE!"}},{"$error":"#VALUE!"},{"$error":"#VALUE!"},{"$f":"($AZ$81*$CF81*D$81*$Z81)/1000","v":{"$error":"#VALUE!"}},{"$error":"#VALUE!"},{"$error":"#VALUE!"},{"$f":"($AZ$81*$CG81*D$81*$Z81)/1000","v":{"$error":"#VALUE!"}},{"$error":"#VALUE!"},{"$error":"#VALUE!"},{"$f":"($AZ$81*$CH81*D$81*$Z81)/1000","v":{"$error":"#VALUE!"}},{"$error":"#VALUE!"},{"$error":"#VALUE!"},{"$f":"($AZ$81*$CI81*D$81*$Z81)/1000","v":{"$error":"#VALUE!"}},{"$error":"#VALUE!"},{"$error":"#VALUE!"},0,{"$f":"$AZ$81*$AA81","v":0},{"$f":"($AZ$81*$CJ81*D$81*$AA81)/1000","v":{"$error":"#VALUE!"}},{"$error":"#VALUE!"},{"$error":"#VALUE!"},{"$f":"($AZ$81*$CK81*D$81*$AA81)/1000","v":{"$error":"#VALUE!"}},{"$error":"#VALUE!"},{"$error":"#VALUE!"},{"$f":"($AZ$81*$CL81*D$81*$AA81)/1000","v":{"$error":"#VALUE!"}},{"$error":"#VALUE!"},{"$error":"#VALUE!"},{"$f":"($AZ$81*$CM81*D$81*$AA81)/1000","v":{"$error":"#VALUE!"}},{"$error":"#VALUE!"},{"$error":"#VALUE!"},{"$f":"($AZ$81*$CN81*D$81*$AA81)/1000","v":{"$error":"#VALUE!"}},{"$error":"#VALUE!"},{"$error":"#VALUE!"},{"$f":"($AZ$81*$CO81*D$81*$AA81)/1000","v":{"$error":"#VALUE!"}},{"$error":"#VALUE!"},{"$error":"#VALUE!"},{"$f":"($AZ$81*$CP81*D$81*$AA81)/1000","v":{"$error":"#VALUE!"}},{"$error":"#VALUE!"},{"$error":"#VALUE!"},{"$f":"($AZ$81*$CQ81*D$81*$AA81)/1000","v":{"$error":"#VALUE!"}},{"$error":"#VALUE!"},{"$error":"#VALUE!"},{"$f":"($AZ$81*$CR81*D$81*$AA81)/1000","v":{"$error":"#VALUE!"}},{"$error":"#VALUE!"},{"$error":"#VALUE!"},{"$f":"($AZ$81*$CS81*D$81*$AA81)/1000","v":{"$error":"#VALUE!"}},{"$error":"#VALUE!"},{"$error":"#VALUE!"},{"$f":"($AZ$81*$CT81*D$81*$AA81)/1000","v":{"$error":"#VALUE!"}},{"$error":"#VALUE!"},{"$error":"#VALUE!"},0,{"$f":"$AZ$81*$AB81","v":0},{"$f":"($AZ$81*$CU81*D$81*$AB81)/1000","v":{"$error":"#VALUE!"}},{"$error":"#VALUE!"},{"$error":"#VALUE!"},{"$f":"($AZ$81*$CV81*D$81*$AB81)/1000","v":{"$error":"#VALUE!"}},{"$error":"#VALUE!"},{"$error":"#VALUE!"},{"$f":"($AZ$81*$CW81*D$81*$AB81)/1000","v":{"$error":"#VALUE!"}},{"$error":"#VALUE!"},{"$error":"#VALUE!"},{"$f":"($AZ$81*$CX81*D$81*$AB81)/1000","v":{"$error":"#VALUE!"}},{"$error":"#VALUE!"},{"$error":"#VALUE!"},{"$f":"($AZ$81*$CY81*D$81*$AB81)/1000","v":{"$error":"#VALUE!"}},{"$error":"#VALUE!"},{"$error":"#VALUE!"},{"$f":"($AZ$81*$CZ81*D$81*$AB81)/1000","v":{"$error":"#VALUE!"}},{"$error":"#VALUE!"},{"$error":"#VALUE!"},{"$f":"($AZ$81*$DA81*D$81*$AB81)/1000","v":{"$error":"#VALUE!"}},{"$error":"#VALUE!"},{"$error":"#VALUE!"},{"$f":"($AZ$81*$DB81*D$81*$AB81)/1000","v":{"$error":"#VALUE!"}},{"$error":"#VALUE!"},{"$error":"#VALUE!"},{"$f":"($AZ$81*$DC81*D$81*$AB81)/1000","v":{"$error":"#VALUE!"}},{"$error":"#VALUE!"},{"$error":"#VALUE!"},{"$f":"($AZ$81*$DD81*D$81*$AB81)/1000","v":{"$error":"#VALUE!"}},{"$error":"#VALUE!"},{"$error":"#VALUE!"},{"$f":"($AZ$81*$DE81*D$81*$AB81)/1000","v":{"$error":"#VALUE!"}},{"$error":"#VALUE!"},{"$error":"#VALUE!"},0,{"$f":"$AZ$81*$AC81","v":0},{"$f":"($AZ$81*$DF81*D$81*$AC81)/1000","v":{"$error":"#VALUE!"}},{"$error":"#VALUE!"},{"$error":"#VALUE!"},{"$f":"($AZ$81*$DG81*D$81*$AC81)/1000","v":{"$error":"#VALUE!"}},{"$error":"#VALUE!"},{"$error":"#VALUE!"},{"$f":"($AZ$81*$DH81*D$81*$AC81)/1000","v":{"$error":"#VALUE!"}},{"$error":"#VALUE!"},{"$error":"#VALUE!"},{"$f":"($AZ$81*$DI81*D$81*$AC81)/1000","v":{"$error":"#VALUE!"}},{"$error":"#VALUE!"},{"$error":"#VALUE!"},{"$f":"($AZ$81*$DJ81*D$81*$AC81)/1000","v":{"$error":"#VALUE!"}},{"$error":"#VALUE!"},{"$error":"#VALUE!"},{"$f":"($AZ$81*$DK81*D$81*$AC81)/1000","v":{"$error":"#VALUE!"}},{"$error":"#VALUE!"},{"$error":"#VALUE!"},{"$f":"($AZ$81*$DL81*D$81*$AC81)/1000","v":{"$error":"#VALUE!"}},{"$error":"#VALUE!"},{"$error":"#VALUE!"},{"$f":"($AZ$81*$DM81*D$81*$AC81)/1000","v":{"$error":"#VALUE!"}},{"$error":"#VALUE!"},{"$error":"#VALUE!"},{"$f":"($AZ$81*$DN81*D$81*$AC81)/1000","v":{"$error":"#VALUE!"}},{"$error":"#VALUE!"},{"$error":"#VALUE!"},{"$f":"($AZ$81*$DO81*D$81*$AC81)/1000","v":{"$error":"#VALUE!"}},{"$error":"#VALUE!"},{"$error":"#VALUE!"},{"$f":"($AZ$81*$DP81*D$81*$AC81)/1000","v":{"$error":"#VALUE!"}},{"$error":"#VALUE!"},{"$error":"#VALUE!"},0,{"$f":"$AZ$81*$AD81","v":0},{"$f":"($AZ$81*$DQ81*D$81*$AD81)/1000","v":{"$error":"#VALUE!"}},{"$error":"#VALUE!"},{"$error":"#VALUE!"},{"$f":"($AZ$81*$DR81*D$81*$AD81)/1000","v":{"$error":"#VALUE!"}},{"$error":"#VALUE!"},{"$error":"#VALUE!"},{"$f":"($AZ$81*$DS81*D$81*$AD81)/1000","v":{"$error":"#VALUE!"}},{"$error":"#VALUE!"},{"$error":"#VALUE!"},{"$f":"($AZ$81*$DT81*D$81*$AD81)/1000","v":{"$error":"#VALUE!"}},{"$error":"#VALUE!"},{"$error":"#VALUE!"},{"$f":"($AZ$81*$DU81*D$81*$AD81)/1000","v":{"$error":"#VALUE!"}},{"$error":"#VALUE!"},{"$error":"#VALUE!"},{"$f":"($AZ$81*$DV81*D$81*$AD81)/1000","v":{"$error":"#VALUE!"}},{"$error":"#VALUE!"},{"$error":"#VALUE!"},{"$f":"($AZ$81*$DW81*D$81*$AD81)/1000","v":{"$error":"#VALUE!"}},{"$error":"#VALUE!"},{"$error":"#VALUE!"},{"$f":"($AZ$81*$DX81*D$81*$AD81)/1000","v":{"$error":"#VALUE!"}},{"$error":"#VALUE!"},{"$error":"#VALUE!"},{"$f":"($AZ$81*$DY81*D$81*$AD81)/1000","v":{"$error":"#VALUE!"}},{"$error":"#VALUE!"},{"$error":"#VALUE!"},{"$f":"($AZ$81*$DZ81*D$81*$AD81)/1000","v":{"$error":"#VALUE!"}},{"$error":"#VALUE!"},{"$error":"#VALUE!"},{"$f":"($AZ$81*$EA81*D$81*$AD81)/1000","v":{"$error":"#VALUE!"}},{"$error":"#VALUE!"},{"$error":"#VALUE!"}]
[null,null,null,null,null,null,null,null,null,null,null,null,null,null,null,null,null,null,null,null,null,null,null,2,null,null,null,null,null,null,null,null,null,"N/A",null,false,null,null,null,null,2,null,null,null,null,null,null,null,null,null,null,null,{"$f":"IF(AND(BB82=\"OK\",BC82=\"OK\",BD82=\"OK\"),\"OK\",\"ERR!\")","v":"OK"},"OK",{"$f":"IF(OR(SUM(BN82:BX82)<>1,SUM(BY82:CI82)<>1,SUM(CJ82:CT82)<>1,SUM(CU82:DE82)<>1,SUM(DF82:DP82)<>1,SUM(DQ82:EA82)<>1),\"ERR!\",\"OK\")","v":"OK"},{"$f":"IF(AND(OR(BE82=BK82,BE82=0),OR(BF82=BK82,BF82=0),OR(BG82=BK82,BG82=0),OR(BH82=BK82,BH82=0),OR(BI82=BK82,BI82=0),OR(BJ82=BK82,BJ82=0)),\"OK\",\"ERR!\")","v":"OK"},{"$f":"(BN82*POWER(10,0)+BO82*POWER(10,1)+BP82*POWER(10,2)+BQ82*POWER(10,3)+BR82*POWER(10,4)+BS82*POWER(10,5)+BT82*POWER(10,6)+BU82*POWER(10,7)+BV82*POWER(10,8)+BW82*POWER(10,9)+BX82*POWER(10,10))","v":100},{"$f":"(BY82*POWER(10,0)+BZ82*POWER(10,1)+CA82*POWER(10,2)+CB82*POWER(10,3)+CC82*POWER(10,4)+CD82*POWER(10,5)+CE82*POWER(10,6)+CF82*POWER(10,7)+CG82*POWER(10,8)+CH82*POWER(10,9)+CI82*POWER(10,10))","v":100},{"$f":"(CJ82*POWER(10,0)+CK82*POWER(10,1)+CL82*POWER(10,2)+CM82*POWER(10,3)+CN82*POWER(10,4)+CO82*POWER(10,5)+CP82*POWER(10,6)+CQ82*POWER(10,7)+CR82*POWER(10,8)+CS82*POWER(10,9)+CT82*POWER(10,10))","v":100},{"$f":"(CU82*POWER(10,0)+CV82*POWER(10,1)+CW82*POWER(10,2)+CX82*POWER(10,3)+CY82*POWER(10,4)+CZ82*POWER(10,5)+DA82*POWER(10,6)+DB82*POWER(10,7)+DC82*POWER(10,8)+DD82*POWER(10,9)+DE82*POWER(10,10))","v":100},{"$f":"(DF82*POWER(10,0)+DG82*POWER(10,1)+DH82*POWER(10,2)+DI82*POWER(10,3)+DJ82*POWER(10,4)+DK82*POWER(10,5)+DL82*POWER(10,6)+DM82*POWER(10,7)+DN82*POWER(10,8)+DO82*POWER(10,9)+DP82*POWER(10,10))","v":100},{"$f":"(DQ82*POWER(10,0)+DR82*POWER(10,1)+DS82*POWER(10,2)+DT82*POWER(10,3)+DU82*POWER(10,4)+DV82*POWER(10,5)+DW82*POWER(10,6)+DX82*POWER(10,7)+DY82*POWER(10,8)+DZ82*POWER(10,9)+EA82*POWER(10,10))","v":100},{"$f":"MAX(BE82:BJ82)","v":100},null,2,null,null,1,null,null,null,null,null,null,null,null,null,null,1,null,null,null,null,null,null,null,null,null,null,1,null,null,null,null,null,null,null,null,null,null,1,null,null,null,null,null,null,null,null,null,null,1,null,null,null,null,null,null,null,null,null,null,1,null,null,null,null,null,null,null,null,null,2,{"$error":"#VALUE!"},{"$error":"#VALUE!"},{"$error":"#VALUE!"},{"$error":"#VALUE!"},{"$error":"#VALUE!"},{"$error":"#VALUE!"},{"$error":"#VALUE!"},{"$error":"#VALUE!"},{"$error":"#VALUE!"},{"$error":"#VALUE!"},{"$error":"#VALUE!"},{"$error":"#VALUE!"},{"$error":"#VALUE!"},{"$error":"#VALUE!"},{"$error":"#VALUE!"},{"$error":"#VALUE!"},{"$error":"#VALUE!"},{"$error":"#VALUE!"},null,2,0,{"$error":"#VALUE!"},{"$error":"#VALUE!"},{"$error":"#VALUE!"},{"$error":"#VALUE!"},{"$error":"#VALUE!"},{"$error":"#VALUE!"},{"$error":"#VALUE!"},{"$error":"#VALUE!"},{"$error":"#VALUE!"},{"$error":"#VALUE!"},{"$error":"#VALUE!"},{"$error":"#VALUE!"},{"$error":"#VALUE!"},{"$error":"#VALUE!"},{"$error":"#VALUE!"},{"$error":"#VALUE!"},{"$error":"#VALUE!"},{"$error":"#VALUE!"},{"$error":"#VALUE!"},{"$error":"#VALUE!"},{"$error":"#VALUE!"},{"$error":"#VALUE!"},{"$error":"#VALUE!"},{"$error":"#VALUE!"},{"$error":"#VALUE!"},{"$error":"#VALUE!"},{"$error":"#VALUE!"},{"$error":"#VALUE!"},{"$error":"#VALUE!"},{"$error":"#VALUE!"},{"$error":"#VALUE!"},{"$error":"#VALUE!"},{"$error":"#VALUE!"},2,0,{"$error":"#VALUE!"},{"$error":"#VALUE!"},{"$error":"#VALUE!"},{"$error":"#VALUE!"},{"$error":"#VALUE!"},{"$error":"#VALUE!"},{"$error":"#VALUE!"},{"$error":"#VALUE!"},{"$error":"#VALUE!"},{"$error":"#VALUE!"},{"$error":"#VALUE!"},{"$error":"#VALUE!"},{"$error":"#VALUE!"},{"$error":"#VALUE!"},{"$error":"#VALUE!"},{"$error":"#VALUE!"},{"$error":"#VALUE!"},{"$error":"#VALUE!"},{"$error":"#VALUE!"},{"$error":"#VALUE!"},{"$error":"#VALUE!"},{"$error":"#VALUE!"},{"$error":"#VALUE!"},{"$error":"#VALUE!"},{"$error":"#VALUE!"},{"$error":"#VALUE!"},{"$error":"#VALUE!"},{"$error":"#VALUE!"},{"$error":"#VALUE!"},{"$error":"#VALUE!"},{"$error":"#VALUE!"},{"$error":"#VALUE!"},{"$error":"#VALUE!"},2,0,{"$error":"#VALUE!"},{"$error":"#VALUE!"},{"$error":"#VALUE!"},{"$error":"#VALUE!"},{"$error":"#VALUE!"},{"$error":"#VALUE!"},{"$error":"#VALUE!"},{"$error":"#VALUE!"},{"$error":"#VALUE!"},{"$error":"#VALUE!"},{"$error":"#VALUE!"},{"$error":"#VALUE!"},{"$error":"#VALUE!"},{"$error":"#VALUE!"},{"$error":"#VALUE!"},{"$error":"#VALUE!"},{"$error":"#VALUE!"},{"$error":"#VALUE!"},{"$error":"#VALUE!"},{"$error":"#VALUE!"},{"$error":"#VALUE!"},{"$error":"#VALUE!"},{"$error":"#VALUE!"},{"$error":"#VALUE!"},{"$error":"#VALUE!"},{"$error":"#VALUE!"},{"$error":"#VALUE!"},{"$error":"#VALUE!"},{"$error":"#VALUE!"},{"$error":"#VALUE!"},{"$error":"#VALUE!"},{"$error":"#VALUE!"},{"$error":"#VALUE!"},2,0,{"$error":"#VALUE!"},{"$error":"#VALUE!"},{"$error":"#VALUE!"},{"$error":"#VALUE!"},{"$error":"#VALUE!"},{"$error":"#VALUE!"},{"$error":"#VALUE!"},{"$error":"#VALUE!"},{"$error":"#VALUE!"},{"$error":"#VALUE!"},{"$error":"#VALUE!"},{"$error":"#VALUE!"},{"$error":"#VALUE!"},{"$error":"#VALUE!"},{"$error":"#VALUE!"},{"$error":"#VALUE!"},{"$error":"#VALUE!"},{"$error":"#VALUE!"},{"$error":"#VALUE!"},{"$error":"#VALUE!"},{"$error":"#VALUE!"},{"$error":"#VALUE!"},{"$error":"#VALUE!"},{"$error":"#VALUE!"},{"$error":"#VALUE!"},{"$error":"#VALUE!"},{"$error":"#VALUE!"},{"$error":"#VALUE!"},{"$error":"#VALUE!"},{"$error":"#VALUE!"},{"$error":"#VALUE!"},{"$error":"#VALUE!"},{"$error":"#VALUE!"},2,0,{"$error":"#VALUE!"},{"$error":"#VALUE!"},{"$error":"#VALUE!"},{"$error":"#VALUE!"},{"$error":"#VALUE!"},{"$error":"#VALUE!"},{"$error":"#VALUE!"},{"$error":"#VALUE!"},{"$error":"#VALUE!"},{"$error":"#VALUE!"},{"$error":"#VALUE!"},{"$error":"#VALUE!"},{"$error":"#VALUE!"},{"$error":"#VALUE!"},{"$error":"#VALUE!"},{"$error":"#VALUE!"},{"$error":"#VALUE!"},{"$error":"#VALUE!"},{"$error":"#VALUE!"},{"$error":"#VALUE!"},{"$error":"#VALUE!"},{"$error":"#VALUE!"},{"$error":"#VALUE!"},{"$error":"#VALUE!"},{"$error":"#VALUE!"},{"$error":"#VALUE!"},{"$error":"#VALUE!"},{"$error":"#VALUE!"},{"$error":"#VALUE!"},{"$error":"#VALUE!"},{"$error":"#VALUE!"},{"$error":"#VALUE!"},{"$error":"#VALUE!"},2,0,{"$error":"#VALUE!"},{"$error":"#VALUE!"},{"$error":"#VALUE!"},{"$error":"#VALUE!"},{"$error":"#VALUE!"},{"$error":"#VALUE!"},{"$error":"#VALUE!"},{"$error":"#VALUE!"},{"$error":"#VALUE!"},{"$error":"#VALUE!"},{"$error":"#VALUE!"},{"$error":"#VALUE!"},{"$error":"#VALUE!"},{"$error":"#VALUE!"},{"$error":"#VALUE!"},{"$error":"#VALUE!"},{"$error":"#VALUE!"},{"$error":"#VALUE!"},{"$error":"#VALUE!"},{"$error":"#VALUE!"},{"$error":"#VALUE!"},{"$error":"#VALUE!"},{"$error":"#VALUE!"},{"$error":"#VALUE!"},{"$error":"#VALUE!"},{"$error":"#VALUE!"},{"$error":"#VALUE!"},{"$error":"#VALUE!"},{"$error":"#VALUE!"},{"$error":"#VALUE!"},{"$error":"#VALUE!"},{"$error":"#VALUE!"},{"$error":"#VALUE!"}]
[null,null,null,null,null,null,null,null,null,null,null,null,null,null,null,null,null,null,null,null,null,null,null,3,null,null,null,null,null,null,null,null,null,"N/A",null,false,null,null,null,null,3,null,null,null,null,null,null,null,null,null,null,null,{"$f":"IF(AND(BB83=\"OK\",BC83=\"OK\",BD83=\"OK\"),\"OK\",\"ERR!\")","v":"OK"},"OK",{"$f":"IF(OR(SUM(BN83:BX83)<>1,SUM(BY83:CI83)<>1,SUM(CJ83:CT83)<>1,SUM(CU83:DE83)<>1,SUM(DF83:DP83)<>1,SUM(DQ83:EA83)<>1),\"ERR!\",\"OK\")","v":"OK"},{"$f":"IF(AND(OR(BE83=BK83,BE83=0),OR(BF83=BK83,BF83=0),OR(BG83=BK83,BG83=0),OR(BH83=BK83,BH83=0),OR(BI83=BK83,BI83=0),OR(BJ83=BK83,BJ83=0)),\"OK\",\"ERR!\")","v":"OK"},100,100,100,100,100,100,{"$f":"MAX(BE83:BJ83)","v":100},null,3,null,null,1,null,null,null,null,null,null,null,null,null,null,1,null,null,null,null,null,null,null,null,null,null,1,null,null,null,null,null,null,null,null,null,null,1,null,null,null,null,null,null,null,null,null,null,1,null,null,null,null,null,null,null,null,null,null,1,null,null,null,null,null,null,null,null,null,3,{"$error":"#VALUE!"},{"$error":"#VALUE!"},{"$error":"#VALUE!"},{"$error":"#VALUE!"},{"$error":"#VALUE!"},{"$error":"#VALUE!"},{"$error":"#VALUE!"},{"$error":"#VALUE!"},{"$error":"#VALUE!"},{"$error":"#VALUE!"},{"$error":"#VALUE!"},{"$error":"#VALUE!"},{"$error":"#VALUE!"},{"$error":"#VALUE!"},{"$error":"#VALUE!"},{"$error":"#VALUE!"},{"$error":"#VALUE!"},{"$error":"#VALUE!"},null,3,0,{"$error":"#VALUE!"},{"$error":"#VALUE!"},{"$error":"#VALUE!"},{"$error":"#VALUE!"},{"$error":"#VALUE!"},{"$error":"#VALUE!"},{"$error":"#VALUE!"},{"$error":"#VALUE!"},{"$error":"#VALUE!"},{"$error":"#VALUE!"},{"$error":"#VALUE!"},{"$error":"#VALUE!"},{"$error":"#VALUE!"},{"$error":"#VALUE!"},{"$error":"#VALUE!"},{"$error":"#VALUE!"},{"$error":"#VALUE!"},{"$error":"#VALUE!"},{"$error":"#VALUE!"},{"$error":"#VALUE!"},{"$error":"#VALUE!"},{"$error":"#VALUE!"},{"$error":"#VALUE!"},{"$error":"#VALUE!"},{"$error":"#VALUE!"},{"$error":"#VALUE!"},{"$error":"#VALUE!"},{"$error":"#VALUE!"},{"$error":"#VALUE!"},{"$error":"#VALUE!"},{"$error":"#VALUE!"},{"$error":"#VALUE!"},{"$error":"#VALUE!"},3,0,{"$error":"#VALUE!"},{"$error":"#VALUE!"},{"$error":"#VALUE!"},{"$error":"#VALUE!"},{"$error":"#VALUE!"},{"$error":"#VALUE!"},{"$error":"#VALUE!"},{"$error":"#VALUE!"},{"$error":"#VALUE!"},{"$error":"#VALUE!"},{"$error":"#VALUE!"},{"$error":"#VALUE!"},{"$error":"#VALUE!"},{"$error":"#VALUE!"},{"$error":"#VALUE!"},{"$error":"#VALUE!"},{"$error":"#VALUE!"},{"$error":"#VALUE!"},{"$error":"#VALUE!"},{"$error":"#VALUE!"},{"$error":"#VALUE!"},{"$error":"#VALUE!"},{"$error":"#VALUE!"},{"$error":"#VALUE!"},{"$error":"#VALUE!"},{"$error":"#VALUE!"},{"$error":"#VALUE!"},{"$error":"#VALUE!"},{"$error":"#VALUE!"},{"$error":"#VALUE!"},{"$error":"#VALUE!"},{"$error":"#VALUE!"},{"$error":"#VALUE!"},3,0,{"$error":"#VALUE!"},{"$error":"#VALUE!"},{"$error":"#VALUE!"},{"$error":"#VALUE!"},{"$error":"#VALUE!"},{"$error":"#VALUE!"},{"$error":"#VALUE!"},{"$error":"#VALUE!"},{"$error":"#VALUE!"},{"$error":"#VALUE!"},{"$error":"#VALUE!"},{"$error":"#VALUE!"},{"$error":"#VALUE!"},{"$error":"#VALUE!"},{"$error":"#VALUE!"},{"$error":"#VALUE!"},{"$error":"#VALUE!"},{"$error":"#VALUE!"},{"$error":"#VALUE!"},{"$error":"#VALUE!"},{"$error":"#VALUE!"},{"$error":"#VALUE!"},{"$error":"#VALUE!"},{"$error":"#VALUE!"},{"$error":"#VALUE!"},{"$error":"#VALUE!"},{"$error":"#VALUE!"},{"$error":"#VALUE!"},{"$error":"#VALUE!"},{"$error":"#VALUE!"},{"$error":"#VALUE!"},{"$error":"#VALUE!"},{"$error":"#VALUE!"},3,0,{"$error":"#VALUE!"},{"$error":"#VALUE!"},{"$error":"#VALUE!"},{"$error":"#VALUE!"},{"$error":"#VALUE!"},{"$error":"#VALUE!"},{"$error":"#VALUE!"},{"$error":"#VALUE!"},{"$error":"#VALUE!"},{"$error":"#VALUE!"},{"$error":"#VALUE!"},{"$error":"#VALUE!"},{"$error":"#VALUE!"},{"$error":"#VALUE!"},{"$error":"#VALUE!"},{"$error":"#VALUE!"},{"$error":"#VALUE!"},{"$error":"#VALUE!"},{"$error":"#VALUE!"},{"$error":"#VALUE!"},{"$error":"#VALUE!"},{"$error":"#VALUE!"},{"$error":"#VALUE!"},{"$error":"#VALUE!"},{"$error":"#VALUE!"},{"$error":"#VALUE!"},{"$error":"#VALUE!"},{"$error":"#VALUE!"},{"$error":"#VALUE!"},{"$error":"#VALUE!"},{"$error":"#VALUE!"},{"$error":"#VALUE!"},{"$error":"#VALUE!"},3,0,{"$error":"#VALUE!"},{"$error":"#VALUE!"},{"$error":"#VALUE!"},{"$error":"#VALUE!"},{"$error":"#VALUE!"},{"$error":"#VALUE!"},{"$error":"#VALUE!"},{"$error":"#VALUE!"},{"$error":"#VALUE!"},{"$error":"#VALUE!"},{"$error":"#VALUE!"},{"$error":"#VALUE!"},{"$error":"#VALUE!"},{"$error":"#VALUE!"},{"$error":"#VALUE!"},{"$error":"#VALUE!"},{"$error":"#VALUE!"},{"$error":"#VALUE!"},{"$error":"#VALUE!"},{"$error":"#VALUE!"},{"$error":"#VALUE!"},{"$error":"#VALUE!"},{"$error":"#VALUE!"},{"$error":"#VALUE!"},{"$error":"#VALUE!"},{"$error":"#VALUE!"},{"$error":"#VALUE!"},{"$error":"#VALUE!"},{"$error":"#VALUE!"},{"$error":"#VALUE!"},{"$error":"#VALUE!"},{"$error":"#VALUE!"},{"$error":"#VALUE!"},3,0,{"$error":"#VALUE!"},{"$error":"#VALUE!"},{"$error":"#VALUE!"},{"$error":"#VALUE!"},{"$error":"#VALUE!"},{"$error":"#VALUE!"},{"$error":"#VALUE!"},{"$error":"#VALUE!"},{"$error":"#VALUE!"},{"$error":"#VALUE!"},{"$error":"#VALUE!"},{"$error":"#VALUE!"},{"$error":"#VALUE!"},{"$error":"#VALUE!"},{"$error":"#VALUE!"},{"$error":"#VALUE!"},{"$error":"#VALUE!"},{"$error":"#VALUE!"},{"$error":"#VALUE!"},{"$error":"#VALUE!"},{"$error":"#VALUE!"},{"$error":"#VALUE!"},{"$error":"#VALUE!"},{"$error":"#VALUE!"},{"$error":"#VALUE!"},{"$error":"#VALUE!"},{"$error":"#VALUE!"},{"$error":"#VALUE!"},{"$error":"#VALUE!"},{"$error":"#VALUE!"},{"$error":"#VALUE!"},{"$error":"#VALUE!"},{"$error":"#VALUE!"}]
[null,null,null,null,null,null,null,null,null,null,null,null,null,null,null,null,null,null,null,null,null,null,null,4,null,null,null,null,null,null,null,null,null,"N/A",null,false,null,null,null,null,4,null,null,null,null,null,null,null,null,null,null,null,{"$f":"IF(AND(BB84=\"OK\",BC84=\"OK\",BD84=\"OK\"),\"OK\",\"ERR!\")","v":"OK"},"OK","OK",{"$f":"IF(AND(OR(BE84=BK84,BE84=0),OR(BF84=BK84,BF84=0),OR(BG84=BK84,BG84=0),OR(BH84=BK84,BH84=0),OR(BI84=BK84,BI84=0),OR(BJ84=BK84,BJ84=0)),\"OK\",\"ERR!\")","v":"OK"},100,100,100,100,100,100,100,null,4,null,null,1,null,null,null,null,null,null,null,null,null,null,1,null,null,null,null,null,null,null,null,null,null,1,null,null,null,null,null,null,null,null,null,null,1,null,null,null,null,null,null,null,null,null,null,1,null,null,null,null,null,null,null,null,null,null,1,null,null,null,null,null,null,null,null,null,4,{"$error":"#VALUE!"},{"$error":"#VALUE!"},{"$error":"#VALUE!"},{"$error":"#VALUE!"},{"$error":"#VALUE!"},{"$error":"#VALUE!"},{"$error":"#VALUE!"},{"$error":"#VALUE!"},{"$error":"#VALUE!"},{"$error":"#VALUE!"},{"$error":"#VALUE!"},{"$error":"#VALUE!"},{"$error":"#VALUE!"},{"$error":"#VALUE!"},{"$error":"#VALUE!"},{"$error":"#VALUE!"},{"$error":"#VALUE!"},{"$error":"#VALUE!"},null,4,0,{"$error":"#VALUE!"},{"$error":"#VALUE!"},{"$error":"#VALUE!"},{"$error":"#VALUE!"},{"$error":"#VALUE!"},{"$error":"#VALUE!"},{"$error":"#VALUE!"},{"$error":"#VALUE!"},{"$error":"#VALUE!"},{"$error":"#VALUE!"},{"$error":"#VALUE!"},{"$error":"#VALUE!"},{"$error":"#VALUE!"},{"$error":"#VALUE!"},{"$error":"#VALUE!"},{"$error":"#VALUE!"},{"$error":"#VALUE!"},{"$error":"#VALUE!"},{"$error":"#VALUE!"},{"$error":"#VALUE!"},{"$error":"#VALUE!"},{"$error":"#VALUE!"},{"$error":"#VALUE!"},{"$error":"#VALUE!"},{"$error":"#VALUE!"},{"$error":"#VALUE!"},{"$error":"#VALUE!"},{"$error":"#VALUE!"},{"$error":"#VALUE!"},{"$error":"#VALUE!"},{"$error":"#VALUE!"},{"$error":"#VALUE!"},{"$error":"#VALUE!"},4,0,{"$error":"#VALUE!"},{"$error":"#VALUE!"},{"$error":"#VALUE!"},{"$error":"#VALUE!"},{"$error":"#VALUE!"},{"$error":"#VALUE!"},{"$error":"#VALUE!"},{"$error":"#VALUE!"},{"$error":"#VALUE!"},{"$error":"#VALUE!"},{"$error":"#VALUE!"},{"$error":"#VALUE!"},{"$error":"#VALUE!"},{"$error":"#VALUE!"},{"$error":"#VALUE!"},{"$error":"#VALUE!"},{"$error":"#VALUE!"},{"$error":"#VALUE!"},{"$error":"#VALUE!"},{"$error":"#VALUE!"},{"$error":"#VALUE!"},{"$error":"#VALUE!"},{"$error":"#VALUE!"},{"$error":"#VALUE!"},{"$error":"#VALUE!"},{"$error":"#VALUE!"},{"$error":"#VALUE!"},{"$error":"#VALUE!"},{"$error":"#VALUE!"},{"$error":"#VALUE!"},{"$error":"#VALUE!"},{"$error":"#VALUE!"},{"$error":"#VALUE!"},4,0,{"$error":"#VALUE!"},{"$error":"#VALUE!"},{"$error":"#VALUE!"},{"$error":"#VALUE!"},{"$error":"#VALUE!"},{"$error":"#VALUE!"},{"$error":"#VALUE!"},{"$error":"#VALUE!"},{"$error":"#VALUE!"},{"$error":"#VALUE!"},{"$error":"#VALUE!"},{"$error":"#VALUE!"},{"$error":"#VALUE!"},{"$error":"#VALUE!"},{"$error":"#VALUE!"},{"$error":"#VALUE!"},{"$error":"#VALUE!"},{"$error":"#VALUE!"},{"$error":"#VALUE!"},{"$error":"#VALUE!"},{"$error":"#VALUE!"},{"$error":"#VALUE!"},{"$error":"#VALUE!"},{"$error":"#VALUE!"},{"$error":"#VALUE!"},{"$error":"#VALUE!"},{"$error":"#VALUE!"},{"$error":"#VALUE!"},{"$error":"#VALUE!"},{"$error":"#VALUE!"},{"$error":"#VALUE!"},{"$error":"#VALUE!"},{"$error":"#VALUE!"},4,0,{"$error":"#VALUE!"},{"$error":"#VALUE!"},{"$error":"#VALUE!"},{"$error":"#VALUE!"},{"$error":"#VALUE!"},{"$error":"#VALUE!"},{"$error":"#VALUE!"},{"$error":"#VALUE!"},{"$error":"#VALUE!"},{"$error":"#VALUE!"},{"$error":"#VALUE!"},{"$error":"#VALUE!"},{"$error":"#VALUE!"},{"$error":"#VALUE!"},{"$error":"#VALUE!"},{"$error":"#VALUE!"},{"$error":"#VALUE!"},{"$error":"#VALUE!"},{"$error":"#VALUE!"},{"$error":"#VALUE!"},{"$error":"#VALUE!"},{"$error":"#VALUE!"},{"$error":"#VALUE!"},{"$error":"#VALUE!"},{"$error":"#VALUE!"},{"$error":"#VALUE!"},{"$error":"#VALUE!"},{"$error":"#VALUE!"},{"$error":"#VALUE!"},{"$error":"#VALUE!"},{"$error":"#VALUE!"},{"$error":"#VALUE!"},{"$error":"#VALUE!"},4,0,{"$error":"#VALUE!"},{"$error":"#VALUE!"},{"$error":"#VALUE!"},{"$error":"#VALUE!"},{"$error":"#VALUE!"},{"$error":"#VALUE!"},{"$error":"#VALUE!"},{"$error":"#VALUE!"},{"$error":"#VALUE!"},{"$error":"#VALUE!"},{"$error":"#VALUE!"},{"$error":"#VALUE!"},{"$error":"#VALUE!"},{"$error":"#VALUE!"},{"$error":"#VALUE!"},{"$error":"#VALUE!"},{"$error":"#VALUE!"},{"$error":"#VALUE!"},{"$error":"#VALUE!"},{"$error":"#VALUE!"},{"$error":"#VALUE!"},{"$error":"#VALUE!"},{"$error":"#VALUE!"},{"$error":"#VALUE!"},{"$error":"#VALUE!"},{"$error":"#VALUE!"},{"$error":"#VALUE!"},{"$error":"#VALUE!"},{"$error":"#VALUE!"},{"$error":"#VALUE!"},{"$error":"#VALUE!"},{"$error":"#VALUE!"},{"$error":"#VALUE!"},4,0,{"$error":"#VALUE!"},{"$error":"#VALUE!"},{"$error":"#VALUE!"},{"$error":"#VALUE!"},{"$error":"#VALUE!"},{"$error":"#VALUE!"},{"$error":"#VALUE!"},{"$error":"#VALUE!"},{"$error":"#VALUE!"},{"$error":"#VALUE!"},{"$error":"#VALUE!"},{"$error":"#VALUE!"},{"$error":"#VALUE!"},{"$error":"#VALUE!"},{"$error":"#VALUE!"},{"$error":"#VALUE!"},{"$error":"#VALUE!"},{"$error":"#VALUE!"},{"$error":"#VALUE!"},{"$error":"#VALUE!"},{"$error":"#VALUE!"},{"$error":"#VALUE!"},{"$error":"#VALUE!"},{"$error":"#VALUE!"},{"$error":"#VALUE!"},{"$error":"#VALUE!"},{"$error":"#VALUE!"},{"$error":"#VALUE!"},{"$error":"#VALUE!"},{"$error":"#VALUE!"},{"$error":"#VALUE!"},{"$error":"#VALUE!"},{"$error":"#VALUE!"}]
[null,null,null,null,null,null,null,null,null,null,null,null,null,null,null,null,null,null,null,null,null,null,null,7,null,null,null,null,null,null,null,null,null,"N/A",null,false,null,null,null,null,7,null,null,null,null,null,null,null,null,null,null,null,{"$f":"IF(AND(BB85=\"OK\",BC85=\"OK\",BD85=\"OK\"),\"OK\",\"ERR!\")","v":"OK"},"OK","OK","OK",100,100,100,100,100,100,100,null,7,null,null,1,null,null,null,null,null,null,null,null,null,null,1,null,null,null,null,null,null,null,null,null,null,1,null,null,null,null,null,null,null,null,null,null,1,null,null,null,null,null,null,null,null,null,null,1,null,null,null,null,null,null,null,null,null,null,1,null,null,null,null,null,null,null,null,null,7,{"$error":"#VALUE!"},{"$error":"#VALUE!"},{"$error":"#VALUE!"},{"$error":"#VALUE!"},{"$error":"#VALUE!"},{"$error":"#VALUE!"},{"$error":"#VALUE!"},{"$error":"#VALUE!"},{"$error":"#VALUE!"},{"$error":"#VALUE!"},{"$error":"#VALUE!"},{"$error":"#VALUE!"},{"$error":"#VALUE!"},{"$error":"#VALUE!"},{"$error":"#VALUE!"},{"$error":"#VALUE!"},{"$error":"#VALUE!"},{"$error":"#VALUE!"},null,7,0,{"$error":"#VALUE!"},{"$error":"#VALUE!"},{"$error":"#VALUE!"},{"$error":"#VALUE!"},{"$error":"#VALUE!"},{"$error":"#VALUE!"},{"$error":"#VALUE!"},{"$error":"#VALUE!"},{"$error":"#VALUE!"},{"$error":"#VALUE!"},{"$error":"#VALUE!"},{"$error":"#VALUE!"},{"$error":"#VALUE!"},{"$error":"#VALUE!"},{"$error":"#VALUE!"},{"$error":"#VALUE!"},{"$error":"#VALUE!"},{"$error":"#VALUE!"},{"$error":"#VALUE!"},{"$error":"#VALUE!"},{"$error":"#VALUE!"},{"$error":"#VALUE!"},{"$error":"#VALUE!"},{"$error":"#VALUE!"},{"$error":"#VALUE!"},{"$error":"#VALUE!"},{"$error":"#VALUE!"},{"$error":"#VALUE!"},{"$error":"#VALUE!"},{"$error":"#VALUE!"},{"$error":"#VALUE!"},{"$error":"#VALUE!"},{"$error":"#VALUE!"},7,0,{"$error":"#VALUE!"},{"$error":"#VALUE!"},{"$error":"#VALUE!"},{"$error":"#VALUE!"},{"$error":"#VALUE!"},{"$error":"#VALUE!"},{"$error":"#VALUE!"},{"$error":"#VALUE!"},{"$error":"#VALUE!"},{"$error":"#VALUE!"},{"$error":"#VALUE!"},{"$error":"#VALUE!"},{"$error":"#VALUE!"},{"$error":"#VALUE!"},{"$error":"#VALUE!"},{"$error":"#VALUE!"},{"$error":"#VALUE!"},{"$error":"#VALUE!"},{"$error":"#VALUE!"},{"$error":"#VALUE!"},{"$error":"#VALUE!"},{"$error":"#VALUE!"},{"$error":"#VALUE!"},{"$error":"#VALUE!"},{"$error":"#VALUE!"},{"$error":"#VALUE!"},{"$error":"#VALUE!"},{"$error":"#VALUE!"},{"$error":"#VALUE!"},{"$error":"#VALUE!"},{"$error":"#VALUE!"},{"$error":"#VALUE!"},{"$error":"#VALUE!"},7,0,{"$error":"#VALUE!"},{"$error":"#VALUE!"},{"$error":"#VALUE!"},{"$error":"#VALUE!"},{"$error":"#VALUE!"},{"$error":"#VALUE!"},{"$error":"#VALUE!"},{"$error":"#VALUE!"},{"$error":"#VALUE!"},{"$error":"#VALUE!"},{"$error":"#VALUE!"},{"$error":"#VALUE!"},{"$error":"#VALUE!"},{"$error":"#VALUE!"},{"$error":"#VALUE!"},{"$error":"#VALUE!"},{"$error":"#VALUE!"},{"$error":"#VALUE!"},{"$error":"#VALUE!"},{"$error":"#VALUE!"},{"$error":"#VALUE!"},{"$error":"#VALUE!"},{"$error":"#VALUE!"},{"$error":"#VALUE!"},{"$error":"#VALUE!"},{"$error":"#VALUE!"},{"$error":"#VALUE!"},{"$error":"#VALUE!"},{"$error":"#VALUE!"},{"$error":"#VALUE!"},{"$error":"#VALUE!"},{"$error":"#VALUE!"},{"$error":"#VALUE!"},7,0,{"$error":"#VALUE!"},{"$error":"#VALUE!"},{"$error":"#VALUE!"},{"$error":"#VALUE!"},{"$error":"#VALUE!"},{"$error":"#VALUE!"},{"$error":"#VALUE!"},{"$error":"#VALUE!"},{"$error":"#VALUE!"},{"$error":"#VALUE!"},{"$error":"#VALUE!"},{"$error":"#VALUE!"},{"$error":"#VALUE!"},{"$error":"#VALUE!"},{"$error":"#VALUE!"},{"$error":"#VALUE!"},{"$error":"#VALUE!"},{"$error":"#VALUE!"},{"$error":"#VALUE!"},{"$error":"#VALUE!"},{"$error":"#VALUE!"},{"$error":"#VALUE!"},{"$error":"#VALUE!"},{"$error":"#VALUE!"},{"$error":"#VALUE!"},{"$error":"#VALUE!"},{"$error":"#VALUE!"},{"$error":"#VALUE!"},{"$error":"#VALUE!"},{"$error":"#VALUE!"},{"$error":"#VALUE!"},{"$error":"#VALUE!"},{"$error":"#VALUE!"},7,0,{"$error":"#VALUE!"},{"$error":"#VALUE!"},{"$error":"#VALUE!"},{"$error":"#VALUE!"},{"$error":"#VALUE!"},{"$error":"#VALUE!"},{"$error":"#VALUE!"},{"$error":"#VALUE!"},{"$error":"#VALUE!"},{"$error":"#VALUE!"},{"$error":"#VALUE!"},{"$error":"#VALUE!"},{"$error":"#VALUE!"},{"$error":"#VALUE!"},{"$error":"#VALUE!"},{"$error":"#VALUE!"},{"$error":"#VALUE!"},{"$error":"#VALUE!"},{"$error":"#VALUE!"},{"$error":"#VALUE!"},{"$error":"#VALUE!"},{"$error":"#VALUE!"},{"$error":"#VALUE!"},{"$error":"#VALUE!"},{"$error":"#VALUE!"},{"$error":"#VALUE!"},{"$error":"#VALUE!"},{"$error":"#VALUE!"},{"$error":"#VALUE!"},{"$error":"#VALUE!"},{"$error":"#VALUE!"},{"$error":"#VALUE!"},{"$error":"#VALUE!"},7,0,{"$error":"#VALUE!"},{"$error":"#VALUE!"},{"$error":"#VALUE!"},{"$error":"#VALUE!"},{"$error":"#VALUE!"},{"$error":"#VALUE!"},{"$error":"#VALUE!"},{"$error":"#VALUE!"},{"$error":"#VALUE!"},{"$error":"#VALUE!"},{"$error":"#VALUE!"},{"$error":"#VALUE!"},{"$error":"#VALUE!"},{"$error":"#VALUE!"},{"$error":"#VALUE!"},{"$error":"#VALUE!"},{"$error":"#VALUE!"},{"$error":"#VALUE!"},{"$error":"#VALUE!"},{"$error":"#VALUE!"},{"$error":"#VALUE!"},{"$error":"#VALUE!"},{"$error":"#VALUE!"},{"$error":"#VALUE!"},{"$error":"#VALUE!"},{"$error":"#VALUE!"},{"$error":"#VALUE!"},{"$error":"#VALUE!"},{"$error":"#VALUE!"},{"$error":"#VALUE!"},{"$error":"#VALUE!"},{"$error":"#VALUE!"},{"$error":"#VALUE!"}]
[null,null,null,null,null,null,null,null,null,null,null,null,null,null,null,null,null,null,null,null,null,null,null,8,null,null,null,null,null,null,null,null,null,"N/A",null,false,null,null,null,null,8,null,null,null,null,null,null,null,null,null,null,null,"OK","OK","OK","OK",100,100,100,100,100,100,100,null,8,null,null,1,null,null,null,null,null,null,null,null,null,null,1,null,null,null,null,null,null,null,null,null,null,1,null,null,null,null,null,null,null,null,null,null,1,null,null,null,null,null,null,null,null,null,null,1,null,null,null,null,null,null,null,null,null,null,1,null,null,null,null,null,null,null,null,null,8,{"$error":"#VALUE!"},{"$error":"#VALUE!"},{"$error":"#VALUE!"},{"$error":"#VALUE!"},{"$error":"#VALUE!"},{"$error":"#VALUE!"},{"$error":"#VALUE!"},{"$error":"#VALUE!"},{"$error":"#VALUE!"},{"$error":"#VALUE!"},{"$error":"#VALUE!"},{"$error":"#VALUE!"},{"$error":"#VALUE!"},{"$error":"#VALUE!"},{"$error":"#VALUE!"},{"$error":"#VALUE!"},{"$error":"#VALUE!"},{"$error":"#VALUE!"},null,8,0,{"$error":"#VALUE!"},{"$error":"#VALUE!"},{"$error":"#VALUE!"},{"$error":"#VALUE!"},{"$error":"#VALUE!"},{"$error":"#VALUE!"},{"$error":"#VALUE!"},{"$error":"#VALUE!"},{"$error":"#VALUE!"},{"$error":"#VALUE!"},{"$error":"#VALUE!"},{"$error":"#VALUE!"},{"$error":"#VALUE!"},{"$error":"#VALUE!"},{"$error":"#VALUE!"},{"$error":"#VALUE!"},{"$error":"#VALUE!"},{"$error":"#VALUE!"},{"$error":"#VALUE!"},{"$error":"#VALUE!"},{"$error":"#VALUE!"},{"$error":"#VALUE!"},{"$error":"#VALUE!"},{"$error":"#VALUE!"},{"$error":"#VALUE!"},{"$error":"#VALUE!"},{"$error":"#VALUE!"},{"$error":"#VALUE!"},{"$error":"#VALUE!"},{"$error":"#VALUE!"},{"$error":"#VALUE!"},{"$error":"#VALUE!"},{"$error":"#VALUE!"},8,0,{"$error":"#VALUE!"},{"$error":"#VALUE!"},{"$error":"#VALUE!"},{"$error":"#VALUE!"},{"$error":"#VALUE!"},{"$error":"#VALUE!"},{"$error":"#VALUE!"},{"$error":"#VALUE!"},{"$error":"#VALUE!"},{"$error":"#VALUE!"},{"$error":"#VALUE!"},{"$error":"#VALUE!"},{"$error":"#VALUE!"},{"$error":"#VALUE!"},{"$error":"#VALUE!"},{"$error":"#VALUE!"},{"$error":"#VALUE!"},{"$error":"#VALUE!"},{"$error":"#VALUE!"},{"$error":"#VALUE!"},{"$error":"#VALUE!"},{"$error":"#VALUE!"},{"$error":"#VALUE!"},{"$error":"#VALUE!"},{"$error":"#VALUE!"},{"$error":"#VALUE!"},{"$error":"#VALUE!"},{"$error":"#VALUE!"},{"$error":"#VALUE!"},{"$error":"#VALUE!"},{"$error":"#VALUE!"},{"$error":"#VALUE!"},{"$error":"#VALUE!"},8,0,{"$error":"#VALUE!"},{"$error":"#VALUE!"},{"$error":"#VALUE!"},{"$error":"#VALUE!"},{"$error":"#VALUE!"},{"$error":"#VALUE!"},{"$error":"#VALUE!"},{"$error":"#VALUE!"},{"$error":"#VALUE!"},{"$error":"#VALUE!"},{"$error":"#VALUE!"},{"$error":"#VALUE!"},{"$error":"#VALUE!"},{"$error":"#VALUE!"},{"$error":"#VALUE!"},{"$error":"#VALUE!"},{"$error":"#VALUE!"},{"$error":"#VALUE!"},{"$error":"#VALUE!"},{"$error":"#VALUE!"},{"$error":"#VALUE!"},{"$error":"#VALUE!"},{"$error":"#VALUE!"},{"$error":"#VALUE!"},{"$error":"#VALUE!"},{"$error":"#VALUE!"},{"$error":"#VALUE!"},{"$error":"#VALUE!"},{"$error":"#VALUE!"},{"$error":"#VALUE!"},{"$error":"#VALUE!"},{"$error":"#VALUE!"},{"$error":"#VALUE!"},8,0,{"$error":"#VALUE!"},{"$error":"#VALUE!"},{"$error":"#VALUE!"},{"$error":"#VALUE!"},{"$error":"#VALUE!"},{"$error":"#VALUE!"},{"$error":"#VALUE!"},{"$error":"#VALUE!"},{"$error":"#VALUE!"},{"$error":"#VALUE!"},{"$error":"#VALUE!"},{"$error":"#VALUE!"},{"$error":"#VALUE!"},{"$error":"#VALUE!"},{"$error":"#VALUE!"},{"$error":"#VALUE!"},{"$error":"#VALUE!"},{"$error":"#VALUE!"},{"$error":"#VALUE!"},{"$error":"#VALUE!"},{"$error":"#VALUE!"},{"$error":"#VALUE!"},{"$error":"#VALUE!"},{"$error":"#VALUE!"},{"$error":"#VALUE!"},{"$error":"#VALUE!"},{"$error":"#VALUE!"},{"$error":"#VALUE!"},{"$error":"#VALUE!"},{"$error":"#VALUE!"},{"$error":"#VALUE!"},{"$error":"#VALUE!"},{"$error":"#VALUE!"},8,0,{"$error":"#VALUE!"},{"$error":"#VALUE!"},{"$error":"#VALUE!"},{"$error":"#VALUE!"},{"$error":"#VALUE!"},{"$error":"#VALUE!"},{"$error":"#VALUE!"},{"$error":"#VALUE!"},{"$error":"#VALUE!"},{"$error":"#VALUE!"},{"$error":"#VALUE!"},{"$error":"#VALUE!"},{"$error":"#VALUE!"},{"$error":"#VALUE!"},{"$error":"#VALUE!"},{"$error":"#VALUE!"},{"$error":"#VALUE!"},{"$error":"#VALUE!"},{"$error":"#VALUE!"},{"$error":"#VALUE!"},{"$error":"#VALUE!"},{"$error":"#VALUE!"},{"$error":"#VALUE!"},{"$error":"#VALUE!"},{"$error":"#VALUE!"},{"$error":"#VALUE!"},{"$error":"#VALUE!"},{"$error":"#VALUE!"},{"$error":"#VALUE!"},{"$error":"#VALUE!"},{"$error":"#VALUE!"},{"$error":"#VALUE!"},{"$error":"#VALUE!"},8,0,{"$error":"#VALUE!"},{"$error":"#VALUE!"},{"$error":"#VALUE!"},{"$error":"#VALUE!"},{"$error":"#VALUE!"},{"$error":"#VALUE!"},{"$error":"#VALUE!"},{"$error":"#VALUE!"},{"$error":"#VALUE!"},{"$error":"#VALUE!"},{"$error":"#VALUE!"},{"$error":"#VALUE!"},{"$error":"#VALUE!"},{"$error":"#VALUE!"},{"$error":"#VALUE!"},{"$error":"#VALUE!"},{"$error":"#VALUE!"},{"$error":"#VALUE!"},{"$error":"#VALUE!"},{"$error":"#VALUE!"},{"$error":"#VALUE!"},{"$error":"#VALUE!"},{"$error":"#VALUE!"},{"$error":"#VALUE!"},{"$error":"#VALUE!"},{"$error":"#VALUE!"},{"$error":"#VALUE!"},{"$error":"#VALUE!"},{"$error":"#VALUE!"},{"$error":"#VALUE!"},{"$error":"#VALUE!"},{"$error":"#VALUE!"},{"$error":"#VALUE!"}]
[null,null,null,null,null,null,null,null,null,null,null,null,null,null,null,null,null,null,null,null,null,null,null,9,null,null,null,null,null,null,null,null,null,"N/A",null,false,null,null,null,null,9,null,null,null,null,null,null,null,null,null,null,null,"OK","OK","OK","OK",100,100,100,{"$f":"(CU87*POWER(10,0)+CV87*POWER(10,1)+CW87*POWER(10,2)+CX87*POWER(10,3)+CY87*POWER(10,4)+CZ87*POWER(10,5)+DA87*POWER(10,6)+DB87*POWER(10,7)+DC87*POWER(10,8)+DD87*POWER(10,9)+DE87*POWER(10,10))","v":100},{"$f":"(DF87*POWER(10,0)+DG87*POWER(10,1)+DH87*POWER(10,2)+DI87*POWER(10,3)+DJ87*POWER(10,4)+DK87*POWER(10,5)+DL87*POWER(10,6)+DM87*POWER(10,7)+DN87*POWER(10,8)+DO87*POWER(10,9)+DP87*POWER(10,10))","v":100},100,100,null,9,null,null,1,null,null,null,null,null,null,null,null,null,null,1,null,null,null,null,null,null,null,null,null,null,1,null,null,null,null,null,null,null,null,null,null,1,null,null,null,null,null,null,null,null,null,null,1,null,null,null,null,null,null,null,null,null,null,1,null,null,null,null,null,null,null,null,null,9,{"$error":"#VALUE!"},{"$error":"#VALUE!"},{"$error":"#VALUE!"},{"$error":"#VALUE!"},{"$error":"#VALUE!"},{"$error":"#VALUE!"},{"$error":"#VALUE!"},{"$error":"#VALUE!"},{"$error":"#VALUE!"},{"$error":"#VALUE!"},{"$error":"#VALUE!"},{"$error":"#VALUE!"},{"$error":"#VALUE!"},{"$error":"#VALUE!"},{"$error":"#VALUE!"},{"$error":"#VALUE!"},{"$error":"#VALUE!"},{"$error":"#VALUE!"},null,9,0,{"$error":"#VALUE!"},{"$error":"#VALUE!"},{"$error":"#VALUE!"},{"$error":"#VALUE!"},{"$error":"#VALUE!"},{"$error":"#VALUE!"},{"$error":"#VALUE!"},{"$error":"#VALUE!"},{"$error":"#VALUE!"},{"$error":"#VALUE!"},{"$error":"#VALUE!"},{"$error":"#VALUE!"},{"$error":"#VALUE!"},{"$error":"#VALUE!"},{"$error":"#VALUE!"},{"$error":"#VALUE!"},{"$error":"#VALUE!"},{"$error":"#VALUE!"},{"$error":"#VALUE!"},{"$error":"#VALUE!"},{"$error":"#VALUE!"},{"$error":"#VALUE!"},{"$error":"#VALUE!"},{"$error":"#VALUE!"},{"$error":"#VALUE!"},{"$error":"#VALUE!"},{"$error":"#VALUE!"},{"$error":"#VALUE!"},{"$error":"#VALUE!"},{"$error":"#VALUE!"},{"$error":"#VALUE!"},{"$error":"#VALUE!"},{"$error":"#VALUE!"},9,0,{"$error":"#VALUE!"},{"$error":"#VALUE!"},{"$error":"#VALUE!"},{"$error":"#VALUE!"},{"$error":"#VALUE!"},{"$error":"#VALUE!"},{"$error":"#VALUE!"},{"$error":"#VALUE!"},{"$error":"#VALUE!"},{"$error":"#VALUE!"},{"$error":"#VALUE!"},{"$error":"#VALUE!"},{"$error":"#VALUE!"},{"$error":"#VALUE!"},{"$error":"#VALUE!"},{"$error":"#VALUE!"},{"$error":"#VALUE!"},{"$error":"#VALUE!"},{"$error":"#VALUE!"},{"$error":"#VALUE!"},{"$error":"#VALUE!"},{"$error":"#VALUE!"},{"$error":"#VALUE!"},{"$error":"#VALUE!"},{"$error":"#VALUE!"},{"$error":"#VALUE!"},{"$error":"#VALUE!"},{"$error":"#VALUE!"},{"$error":"#VALUE!"},{"$error":"#VALUE!"},{"$error":"#VALUE!"},{"$error":"#VALUE!"},{"$error":"#VALUE!"},9,0,{"$error":"#VALUE!"},{"$error":"#VALUE!"},{"$error":"#VALUE!"},{"$error":"#VALUE!"},{"$error":"#VALUE!"},{"$error":"#VALUE!"},{"$error":"#VALUE!"},{"$error":"#VALUE!"},{"$error":"#VALUE!"},{"$error":"#VALUE!"},{"$error":"#VALUE!"},{"$error":"#VALUE!"},{"$error":"#VALUE!"},{"$error":"#VALUE!"},{"$error":"#VALUE!"},{"$error":"#VALUE!"},{"$error":"#VALUE!"},{"$error":"#VALUE!"},{"$error":"#VALUE!"},{"$error":"#VALUE!"},{"$error":"#VALUE!"},{"$error":"#VALUE!"},{"$error":"#VALUE!"},{"$error":"#VALUE!"},{"$error":"#VALUE!"},{"$error":"#VALUE!"},{"$error":"#VALUE!"},{"$error":"#VALUE!"},{"$error":"#VALUE!"},{"$error":"#VALUE!"},{"$error":"#VALUE!"},{"$error":"#VALUE!"},{"$error":"#VALUE!"},9,0,{"$error":"#VALUE!"},{"$error":"#VALUE!"},{"$error":"#VALUE!"},{"$error":"#VALUE!"},{"$error":"#VALUE!"},{"$error":"#VALUE!"},{"$error":"#VALUE!"},{"$error":"#VALUE!"},{"$error":"#VALUE!"},{"$error":"#VALUE!"},{"$error":"#VALUE!"},{"$error":"#VALUE!"},{"$error":"#VALUE!"},{"$error":"#VALUE!"},{"$error":"#VALUE!"},{"$error":"#VALUE!"},{"$error":"#VALUE!"},{"$error":"#VALUE!"},{"$error":"#VALUE!"},{"$error":"#VALUE!"},{"$error":"#VALUE!"},{"$error":"#VALUE!"},{"$error":"#VALUE!"},{"$error":"#VALUE!"},{"$error":"#VALUE!"},{"$error":"#VALUE!"},{"$error":"#VALUE!"},{"$error":"#VALUE!"},{"$error":"#VALUE!"},{"$error":"#VALUE!"},{"$error":"#VALUE!"},{"$error":"#VALUE!"},{"$error":"#VALUE!"},9,0,{"$error":"#VALUE!"},{"$error":"#VALUE!"},{"$error":"#VALUE!"},{"$error":"#VALUE!"},{"$error":"#VALUE!"},{"$error":"#VALUE!"},{"$error":"#VALUE!"},{"$error":"#VALUE!"},{"$error":"#VALUE!"},{"$error":"#VALUE!"},{"$error":"#VALUE!"},{"$error":"#VALUE!"},{"$error":"#VALUE!"},{"$error":"#VALUE!"},{"$error":"#VALUE!"},{"$error":"#VALUE!"},{"$error":"#VALUE!"},{"$error":"#VALUE!"},{"$error":"#VALUE!"},{"$error":"#VALUE!"},{"$error":"#VALUE!"},{"$error":"#VALUE!"},{"$error":"#VALUE!"},{"$error":"#VALUE!"},{"$error":"#VALUE!"},{"$error":"#VALUE!"},{"$error":"#VALUE!"},{"$error":"#VALUE!"},{"$error":"#VALUE!"},{"$error":"#VALUE!"},{"$error":"#VALUE!"},{"$error":"#VALUE!"},{"$error":"#VALUE!"},9,0,{"$error":"#VALUE!"},{"$error":"#VALUE!"},{"$error":"#VALUE!"},{"$error":"#VALUE!"},{"$error":"#VALUE!"},{"$error":"#VALUE!"},{"$error":"#VALUE!"},{"$error":"#VALUE!"},{"$error":"#VALUE!"},{"$error":"#VALUE!"},{"$error":"#VALUE!"},{"$error":"#VALUE!"},{"$error":"#VALUE!"},{"$error":"#VALUE!"},{"$error":"#VALUE!"},{"$error":"#VALUE!"},{"$error":"#VALUE!"},{"$error":"#VALUE!"},{"$error":"#VALUE!"},{"$error":"#VALUE!"},{"$error":"#VALUE!"},{"$error":"#VALUE!"},{"$error":"#VALUE!"},{"$error":"#VALUE!"},{"$error":"#VALUE!"},{"$error":"#VALUE!"},{"$error":"#VALUE!"},{"$error":"#VALUE!"},{"$error":"#VALUE!"},{"$error":"#VALUE!"},{"$error":"#VALUE!"},{"$error":"#VALUE!"},{"$error":"#VALUE!"}]
[null,null,null,null,null,null,null,null,null,null,null,null,null,null,null,null,null,null,null,null,null,null,null,"Total",{"$f":"SUM(Y81:Y87)","v":0},{"$f":"SUM(Z81:Z87)","v":0},0,0,0,0,null,null,null,"N/A",null,false,null,null,null,null,"Total",null,null,null,null,null,null,null,null,null,null,null,null,null,null,null,null,null,null,null,null,null,null,null,"Total",null,null,null,null,null,null,null,null,null,null,null,null,null,null,null,null,null,null,null,null,null,null,null,null,null,null,null,null,null,null,null,null,null,null,null,null,null,null,null,null,null,null,null,null,null,null,null,null,null,null,null,null,null,null,null,null,null,null,null,null,null,null,null,null,null,null,null,"Total",{"$f":"SUM(ED81:ED87)","v":{"$error":"#VALUE!"}},{"$f":"SUM(EE81:EE87)","v":{"$error":"#VALUE!"}},{"$f":"SUM(EF81:EF87)","v":{"$error":"#VALUE!"}},{"$f":"SUM(EG81:EG87)","v":{"$error":"#VALUE!"}},{"$f":"SUM(EH81:EH87)","v":{"$error":"#VALUE!"}},{"$f":"SUM(EI81:EI87)","v":{"$error":"#VALUE!"}},{"$error":"#VALUE!"},{"$error":"#VALUE!"},{"$error":"#VALUE!"},{"$error":"#VALUE!"},{"$error":"#VALUE!"},{"$error":"#VALUE!"},{"$error":"#VALUE!"},{"$error":"#VALUE!"},{"$error":"#VALUE!"},{"$error":"#VALUE!"},{"$error":"#VALUE!"},{"$error":"#VALUE!"},null,"Total",{"$f":"SUM(EX81:EX87)","v":0},{"$f":"SUM(EY81:EY87)","v":{"$error":"#VALUE!"}},{"$f":"SUM(EZ81:EZ87)","v":{"$error":"#VALUE!"}},{"$error":"#VALUE!"},{"$error":"#VALUE!"},{"$f":"SUM(FC81:FC87)","v":{"$error":"#VALUE!"}},{"$f":"SUM(FD81:FD87)","v":{"$error":"#VALUE!"}},{"$error":"#VALUE!"},{"$error":"#VALUE!"},{"$error":"#VALUE!"},{"$error":"#VALUE!"},{"$error":"#VALUE!"},{"$error":"#VALUE!"},{"$error":"#VALUE!"},{"$error":"#VALUE!"},{"$error":"#VALUE!"},{"$f":"SUM(FN81:FN87)","v":{"$error":"#VALUE!"}},{"$f":"SUM(FO81:FO87)","v":{"$error":"#VALUE!"}},{"$f":"SUM(FP81:FP87)","v":{"$error":"#VALUE!"}},{"$f":"SUM(FQ81:FQ87)","v":{"$error":"#VALUE!"}},{"$error":"#VALUE!"},{"$error":"#VALUE!"},{"$error":"#VALUE!"},{"$error":"#VALUE!"},{"$error":"#VALUE!"},{"$error":"#VALUE!"},{"$error":"#VALUE!"},{"$error":"#VALUE!"},{"$error":"#VALUE!"},{"$error":"#VALUE!"},{"$error":"#VALUE!"},{"$f":"SUM(GC81:GC87)","v":{"$error":"#VALUE!"}},{"$f":"SUM(GD81:GD87)","v":{"$error":"#VALUE!"}},{"$error":"#VALUE!"},"Total",{"$f":"SUM(GG81:GG87)","v":0},{"$f":"SUM(GH81:GH87)","v":{"$error":"#VALUE!"}},{"$f":"SUM(GI81:GI87)","v":{"$error":"#VALUE!"}},{"$error":"#VALUE!"},{"$error":"#VALUE!"},{"$f":"SUM(GL81:GL87)","v":{"$error":"#VALUE!"}},{"$f":"SUM(GM81:GM87)","v":{"$error":"#VALUE!"}},{"$f":"SUM(GN81:GN87)","v":{"$error":"#VALUE!"}},{"$error":"#VALUE!"},{"$error":"#VALUE!"},{"$error":"#VALUE!"},{"$error":"#VALUE!"},{"$error":"#VALUE!"},{"$error":"#VALUE!"},{"$error":"#VALUE!"},{"$error":"#VALUE!"},{"$f":"SUM(GW81:GW87)","v":{"$error":"#VALUE!"}},{"$f":"SUM(GX81:GX87)","v":{"$error":"#VALUE!"}},{"$f":"SUM(GY81:GY87)","v":{"$error":"#VALUE!"}},{"$f":"SUM(GZ81:GZ87)","v":{"$error":"#VALUE!"}},{"$error":"#VALUE!"},{"$error":"#VALUE!"},{"$error":"#VALUE!"},{"$error":"#VALUE!"},{"$error":"#VALUE!"},{"$error":"#VALUE!"},{"$error":"#VALUE!"},{"$error":"#VALUE!"},{"$error":"#VALUE!"},{"$error":"#VALUE!"},{"$error":"#VALUE!"},{"$f":"SUM(HL81:HL87)","v":{"$error":"#VALUE!"}},{"$f":"SUM(HM81:HM87)","v":{"$error":"#VALUE!"}},{"$error":"#VALUE!"},"Total",{"$f":"SUM(HP81:HP87)","v":0},{"$f":"SUM(HQ81:HQ87)","v":{"$error":"#VALUE!"}},{"$f":"SUM(HR81:HR87)","v":{"$error":"#VALUE!"}},{"$error":"#VALUE!"},{"$error":"#VALUE!"},{"$f":"SUM(HU81:HU87)","v":{"$error":"#VALUE!"}},{"$f":"SUM(HV81:HV87)","v":{"$error":"#VALUE!"}},{"$error":"#VALUE!"},{"$error":"#VALUE!"},{"$error":"#VALUE!"},{"$error":"#VALUE!"},{"$error":"#VALUE!"},{"$error":"#VALUE!"},{"$error":"#VALUE!"},{"$error":"#VALUE!"},{"$error":"#VALUE!"},{"$f":"SUM(IF81:IF87)","v":{"$error":"#VALUE!"}},{"$f":"SUM(IG81:IG87)","v":{"$error":"#VALUE!"}},{"$f":"SUM(IH81:IH87)","v":{"$error":"#VALUE!"}},{"$f":"SUM(II81:II87)","v":{"$error":"#VALUE!"}},{"$error":"#VALUE!"},{"$error":"#VALUE!"},{"$error":"#VALUE!"},{"$error":"#VALUE!"},{"$error":"#VALUE!"},{"$error":"#VALUE!"},{"$error":"#VALUE!"},{"$error":"#VALUE!"},{"$error":"#VALUE!"},{"$error":"#VALUE!"},{"$error":"#VALUE!"},{"$f":"SUM(IU81:IU87)","v":{"$error":"#VALUE!"}},{"$f":"SUM(IV81:IV87)","v":{"$error":"#VALUE!"}},{"$error":"#VALUE!"},"Total",{"$f":"SUM(IY81:IY87)","v":0},{"$f":"SUM(IZ81:IZ87)","v":{"$error":"#VALUE!"}},{"$f":"SUM(JA81:JA87)","v":{"$error":"#VALUE!"}},{"$error":"#VALUE!"},{"$error":"#VALUE!"},{"$f":"SUM(JD81:JD87)","v":{"$error":"#VALUE!"}},{"$f":"SUM(JE81:JE87)","v":{"$error":"#VALUE!"}},{"$error":"#VALUE!"},{"$error":"#VALUE!"},{"$error":"#VALUE!"},{"$error":"#VALUE!"},{"$error":"#VALUE!"},{"$error":"#VALUE!"},{"$error":"#VALUE!"},{"$error":"#VALUE!"},{"$error":"#VALUE!"},{"$f":"SUM(JO81:JO87)","v":{"$error":"#VALUE!"}},{"$f":"SUM(JP81:JP87)","v":{"$error":"#VALUE!"}},{"$f":"SUM(JQ81:JQ87)","v":{"$error":"#VALUE!"}},{"$f":"SUM(JR81:JR87)","v":{"$error":"#VALUE!"}},{"$error":"#VALUE!"},{"$error":"#VALUE!"},{"$error":"#VALUE!"},{"$error":"#VALUE!"},{"$error":"#VALUE!"},{"$error":"#VALUE!"},{"$error":"#VALUE!"},{"$error":"#VALUE!"},{"$error":"#VALUE!"},{"$error":"#VALUE!"},{"$error":"#VALUE!"},{"$f":"SUM(KD81:KD87)","v":{"$error":"#VALUE!"}},{"$f":"SUM(KE81:KE87)","v":{"$error":"#VALUE!"}},{"$error":"#VALUE!"},"Total",{"$f":"SUM(KH81:KH87)","v":0},{"$f":"SUM(KI81:KI87)","v":{"$error":"#VALUE!"}},{"$f":"SUM(KJ81:KJ87)","v":{"$error":"#VALUE!"}},{"$error":"#VALUE!"},{"$error":"#VALUE!"},{"$f":"SUM(KM81:KM87)","v":{"$error":"#VALUE!"}},{"$f":"SUM(KN81:KN87)","v":{"$error":"#VALUE!"}},{"$error":"#VALUE!"},{"$error":"#VALUE!"},{"$error":"#VALUE!"},{"$error":"#VALUE!"},{"$error":"#VALUE!"},{"$error":"#VALUE!"},{"$error":"#VALUE!"},{"$error":"#VALUE!"},{"$error":"#VALUE!"},{"$f":"SUM(KX81:KX87)","v":{"$error":"#VALUE!"}},{"$f":"SUM(KY81:KY87)","v":{"$error":"#VALUE!"}},{"$f":"SUM(KZ81:KZ87)","v":{"$error":"#VALUE!"}},{"$f":"SUM(LA81:LA87)","v":{"$error":"#VALUE!"}},{"$error":"#VALUE!"},{"$error":"#VALUE!"},{"$error":"#VALUE!"},{"$error":"#VALUE!"},{"$error":"#VALUE!"},{"$error":"#VALUE!"},{"$error":"#VALUE!"},{"$error":"#VALUE!"},{"$error":"#VALUE!"},{"$error":"#VALUE!"},{"$error":"#VALUE!"},{"$f":"SUM(LM81:LM87)","v":{"$error":"#VALUE!"}},{"$f":"SUM(LN81:LN87)","v":{"$error":"#VALUE!"}},{"$error":"#VALUE!"},"Total",{"$f":"SUM(LQ81:LQ87)","v":0},{"$f":"SUM(LR81:LR87)","v":{"$error":"#VALUE!"}},{"$f":"SUM(LS81:LS87)","v":{"$error":"#VALUE!"}},{"$error":"#VALUE!"},{"$error":"#VALUE!"},{"$f":"SUM(LV81:LV87)","v":{"$error":"#VALUE!"}},{"$f":"SUM(LW81:LW87)","v":{"$error":"#VALUE!"}},{"$error":"#VALUE!"},{"$error":"#VALUE!"},{"$error":"#VALUE!"},{"$error":"#VALUE!"},{"$error":"#VALUE!"},{"$error":"#VALUE!"},{"$error":"#VALUE!"},{"$error":"#VALUE!"},{"$f":"SUM(MF81:MF87)","v":{"$error":"#VALUE!"}},{"$f":"SUM(MG81:MG87)","v":{"$error":"#VALUE!"}},{"$f":"SUM(MH81:MH87)","v":{"$error":"#VALUE!"}},{"$f":"SUM(MI81:MI87)","v":{"$error":"#VALUE!"}},{"$f":"SUM(MJ81:MJ87)","v":{"$error":"#VALUE!"}},{"$error":"#VALUE!"},{"$error":"#VALUE!"},{"$error":"#VALUE!"},{"$error":"#VALUE!"},{"$error":"#VALUE!"},{"$error":"#VALUE!"},{"$error":"#VALUE!"},{"$error":"#VALUE!"},{"$error":"#VALUE!"},{"$error":"#VALUE!"},{"$error":"#VALUE!"},{"$f":"SUM(MV81:MV87)","v":{"$error":"#VALUE!"}},{"$f":"SUM(MW81:MW87)","v":{"$error":"#VALUE!"}},{"$error":"#VALUE!"}]
[null,8,{"$f":"'Regional Project List Sheet'!F12","v":0},{"$f":"IF('Regional Project List Sheet'!$G12=\"New\",1,\"\")","v":""},{"$f":"IF('Regional Project List Sheet'!$G12=\"Funded Old\",1,\"\")","v":""},{"$f":"IF('Regional Project List Sheet'!$G12=\"Unfunded Old\",1,\"\")","v":""},{"$f":"'Regional Project List Sheet'!H12","v":0},{"$f":"'Regional Project List Sheet'!I12","v":0},{"$f":"'Regional Project List Sheet'!L12","v":0},{"$f":"'Regional Project List Sheet'!M12","v":0},{"$f":"'Regional Project List Sheet'!N12","v":0},{"$f":"'Regional Project List Sheet'!O12","v":0},{"$f":"'Regional Project List Sheet'!P12","v":0},{"$f":"IF('Regional Project List Sheet'!$Q12=\"N/A\",\"N/A\",IF($Y92<>0,5,IF($Z92<>0,4,IF($AA92<>0,3,IF($AB92<>0,2,1)))))","v":1},{"$f":"VLOOKUP($C89,'[2]Ranking|Priority'!$B$5:$O$40,12,FALSE)","v":{"$error":"#N/A"}},{"$f":"VLOOKUP($C89,'[2]Ranking|Priority'!$B$5:$O$68,13,FALSE)","v":{"$error":"#N/A"}},{"$f":"VLOOKUP($C89,'[2]Ranking|Priority'!$B$5:$O$68,14,FALSE)","v":{"$error":"#N/A"}},{"$f":"'Regional Project List Sheet'!T12","v":0},{"$f":"'Regional Project List Sheet'!U12","v":0},{"$f":"'Regional Project List Sheet'!V12","v":0},{"$f":"'Regional Project List Sheet'!W12","v":0},{"$f":"'Regional Project List Sheet'!X12","v":0},{"$f":"'Regional Project List Sheet'!Y12","v":"Choose from Project List in cell I2"},0,null,null,null,null,null,null,null,{"$f":"'Regional Project List Sheet'!AJ12","v":0},{"$f":"IF(OR('Regional Project List Sheet'!$AA12<>'Regional Project List Sheet'!$A$40,'Regional Project List Sheet'!$AD12<>'Regional Project List Sheet'!$A$40,'Regional Project List Sheet'!$AG12<>'Regional Project List Sheet'!$A$40),_xlfn.CONCAT(IF(ISNUMBER('Regional Project List Sheet'!$AA12),'Regional Project List Sheet'!$A$36,\"\"),\" \",IF(ISNUMBER('Regional Project List Sheet'!$AD12),'Regional Project List Sheet'!$A$37,\"\"),\" \",IF(ISNUMBER('Regional Project List Sheet'!$AG12),'Regional Project List Sheet'!$A$38,\"\")),\"N/A\")","v":"N/A"},"N/A",{"$f":"IF(OR('Regional Project List Sheet'!AC12<>'Regional Project List Sheet'!$A$40,'Regional Project List Sheet'!AF12<>'Regional Project List Sheet'!$A$40,'Regional Project List Sheet'!AI12<>'Regional Project List Sheet'!$A$40),\n\nIF(LEN(_xlfn.CONCAT(IF('Regional Project List Sheet'!AC12=\"Yes\",'Regional Project List Sheet'!$A$36,\"\"),\" \",\n\nIF('Regional Project List Sheet'!AF12=\"Yes\",'Regional Project List Sheet'!$A$37,\"\"),\" \",\n\nIF('Regional Project List Sheet'!AI12=\"Yes\",'Regional Project List Sheet'!$A$38,\"\")))<3,\"No\",\n\n_xlfn.CONCAT(IF('Regional Project List Sheet'!AC12=\"Yes\",'Regional Project List Sheet'!$A$36,\"\"),\" \",\n\nIF('Regional Project List Sheet'!AF12=\"Yes\",'Regional Project List Sheet'!$A$37,\"\"),\" \",\n\nIF('Regional Project List Sheet'!AI12=\"Yes\",'Regional Project List Sheet'!$A$38,\"\"))))","v":false},false,{"$f":"'Regional Project List Sheet'!AK12","v":0},null,{"$f":"'Regional Project List Sheet'!AL12","v":0},null,0,null,null,null,null,null,null,null,null,null,null,1,{"$f":"IF(AND(BB89=\"OK\",BC89=\"OK\",BD89=\"OK\"),\"OK\",\"ERR!\")","v":"OK"},{"$f":"IF(AND(Y89>0,SUM(BN89:BX89)<1),\"ERR!\",IF(AND(Z89>0,SUM(BY89:CI89)<1),\"ERR!\",IF(AND(AA89>0,SUM(CJ89:CT89)<1),\"ERR\",IF(AND(AB89>0,SUM(CU89:DE89)<1),\"ERR\",IF(AND(AC89>0,SUM(DF89:DP89)<1),\"ERR\",IF(AND(AD89>0,SUM(DQ89:EA89)<1),\"ERR\",\"OK\"))))))","v":"OK"},{"$f":"IF(OR(SUM(BN89:BX89)<>1,SUM(BY89:CI89)<>1,SUM(CJ89:CT89)<>1,SUM(CU89:DE89)<>1,SUM(DF89:DP89)<>1,SUM(DQ89:EA89)<>1),\"ERR!\",\"OK\")","v":"OK"},{"$f":"IF(AND(OR(BE89=BK89,BE89=0),OR(BF89=BK89,BF89=0),OR(BG89=BK89,BG89=0),OR(BH89=BK89,BH89=0),OR(BI89=BK89,BI89=0),OR(BJ89=BK89,BJ89=0)),\"OK\",\"ERR!\")","v":"OK"},{"$f":"(BN89*POWER(10,0)+BO89*POWER(10,1)+BP89*POWER(10,2)+BQ89*POWER(10,3)+BR89*POWER(10,4)+BS89*POWER(10,5)+BT89*POWER(10,6)+BU89*POWER(10,7)+BV89*POWER(10,8)+BW89*POWER(10,9)+BX89*POWER(10,10))","v":100},{"$f":"(BY89*POWER(10,0)+BZ89*POWER(10,1)+CA89*POWER(10,2)+CB89*POWER(10,3)+CC89*POWER(10,4)+CD89*POWER(10,5)+CE89*POWER(10,6)+CF89*POWER(10,7)+CG89*POWER(10,8)+CH89*POWER(10,9)+CI89*POWER(10,10))","v":100},{"$f":"(CJ89*POWER(10,0)+CK89*POWER(10,1)+CL89*POWER(10,2)+CM89*POWER(10,3)+CN89*POWER(10,4)+CO89*POWER(10,5)+CP89*POWER(10,6)+CQ89*POWER(10,7)+CR89*POWER(10,8)+CS89*POWER(10,9)+CT89*POWER(10,10))","v":100},{"$f":"(CU89*POWER(10,0)+CV89*POWER(10,1)+CW89*POWER(10,2)+CX89*POWER(10,3)+CY89*POWER(10,4)+CZ89*POWER(10,5)+DA89*POWER(10,6)+DB89*POWER(10,7)+DC89*POWER(10,8)+DD89*POWER(10,9)+DE89*POWER(10,10))","v":100},{"$f":"(DF89*POWER(10,0)+DG89*POWER(10,1)+DH89*POWER(10,2)+DI89*POWER(10,3)+DJ89*POWER(10,4)+DK89*POWER(10,5)+DL89*POWER(10,6)+DM89*POWER(10,7)+DN89*POWER(10,8)+DO89*POWER(10,9)+DP89*POWER(10,10))","v":100},{"$f":"(DQ89*POWER(10,0)+DR89*POWER(10,1)+DS89*POWER(10,2)+DT89*POWER(10,3)+DU89*POWER(10,4)+DV89*POWER(10,5)+DW89*POWER(10,6)+DX89*POWER(10,7)+DY89*POWER(10,8)+DZ89*POWER(10,9)+EA89*POWER(10,10))","v":100},{"$f":"MAX(BE89:BJ89)","v":100},null,0,null,null,1,null,null,null,null,null,null,null,null,null,null,1,null,null,null,null,null,null,null,null,null,null,1,null,null,null,null,null,null,null,null,null,null,1,null,null,null,null,null,null,null,null,null,null,1,null,null,null,null,null,null,null,null,null,null,1,null,null,null,null,null,null,null,null,null,0,{"$f":"($Y89*D$89)/1000","v":{"$error":"#VALUE!"}},{"$error":"#VALUE!"},{"$error":"#VALUE!"},{"$f":"($Z89*D$89)/1000","v":{"$error":"#VALUE!"}},{"$error":"#VALUE!"},{"$error":"#VALUE!"},{"$f":"($AA89*D$89)/1000","v":{"$error":"#VALUE!"}},{"$error":"#VALUE!"},{"$error":"#VALUE!"},{"$f":"($AB89*D$89)/1000","v":{"$error":"#VALUE!"}},{"$error":"#VALUE!"},{"$error":"#VALUE!"},{"$f":"($AC89*D$89)/1000","v":{"$error":"#VALUE!"}},{"$error":"#VALUE!"},{"$error":"#VALUE!"},{"$f":"($AD89*D$89)/1000","v":{"$error":"#VALUE!"}},{"$error":"#VALUE!"},{"$error":"#VALUE!"},null,0,{"$f":"$AZ$89*$Y89","v":0},{"$f":"($AZ$89*$BN89*D$89*$Y89)/1000","v":{"$error":"#VALUE!"}},{"$error":"#VALUE!"},{"$error":"#VALUE!"},{"$f":"($AZ$89*$BO89*D$89*$Y89)/1000","v":{"$error":"#VALUE!"}},{"$error":"#VALUE!"},{"$error":"#VALUE!"},{"$f":"($AZ$89*$BP89*D$89*$Y89)/1000","v":{"$error":"#VALUE!"}},{"$error":"#VALUE!"},{"$error":"#VALUE!"},{"$f":"($AZ$89*$BQ89*D$89*$Y89)/1000","v":{"$error":"#VALUE!"}},{"$error":"#VALUE!"},{"$error":"#VALUE!"},{"$f":"($AZ$89*$BR89*D$89*$Y89)/1000","v":{"$error":"#VALUE!"}},{"$error":"#VALUE!"},{"$error":"#VALUE!"},{"$f":"($AZ$89*$BS89*D$89*$Y89)/1000","v":{"$error":"#VALUE!"}},{"$error":"#VALUE!"},{"$error":"#VALUE!"},{"$f":"($AZ$89*$BT89*D$89*$Y89)/1000","v":{"$error":"#VALUE!"}},{"$error":"#VALUE!"},{"$error":"#VALUE!"},{"$f":"($AZ$89*$BU89*D$89*$Y89)/1000","v":{"$error":"#VALUE!"}},{"$error":"#VALUE!"},{"$error":"#VALUE!"},{"$f":"($AZ$89*$BV89*D$89*$Y89)/1000","v":{"$error":"#VALUE!"}},{"$error":"#VALUE!"},{"$error":"#VALUE!"},{"$f":"($AZ$89*$BW89*D$89*$Y89)/1000","v":{"$error":"#VALUE!"}},{"$error":"#VALUE!"},{"$error":"#VALUE!"},{"$f":"($AZ$89*$BX89*D$89*$Y89)/1000","v":{"$error":"#VALUE!"}},{"$error":"#VALUE!"},{"$error":"#VALUE!"},0,{"$f":"$AZ$89*$Z89","v":0},{"$f":"($AZ$89*$BY89*D$89*$Z89)/1000","v":{"$error":"#VALUE!"}},{"$error":"#VALUE!"},{"$error":"#VALUE!"},{"$f":"($AZ$89*$BZ89*D$89*$Z89)/1000","v":{"$error":"#VALUE!"}},{"$error":"#VALUE!"},{"$error":"#VALUE!"},{"$f":"($AZ$89*$CA89*D$89*$Z89)/1000","v":{"$error":"#VALUE!"}},{"$error":"#VALUE!"},{"$error":"#VALUE!"},{"$f":"($AZ$89*$CB89*D$89*$Z89)/1000","v":{"$error":"#VALUE!"}},{"$error":"#VALUE!"},{"$error":"#VALUE!"},{"$f":"($AZ$89*$CD89*D$89*$Z89)/1000","v":{"$error":"#VALUE!"}},{"$error":"#VALUE!"},{"$error":"#VALUE!"},{"$f":"($AZ$89*$CD89*D$89*$Z89)/1000","v":{"$error":"#VALUE!"}},{"$error":"#VALUE!"},{"$error":"#VALUE!"},{"$f":"($AZ$89*$CE89*D$89*$Z89)/1000","v":{"$error":"#VALUE!"}},{"$error":"#VALUE!"},{"$error":"#VALUE!"},{"$f":"($AZ$89*$CF89*D$89*$Z89)/1000","v":{"$error":"#VALUE!"}},{"$error":"#VALUE!"},{"$error":"#VALUE!"},{"$f":"($AZ$89*$CG89*D$89*$Z89)/1000","v":{"$error":"#VALUE!"}},{"$error":"#VALUE!"},{"$error":"#VALUE!"},{"$f":"($AZ$89*$CH89*D$89*$Z89)/1000","v":{"$error":"#VALUE!"}},{"$error":"#VALUE!"},{"$error":"#VALUE!"},{"$f":"($AZ$89*$CI89*D$89*$Z89)/1000","v":{"$error":"#VALUE!"}},{"$error":"#VALUE!"},{"$error":"#VALUE!"},0,{"$f":"$AZ$89*$AA89","v":0},{"$f":"($AZ$89*$CJ89*D$89*$AA89)/1000","v":{"$error":"#VALUE!"}},{"$error":"#VALUE!"},{"$error":"#VALUE!"},{"$f":"($AZ$89*$CK89*D$89*$AA89)/1000","v":{"$error":"#VALUE!"}},{"$error":"#VALUE!"},{"$error":"#VALUE!"},{"$f":"($AZ$89*$CL89*D$89*$AA89)/1000","v":{"$error":"#VALUE!"}},{"$error":"#VALUE!"},{"$error":"#VALUE!"},{"$f":"($AZ$89*$CM89*D$89*$AA89)/1000","v":{"$error":"#VALUE!"}},{"$error":"#VALUE!"},{"$error":"#VALUE!"},{"$f":"($AZ$89*$CN89*D$89*$AA89)/1000","v":{"$error":"#VALUE!"}},{"$error":"#VALUE!"},{"$error":"#VALUE!"},{"$f":"($AZ$89*$CO89*D$89*$AA89)/1000","v":{"$error":"#VALUE!"}},{"$error":"#VALUE!"},{"$error":"#VALUE!"},{"$f":"($AZ$89*$CP89*D$89*$AA89)/1000","v":{"$error":"#VALUE!"}},{"$error":"#VALUE!"},{"$error":"#VALUE!"},{"$f":"($AZ$89*$CQ89*D$89*$AA89)/1000","v":{"$error":"#VALUE!"}},{"$error":"#VALUE!"},{"$error":"#VALUE!"},{"$f":"($AZ$89*$CR89*D$89*$AA89)/1000","v":{"$error":"#VALUE!"}},{"$error":"#VALUE!"},{"$error":"#VALUE!"},{"$f":"($AZ$89*$CS89*D$89*$AA89)/1000","v":{"$error":"#VALUE!"}},{"$error":"#VALUE!"},{"$error":"#VALUE!"},{"$f":"($AZ$89*$CT89*D$89*$AA89)/1000","v":{"$error":"#VALUE!"}},{"$error":"#VALUE!"},{"$error":"#VALUE!"},0,{"$f":"$AZ$89*$AB89","v":0},{"$f":"($AZ$89*$CU89*D$89*$AB89)/1000","v":{"$error":"#VALUE!"}},{"$error":"#VALUE!"},{"$error":"#VALUE!"},{"$f":"($AZ$89*$CV89*D$89*$AB89)/1000","v":{"$error":"#VALUE!"}},{"$error":"#VALUE!"},{"$error":"#VALUE!"},{"$f":"($AZ$89*$CW89*D$89*$AB89)/1000","v":{"$error":"#VALUE!"}},{"$error":"#VALUE!"},{"$error":"#VALUE!"},{"$f":"($AZ$89*$CX89*D$89*$AB89)/1000","v":{"$error":"#VALUE!"}},{"$error":"#VALUE!"},{"$error":"#VALUE!"},{"$f":"($AZ$89*$CY89*D$89*$AB89)/1000","v":{"$error":"#VALUE!"}},{"$error":"#VALUE!"},{"$error":"#VALUE!"},{"$f":"($AZ$89*$CZ89*D$89*$AB89)/1000","v":{"$error":"#VALUE!"}},{"$error":"#VALUE!"},{"$error":"#VALUE!"},{"$f":"($AZ$89*$DA89*D$89*$AB89)/1000","v":{"$error":"#VALUE!"}},{"$error":"#VALUE!"},{"$error":"#VALUE!"},{"$f":"($AZ$89*$DB89*D$89*$AB89)/1000","v":{"$error":"#VALUE!"}},{"$error":"#VALUE!"},{"$error":"#VALUE!"},{"$f":"($AZ$89*$DC89*D$89*$AB89)/1000","v":{"$error":"#VALUE!"}},{"$error":"#VALUE!"},{"$error":"#VALUE!"},{"$f":"($AZ$89*$DD89*D$89*$AB89)/1000","v":{"$error":"#VALUE!"}},{"$error":"#VALUE!"},{"$error":"#VALUE!"},{"$f":"($AZ$89*$DE89*D$89*$AB89)/1000","v":{"$error":"#VALUE!"}},{"$error":"#VALUE!"},{"$error":"#VALUE!"},0,{"$f":"$AZ$89*$AC89","v":0},{"$f":"($AZ$89*$DF89*D$89*$AC89)/1000","v":{"$error":"#VALUE!"}},{"$error":"#VALUE!"},{"$error":"#VALUE!"},{"$f":"($AZ$89*$DG89*D$89*$AC89)/1000","v":{"$error":"#VALUE!"}},{"$error":"#VALUE!"},{"$error":"#VALUE!"},{"$f":"($AZ$89*$DH89*D$89*$AC89)/1000","v":{"$error":"#VALUE!"}},{"$error":"#VALUE!"},{"$error":"#VALUE!"},{"$f":"($AZ$89*$DI89*D$89*$AC89)/1000","v":{"$error":"#VALUE!"}},{"$error":"#VALUE!"},{"$error":"#VALUE!"},{"$f":"($AZ$89*$DJ89*D$89*$AC89)/1000","v":{"$error":"#VALUE!"}},{"$error":"#VALUE!"},{"$error":"#VALUE!"},{"$f":"($AZ$89*$DK89*D$89*$AC89)/1000","v":{"$error":"#VALUE!"}},{"$error":"#VALUE!"},{"$error":"#VALUE!"},{"$f":"($AZ$89*$DL89*D$89*$AC89)/1000","v":{"$error":"#VALUE!"}},{"$error":"#VALUE!"},{"$error":"#VALUE!"},{"$f":"($AZ$89*$DM89*D$89*$AC89)/1000","v":{"$error":"#VALUE!"}},{"$error":"#VALUE!"},{"$error":"#VALUE!"},{"$f":"($AZ$89*$DN89*D$89*$AC89)/1000","v":{"$error":"#VALUE!"}},{"$error":"#VALUE!"},{"$error":"#VALUE!"},{"$f":"($AZ$89*$DO89*D$89*$AC89)/1000","v":{"$error":"#VALUE!"}},{"$error":"#VALUE!"},{"$error":"#VALUE!"},{"$f":"($AZ$89*$DP89*D$89*$AC89)/1000","v":{"$error":"#VALUE!"}},{"$error":"#VALUE!"},{"$error":"#VALUE!"},0,{"$f":"$AZ$89*$AD89","v":0},{"$f":"($AZ$89*$DQ89*D$89*$AD89)/1000","v":{"$error":"#VALUE!"}},{"$error":"#VALUE!"},{"$error":"#VALUE!"},{"$f":"($AZ$89*$DR89*D$89*$AD89)/1000","v":{"$error":"#VALUE!"}},{"$error":"#VALUE!"},{"$error":"#VALUE!"},{"$f":"($AZ$89*$DS89*D$89*$AD89)/1000","v":{"$error":"#VALUE!"}},{"$error":"#VALUE!"},{"$error":"#VALUE!"},{"$f":"($AZ$89*$DT89*D$89*$AD89)/1000","v":{"$error":"#VALUE!"}},{"$error":"#VALUE!"},{"$error":"#VALUE!"},{"$f":"($AZ$89*$DU89*D$89*$AD89)/1000","v":{"$error":"#VALUE!"}},{"$error":"#VALUE!"},{"$error":"#VALUE!"},{"$f":"($AZ$89*$DV89*D$89*$AD89)/1000","v":{"$error":"#VALUE!"}},{"$error":"#VALUE!"},{"$error":"#VALUE!"},{"$f":"($AZ$89*$DW89*D$89*$AD89)/1000","v":{"$error":"#VALUE!"}},{"$error":"#VALUE!"},{"$error":"#VALUE!"},{"$f":"($AZ$89*$DX89*D$89*$AD89)/1000","v":{"$error":"#VALUE!"}},{"$error":"#VALUE!"},{"$error":"#VALUE!"},{"$f":"($AZ$89*$DY89*D$89*$AD89)/1000","v":{"$error":"#VALUE!"}},{"$error":"#VALUE!"},{"$error":"#VALUE!"},{"$f":"($AZ$89*$DZ89*D$89*$AD89)/1000","v":{"$error":"#VALUE!"}},{"$error":"#VALUE!"},{"$error":"#VALUE!"},{"$f":"($AZ$89*$EA89*D$89*$AD89)/1000","v":{"$error":"#VALUE!"}},{"$error":"#VALUE!"},{"$error":"#VALUE!"}]
[null,null,null,null,null,null,null,null,null,null,null,null,null,null,null,null,null,null,null,null,null,null,null,2,null,null,null,null,null,null,null,null,null,"N/A",null,false,null,null,null,null,2,null,null,null,null,null,null,null,null,null,null,null,{"$f":"IF(AND(BB90=\"OK\",BC90=\"OK\",BD90=\"OK\"),\"OK\",\"ERR!\")","v":"OK"},"OK",{"$f":"IF(OR(SUM(BN90:BX90)<>1,SUM(BY90:CI90)<>1,SUM(CJ90:CT90)<>1,SUM(CU90:DE90)<>1,SUM(DF90:DP90)<>1,SUM(DQ90:EA90)<>1),\"ERR!\",\"OK\")","v":"OK"},{"$f":"IF(AND(OR(BE90=BK90,BE90=0),OR(BF90=BK90,BF90=0),OR(BG90=BK90,BG90=0),OR(BH90=BK90,BH90=0),OR(BI90=BK90,BI90=0),OR(BJ90=BK90,BJ90=0)),\"OK\",\"ERR!\")","v":"OK"},{"$f":"(BN90*POWER(10,0)+BO90*POWER(10,1)+BP90*POWER(10,2)+BQ90*POWER(10,3)+BR90*POWER(10,4)+BS90*POWER(10,5)+BT90*POWER(10,6)+BU90*POWER(10,7)+BV90*POWER(10,8)+BW90*POWER(10,9)+BX90*POWER(10,10))","v":100},{"$f":"(BY90*POWER(10,0)+BZ90*POWER(10,1)+CA90*POWER(10,2)+CB90*POWER(10,3)+CC90*POWER(10,4)+CD90*POWER(10,5)+CE90*POWER(10,6)+CF90*POWER(10,7)+CG90*POWER(10,8)+CH90*POWER(10,9)+CI90*POWER(10,10))","v":100},{"$f":"(CJ90*POWER(10,0)+CK90*POWER(10,1)+CL90*POWER(10,2)+CM90*POWER(10,3)+CN90*POWER(10,4)+CO90*POWER(10,5)+CP90*POWER(10,6)+CQ90*POWER(10,7)+CR90*POWER(10,8)+CS90*POWER(10,9)+CT90*POWER(10,10))","v":100},{"$f":"(CU90*POWER(10,0)+CV90*POWER(10,1)+CW90*POWER(10,2)+CX90*POWER(10,3)+CY90*POWER(10,4)+CZ90*POWER(10,5)+DA90*POWER(10,6)+DB90*POWER(10,7)+DC90*POWER(10,8)+DD90*POWER(10,9)+DE90*POWER(10,10))","v":100},{"$f":"(DF90*POWER(10,0)+DG90*POWER(10,1)+DH90*POWER(10,2)+DI90*POWER(10,3)+DJ90*POWER(10,4)+DK90*POWER(10,5)+DL90*POWER(10,6)+DM90*POWER(10,7)+DN90*POWER(10,8)+DO90*POWER(10,9)+DP90*POWER(10,10))","v":100},{"$f":"(DQ90*POWER(10,0)+DR90*POWER(10,1)+DS90*POWER(10,2)+DT90*POWER(10,3)+DU90*POWER(10,4)+DV90*POWER(10,5)+DW90*POWER(10,6)+DX90*POWER(10,7)+DY90*POWER(10,8)+DZ90*POWER(10,9)+EA90*POWER(10,10))","v":100},{"$f":"MAX(BE90:BJ90)","v":100},null,2,null,null,1,null,null,null,null,null,null,null,null,null,null,1,null,null,null,null,null,null,null,null,null,null,1,null,null,null,null,null,null,null,null,null,null,1,null,null,null,null,null,null,null,null,null,null,1,null,null,null,null,null,null,null,null,null,null,1,null,null,null,null,null,null,null,null,null,2,{"$error":"#VALUE!"},{"$error":"#VALUE!"},{"$error":"#VALUE!"},{"$error":"#VALUE!"},{"$error":"#VALUE!"},{"$error":"#VALUE!"},{"$error":"#VALUE!"},{"$error":"#VALUE!"},{"$error":"#VALUE!"},{"$error":"#VALUE!"},{"$error":"#VALUE!"},{"$error":"#VALUE!"},{"$error":"#VALUE!"},{"$error":"#VALUE!"},{"$error":"#VALUE!"},{"$error":"#VALUE!"},{"$error":"#VALUE!"},{"$error":"#VALUE!"},null,2,0,{"$error":"#VALUE!"},{"$error":"#VALUE!"},{"$error":"#VALUE!"},{"$error":"#VALUE!"},{"$error":"#VALUE!"},{"$error":"#VALUE!"},{"$error":"#VALUE!"},{"$error":"#VALUE!"},{"$error":"#VALUE!"},{"$error":"#VALUE!"},{"$error":"#VALUE!"},{"$error":"#VALUE!"},{"$error":"#VALUE!"},{"$error":"#VALUE!"},{"$error":"#VALUE!"},{"$error":"#VALUE!"},{"$error":"#VALUE!"},{"$error":"#VALUE!"},{"$error":"#VALUE!"},{"$error":"#VALUE!"},{"$error":"#VALUE!"},{"$error":"#VALUE!"},{"$error":"#VALUE!"},{"$error":"#VALUE!"},{"$error":"#VALUE!"},{"$error":"#VALUE!"},{"$error":"#VALUE!"},{"$error":"#VALUE!"},{"$error":"#VALUE!"},{"$error":"#VALUE!"},{"$error":"#VALUE!"},{"$error":"#VALUE!"},{"$error":"#VALUE!"},2,0,{"$error":"#VALUE!"},{"$error":"#VALUE!"},{"$error":"#VALUE!"},{"$error":"#VALUE!"},{"$error":"#VALUE!"},{"$error":"#VALUE!"},{"$error":"#VALUE!"},{"$error":"#VALUE!"},{"$error":"#VALUE!"},{"$error":"#VALUE!"},{"$error":"#VALUE!"},{"$error":"#VALUE!"},{"$error":"#VALUE!"},{"$error":"#VALUE!"},{"$error":"#VALUE!"},{"$error":"#VALUE!"},{"$error":"#VALUE!"},{"$error":"#VALUE!"},{"$error":"#VALUE!"},{"$error":"#VALUE!"},{"$error":"#VALUE!"},{"$error":"#VALUE!"},{"$error":"#VALUE!"},{"$error":"#VALUE!"},{"$error":"#VALUE!"},{"$error":"#VALUE!"},{"$error":"#VALUE!"},{"$error":"#VALUE!"},{"$error":"#VALUE!"},{"$error":"#VALUE!"},{"$error":"#VALUE!"},{"$error":"#VALUE!"},{"$error":"#VALUE!"},2,0,{"$error":"#VALUE!"},{"$error":"#VALUE!"},{"$error":"#VALUE!"},{"$error":"#VALUE!"},{"$error":"#VALUE!"},{"$error":"#VALUE!"},{"$error":"#VALUE!"},{"$error":"#VALUE!"},{"$error":"#VALUE!"},{"$error":"#VALUE!"},{"$error":"#VALUE!"},{"$error":"#VALUE!"},{"$error":"#VALUE!"},{"$error":"#VALUE!"},{"$error":"#VALUE!"},{"$error":"#VALUE!"},{"$error":"#VALUE!"},{"$error":"#VALUE!"},{"$error":"#VALUE!"},{"$error":"#VALUE!"},{"$error":"#VALUE!"},{"$error":"#VALUE!"},{"$error":"#VALUE!"},{"$error":"#VALUE!"},{"$error":"#VALUE!"},{"$error":"#VALUE!"},{"$error":"#VALUE!"},{"$error":"#VALUE!"},{"$error":"#VALUE!"},{"$error":"#VALUE!"},{"$error":"#VALUE!"},{"$error":"#VALUE!"},{"$error":"#VALUE!"},2,0,{"$error":"#VALUE!"},{"$error":"#VALUE!"},{"$error":"#VALUE!"},{"$error":"#VALUE!"},{"$error":"#VALUE!"},{"$error":"#VALUE!"},{"$error":"#VALUE!"},{"$error":"#VALUE!"},{"$error":"#VALUE!"},{"$error":"#VALUE!"},{"$error":"#VALUE!"},{"$error":"#VALUE!"},{"$error":"#VALUE!"},{"$error":"#VALUE!"},{"$error":"#VALUE!"},{"$error":"#VALUE!"},{"$error":"#VALUE!"},{"$error":"#VALUE!"},{"$error":"#VALUE!"},{"$error":"#VALUE!"},{"$error":"#VALUE!"},{"$error":"#VALUE!"},{"$error":"#VALUE!"},{"$error":"#VALUE!"},{"$error":"#VALUE!"},{"$error":"#VALUE!"},{"$error":"#VALUE!"},{"$error":"#VALUE!"},{"$error":"#VALUE!"},{"$error":"#VALUE!"},{"$error":"#VALUE!"},{"$error":"#VALUE!"},{"$error":"#VALUE!"},2,0,{"$error":"#VALUE!"},{"$error":"#VALUE!"},{"$error":"#VALUE!"},{"$error":"#VALUE!"},{"$error":"#VALUE!"},{"$error":"#VALUE!"},{"$error":"#VALUE!"},{"$error":"#VALUE!"},{"$error":"#VALUE!"},{"$error":"#VALUE!"},{"$error":"#VALUE!"},{"$error":"#VALUE!"},{"$error":"#VALUE!"},{"$error":"#VALUE!"},{"$error":"#VALUE!"},{"$error":"#VALUE!"},{"$error":"#VALUE!"},{"$error":"#VALUE!"},{"$error":"#VALUE!"},{"$error":"#VALUE!"},{"$error":"#VALUE!"},{"$error":"#VALUE!"},{"$error":"#VALUE!"},{"$error":"#VALUE!"},{"$error":"#VALUE!"},{"$error":"#VALUE!"},{"$error":"#VALUE!"},{"$error":"#VALUE!"},{"$error":"#VALUE!"},{"$error":"#VALUE!"},{"$error":"#VALUE!"},{"$error":"#VALUE!"},{"$error":"#VALUE!"},2,0,{"$error":"#VALUE!"},{"$error":"#VALUE!"},{"$error":"#VALUE!"},{"$error":"#VALUE!"},{"$error":"#VALUE!"},{"$error":"#VALUE!"},{"$error":"#VALUE!"},{"$error":"#VALUE!"},{"$error":"#VALUE!"},{"$error":"#VALUE!"},{"$error":"#VALUE!"},{"$error":"#VALUE!"},{"$error":"#VALUE!"},{"$error":"#VALUE!"},{"$error":"#VALUE!"},{"$error":"#VALUE!"},{"$error":"#VALUE!"},{"$error":"#VALUE!"},{"$error":"#VALUE!"},{"$error":"#VALUE!"},{"$error":"#VALUE!"},{"$error":"#VALUE!"},{"$error":"#VALUE!"},{"$error":"#VALUE!"},{"$error":"#VALUE!"},{"$error":"#VALUE!"},{"$error":"#VALUE!"},{"$error":"#VALUE!"},{"$error":"#VALUE!"},{"$error":"#VALUE!"},{"$error":"#VALUE!"},{"$error":"#VALUE!"},{"$error":"#VALUE!"}]
[null,null,null,null,null,null,null,null,null,null,null,null,null,null,null,null,null,null,null,null,null,null,null,3,null,null,null,null,null,null,null,null,null,"N/A",null,false,null,null,null,null,3,null,null,null,null,null,null,null,null,null,null,null,{"$f":"IF(AND(BB91=\"OK\",BC91=\"OK\",BD91=\"OK\"),\"OK\",\"ERR!\")","v":"OK"},"OK",{"$f":"IF(OR(SUM(BN91:BX91)<>1,SUM(BY91:CI91)<>1,SUM(CJ91:CT91)<>1,SUM(CU91:DE91)<>1,SUM(DF91:DP91)<>1,SUM(DQ91:EA91)<>1),\"ERR!\",\"OK\")","v":"OK"},{"$f":"IF(AND(OR(BE91=BK91,BE91=0),OR(BF91=BK91,BF91=0),OR(BG91=BK91,BG91=0),OR(BH91=BK91,BH91=0),OR(BI91=BK91,BI91=0),OR(BJ91=BK91,BJ91=0)),\"OK\",\"ERR!\")","v":"OK"},100,100,100,100,100,100,{"$f":"MAX(BE91:BJ91)","v":100},null,3,null,null,1,null,null,null,null,null,null,null,null,null,null,1,null,null,null,null,null,null,null,null,null,null,1,null,null,null,null,null,null,null,null,null,null,1,null,null,null,null,null,null,null,null,null,null,1,null,null,null,null,null,null,null,null,null,null,1,null,null,null,null,null,null,null,null,null,3,{"$error":"#VALUE!"},{"$error":"#VALUE!"},{"$error":"#VALUE!"},{"$error":"#VALUE!"},{"$error":"#VALUE!"},{"$error":"#VALUE!"},{"$error":"#VALUE!"},{"$error":"#VALUE!"},{"$error":"#VALUE!"},{"$error":"#VALUE!"},{"$error":"#VALUE!"},{"$error":"#VALUE!"},{"$error":"#VALUE!"},{"$error":"#VALUE!"},{"$error":"#VALUE!"},{"$error":"#VALUE!"},{"$error":"#VALUE!"},{"$error":"#VALUE!"},null,3,0,{"$error":"#VALUE!"},{"$error":"#VALUE!"},{"$error":"#VALUE!"},{"$error":"#VALUE!"},{"$error":"#VALUE!"},{"$error":"#VALUE!"},{"$error":"#VALUE!"},{"$error":"#VALUE!"},{"$error":"#VALUE!"},{"$error":"#VALUE!"},{"$error":"#VALUE!"},{"$error":"#VALUE!"},{"$error":"#VALUE!"},{"$error":"#VALUE!"},{"$error":"#VALUE!"},{"$error":"#VALUE!"},{"$error":"#VALUE!"},{"$error":"#VALUE!"},{"$error":"#VALUE!"},{"$error":"#VALUE!"},{"$error":"#VALUE!"},{"$error":"#VALUE!"},{"$error":"#VALUE!"},{"$error":"#VALUE!"},{"$error":"#VALUE!"},{"$error":"#VALUE!"},{"$error":"#VALUE!"},{"$error":"#VALUE!"},{"$error":"#VALUE!"},{"$error":"#VALUE!"},{"$error":"#VALUE!"},{"$error":"#VALUE!"},{"$error":"#VALUE!"},3,0,{"$error":"#VALUE!"},{"$error":"#VALUE!"},{"$error":"#VALUE!"},{"$error":"#VALUE!"},{"$error":"#VALUE!"},{"$error":"#VALUE!"},{"$error":"#VALUE!"},{"$error":"#VALUE!"},{"$error":"#VALUE!"},{"$error":"#VALUE!"},{"$error":"#VALUE!"},{"$error":"#VALUE!"},{"$error":"#VALUE!"},{"$error":"#VALUE!"},{"$error":"#VALUE!"},{"$error":"#VALUE!"},{"$error":"#VALUE!"},{"$error":"#VALUE!"},{"$error":"#VALUE!"},{"$error":"#VALUE!"},{"$error":"#VALUE!"},{"$error":"#VALUE!"},{"$error":"#VALUE!"},{"$error":"#VALUE!"},{"$error":"#VALUE!"},{"$error":"#VALUE!"},{"$error":"#VALUE!"},{"$error":"#VALUE!"},{"$error":"#VALUE!"},{"$error":"#VALUE!"},{"$error":"#VALUE!"},{"$error":"#VALUE!"},{"$error":"#VALUE!"},3,0,{"$error":"#VALUE!"},{"$error":"#VALUE!"},{"$error":"#VALUE!"},{"$error":"#VALUE!"},{"$error":"#VALUE!"},{"$error":"#VALUE!"},{"$error":"#VALUE!"},{"$error":"#VALUE!"},{"$error":"#VALUE!"},{"$error":"#VALUE!"},{"$error":"#VALUE!"},{"$error":"#VALUE!"},{"$error":"#VALUE!"},{"$error":"#VALUE!"},{"$error":"#VALUE!"},{"$error":"#VALUE!"},{"$error":"#VALUE!"},{"$error":"#VALUE!"},{"$error":"#VALUE!"},{"$error":"#VALUE!"},{"$error":"#VALUE!"},{"$error":"#VALUE!"},{"$error":"#VALUE!"},{"$error":"#VALUE!"},{"$error":"#VALUE!"},{"$error":"#VALUE!"},{"$error":"#VALUE!"},{"$error":"#VALUE!"},{"$error":"#VALUE!"},{"$error":"#VALUE!"},{"$error":"#VALUE!"},{"$error":"#VALUE!"},{"$error":"#VALUE!"},3,0,{"$error":"#VALUE!"},{"$error":"#VALUE!"},{"$error":"#VALUE!"},{"$error":"#VALUE!"},{"$error":"#VALUE!"},{"$error":"#VALUE!"},{"$error":"#VALUE!"},{"$error":"#VALUE!"},{"$error":"#VALUE!"},{"$error":"#VALUE!"},{"$error":"#VALUE!"},{"$error":"#VALUE!"},{"$error":"#VALUE!"},{"$error":"#VALUE!"},{"$error":"#VALUE!"},{"$error":"#VALUE!"},{"$error":"#VALUE!"},{"$error":"#VALUE!"},{"$error":"#VALUE!"},{"$error":"#VALUE!"},{"$error":"#VALUE!"},{"$error":"#VALUE!"},{"$error":"#VALUE!"},{"$error":"#VALUE!"},{"$error":"#VALUE!"},{"$error":"#VALUE!"},{"$error":"#VALUE!"},{"$error":"#VALUE!"},{"$error":"#VALUE!"},{"$error":"#VALUE!"},{"$error":"#VALUE!"},{"$error":"#VALUE!"},{"$error":"#VALUE!"},3,0,{"$error":"#VALUE!"},{"$error":"#VALUE!"},{"$error":"#VALUE!"},{"$error":"#VALUE!"},{"$error":"#VALUE!"},{"$error":"#VALUE!"},{"$error":"#VALUE!"},{"$error":"#VALUE!"},{"$error":"#VALUE!"},{"$error":"#VALUE!"},{"$error":"#VALUE!"},{"$error":"#VALUE!"},{"$error":"#VALUE!"},{"$error":"#VALUE!"},{"$error":"#VALUE!"},{"$error":"#VALUE!"},{"$error":"#VALUE!"},{"$error":"#VALUE!"},{"$error":"#VALUE!"},{"$error":"#VALUE!"},{"$error":"#VALUE!"},{"$error":"#VALUE!"},{"$error":"#VALUE!"},{"$error":"#VALUE!"},{"$error":"#VALUE!"},{"$error":"#VALUE!"},{"$error":"#VALUE!"},{"$error":"#VALUE!"},{"$error":"#VALUE!"},{"$error":"#VALUE!"},{"$error":"#VALUE!"},{"$error":"#VALUE!"},{"$error":"#VALUE!"},3,0,{"$error":"#VALUE!"},{"$error":"#VALUE!"},{"$error":"#VALUE!"},{"$error":"#VALUE!"},{"$error":"#VALUE!"},{"$error":"#VALUE!"},{"$error":"#VALUE!"},{"$error":"#VALUE!"},{"$error":"#VALUE!"},{"$error":"#VALUE!"},{"$error":"#VALUE!"},{"$error":"#VALUE!"},{"$error":"#VALUE!"},{"$error":"#VALUE!"},{"$error":"#VALUE!"},{"$error":"#VALUE!"},{"$error":"#VALUE!"},{"$error":"#VALUE!"},{"$error":"#VALUE!"},{"$error":"#VALUE!"},{"$error":"#VALUE!"},{"$error":"#VALUE!"},{"$error":"#VALUE!"},{"$error":"#VALUE!"},{"$error":"#VALUE!"},{"$error":"#VALUE!"},{"$error":"#VALUE!"},{"$error":"#VALUE!"},{"$error":"#VALUE!"},{"$error":"#VALUE!"},{"$error":"#VALUE!"},{"$error":"#VALUE!"},{"$error":"#VALUE!"}]
[null,null,null,null,null,null,null,null,null,null,null,null,null,null,null,null,null,null,null,null,null,null,null,4,null,null,null,null,null,null,null,null,null,"N/A",null,false,null,null,null,null,4,null,null,null,null,null,null,null,null,null,null,null,{"$f":"IF(AND(BB92=\"OK\",BC92=\"OK\",BD92=\"OK\"),\"OK\",\"ERR!\")","v":"OK"},"OK","OK",{"$f":"IF(AND(OR(BE92=BK92,BE92=0),OR(BF92=BK92,BF92=0),OR(BG92=BK92,BG92=0),OR(BH92=BK92,BH92=0),OR(BI92=BK92,BI92=0),OR(BJ92=BK92,BJ92=0)),\"OK\",\"ERR!\")","v":"OK"},100,100,100,100,100,100,100,null,4,null,null,1,null,null,null,null,null,null,null,null,null,null,1,null,null,null,null,null,null,null,null,null,null,1,null,null,null,null,null,null,null,null,null,null,1,null,null,null,null,null,null,null,null,null,null,1,null,null,null,null,null,null,null,null,null,null,1,null,null,null,null,null,null,null,null,null,4,{"$error":"#VALUE!"},{"$error":"#VALUE!"},{"$error":"#VALUE!"},{"$error":"#VALUE!"},{"$error":"#VALUE!"},{"$error":"#VALUE!"},{"$error":"#VALUE!"},{"$error":"#VALUE!"},{"$error":"#VALUE!"},{"$error":"#VALUE!"},{"$error":"#VALUE!"},{"$error":"#VALUE!"},{"$error":"#VALUE!"},{"$error":"#VALUE!"},{"$error":"#VALUE!"},{"$error":"#VALUE!"},{"$error":"#VALUE!"},{"$error":"#VALUE!"},null,4,0,{"$error":"#VALUE!"},{"$error":"#VALUE!"},{"$error":"#VALUE!"},{"$error":"#VALUE!"},{"$error":"#VALUE!"},{"$error":"#VALUE!"},{"$error":"#VALUE!"},{"$error":"#VALUE!"},{"$error":"#VALUE!"},{"$error":"#VALUE!"},{"$error":"#VALUE!"},{"$error":"#VALUE!"},{"$error":"#VALUE!"},{"$error":"#VALUE!"},{"$error":"#VALUE!"},{"$error":"#VALUE!"},{"$error":"#VALUE!"},{"$error":"#VALUE!"},{"$error":"#VALUE!"},{"$error":"#VALUE!"},{"$error":"#VALUE!"},{"$error":"#VALUE!"},{"$error":"#VALUE!"},{"$error":"#VALUE!"},{"$error":"#VALUE!"},{"$error":"#VALUE!"},{"$error":"#VALUE!"},{"$error":"#VALUE!"},{"$error":"#VALUE!"},{"$error":"#VALUE!"},{"$error":"#VALUE!"},{"$error":"#VALUE!"},{"$error":"#VALUE!"},4,0,{"$error":"#VALUE!"},{"$error":"#VALUE!"},{"$error":"#VALUE!"},{"$error":"#VALUE!"},{"$error":"#VALUE!"},{"$error":"#VALUE!"},{"$error":"#VALUE!"},{"$error":"#VALUE!"},{"$error":"#VALUE!"},{"$error":"#VALUE!"},{"$error":"#VALUE!"},{"$error":"#VALUE!"},{"$error":"#VALUE!"},{"$error":"#VALUE!"},{"$error":"#VALUE!"},{"$error":"#VALUE!"},{"$error":"#VALUE!"},{"$error":"#VALUE!"},{"$error":"#VALUE!"},{"$error":"#VALUE!"},{"$error":"#VALUE!"},{"$error":"#VALUE!"},{"$error":"#VALUE!"},{"$error":"#VALUE!"},{"$error":"#VALUE!"},{"$error":"#VALUE!"},{"$error":"#VALUE!"},{"$error":"#VALUE!"},{"$error":"#VALUE!"},{"$error":"#VALUE!"},{"$error":"#VALUE!"},{"$error":"#VALUE!"},{"$error":"#VALUE!"},4,0,{"$error":"#VALUE!"},{"$error":"#VALUE!"},{"$error":"#VALUE!"},{"$error":"#VALUE!"},{"$error":"#VALUE!"},{"$error":"#VALUE!"},{"$error":"#VALUE!"},{"$error":"#VALUE!"},{"$error":"#VALUE!"},{"$error":"#VALUE!"},{"$error":"#VALUE!"},{"$error":"#VALUE!"},{"$error":"#VALUE!"},{"$error":"#VALUE!"},{"$error":"#VALUE!"},{"$error":"#VALUE!"},{"$error":"#VALUE!"},{"$error":"#VALUE!"},{"$error":"#VALUE!"},{"$error":"#VALUE!"},{"$error":"#VALUE!"},{"$error":"#VALUE!"},{"$error":"#VALUE!"},{"$error":"#VALUE!"},{"$error":"#VALUE!"},{"$error":"#VALUE!"},{"$error":"#VALUE!"},{"$error":"#VALUE!"},{"$error":"#VALUE!"},{"$error":"#VALUE!"},{"$error":"#VALUE!"},{"$error":"#VALUE!"},{"$error":"#VALUE!"},4,0,{"$error":"#VALUE!"},{"$error":"#VALUE!"},{"$error":"#VALUE!"},{"$error":"#VALUE!"},{"$error":"#VALUE!"},{"$error":"#VALUE!"},{"$error":"#VALUE!"},{"$error":"#VALUE!"},{"$error":"#VALUE!"},{"$error":"#VALUE!"},{"$error":"#VALUE!"},{"$error":"#VALUE!"},{"$error":"#VALUE!"},{"$error":"#VALUE!"},{"$error":"#VALUE!"},{"$error":"#VALUE!"},{"$error":"#VALUE!"},{"$error":"#VALUE!"},{"$error":"#VALUE!"},{"$error":"#VALUE!"},{"$error":"#VALUE!"},{"$error":"#VALUE!"},{"$error":"#VALUE!"},{"$error":"#VALUE!"},{"$error":"#VALUE!"},{"$error":"#VALUE!"},{"$error":"#VALUE!"},{"$error":"#VALUE!"},{"$error":"#VALUE!"},{"$error":"#VALUE!"},{"$error":"#VALUE!"},{"$error":"#VALUE!"},{"$error":"#VALUE!"},4,0,{"$error":"#VALUE!"},{"$error":"#VALUE!"},{"$error":"#VALUE!"},{"$error":"#VALUE!"},{"$error":"#VALUE!"},{"$error":"#VALUE!"},{"$error":"#VALUE!"},{"$error":"#VALUE!"},{"$error":"#VALUE!"},{"$error":"#VALUE!"},{"$error":"#VALUE!"},{"$error":"#VALUE!"},{"$error":"#VALUE!"},{"$error":"#VALUE!"},{"$error":"#VALUE!"},{"$error":"#VALUE!"},{"$error":"#VALUE!"},{"$error":"#VALUE!"},{"$error":"#VALUE!"},{"$error":"#VALUE!"},{"$error":"#VALUE!"},{"$error":"#VALUE!"},{"$error":"#VALUE!"},{"$error":"#VALUE!"},{"$error":"#VALUE!"},{"$error":"#VALUE!"},{"$error":"#VALUE!"},{"$error":"#VALUE!"},{"$error":"#VALUE!"},{"$error":"#VALUE!"},{"$error":"#VALUE!"},{"$error":"#VALUE!"},{"$error":"#VALUE!"},4,0,{"$error":"#VALUE!"},{"$error":"#VALUE!"},{"$error":"#VALUE!"},{"$error":"#VALUE!"},{"$error":"#VALUE!"},{"$error":"#VALUE!"},{"$error":"#VALUE!"},{"$error":"#VALUE!"},{"$error":"#VALUE!"},{"$error":"#VALUE!"},{"$error":"#VALUE!"},{"$error":"#VALUE!"},{"$error":"#VALUE!"},{"$error":"#VALUE!"},{"$error":"#VALUE!"},{"$error":"#VALUE!"},{"$error":"#VALUE!"},{"$error":"#VALUE!"},{"$error":"#VALUE!"},{"$error":"#VALUE!"},{"$error":"#VALUE!"},{"$error":"#VALUE!"},{"$error":"#VALUE!"},{"$error":"#VALUE!"},{"$error":"#VALUE!"},{"$error":"#VALUE!"},{"$error":"#VALUE!"},{"$error":"#VALUE!"},{"$error":"#VALUE!"},{"$error":"#VALUE!"},{"$error":"#VALUE!"},{"$error":"#VALUE!"},{"$error":"#VALUE!"}]
[null,null,null,null,null,null,null,null,null,null,null,null,null,null,null,null,null,null,null,null,null,null,null,7,null,null,null,null,null,null,null,null,null,"N/A",null,false,null,null,null,null,7,null,null,null,null,null,null,null,null,null,null,null,{"$f":"IF(AND(BB93=\"OK\",BC93=\"OK\",BD93=\"OK\"),\"OK\",\"ERR!\")","v":"OK"},"OK","OK","OK",100,100,100,100,100,100,100,null,7,null,null,1,null,null,null,null,null,null,null,null,null,null,1,null,null,null,null,null,null,null,null,null,null,1,null,null,null,null,null,null,null,null,null,null,1,null,null,null,null,null,null,null,null,null,null,1,null,null,null,null,null,null,null,null,null,null,1,null,null,null,null,null,null,null,null,null,7,{"$error":"#VALUE!"},{"$error":"#VALUE!"},{"$error":"#VALUE!"},{"$error":"#VALUE!"},{"$error":"#VALUE!"},{"$error":"#VALUE!"},{"$error":"#VALUE!"},{"$error":"#VALUE!"},{"$error":"#VALUE!"},{"$error":"#VALUE!"},{"$error":"#VALUE!"},{"$error":"#VALUE!"},{"$error":"#VALUE!"},{"$error":"#VALUE!"},{"$error":"#VALUE!"},{"$error":"#VALUE!"},{"$error":"#VALUE!"},{"$error":"#VALUE!"},null,7,0,{"$error":"#VALUE!"},{"$error":"#VALUE!"},{"$error":"#VALUE!"},{"$error":"#VALUE!"},{"$error":"#VALUE!"},{"$error":"#VALUE!"},{"$error":"#VALUE!"},{"$error":"#VALUE!"},{"$error":"#VALUE!"},{"$error":"#VALUE!"},{"$error":"#VALUE!"},{"$error":"#VALUE!"},{"$error":"#VALUE!"},{"$error":"#VALUE!"},{"$error":"#VALUE!"},{"$error":"#VALUE!"},{"$error":"#VALUE!"},{"$error":"#VALUE!"},{"$error":"#VALUE!"},{"$error":"#VALUE!"},{"$error":"#VALUE!"},{"$error":"#VALUE!"},{"$error":"#VALUE!"},{"$error":"#VALUE!"},{"$error":"#VALUE!"},{"$error":"#VALUE!"},{"$error":"#VALUE!"},{"$error":"#VALUE!"},{"$error":"#VALUE!"},{"$error":"#VALUE!"},{"$error":"#VALUE!"},{"$error":"#VALUE!"},{"$error":"#VALUE!"},7,0,{"$error":"#VALUE!"},{"$error":"#VALUE!"},{"$error":"#VALUE!"},{"$error":"#VALUE!"},{"$error":"#VALUE!"},{"$error":"#VALUE!"},{"$error":"#VALUE!"},{"$error":"#VALUE!"},{"$error":"#VALUE!"},{"$error":"#VALUE!"},{"$error":"#VALUE!"},{"$error":"#VALUE!"},{"$error":"#VALUE!"},{"$error":"#VALUE!"},{"$error":"#VALUE!"},{"$error":"#VALUE!"},{"$error":"#VALUE!"},{"$error":"#VALUE!"},{"$error":"#VALUE!"},{"$error":"#VALUE!"},{"$error":"#VALUE!"},{"$error":"#VALUE!"},{"$error":"#VALUE!"},{"$error":"#VALUE!"},{"$error":"#VALUE!"},{"$error":"#VALUE!"},{"$error":"#VALUE!"},{"$error":"#VALUE!"},{"$error":"#VALUE!"},{"$error":"#VALUE!"},{"$error":"#VALUE!"},{"$error":"#VALUE!"},{"$error":"#VALUE!"},7,0,{"$error":"#VALUE!"},{"$error":"#VALUE!"},{"$error":"#VALUE!"},{"$error":"#VALUE!"},{"$error":"#VALUE!"},{"$error":"#VALUE!"},{"$error":"#VALUE!"},{"$error":"#VALUE!"},{"$error":"#VALUE!"},{"$error":"#VALUE!"},{"$error":"#VALUE!"},{"$error":"#VALUE!"},{"$error":"#VALUE!"},{"$error":"#VALUE!"},{"$error":"#VALUE!"},{"$error":"#VALUE!"},{"$error":"#VALUE!"},{"$error":"#VALUE!"},{"$error":"#VALUE!"},{"$error":"#VALUE!"},{"$error":"#VALUE!"},{"$error":"#VALUE!"},{"$error":"#VALUE!"},{"$error":"#VALUE!"},{"$error":"#VALUE!"},{"$error":"#VALUE!"},{"$error":"#VALUE!"},{"$error":"#VALUE!"},{"$error":"#VALUE!"},{"$error":"#VALUE!"},{"$error":"#VALUE!"},{"$error":"#VALUE!"},{"$error":"#VALUE!"},7,0,{"$error":"#VALUE!"},{"$error":"#VALUE!"},{"$error":"#VALUE!"},{"$error":"#VALUE!"},{"$error":"#VALUE!"},{"$error":"#VALUE!"},{"$error":"#VALUE!"},{"$error":"#VALUE!"},{"$error":"#VALUE!"},{"$error":"#VALUE!"},{"$error":"#VALUE!"},{"$error":"#VALUE!"},{"$error":"#VALUE!"},{"$error":"#VALUE!"},{"$error":"#VALUE!"},{"$error":"#VALUE!"},{"$error":"#VALUE!"},{"$error":"#VALUE!"},{"$error":"#VALUE!"},{"$error":"#VALUE!"},{"$error":"#VALUE!"},{"$error":"#VALUE!"},{"$error":"#VALUE!"},{"$error":"#VALUE!"},{"$error":"#VALUE!"},{"$error":"#VALUE!"},{"$error":"#VALUE!"},{"$error":"#VALUE!"},{"$error":"#VALUE!"},{"$error":"#VALUE!"},{"$error":"#VALUE!"},{"$error":"#VALUE!"},{"$error":"#VALUE!"},7,0,{"$error":"#VALUE!"},{"$error":"#VALUE!"},{"$error":"#VALUE!"},{"$error":"#VALUE!"},{"$error":"#VALUE!"},{"$error":"#VALUE!"},{"$error":"#VALUE!"},{"$error":"#VALUE!"},{"$error":"#VALUE!"},{"$error":"#VALUE!"},{"$error":"#VALUE!"},{"$error":"#VALUE!"},{"$error":"#VALUE!"},{"$error":"#VALUE!"},{"$error":"#VALUE!"},{"$error":"#VALUE!"},{"$error":"#VALUE!"},{"$error":"#VALUE!"},{"$error":"#VALUE!"},{"$error":"#VALUE!"},{"$error":"#VALUE!"},{"$error":"#VALUE!"},{"$error":"#VALUE!"},{"$error":"#VALUE!"},{"$error":"#VALUE!"},{"$error":"#VALUE!"},{"$error":"#VALUE!"},{"$error":"#VALUE!"},{"$error":"#VALUE!"},{"$error":"#VALUE!"},{"$error":"#VALUE!"},{"$error":"#VALUE!"},{"$error":"#VALUE!"},7,0,{"$error":"#VALUE!"},{"$error":"#VALUE!"},{"$error":"#VALUE!"},{"$error":"#VALUE!"},{"$error":"#VALUE!"},{"$error":"#VALUE!"},{"$error":"#VALUE!"},{"$error":"#VALUE!"},{"$error":"#VALUE!"},{"$error":"#VALUE!"},{"$error":"#VALUE!"},{"$error":"#VALUE!"},{"$error":"#VALUE!"},{"$error":"#VALUE!"},{"$error":"#VALUE!"},{"$error":"#VALUE!"},{"$error":"#VALUE!"},{"$error":"#VALUE!"},{"$error":"#VALUE!"},{"$error":"#VALUE!"},{"$error":"#VALUE!"},{"$error":"#VALUE!"},{"$error":"#VALUE!"},{"$error":"#VALUE!"},{"$error":"#VALUE!"},{"$error":"#VALUE!"},{"$error":"#VALUE!"},{"$error":"#VALUE!"},{"$error":"#VALUE!"},{"$error":"#VALUE!"},{"$error":"#VALUE!"},{"$error":"#VALUE!"},{"$error":"#VALUE!"}]
[null,null,null,null,null,null,null,null,null,null,null,null,null,null,null,null,null,null,null,null,null,null,null,8,null,null,null,null,null,null,null,null,null,"N/A",null,false,null,null,null,null,8,null,null,null,null,null,null,null,null,null,null,null,"OK","OK","OK","OK",100,100,100,100,100,100,100,null,8,null,null,1,null,null,null,null,null,null,null,null,null,null,1,null,null,null,null,null,null,null,null,null,null,1,null,null,null,null,null,null,null,null,null,null,1,null,null,null,null,null,null,null,null,null,null,1,null,null,null,null,null,null,null,null,null,null,1,null,null,null,null,null,null,null,null,null,8,{"$error":"#VALUE!"},{"$error":"#VALUE!"},{"$error":"#VALUE!"},{"$error":"#VALUE!"},{"$error":"#VALUE!"},{"$error":"#VALUE!"},{"$error":"#VALUE!"},{"$error":"#VALUE!"},{"$error":"#VALUE!"},{"$error":"#VALUE!"},{"$error":"#VALUE!"},{"$error":"#VALUE!"},{"$error":"#VALUE!"},{"$error":"#VALUE!"},{"$error":"#VALUE!"},{"$error":"#VALUE!"},{"$error":"#VALUE!"},{"$error":"#VALUE!"},null,8,0,{"$error":"#VALUE!"},{"$error":"#VALUE!"},{"$error":"#VALUE!"},{"$error":"#VALUE!"},{"$error":"#VALUE!"},{"$error":"#VALUE!"},{"$error":"#VALUE!"},{"$error":"#VALUE!"},{"$error":"#VALUE!"},{"$error":"#VALUE!"},{"$error":"#VALUE!"},{"$error":"#VALUE!"},{"$error":"#VALUE!"},{"$error":"#VALUE!"},{"$error":"#VALUE!"},{"$error":"#VALUE!"},{"$error":"#VALUE!"},{"$error":"#VALUE!"},{"$error":"#VALUE!"},{"$error":"#VALUE!"},{"$error":"#VALUE!"},{"$error":"#VALUE!"},{"$error":"#VALUE!"},{"$error":"#VALUE!"},{"$error":"#VALUE!"},{"$error":"#VALUE!"},{"$error":"#VALUE!"},{"$error":"#VALUE!"},{"$error":"#VALUE!"},{"$error":"#VALUE!"},{"$error":"#VALUE!"},{"$error":"#VALUE!"},{"$error":"#VALUE!"},8,0,{"$error":"#VALUE!"},{"$error":"#VALUE!"},{"$error":"#VALUE!"},{"$error":"#VALUE!"},{"$error":"#VALUE!"},{"$error":"#VALUE!"},{"$error":"#VALUE!"},{"$error":"#VALUE!"},{"$error":"#VALUE!"},{"$error":"#VALUE!"},{"$error":"#VALUE!"},{"$error":"#VALUE!"},{"$error":"#VALUE!"},{"$error":"#VALUE!"},{"$error":"#VALUE!"},{"$error":"#VALUE!"},{"$error":"#VALUE!"},{"$error":"#VALUE!"},{"$error":"#VALUE!"},{"$error":"#VALUE!"},{"$error":"#VALUE!"},{"$error":"#VALUE!"},{"$error":"#VALUE!"},{"$error":"#VALUE!"},{"$error":"#VALUE!"},{"$error":"#VALUE!"},{"$error":"#VALUE!"},{"$error":"#VALUE!"},{"$error":"#VALUE!"},{"$error":"#VALUE!"},{"$error":"#VALUE!"},{"$error":"#VALUE!"},{"$error":"#VALUE!"},8,0,{"$error":"#VALUE!"},{"$error":"#VALUE!"},{"$error":"#VALUE!"},{"$error":"#VALUE!"},{"$error":"#VALUE!"},{"$error":"#VALUE!"},{"$error":"#VALUE!"},{"$error":"#VALUE!"},{"$error":"#VALUE!"},{"$error":"#VALUE!"},{"$error":"#VALUE!"},{"$error":"#VALUE!"},{"$error":"#VALUE!"},{"$error":"#VALUE!"},{"$error":"#VALUE!"},{"$error":"#VALUE!"},{"$error":"#VALUE!"},{"$error":"#VALUE!"},{"$error":"#VALUE!"},{"$error":"#VALUE!"},{"$error":"#VALUE!"},{"$error":"#VALUE!"},{"$error":"#VALUE!"},{"$error":"#VALUE!"},{"$error":"#VALUE!"},{"$error":"#VALUE!"},{"$error":"#VALUE!"},{"$error":"#VALUE!"},{"$error":"#VALUE!"},{"$error":"#VALUE!"},{"$error":"#VALUE!"},{"$error":"#VALUE!"},{"$error":"#VALUE!"},8,0,{"$error":"#VALUE!"},{"$error":"#VALUE!"},{"$error":"#VALUE!"},{"$error":"#VALUE!"},{"$error":"#VALUE!"},{"$error":"#VALUE!"},{"$error":"#VALUE!"},{"$error":"#VALUE!"},{"$error":"#VALUE!"},{"$error":"#VALUE!"},{"$error":"#VALUE!"},{"$error":"#VALUE!"},{"$error":"#VALUE!"},{"$error":"#VALUE!"},{"$error":"#VALUE!"},{"$error":"#VALUE!"},{"$error":"#VALUE!"},{"$error":"#VALUE!"},{"$error":"#VALUE!"},{"$error":"#VALUE!"},{"$error":"#VALUE!"},{"$error":"#VALUE!"},{"$error":"#VALUE!"},{"$error":"#VALUE!"},{"$error":"#VALUE!"},{"$error":"#VALUE!"},{"$error":"#VALUE!"},{"$error":"#VALUE!"},{"$error":"#VALUE!"},{"$error":"#VALUE!"},{"$error":"#VALUE!"},{"$error":"#VALUE!"},{"$error":"#VALUE!"},8,0,{"$error":"#VALUE!"},{"$error":"#VALUE!"},{"$error":"#VALUE!"},{"$error":"#VALUE!"},{"$error":"#VALUE!"},{"$error":"#VALUE!"},{"$error":"#VALUE!"},{"$error":"#VALUE!"},{"$error":"#VALUE!"},{"$error":"#VALUE!"},{"$error":"#VALUE!"},{"$error":"#VALUE!"},{"$error":"#VALUE!"},{"$error":"#VALUE!"},{"$error":"#VALUE!"},{"$error":"#VALUE!"},{"$error":"#VALUE!"},{"$error":"#VALUE!"},{"$error":"#VALUE!"},{"$error":"#VALUE!"},{"$error":"#VALUE!"},{"$error":"#VALUE!"},{"$error":"#VALUE!"},{"$error":"#VALUE!"},{"$error":"#VALUE!"},{"$error":"#VALUE!"},{"$error":"#VALUE!"},{"$error":"#VALUE!"},{"$error":"#VALUE!"},{"$error":"#VALUE!"},{"$error":"#VALUE!"},{"$error":"#VALUE!"},{"$error":"#VALUE!"},8,0,{"$error":"#VALUE!"},{"$error":"#VALUE!"},{"$error":"#VALUE!"},{"$error":"#VALUE!"},{"$error":"#VALUE!"},{"$error":"#VALUE!"},{"$error":"#VALUE!"},{"$error":"#VALUE!"},{"$error":"#VALUE!"},{"$error":"#VALUE!"},{"$error":"#VALUE!"},{"$error":"#VALUE!"},{"$error":"#VALUE!"},{"$error":"#VALUE!"},{"$error":"#VALUE!"},{"$error":"#VALUE!"},{"$error":"#VALUE!"},{"$error":"#VALUE!"},{"$error":"#VALUE!"},{"$error":"#VALUE!"},{"$error":"#VALUE!"},{"$error":"#VALUE!"},{"$error":"#VALUE!"},{"$error":"#VALUE!"},{"$error":"#VALUE!"},{"$error":"#VALUE!"},{"$error":"#VALUE!"},{"$error":"#VALUE!"},{"$error":"#VALUE!"},{"$error":"#VALUE!"},{"$error":"#VALUE!"},{"$error":"#VALUE!"},{"$error":"#VALUE!"}]
[null,null,null,null,null,null,null,null,null,null,null,null,null,null,null,null,null,null,null,null,null,null,null,9,null,null,null,null,null,null,null,null,null,"N/A",null,false,null,null,null,null,9,null,null,null,null,null,null,null,null,null,null,null,"OK","OK","OK","OK",100,100,100,{"$f":"(CU95*POWER(10,0)+CV95*POWER(10,1)+CW95*POWER(10,2)+CX95*POWER(10,3)+CY95*POWER(10,4)+CZ95*POWER(10,5)+DA95*POWER(10,6)+DB95*POWER(10,7)+DC95*POWER(10,8)+DD95*POWER(10,9)+DE95*POWER(10,10))","v":100},{"$f":"(DF95*POWER(10,0)+DG95*POWER(10,1)+DH95*POWER(10,2)+DI95*POWER(10,3)+DJ95*POWER(10,4)+DK95*POWER(10,5)+DL95*POWER(10,6)+DM95*POWER(10,7)+DN95*POWER(10,8)+DO95*POWER(10,9)+DP95*POWER(10,10))","v":100},100,100,null,9,null,null,1,null,null,null,null,null,null,null,null,null,null,1,null,null,null,null,null,null,null,null,null,null,1,null,null,null,null,null,null,null,null,null,null,1,null,null,null,null,null,null,null,null,null,null,1,null,null,null,null,null,null,null,null,null,null,1,null,null,null,null,null,null,null,null,null,9,{"$error":"#VALUE!"},{"$error":"#VALUE!"},{"$error":"#VALUE!"},{"$error":"#VALUE!"},{"$error":"#VALUE!"},{"$error":"#VALUE!"},{"$error":"#VALUE!"},{"$error":"#VALUE!"},{"$error":"#VALUE!"},{"$error":"#VALUE!"},{"$error":"#VALUE!"},{"$error":"#VALUE!"},{"$error":"#VALUE!"},{"$error":"#VALUE!"},{"$error":"#VALUE!"},{"$error":"#VALUE!"},{"$error":"#VALUE!"},{"$error":"#VALUE!"},null,9,0,{"$error":"#VALUE!"},{"$error":"#VALUE!"},{"$error":"#VALUE!"},{"$error":"#VALUE!"},{"$error":"#VALUE!"},{"$error":"#VALUE!"},{"$error":"#VALUE!"},{"$error":"#VALUE!"},{"$error":"#VALUE!"},{"$error":"#VALUE!"},{"$error":"#VALUE!"},{"$error":"#VALUE!"},{"$error":"#VALUE!"},{"$error":"#VALUE!"},{"$error":"#VALUE!"},{"$error":"#VALUE!"},{"$error":"#VALUE!"},{"$error":"#VALUE!"},{"$error":"#VALUE!"},{"$error":"#VALUE!"},{"$error":"#VALUE!"},{"$error":"#VALUE!"},{"$error":"#VALUE!"},{"$error":"#VALUE!"},{"$error":"#VALUE!"},{"$error":"#VALUE!"},{"$error":"#VALUE!"},{"$error":"#VALUE!"},{"$error":"#VALUE!"},{"$error":"#VALUE!"},{"$error":"#VALUE!"},{"$error":"#VALUE!"},{"$error":"#VALUE!"},9,0,{"$error":"#VALUE!"},{"$error":"#VALUE!"},{"$error":"#VALUE!"},{"$error":"#VALUE!"},{"$error":"#VALUE!"},{"$error":"#VALUE!"},{"$error":"#VALUE!"},{"$error":"#VALUE!"},{"$error":"#VALUE!"},{"$error":"#VALUE!"},{"$error":"#VALUE!"},{"$error":"#VALUE!"},{"$error":"#VALUE!"},{"$error":"#VALUE!"},{"$error":"#VALUE!"},{"$error":"#VALUE!"},{"$error":"#VALUE!"},{"$error":"#VALUE!"},{"$error":"#VALUE!"},{"$error":"#VALUE!"},{"$error":"#VALUE!"},{"$error":"#VALUE!"},{"$error":"#VALUE!"},{"$error":"#VALUE!"},{"$error":"#VALUE!"},{"$error":"#VALUE!"},{"$error":"#VALUE!"},{"$error":"#VALUE!"},{"$error":"#VALUE!"},{"$error":"#VALUE!"},{"$error":"#VALUE!"},{"$error":"#VALUE!"},{"$error":"#VALUE!"},9,0,{"$error":"#VALUE!"},{"$error":"#VALUE!"},{"$error":"#VALUE!"},{"$error":"#VALUE!"},{"$error":"#VALUE!"},{"$error":"#VALUE!"},{"$error":"#VALUE!"},{"$error":"#VALUE!"},{"$error":"#VALUE!"},{"$error":"#VALUE!"},{"$error":"#VALUE!"},{"$error":"#VALUE!"},{"$error":"#VALUE!"},{"$error":"#VALUE!"},{"$error":"#VALUE!"},{"$error":"#VALUE!"},{"$error":"#VALUE!"},{"$error":"#VALUE!"},{"$error":"#VALUE!"},{"$error":"#VALUE!"},{"$error":"#VALUE!"},{"$error":"#VALUE!"},{"$error":"#VALUE!"},{"$error":"#VALUE!"},{"$error":"#VALUE!"},{"$error":"#VALUE!"},{"$error":"#VALUE!"},{"$error":"#VALUE!"},{"$error":"#VALUE!"},{"$error":"#VALUE!"},{"$error":"#VALUE!"},{"$error":"#VALUE!"},{"$error":"#VALUE!"},9,0,{"$error":"#VALUE!"},{"$error":"#VALUE!"},{"$error":"#VALUE!"},{"$error":"#VALUE!"},{"$error":"#VALUE!"},{"$error":"#VALUE!"},{"$error":"#VALUE!"},{"$error":"#VALUE!"},{"$error":"#VALUE!"},{"$error":"#VALUE!"},{"$error":"#VALUE!"},{"$error":"#VALUE!"},{"$error":"#VALUE!"},{"$error":"#VALUE!"},{"$error":"#VALUE!"},{"$error":"#VALUE!"},{"$error":"#VALUE!"},{"$error":"#VALUE!"},{"$error":"#VALUE!"},{"$error":"#VALUE!"},{"$error":"#VALUE!"},{"$error":"#VALUE!"},{"$error":"#VALUE!"},{"$error":"#VALUE!"},{"$error":"#VALUE!"},{"$error":"#VALUE!"},{"$error":"#VALUE!"},{"$error":"#VALUE!"},{"$error":"#VALUE!"},{"$error":"#VALUE!"},{"$error":"#VALUE!"},{"$error":"#VALUE!"},{"$error":"#VALUE!"},9,0,{"$error":"#VALUE!"},{"$error":"#VALUE!"},{"$error":"#VALUE!"},{"$error":"#VALUE!"},{"$error":"#VALUE!"},{"$error":"#VALUE!"},{"$error":"#VALUE!"},{"$error":"#VALUE!"},{"$error":"#VALUE!"},{"$error":"#VALUE!"},{"$error":"#VALUE!"},{"$error":"#VALUE!"},{"$error":"#VALUE!"},{"$error":"#VALUE!"},{"$error":"#VALUE!"},{"$error":"#VALUE!"},{"$error":"#VALUE!"},{"$error":"#VALUE!"},{"$error":"#VALUE!"},{"$error":"#VALUE!"},{"$error":"#VALUE!"},{"$error":"#VALUE!"},{"$error":"#VALUE!"},{"$error":"#VALUE!"},{"$error":"#VALUE!"},{"$error":"#VALUE!"},{"$error":"#VALUE!"},{"$error":"#VALUE!"},{"$error":"#VALUE!"},{"$error":"#VALUE!"},{"$error":"#VALUE!"},{"$error":"#VALUE!"},{"$error":"#VALUE!"},9,0,{"$error":"#VALUE!"},{"$error":"#VALUE!"},{"$error":"#VALUE!"},{"$error":"#VALUE!"},{"$error":"#VALUE!"},{"$error":"#VALUE!"},{"$error":"#VALUE!"},{"$error":"#VALUE!"},{"$error":"#VALUE!"},{"$error":"#VALUE!"},{"$error":"#VALUE!"},{"$error":"#VALUE!"},{"$error":"#VALUE!"},{"$error":"#VALUE!"},{"$error":"#VALUE!"},{"$error":"#VALUE!"},{"$error":"#VALUE!"},{"$error":"#VALUE!"},{"$error":"#VALUE!"},{"$error":"#VALUE!"},{"$error":"#VALUE!"},{"$error":"#VALUE!"},{"$error":"#VALUE!"},{"$error":"#VALUE!"},{"$error":"#VALUE!"},{"$error":"#VALUE!"},{"$error":"#VALUE!"},{"$error":"#VALUE!"},{"$error":"#VALUE!"},{"$error":"#VALUE!"},{"$error":"#VALUE!"},{"$error":"#VALUE!"},{"$error":"#VALUE!"}]
[null,null,null,null,null,null,null,null,null,null,null,null,null,null,null,null,null,null,null,null,null,null,null,"Total",{"$f":"SUM(Y89:Y95)","v":0},{"$f":"SUM(Z89:Z95)","v":0},0,0,0,0,null,null,null,"N/A",null,false,null,null,null,null,"Total",null,null,null,null,null,null,null,null,null,null,null,null,null,null,null,null,null,null,null,null,null,null,null,"Total",null,null,null,null,null,null,null,null,null,null,null,null,null,null,null,null,null,null,null,null,null,null,null,null,null,null,null,null,null,null,null,null,null,null,null,null,null,null,null,null,null,null,null,null,null,null,null,null,null,null,null,null,null,null,null,null,null,null,null,null,null,null,null,null,null,null,null,"Total",{"$f":"SUM(ED89:ED95)","v":{"$error":"#VALUE!"}},{"$f":"SUM(EE89:EE95)","v":{"$error":"#VALUE!"}},{"$f":"SUM(EF89:EF95)","v":{"$error":"#VALUE!"}},{"$f":"SUM(EG89:EG95)","v":{"$error":"#VALUE!"}},{"$f":"SUM(EH89:EH95)","v":{"$error":"#VALUE!"}},{"$f":"SUM(EI89:EI95)","v":{"$error":"#VALUE!"}},{"$error":"#VALUE!"},{"$error":"#VALUE!"},{"$error":"#VALUE!"},{"$error":"#VALUE!"},{"$error":"#VALUE!"},{"$error":"#VALUE!"},{"$error":"#VALUE!"},{"$error":"#VALUE!"},{"$error":"#VALUE!"},{"$error":"#VALUE!"},{"$error":"#VALUE!"},{"$error":"#VALUE!"},null,"Total",{"$f":"SUM(EX89:EX95)","v":0},{"$f":"SUM(EY89:EY95)","v":{"$error":"#VALUE!"}},{"$f":"SUM(EZ89:EZ95)","v":{"$error":"#VALUE!"}},{"$error":"#VALUE!"},{"$error":"#VALUE!"},{"$f":"SUM(FC89:FC95)","v":{"$error":"#VALUE!"}},{"$f":"SUM(FD89:FD95)","v":{"$error":"#VALUE!"}},{"$error":"#VALUE!"},{"$error":"#VALUE!"},{"$error":"#VALUE!"},{"$error":"#VALUE!"},{"$error":"#VALUE!"},{"$error":"#VALUE!"},{"$error":"#VALUE!"},{"$error":"#VALUE!"},{"$error":"#VALUE!"},{"$f":"SUM(FN89:FN95)","v":{"$error":"#VALUE!"}},{"$f":"SUM(FO89:FO95)","v":{"$error":"#VALUE!"}},{"$f":"SUM(FP89:FP95)","v":{"$error":"#VALUE!"}},{"$f":"SUM(FQ89:FQ95)","v":{"$error":"#VALUE!"}},{"$error":"#VALUE!"},{"$error":"#VALUE!"},{"$error":"#VALUE!"},{"$error":"#VALUE!"},{"$error":"#VALUE!"},{"$error":"#VALUE!"},{"$error":"#VALUE!"},{"$error":"#VALUE!"},{"$error":"#VALUE!"},{"$error":"#VALUE!"},{"$error":"#VALUE!"},{"$f":"SUM(GC89:GC95)","v":{"$error":"#VALUE!"}},{"$f":"SUM(GD89:GD95)","v":{"$error":"#VALUE!"}},{"$error":"#VALUE!"},"Total",{"$f":"SUM(GG89:GG95)","v":0},{"$f":"SUM(GH89:GH95)","v":{"$error":"#VALUE!"}},{"$f":"SUM(GI89:GI95)","v":{"$error":"#VALUE!"}},{"$error":"#VALUE!"},{"$error":"#VALUE!"},{"$f":"SUM(GL89:GL95)","v":{"$error":"#VALUE!"}},{"$f":"SUM(GM89:GM95)","v":{"$error":"#VALUE!"}},{"$f":"SUM(GN89:GN95)","v":{"$error":"#VALUE!"}},{"$error":"#VALUE!"},{"$error":"#VALUE!"},{"$error":"#VALUE!"},{"$error":"#VALUE!"},{"$error":"#VALUE!"},{"$error":"#VALUE!"},{"$error":"#VALUE!"},{"$error":"#VALUE!"},{"$f":"SUM(GW89:GW95)","v":{"$error":"#VALUE!"}},{"$f":"SUM(GX89:GX95)","v":{"$error":"#VALUE!"}},{"$f":"SUM(GY89:GY95)","v":{"$error":"#VALUE!"}},{"$f":"SUM(GZ89:GZ95)","v":{"$error":"#VALUE!"}},{"$error":"#VALUE!"},{"$error":"#VALUE!"},{"$error":"#VALUE!"},{"$error":"#VALUE!"},{"$error":"#VALUE!"},{"$error":"#VALUE!"},{"$error":"#VALUE!"},{"$error":"#VALUE!"},{"$error":"#VALUE!"},{"$error":"#VALUE!"},{"$error":"#VALUE!"},{"$f":"SUM(HL89:HL95)","v":{"$error":"#VALUE!"}},{"$f":"SUM(HM89:HM95)","v":{"$error":"#VALUE!"}},{"$error":"#VALUE!"},"Total",{"$f":"SUM(HP89:HP95)","v":0},{"$f":"SUM(HQ89:HQ95)","v":{"$error":"#VALUE!"}},{"$f":"SUM(HR89:HR95)","v":{"$error":"#VALUE!"}},{"$error":"#VALUE!"},{"$error":"#VALUE!"},{"$f":"SUM(HU89:HU95)","v":{"$error":"#VALUE!"}},{"$f":"SUM(HV89:HV95)","v":{"$error":"#VALUE!"}},{"$error":"#VALUE!"},{"$error":"#VALUE!"},{"$error":"#VALUE!"},{"$error":"#VALUE!"},{"$error":"#VALUE!"},{"$error":"#VALUE!"},{"$error":"#VALUE!"},{"$error":"#VALUE!"},{"$error":"#VALUE!"},{"$f":"SUM(IF89:IF95)","v":{"$error":"#VALUE!"}},{"$f":"SUM(IG89:IG95)","v":{"$error":"#VALUE!"}},{"$f":"SUM(IH89:IH95)","v":{"$error":"#VALUE!"}},{"$f":"SUM(II89:II95)","v":{"$error":"#VALUE!"}},{"$error":"#VALUE!"},{"$error":"#VALUE!"},{"$error":"#VALUE!"},{"$error":"#VALUE!"},{"$error":"#VALUE!"},{"$error":"#VALUE!"},{"$error":"#VALUE!"},{"$error":"#VALUE!"},{"$error":"#VALUE!"},{"$error":"#VALUE!"},{"$error":"#VALUE!"},{"$f":"SUM(IU89:IU95)","v":{"$error":"#VALUE!"}},{"$f":"SUM(IV89:IV95)","v":{"$error":"#VALUE!"}},{"$error":"#VALUE!"},"Total",{"$f":"SUM(IY89:IY95)","v":0},{"$f":"SUM(IZ89:IZ95)","v":{"$error":"#VALUE!"}},{"$f":"SUM(JA89:JA95)","v":{"$error":"#VALUE!"}},{"$error":"#VALUE!"},{"$error":"#VALUE!"},{"$f":"SUM(JD89:JD95)","v":{"$error":"#VALUE!"}},{"$f":"SUM(JE89:JE95)","v":{"$error":"#VALUE!"}},{"$error":"#VALUE!"},{"$error":"#VALUE!"},{"$error":"#VALUE!"},{"$error":"#VALUE!"},{"$error":"#VALUE!"},{"$error":"#VALUE!"},{"$error":"#VALUE!"},{"$error":"#VALUE!"},{"$error":"#VALUE!"},{"$f":"SUM(JO89:JO95)","v":{"$error":"#VALUE!"}},{"$f":"SUM(JP89:JP95)","v":{"$error":"#VALUE!"}},{"$f":"SUM(JQ89:JQ95)","v":{"$error":"#VALUE!"}},{"$f":"SUM(JR89:JR95)","v":{"$error":"#VALUE!"}},{"$error":"#VALUE!"},{"$error":"#VALUE!"},{"$error":"#VALUE!"},{"$error":"#VALUE!"},{"$error":"#VALUE!"},{"$error":"#VALUE!"},{"$error":"#VALUE!"},{"$error":"#VALUE!"},{"$error":"#VALUE!"},{"$error":"#VALUE!"},{"$error":"#VALUE!"},{"$f":"SUM(KD89:KD95)","v":{"$error":"#VALUE!"}},{"$f":"SUM(KE89:KE95)","v":{"$error":"#VALUE!"}},{"$error":"#VALUE!"},"Total",{"$f":"SUM(KH89:KH95)","v":0},{"$f":"SUM(KI89:KI95)","v":{"$error":"#VALUE!"}},{"$f":"SUM(KJ89:KJ95)","v":{"$error":"#VALUE!"}},{"$error":"#VALUE!"},{"$error":"#VALUE!"},{"$f":"SUM(KM89:KM95)","v":{"$error":"#VALUE!"}},{"$f":"SUM(KN89:KN95)","v":{"$error":"#VALUE!"}},{"$error":"#VALUE!"},{"$error":"#VALUE!"},{"$error":"#VALUE!"},{"$error":"#VALUE!"},{"$error":"#VALUE!"},{"$error":"#VALUE!"},{"$error":"#VALUE!"},{"$error":"#VALUE!"},{"$error":"#VALUE!"},{"$f":"SUM(KX89:KX95)","v":{"$error":"#VALUE!"}},{"$f":"SUM(KY89:KY95)","v":{"$error":"#VALUE!"}},{"$f":"SUM(KZ89:KZ95)","v":{"$error":"#VALUE!"}},{"$f":"SUM(LA89:LA95)","v":{"$error":"#VALUE!"}},{"$error":"#VALUE!"},{"$error":"#VALUE!"},{"$error":"#VALUE!"},{"$error":"#VALUE!"},{"$error":"#VALUE!"},{"$error":"#VALUE!"},{"$error":"#VALUE!"},{"$error":"#VALUE!"},{"$error":"#VALUE!"},{"$error":"#VALUE!"},{"$error":"#VALUE!"},{"$f":"SUM(LM89:LM95)","v":{"$error":"#VALUE!"}},{"$f":"SUM(LN89:LN95)","v":{"$error":"#VALUE!"}},{"$error":"#VALUE!"},"Total",{"$f":"SUM(LQ89:LQ95)","v":0},{"$f":"SUM(LR89:LR95)","v":{"$error":"#VALUE!"}},{"$f":"SUM(LS89:LS95)","v":{"$error":"#VALUE!"}},{"$error":"#VALUE!"},{"$error":"#VALUE!"},{"$f":"SUM(LV89:LV95)","v":{"$error":"#VALUE!"}},{"$f":"SUM(LW89:LW95)","v":{"$error":"#VALUE!"}},{"$error":"#VALUE!"},{"$error":"#VALUE!"},{"$error":"#VALUE!"},{"$error":"#VALUE!"},{"$error":"#VALUE!"},{"$error":"#VALUE!"},{"$error":"#VALUE!"},{"$error":"#VALUE!"},{"$f":"SUM(MF89:MF95)","v":{"$error":"#VALUE!"}},{"$f":"SUM(MG89:MG95)","v":{"$error":"#VALUE!"}},{"$f":"SUM(MH89:MH95)","v":{"$error":"#VALUE!"}},{"$f":"SUM(MI89:MI95)","v":{"$error":"#VALUE!"}},{"$f":"SUM(MJ89:MJ95)","v":{"$error":"#VALUE!"}},{"$error":"#VALUE!"},{"$error":"#VALUE!"},{"$error":"#VALUE!"},{"$error":"#VALUE!"},{"$error":"#VALUE!"},{"$error":"#VALUE!"},{"$error":"#VALUE!"},{"$error":"#VALUE!"},{"$error":"#VALUE!"},{"$error":"#VALUE!"},{"$error":"#VALUE!"},{"$f":"SUM(MV89:MV95)","v":{"$error":"#VALUE!"}},{"$f":"SUM(MW89:MW95)","v":{"$error":"#VALUE!"}},{"$error":"#VALUE!"}]
[null,9,{"$f":"'Regional Project List Sheet'!F13","v":0},{"$f":"IF('Regional Project List Sheet'!$G13=\"New\",1,\"\")","v":""},{"$f":"IF('Regional Project List Sheet'!$G13=\"Funded Old\",1,\"\")","v":""},{"$f":"IF('Regional Project List Sheet'!$G13=\"Unfunded Old\",1,\"\")","v":""},{"$f":"'Regional Project List Sheet'!H13","v":0},{"$f":"'Regional Project List Sheet'!I13","v":0},{"$f":"'Regional Project List Sheet'!L13","v":0},{"$f":"'Regional Project List Sheet'!M13","v":0},{"$f":"'Regional Project List Sheet'!N13","v":0},{"$f":"'Regional Project List Sheet'!O13","v":0},{"$f":"'Regional Project List Sheet'!P13","v":0},{"$f":"IF('Regional Project List Sheet'!$Q13=\"N/A\",\"N/A\",IF($Y100<>0,5,IF($Z100<>0,4,IF($AA100<>0,3,IF($AB100<>0,2,1)))))","v":1},{"$f":"VLOOKUP($C97,'[2]Ranking|Priority'!$B$5:$O$40,12,FALSE)","v":{"$error":"#N/A"}},{"$f":"VLOOKUP($C97,'[2]Ranking|Priority'!$B$5:$O$68,13,FALSE)","v":{"$error":"#N/A"}},{"$f":"VLOOKUP($C97,'[2]Ranking|Priority'!$B$5:$O$68,14,FALSE)","v":{"$error":"#N/A"}},{"$f":"'Regional Project List Sheet'!T13","v":0},{"$f":"'Regional Project List Sheet'!U13","v":0},{"$f":"'Regional Project List Sheet'!V13","v":0},{"$f":"'Regional Project List Sheet'!W13","v":0},{"$f":"'Regional Project List Sheet'!X13","v":0},{"$f":"'Regional Project List Sheet'!Y13","v":"Choose from Project List in cell I2"},0,null,null,null,null,null,null,null,{"$f":"'Regional Project List Sheet'!AJ13","v":0},{"$f":"IF(OR('Regional Project List Sheet'!$AA13<>'Regional Project List Sheet'!$A$40,'Regional Project List Sheet'!$AD13<>'Regional Project List Sheet'!$A$40,'Regional Project List Sheet'!$AG13<>'Regional Project List Sheet'!$A$40),_xlfn.CONCAT(IF(ISNUMBER('Regional Project List Sheet'!$AA13),'Regional Project List Sheet'!$A$36,\"\"),\" \",IF(ISNUMBER('Regional Project List Sheet'!$AD13),'Regional Project List Sheet'!$A$37,\"\"),\" \",IF(ISNUMBER('Regional Project List Sheet'!$AG13),'Regional Project List Sheet'!$A$38,\"\")),\"N/A\")","v":"N/A"},"N/A",{"$f":"IF(OR('Regional Project List Sheet'!AC13<>'Regional Project List Sheet'!$A$40,'Regional Project List Sheet'!AF13<>'Regional Project List Sheet'!$A$40,'Regional Project List Sheet'!AI13<>'Regional Project List Sheet'!$A$40),\n\nIF(LEN(_xlfn.CONCAT(IF('Regional Project List Sheet'!AC13=\"Yes\",'Regional Project List Sheet'!$A$36,\"\"),\" \",\n\nIF('Regional Project List Sheet'!AF13=\"Yes\",'Regional Project List Sheet'!$A$37,\"\"),\" \",\n\nIF('Regional Project List Sheet'!AI13=\"Yes\",'Regional Project List Sheet'!$A$38,\"\")))<3,\"No\",\n\n_xlfn.CONCAT(IF('Regional Project List Sheet'!AC13=\"Yes\",'Regional Project List Sheet'!$A$36,\"\"),\" \",\n\nIF('Regional Project List Sheet'!AF13=\"Yes\",'Regional Project List Sheet'!$A$37,\"\"),\" \",\n\nIF('Regional Project List Sheet'!AI13=\"Yes\",'Regional Project List Sheet'!$A$38,\"\"))))","v":false},{"$f":"IF(X97=0,AI97,AJ96)","v":false},{"$f":"'Regional Project List Sheet'!AK13","v":0},null,{"$f":"'Regional Project List Sheet'!AL13","v":0},null,0,null,null,null,null,null,null,null,null,null,null,1,{"$f":"IF(AND(BB97=\"OK\",BC97=\"OK\",BD97=\"OK\"),\"OK\",\"ERR!\")","v":"OK"},{"$f":"IF(AND(Y97>0,SUM(BN97:BX97)<1),\"ERR!\",IF(AND(Z97>0,SUM(BY97:CI97)<1),\"ERR!\",IF(AND(AA97>0,SUM(CJ97:CT97)<1),\"ERR\",IF(AND(AB97>0,SUM(CU97:DE97)<1),\"ERR\",IF(AND(AC97>0,SUM(DF97:DP97)<1),\"ERR\",IF(AND(AD97>0,SUM(DQ97:EA97)<1),\"ERR\",\"OK\"))))))","v":"OK"},{"$f":"IF(OR(SUM(BN97:BX97)<>1,SUM(BY97:CI97)<>1,SUM(CJ97:CT97)<>1,SUM(CU97:DE97)<>1,SUM(DF97:DP97)<>1,SUM(DQ97:EA97)<>1),\"ERR!\",\"OK\")","v":"OK"},{"$f":"IF(AND(OR(BE97=BK97,BE97=0),OR(BF97=BK97,BF97=0),OR(BG97=BK97,BG97=0),OR(BH97=BK97,BH97=0),OR(BI97=BK97,BI97=0),OR(BJ97=BK97,BJ97=0)),\"OK\",\"ERR!\")","v":"OK"},{"$f":"(BN97*POWER(10,0)+BO97*POWER(10,1)+BP97*POWER(10,2)+BQ97*POWER(10,3)+BR97*POWER(10,4)+BS97*POWER(10,5)+BT97*POWER(10,6)+BU97*POWER(10,7)+BV97*POWER(10,8)+BW97*POWER(10,9)+BX97*POWER(10,10))","v":10000},{"$f":"(BY97*POWER(10,0)+BZ97*POWER(10,1)+CA97*POWER(10,2)+CB97*POWER(10,3)+CC97*POWER(10,4)+CD97*POWER(10,5)+CE97*POWER(10,6)+CF97*POWER(10,7)+CG97*POWER(10,8)+CH97*POWER(10,9)+CI97*POWER(10,10))","v":10000},{"$f":"(CJ97*POWER(10,0)+CK97*POWER(10,1)+CL97*POWER(10,2)+CM97*POWER(10,3)+CN97*POWER(10,4)+CO97*POWER(10,5)+CP97*POWER(10,6)+CQ97*POWER(10,7)+CR97*POWER(10,8)+CS97*POWER(10,9)+CT97*POWER(10,10))","v":10000},{"$f":"(CU97*POWER(10,0)+CV97*POWER(10,1)+CW97*POWER(10,2)+CX97*POWER(10,3)+CY97*POWER(10,4)+CZ97*POWER(10,5)+DA97*POWER(10,6)+DB97*POWER(10,7)+DC97*POWER(10,8)+DD97*POWER(10,9)+DE97*POWER(10,10))","v":10000},{"$f":"(DF97*POWER(10,0)+DG97*POWER(10,1)+DH97*POWER(10,2)+DI97*POWER(10,3)+DJ97*POWER(10,4)+DK97*POWER(10,5)+DL97*POWER(10,6)+DM97*POWER(10,7)+DN97*POWER(10,8)+DO97*POWER(10,9)+DP97*POWER(10,10))","v":10000},{"$f":"(DQ97*POWER(10,0)+DR97*POWER(10,1)+DS97*POWER(10,2)+DT97*POWER(10,3)+DU97*POWER(10,4)+DV97*POWER(10,5)+DW97*POWER(10,6)+DX97*POWER(10,7)+DY97*POWER(10,8)+DZ97*POWER(10,9)+EA97*POWER(10,10))","v":10000},{"$f":"MAX(BE97:BJ97)","v":10000},null,0,null,null,null,null,1,null,null,null,null,null,null,null,null,null,null,1,null,null,null,null,null,null,null,null,null,null,1,null,null,null,null,null,null,null,null,null,null,1,null,null,null,null,null,null,null,null,null,null,1,null,null,null,null,null,null,null,null,null,null,1,null,null,null,null,null,null,null,0,{"$f":"($Y97*D$97)/1000","v":{"$error":"#VALUE!"}},{"$error":"#VALUE!"},{"$error":"#VALUE!"},{"$f":"($Z97*D$97)/1000","v":{"$error":"#VALUE!"}},{"$error":"#VALUE!"},{"$error":"#VALUE!"},{"$f":"($AA97*D$97)/1000","v":{"$error":"#VALUE!"}},{"$error":"#VALUE!"},{"$error":"#VALUE!"},{"$f":"($AB97*D$97)/1000","v":{"$error":"#VALUE!"}},{"$error":"#VALUE!"},{"$error":"#VALUE!"},{"$f":"($AC97*D$97)/1000","v":{"$error":"#VALUE!"}},{"$error":"#VALUE!"},{"$error":"#VALUE!"},{"$f":"($AD97*D$97)/1000","v":{"$error":"#VALUE!"}},{"$error":"#VALUE!"},{"$error":"#VALUE!"},null,0,{"$f":"$AZ$97*$Y97","v":0},{"$f":"($AZ$97*$BN97*D$97*$Y97)/1000","v":{"$error":"#VALUE!"}},{"$error":"#VALUE!"},{"$error":"#VALUE!"},{"$f":"($AZ$97*$BO97*D$97*$Y97)/1000","v":{"$error":"#VALUE!"}},{"$error":"#VALUE!"},{"$error":"#VALUE!"},{"$f":"($AZ$97*$BP97*D$97*$Y97)/1000","v":{"$error":"#VALUE!"}},{"$error":"#VALUE!"},{"$error":"#VALUE!"},{"$f":"($AZ$97*$BQ97*D$97*$Y97)/1000","v":{"$error":"#VALUE!"}},{"$error":"#VALUE!"},{"$error":"#VALUE!"},{"$f":"($AZ$97*$BR97*D$97*$Y97)/1000","v":{"$error":"#VALUE!"}},{"$error":"#VALUE!"},{"$error":"#VALUE!"},{"$f":"($AZ$97*$BS97*D$97*$Y97)/1000","v":{"$error":"#VALUE!"}},{"$error":"#VALUE!"},{"$error":"#VALUE!"},{"$f":"($AZ$97*$BT97*D$97*$Y97)/1000","v":{"$error":"#VALUE!"}},{"$error":"#VALUE!"},{"$error":"#VALUE!"},{"$f":"($AZ$97*$BU97*D$97*$Y97)/1000","v":{"$error":"#VALUE!"}},{"$error":"#VALUE!"},{"$error":"#VALUE!"},{"$f":"($AZ$97*$BV97*D$97*$Y97)/1000","v":{"$error":"#VALUE!"}},{"$error":"#VALUE!"},{"$error":"#VALUE!"},{"$f":"($AZ$97*$BW97*D$97*$Y97)/1000","v":{"$error":"#VALUE!"}},{"$error":"#VALUE!"},{"$error":"#VALUE!"},{"$f":"($AZ$97*$BX97*D$97*$Y97)/1000","v":{"$error":"#VALUE!"}},{"$error":"#VALUE!"},{"$error":"#VALUE!"},0,{"$f":"$AZ$97*$Z97","v":0},{"$f":"($AZ$97*$BY97*D$97*$Z97)/1000","v":{"$error":"#VALUE!"}},{"$error":"#VALUE!"},{"$error":"#VALUE!"},{"$f":"($AZ$97*$BZ97*D$97*$Z97)/1000","v":{"$error":"#VALUE!"}},{"$error":"#VALUE!"},{"$error":"#VALUE!"},{"$f":"($AZ$97*$CA97*D$97*$Z97)/1000","v":{"$error":"#VALUE!"}},{"$error":"#VALUE!"},{"$error":"#VALUE!"},{"$f":"($AZ$97*$CB97*D$97*$Z97)/1000","v":{"$error":"#VALUE!"}},{"$error":"#VALUE!"},{"$error":"#VALUE!"},{"$f":"($AZ$97*$CD97*D$97*$Z97)/1000","v":{"$error":"#VALUE!"}},{"$error":"#VALUE!"},{"$error":"#VALUE!"},{"$f":"($AZ$97*$CD97*D$97*$Z97)/1000","v":{"$error":"#VALUE!"}},{"$error":"#VALUE!"},{"$error":"#VALUE!"},{"$f":"($AZ$97*$CE97*D$97*$Z97)/1000","v":{"$error":"#VALUE!"}},{"$error":"#VALUE!"},{"$error":"#VALUE!"},{"$f":"($AZ$97*$CF97*D$97*$Z97)/1000","v":{"$error":"#VALUE!"}},{"$error":"#VALUE!"},{"$error":"#VALUE!"},{"$f":"($AZ$97*$CG97*D$97*$Z97)/1000","v":{"$error":"#VALUE!"}},{"$error":"#VALUE!"},{"$error":"#VALUE!"},{"$f":"($AZ$97*$CH97*D$97*$Z97)/1000","v":{"$error":"#VALUE!"}},{"$error":"#VALUE!"},{"$error":"#VALUE!"},{"$f":"($AZ$97*$CI97*D$97*$Z97)/1000","v":{"$error":"#VALUE!"}},{"$error":"#VALUE!"},{"$error":"#VALUE!"},0,{"$f":"$AZ$97*$AA97","v":0},{"$f":"($AZ$97*$CJ97*D$97*$AA97)/1000","v":{"$error":"#VALUE!"}},{"$error":"#VALUE!"},{"$error":"#VALUE!"},{"$f":"($AZ$97*$CK97*D$97*$AA97)/1000","v":{"$error":"#VALUE!"}},{"$error":"#VALUE!"},{"$error":"#VALUE!"},{"$f":"($AZ$97*$CL97*D$97*$AA97)/1000","v":{"$error":"#VALUE!"}},{"$error":"#VALUE!"},{"$error":"#VALUE!"},{"$f":"($AZ$97*$CM97*D$97*$AA97)/1000","v":{"$error":"#VALUE!"}},{"$error":"#VALUE!"},{"$error":"#VALUE!"},{"$f":"($AZ$97*$CN97*D$97*$AA97)/1000","v":{"$error":"#VALUE!"}},{"$error":"#VALUE!"},{"$error":"#VALUE!"},{"$f":"($AZ$97*$CO97*D$97*$AA97)/1000","v":{"$error":"#VALUE!"}},{"$error":"#VALUE!"},{"$error":"#VALUE!"},{"$f":"($AZ$97*$CP97*D$97*$AA97)/1000","v":{"$error":"#VALUE!"}},{"$error":"#VALUE!"},{"$error":"#VALUE!"},{"$f":"($AZ$97*$CQ97*D$97*$AA97)/1000","v":{"$error":"#VALUE!"}},{"$error":"#VALUE!"},{"$error":"#VALUE!"},{"$f":"($AZ$97*$CR97*D$97*$AA97)/1000","v":{"$error":"#VALUE!"}},{"$error":"#VALUE!"},{"$error":"#VALUE!"},{"$f":"($AZ$97*$CS97*D$97*$AA97)/1000","v":{"$error":"#VALUE!"}},{"$error":"#VALUE!"},{"$error":"#VALUE!"},{"$f":"($AZ$97*$CT97*D$97*$AA97)/1000","v":{"$error":"#VALUE!"}},{"$error":"#VALUE!"},{"$error":"#VALUE!"},0,{"$f":"$AZ$97*$AB97","v":0},{"$f":"($AZ$97*$CU97*D$97*$AB97)/1000","v":{"$error":"#VALUE!"}},{"$error":"#VALUE!"},{"$error":"#VALUE!"},{"$f":"($AZ$97*$CV97*D$97*$AB97)/1000","v":{"$error":"#VALUE!"}},{"$error":"#VALUE!"},{"$error":"#VALUE!"},{"$f":"($AZ$97*$CW97*D$97*$AB97)/1000","v":{"$error":"#VALUE!"}},{"$error":"#VALUE!"},{"$error":"#VALUE!"},{"$f":"($AZ$97*$CX97*D$97*$AB97)/1000","v":{"$error":"#VALUE!"}},{"$error":"#VALUE!"},{"$error":"#VALUE!"},{"$f":"($AZ$97*$CY97*D$97*$AB97)/1000","v":{"$error":"#VALUE!"}},{"$error":"#VALUE!"},{"$error":"#VALUE!"},{"$f":"($AZ$97*$CZ97*D$97*$AB97)/1000","v":{"$error":"#VALUE!"}},{"$error":"#VALUE!"},{"$error":"#VALUE!"},{"$f":"($AZ$97*$DA97*D$97*$AB97)/1000","v":{"$error":"#VALUE!"}},{"$error":"#VALUE!"},{"$error":"#VALUE!"},{"$f":"($AZ$97*$DB97*D$97*$AB97)/1000","v":{"$error":"#VALUE!"}},{"$error":"#VALUE!"},{"$error":"#VALUE!"},{"$f":"($AZ$97*$DC97*D$97*$AB97)/1000","v":{"$error":"#VALUE!"}},{"$error":"#VALUE!"},{"$error":"#VALUE!"},{"$f":"($AZ$97*$DD97*D$97*$AB97)/1000","v":{"$error":"#VALUE!"}},{"$error":"#VALUE!"},{"$error":"#VALUE!"},{"$f":"($AZ$97*$DE97*D$97*$AB97)/1000","v":{"$error":"#VALUE!"}},{"$error":"#VALUE!"},{"$error":"#VALUE!"},0,{"$f":"$AZ$97*$AC97","v":0},{"$f":"($AZ$97*$DF97*D$97*$AC97)/1000","v":{"$error":"#VALUE!"}},{"$error":"#VALUE!"},{"$error":"#VALUE!"},{"$f":"($AZ$97*$DG97*D$97*$AC97)/1000","v":{"$error":"#VALUE!"}},{"$error":"#VALUE!"},{"$error":"#VALUE!"},{"$f":"($AZ$97*$DH97*D$97*$AC97)/1000","v":{"$error":"#VALUE!"}},{"$error":"#VALUE!"},{"$error":"#VALUE!"},{"$f":"($AZ$97*$DI97*D$97*$AC97)/1000","v":{"$error":"#VALUE!"}},{"$error":"#VALUE!"},{"$error":"#VALUE!"},{"$f":"($AZ$97*$DJ97*D$97*$AC97)/1000","v":{"$error":"#VALUE!"}},{"$error":"#VALUE!"},{"$error":"#VALUE!"},{"$f":"($AZ$97*$DK97*D$97*$AC97)/1000","v":{"$error":"#VALUE!"}},{"$error":"#VALUE!"},{"$error":"#VALUE!"},{"$f":"($AZ$97*$DL97*D$97*$AC97)/1000","v":{"$error":"#VALUE!"}},{"$error":"#VALUE!"},{"$error":"#VALUE!"},{"$f":"($AZ$97*$DM97*D$97*$AC97)/1000","v":{"$error":"#VALUE!"}},{"$error":"#VALUE!"},{"$error":"#VALUE!"},{"$f":"($AZ$97*$DN97*D$97*$AC97)/1000","v":{"$error":"#VALUE!"}},{"$error":"#VALUE!"},{"$error":"#VALUE!"},{"$f":"($AZ$97*$DO97*D$97*$AC97)/1000","v":{"$error":"#VALUE!"}},{"$error":"#VALUE!"},{"$error":"#VALUE!"},{"$f":"($AZ$97*$DP97*D$97*$AC97)/1000","v":{"$error":"#VALUE!"}},{"$error":"#VALUE!"},{"$error":"#VALUE!"},0,{"$f":"$AZ$97*$AD97","v":0},{"$f":"($AZ$97*$DQ97*D$97*$AD97)/1000","v":{"$error":"#VALUE!"}},{"$error":"#VALUE!"},{"$error":"#VALUE!"},{"$f":"($AZ$97*$DR97*D$97*$AD97)/1000","v":{"$error":"#VALUE!"}},{"$error":"#VALUE!"},{"$error":"#VALUE!"},{"$f":"($AZ$97*$DS97*D$97*$AD97)/1000","v":{"$error":"#VALUE!"}},{"$error":"#VALUE!"},{"$error":"#VALUE!"},{"$f":"($AZ$97*$DT97*D$97*$AD97)/1000","v":{"$error":"#VALUE!"}},{"$error":"#VALUE!"},{"$error":"#VALUE!"},{"$f":"($AZ$97*$DU97*D$97*$AD97)/1000","v":{"$error":"#VALUE!"}},{"$error":"#VALUE!"},{"$error":"#VALUE!"},{"$f":"($AZ$97*$DV97*D$97*$AD97)/1000","v":{"$error":"#VALUE!"}},{"$error":"#VALUE!"},{"$error":"#VALUE!"},{"$f":"($AZ$97*$DW97*D$97*$AD97)/1000","v":{"$error":"#VALUE!"}},{"$error":"#VALUE!"},{"$error":"#VALUE!"},{"$f":"($AZ$97*$DX97*D$97*$AD97)/1000","v":{"$error":"#VALUE!"}},{"$error":"#VALUE!"},{"$error":"#VALUE!"},{"$f":"($AZ$97*$DY97*D$97*$AD97)/1000","v":{"$error":"#VALUE!"}},{"$error":"#VALUE!"},{"$error":"#VALUE!"},{"$f":"($AZ$97*$DZ97*D$97*$AD97)/1000","v":{"$error":"#VALUE!"}},{"$error":"#VALUE!"},{"$error":"#VALUE!"},{"$f":"($AZ$97*$EA97*D$97*$AD97)/1000","v":{"$error":"#VALUE!"}},{"$error":"#VALUE!"},{"$error":"#VALUE!"}]
[null,null,null,null,null,null,null,null,null,null,null,null,null,null,null,null,null,null,null,null,null,null,null,2,null,null,null,null,null,null,null,null,null,{"$f":"IF(X98=0,AG98,AH97)","v":"N/A"},null,false,null,null,null,null,2,null,null,null,null,null,null,null,null,null,null,null,{"$f":"IF(AND(BB98=\"OK\",BC98=\"OK\",BD98=\"OK\"),\"OK\",\"ERR!\")","v":"OK"},"OK",{"$f":"IF(OR(SUM(BN98:BX98)<>1,SUM(BY98:CI98)<>1,SUM(CJ98:CT98)<>1,SUM(CU98:DE98)<>1,SUM(DF98:DP98)<>1,SUM(DQ98:EA98)<>1),\"ERR!\",\"OK\")","v":"OK"},{"$f":"IF(AND(OR(BE98=BK98,BE98=0),OR(BF98=BK98,BF98=0),OR(BG98=BK98,BG98=0),OR(BH98=BK98,BH98=0),OR(BI98=BK98,BI98=0),OR(BJ98=BK98,BJ98=0)),\"OK\",\"ERR!\")","v":"OK"},{"$f":"(BN98*POWER(10,0)+BO98*POWER(10,1)+BP98*POWER(10,2)+BQ98*POWER(10,3)+BR98*POWER(10,4)+BS98*POWER(10,5)+BT98*POWER(10,6)+BU98*POWER(10,7)+BV98*POWER(10,8)+BW98*POWER(10,9)+BX98*POWER(10,10))","v":10000},{"$f":"(BY98*POWER(10,0)+BZ98*POWER(10,1)+CA98*POWER(10,2)+CB98*POWER(10,3)+CC98*POWER(10,4)+CD98*POWER(10,5)+CE98*POWER(10,6)+CF98*POWER(10,7)+CG98*POWER(10,8)+CH98*POWER(10,9)+CI98*POWER(10,10))","v":10000},{"$f":"(CJ98*POWER(10,0)+CK98*POWER(10,1)+CL98*POWER(10,2)+CM98*POWER(10,3)+CN98*POWER(10,4)+CO98*POWER(10,5)+CP98*POWER(10,6)+CQ98*POWER(10,7)+CR98*POWER(10,8)+CS98*POWER(10,9)+CT98*POWER(10,10))","v":10000},{"$f":"(CU98*POWER(10,0)+CV98*POWER(10,1)+CW98*POWER(10,2)+CX98*POWER(10,3)+CY98*POWER(10,4)+CZ98*POWER(10,5)+DA98*POWER(10,6)+DB98*POWER(10,7)+DC98*POWER(10,8)+DD98*POWER(10,9)+DE98*POWER(10,10))","v":10000},{"$f":"(DF98*POWER(10,0)+DG98*POWER(10,1)+DH98*POWER(10,2)+DI98*POWER(10,3)+DJ98*POWER(10,4)+DK98*POWER(10,5)+DL98*POWER(10,6)+DM98*POWER(10,7)+DN98*POWER(10,8)+DO98*POWER(10,9)+DP98*POWER(10,10))","v":10000},{"$f":"(DQ98*POWER(10,0)+DR98*POWER(10,1)+DS98*POWER(10,2)+DT98*POWER(10,3)+DU98*POWER(10,4)+DV98*POWER(10,5)+DW98*POWER(10,6)+DX98*POWER(10,7)+DY98*POWER(10,8)+DZ98*POWER(10,9)+EA98*POWER(10,10))","v":10000},{"$f":"MAX(BE98:BJ98)","v":10000},null,2,null,null,null,null,1,null,null,null,null,null,null,null,null,null,null,1,null,null,null,null,null,null,null,null,null,null,1,null,null,null,null,null,null,null,null,null,null,1,null,null,null,null,null,null,null,null,null,null,1,null,null,null,null,null,null,null,null,null,null,1,null,null,null,null,null,null,null,2,{"$error":"#VALUE!"},{"$error":"#VALUE!"},{"$error":"#VALUE!"},{"$error":"#VALUE!"},{"$error":"#VALUE!"},{"$error":"#VALUE!"},{"$error":"#VALUE!"},{"$error":"#VALUE!"},{"$error":"#VALUE!"},{"$error":"#VALUE!"},{"$error":"#VALUE!"},{"$error":"#VALUE!"},{"$error":"#VALUE!"},{"$error":"#VALUE!"},{"$error":"#VALUE!"},{"$error":"#VALUE!"},{"$error":"#VALUE!"},{"$error":"#VALUE!"},null,2,0,{"$error":"#VALUE!"},{"$error":"#VALUE!"},{"$error":"#VALUE!"},{"$error":"#VALUE!"},{"$error":"#VALUE!"},{"$error":"#VALUE!"},{"$error":"#VALUE!"},{"$error":"#VALUE!"},{"$error":"#VALUE!"},{"$error":"#VALUE!"},{"$error":"#VALUE!"},{"$error":"#VALUE!"},{"$error":"#VALUE!"},{"$error":"#VALUE!"},{"$error":"#VALUE!"},{"$error":"#VALUE!"},{"$error":"#VALUE!"},{"$error":"#VALUE!"},{"$error":"#VALUE!"},{"$error":"#VALUE!"},{"$error":"#VALUE!"},{"$error":"#VALUE!"},{"$error":"#VALUE!"},{"$error":"#VALUE!"},{"$error":"#VALUE!"},{"$error":"#VALUE!"},{"$error":"#VALUE!"},{"$error":"#VALUE!"},{"$error":"#VALUE!"},{"$error":"#VALUE!"},{"$error":"#VALUE!"},{"$error":"#VALUE!"},{"$error":"#VALUE!"},2,0,{"$error":"#VALUE!"},{"$error":"#VALUE!"},{"$error":"#VALUE!"},{"$error":"#VALUE!"},{"$error":"#VALUE!"},{"$error":"#VALUE!"},{"$error":"#VALUE!"},{"$error":"#VALUE!"},{"$error":"#VALUE!"},{"$error":"#VALUE!"},{"$error":"#VALUE!"},{"$error":"#VALUE!"},{"$error":"#VALUE!"},{"$error":"#VALUE!"},{"$error":"#VALUE!"},{"$error":"#VALUE!"},{"$error":"#VALUE!"},{"$error":"#VALUE!"},{"$error":"#VALUE!"},{"$error":"#VALUE!"},{"$error":"#VALUE!"},{"$error":"#VALUE!"},{"$error":"#VALUE!"},{"$error":"#VALUE!"},{"$error":"#VALUE!"},{"$error":"#VALUE!"},{"$error":"#VALUE!"},{"$error":"#VALUE!"},{"$error":"#VALUE!"},{"$error":"#VALUE!"},{"$error":"#VALUE!"},{"$error":"#VALUE!"},{"$error":"#VALUE!"},2,0,{"$error":"#VALUE!"},{"$error":"#VALUE!"},{"$error":"#VALUE!"},{"$error":"#VALUE!"},{"$error":"#VALUE!"},{"$error":"#VALUE!"},{"$error":"#VALUE!"},{"$error":"#VALUE!"},{"$error":"#VALUE!"},{"$error":"#VALUE!"},{"$error":"#VALUE!"},{"$error":"#VALUE!"},{"$error":"#VALUE!"},{"$error":"#VALUE!"},{"$error":"#VALUE!"},{"$error":"#VALUE!"},{"$error":"#VALUE!"},{"$error":"#VALUE!"},{"$error":"#VALUE!"},{"$error":"#VALUE!"},{"$error":"#VALUE!"},{"$error":"#VALUE!"},{"$error":"#VALUE!"},{"$error":"#VALUE!"},{"$error":"#VALUE!"},{"$error":"#VALUE!"},{"$error":"#VALUE!"},{"$error":"#VALUE!"},{"$error":"#VALUE!"},{"$error":"#VALUE!"},{"$error":"#VALUE!"},{"$error":"#VALUE!"},{"$error":"#VALUE!"},2,0,{"$error":"#VALUE!"},{"$error":"#VALUE!"},{"$error":"#VALUE!"},{"$error":"#VALUE!"},{"$error":"#VALUE!"},{"$error":"#VALUE!"},{"$error":"#VALUE!"},{"$error":"#VALUE!"},{"$error":"#VALUE!"},{"$error":"#VALUE!"},{"$error":"#VALUE!"},{"$error":"#VALUE!"},{"$error":"#VALUE!"},{"$error":"#VALUE!"},{"$error":"#VALUE!"},{"$error":"#VALUE!"},{"$error":"#VALUE!"},{"$error":"#VALUE!"},{"$error":"#VALUE!"},{"$error":"#VALUE!"},{"$error":"#VALUE!"},{"$error":"#VALUE!"},{"$error":"#VALUE!"},{"$error":"#VALUE!"},{"$error":"#VALUE!"},{"$error":"#VALUE!"},{"$error":"#VALUE!"},{"$error":"#VALUE!"},{"$error":"#VALUE!"},{"$error":"#VALUE!"},{"$error":"#VALUE!"},{"$error":"#VALUE!"},{"$error":"#VALUE!"},2,0,{"$error":"#VALUE!"},{"$error":"#VALUE!"},{"$error":"#VALUE!"},{"$error":"#VALUE!"},{"$error":"#VALUE!"},{"$error":"#VALUE!"},{"$error":"#VALUE!"},{"$error":"#VALUE!"},{"$error":"#VALUE!"},{"$error":"#VALUE!"},{"$error":"#VALUE!"},{"$error":"#VALUE!"},{"$error":"#VALUE!"},{"$error":"#VALUE!"},{"$error":"#VALUE!"},{"$error":"#VALUE!"},{"$error":"#VALUE!"},{"$error":"#VALUE!"},{"$error":"#VALUE!"},{"$error":"#VALUE!"},{"$error":"#VALUE!"},{"$error":"#VALUE!"},{"$error":"#VALUE!"},{"$error":"#VALUE!"},{"$error":"#VALUE!"},{"$error":"#VALUE!"},{"$error":"#VALUE!"},{"$error":"#VALUE!"},{"$error":"#VALUE!"},{"$error":"#VALUE!"},{"$error":"#VALUE!"},{"$error":"#VALUE!"},{"$error":"#VALUE!"},2,0,{"$error":"#VALUE!"},{"$error":"#VALUE!"},{"$error":"#VALUE!"},{"$error":"#VALUE!"},{"$error":"#VALUE!"},{"$error":"#VALUE!"},{"$error":"#VALUE!"},{"$error":"#VALUE!"},{"$error":"#VALUE!"},{"$error":"#VALUE!"},{"$error":"#VALUE!"},{"$error":"#VALUE!"},{"$error":"#VALUE!"},{"$error":"#VALUE!"},{"$error":"#VALUE!"},{"$error":"#VALUE!"},{"$error":"#VALUE!"},{"$error":"#VALUE!"},{"$error":"#VALUE!"},{"$error":"#VALUE!"},{"$error":"#VALUE!"},{"$error":"#VALUE!"},{"$error":"#VALUE!"},{"$error":"#VALUE!"},{"$error":"#VALUE!"},{"$error":"#VALUE!"},{"$error":"#VALUE!"},{"$error":"#VALUE!"},{"$error":"#VALUE!"},{"$error":"#VALUE!"},{"$error":"#VALUE!"},{"$error":"#VALUE!"},{"$error":"#VALUE!"}]
[null,null,null,null,null,null,null,null,null,null,null,null,null,null,null,null,null,null,null,null,null,null,null,3,null,null,null,null,null,null,null,null,null,"N/A",null,false,null,null,null,null,3,null,null,null,null,null,null,null,null,null,null,null,{"$f":"IF(AND(BB99=\"OK\",BC99=\"OK\",BD99=\"OK\"),\"OK\",\"ERR!\")","v":"OK"},"OK",{"$f":"IF(OR(SUM(BN99:BX99)<>1,SUM(BY99:CI99)<>1,SUM(CJ99:CT99)<>1,SUM(CU99:DE99)<>1,SUM(DF99:DP99)<>1,SUM(DQ99:EA99)<>1),\"ERR!\",\"OK\")","v":"OK"},{"$f":"IF(AND(OR(BE99=BK99,BE99=0),OR(BF99=BK99,BF99=0),OR(BG99=BK99,BG99=0),OR(BH99=BK99,BH99=0),OR(BI99=BK99,BI99=0),OR(BJ99=BK99,BJ99=0)),\"OK\",\"ERR!\")","v":"OK"},10000,10000,10000,10000,10000,10000,{"$f":"MAX(BE99:BJ99)","v":10000},null,3,null,null,null,null,1,null,null,null,null,null,null,null,null,null,null,1,null,null,null,null,null,null,null,null,null,null,1,null,null,null,null,null,null,null,null,null,null,1,null,null,null,null,null,null,null,null,null,null,1,null,null,null,null,null,null,null,null,null,null,1,null,null,null,null,null,null,null,3,{"$error":"#VALUE!"},{"$error":"#VALUE!"},{"$error":"#VALUE!"},{"$error":"#VALUE!"},{"$error":"#VALUE!"},{"$error":"#VALUE!"},{"$error":"#VALUE!"},{"$error":"#VALUE!"},{"$error":"#VALUE!"},{"$error":"#VALUE!"},{"$error":"#VALUE!"},{"$error":"#VALUE!"},{"$error":"#VALUE!"},{"$error":"#VALUE!"},{"$error":"#VALUE!"},{"$error":"#VALUE!"},{"$error":"#VALUE!"},{"$error":"#VALUE!"},null,3,0,{"$error":"#VALUE!"},{"$error":"#VALUE!"},{"$error":"#VALUE!"},{"$error":"#VALUE!"},{"$error":"#VALUE!"},{"$error":"#VALUE!"},{"$error":"#VALUE!"},{"$error":"#VALUE!"},{"$error":"#VALUE!"},{"$error":"#VALUE!"},{"$error":"#VALUE!"},{"$error":"#VALUE!"},{"$error":"#VALUE!"},{"$error":"#VALUE!"},{"$error":"#VALUE!"},{"$error":"#VALUE!"},{"$error":"#VALUE!"},{"$error":"#VALUE!"},{"$error":"#VALUE!"},{"$error":"#VALUE!"},{"$error":"#VALUE!"},{"$error":"#VALUE!"},{"$error":"#VALUE!"},{"$error":"#VALUE!"},{"$error":"#VALUE!"},{"$error":"#VALUE!"},{"$error":"#VALUE!"},{"$error":"#VALUE!"},{"$error":"#VALUE!"},{"$error":"#VALUE!"},{"$error":"#VALUE!"},{"$error":"#VALUE!"},{"$error":"#VALUE!"},3,0,{"$error":"#VALUE!"},{"$error":"#VALUE!"},{"$error":"#VALUE!"},{"$error":"#VALUE!"},{"$error":"#VALUE!"},{"$error":"#VALUE!"},{"$error":"#VALUE!"},{"$error":"#VALUE!"},{"$error":"#VALUE!"},{"$error":"#VALUE!"},{"$error":"#VALUE!"},{"$error":"#VALUE!"},{"$error":"#VALUE!"},{"$error":"#VALUE!"},{"$error":"#VALUE!"},{"$error":"#VALUE!"},{"$error":"#VALUE!"},{"$error":"#VALUE!"},{"$error":"#VALUE!"},{"$error":"#VALUE!"},{"$error":"#VALUE!"},{"$error":"#VALUE!"},{"$error":"#VALUE!"},{"$error":"#VALUE!"},{"$error":"#VALUE!"},{"$error":"#VALUE!"},{"$error":"#VALUE!"},{"$error":"#VALUE!"},{"$error":"#VALUE!"},{"$error":"#VALUE!"},{"$error":"#VALUE!"},{"$error":"#VALUE!"},{"$error":"#VALUE!"},3,0,{"$error":"#VALUE!"},{"$error":"#VALUE!"},{"$error":"#VALUE!"},{"$error":"#VALUE!"},{"$error":"#VALUE!"},{"$error":"#VALUE!"},{"$error":"#VALUE!"},{"$error":"#VALUE!"},{"$error":"#VALUE!"},{"$error":"#VALUE!"},{"$error":"#VALUE!"},{"$error":"#VALUE!"},{"$error":"#VALUE!"},{"$error":"#VALUE!"},{"$error":"#VALUE!"},{"$error":"#VALUE!"},{"$error":"#VALUE!"},{"$error":"#VALUE!"},{"$error":"#VALUE!"},{"$error":"#VALUE!"},{"$error":"#VALUE!"},{"$error":"#VALUE!"},{"$error":"#VALUE!"},{"$error":"#VALUE!"},{"$error":"#VALUE!"},{"$error":"#VALUE!"},{"$error":"#VALUE!"},{"$error":"#VALUE!"},{"$error":"#VALUE!"},{"$error":"#VALUE!"},{"$error":"#VALUE!"},{"$error":"#VALUE!"},{"$error":"#VALUE!"},3,0,{"$error":"#VALUE!"},{"$error":"#VALUE!"},{"$error":"#VALUE!"},{"$error":"#VALUE!"},{"$error":"#VALUE!"},{"$error":"#VALUE!"},{"$error":"#VALUE!"},{"$error":"#VALUE!"},{"$error":"#VALUE!"},{"$error":"#VALUE!"},{"$error":"#VALUE!"},{"$error":"#VALUE!"},{"$error":"#VALUE!"},{"$error":"#VALUE!"},{"$error":"#VALUE!"},{"$error":"#VALUE!"},{"$error":"#VALUE!"},{"$error":"#VALUE!"},{"$error":"#VALUE!"},{"$error":"#VALUE!"},{"$error":"#VALUE!"},{"$error":"#VALUE!"},{"$error":"#VALUE!"},{"$error":"#VALUE!"},{"$error":"#VALUE!"},{"$error":"#VALUE!"},{"$error":"#VALUE!"},{"$error":"#VALUE!"},{"$error":"#VALUE!"},{"$error":"#VALUE!"},{"$error":"#VALUE!"},{"$error":"#VALUE!"},{"$error":"#VALUE!"},3,0,{"$error":"#VALUE!"},{"$error":"#VALUE!"},{"$error":"#VALUE!"},{"$error":"#VALUE!"},{"$error":"#VALUE!"},{"$error":"#VALUE!"},{"$error":"#VALUE!"},{"$error":"#VALUE!"},{"$error":"#VALUE!"},{"$error":"#VALUE!"},{"$error":"#VALUE!"},{"$error":"#VALUE!"},{"$error":"#VALUE!"},{"$error":"#VALUE!"},{"$error":"#VALUE!"},{"$error":"#VALUE!"},{"$error":"#VALUE!"},{"$error":"#VALUE!"},{"$error":"#VALUE!"},{"$error":"#VALUE!"},{"$error":"#VALUE!"},{"$error":"#VALUE!"},{"$error":"#VALUE!"},{"$error":"#VALUE!"},{"$error":"#VALUE!"},{"$error":"#VALUE!"},{"$error":"#VALUE!"},{"$error":"#VALUE!"},{"$error":"#VALUE!"},{"$error":"#VALUE!"},{"$error":"#VALUE!"},{"$error":"#VALUE!"},{"$error":"#VALUE!"},3,0,{"$error":"#VALUE!"},{"$error":"#VALUE!"},{"$error":"#VALUE!"},{"$error":"#VALUE!"},{"$error":"#VALUE!"},{"$error":"#VALUE!"},{"$error":"#VALUE!"},{"$error":"#VALUE!"},{"$error":"#VALUE!"},{"$error":"#VALUE!"},{"$error":"#VALUE!"},{"$error":"#VALUE!"},{"$error":"#VALUE!"},{"$error":"#VALUE!"},{"$error":"#VALUE!"},{"$error":"#VALUE!"},{"$error":"#VALUE!"},{"$error":"#VALUE!"},{"$error":"#VALUE!"},{"$error":"#VALUE!"},{"$error":"#VALUE!"},{"$error":"#VALUE!"},{"$error":"#VALUE!"},{"$error":"#VALUE!"},{"$error":"#VALUE!"},{"$error":"#VALUE!"},{"$error":"#VALUE!"},{"$error":"#VALUE!"},{"$error":"#VALUE!"},{"$error":"#VALUE!"},{"$error":"#VALUE!"},{"$error":"#VALUE!"},{"$error":"#VALUE!"}]
[null,null,null,null,null,null,null,null,null,null,null,null,null,null,null,null,null,null,null,null,null,null,null,4,null,null,null,null,null,null,null,null,null,"N/A",null,false,null,null,null,null,4,null,null,null,null,null,null,null,null,null,null,null,{"$f":"IF(AND(BB100=\"OK\",BC100=\"OK\",BD100=\"OK\"),\"OK\",\"ERR!\")","v":"OK"},"OK","OK",{"$f":"IF(AND(OR(BE100=BK100,BE100=0),OR(BF100=BK100,BF100=0),OR(BG100=BK100,BG100=0),OR(BH100=BK100,BH100=0),OR(BI100=BK100,BI100=0),OR(BJ100=BK100,BJ100=0)),\"OK\",\"ERR!\")","v":"OK"},10000,10000,10000,10000,10000,10000,10000,null,4,null,null,null,null,1,null,null,null,null,null,null,null,null,null,null,1,null,null,null,null,null,null,null,null,null,null,1,null,null,null,null,null,null,null,null,null,null,1,null,null,null,null,null,null,null,null,null,null,1,null,null,null,null,null,null,null,null,null,null,1,null,null,null,null,null,null,null,4,{"$error":"#VALUE!"},{"$error":"#VALUE!"},{"$error":"#VALUE!"},{"$error":"#VALUE!"},{"$error":"#VALUE!"},{"$error":"#VALUE!"},{"$error":"#VALUE!"},{"$error":"#VALUE!"},{"$error":"#VALUE!"},{"$error":"#VALUE!"},{"$error":"#VALUE!"},{"$error":"#VALUE!"},{"$error":"#VALUE!"},{"$error":"#VALUE!"},{"$error":"#VALUE!"},{"$error":"#VALUE!"},{"$error":"#VALUE!"},{"$error":"#VALUE!"},null,4,0,{"$error":"#VALUE!"},{"$error":"#VALUE!"},{"$error":"#VALUE!"},{"$error":"#VALUE!"},{"$error":"#VALUE!"},{"$error":"#VALUE!"},{"$error":"#VALUE!"},{"$error":"#VALUE!"},{"$error":"#VALUE!"},{"$error":"#VALUE!"},{"$error":"#VALUE!"},{"$error":"#VALUE!"},{"$error":"#VALUE!"},{"$error":"#VALUE!"},{"$error":"#VALUE!"},{"$error":"#VALUE!"},{"$error":"#VALUE!"},{"$error":"#VALUE!"},{"$error":"#VALUE!"},{"$error":"#VALUE!"},{"$error":"#VALUE!"},{"$error":"#VALUE!"},{"$error":"#VALUE!"},{"$error":"#VALUE!"},{"$error":"#VALUE!"},{"$error":"#VALUE!"},{"$error":"#VALUE!"},{"$error":"#VALUE!"},{"$error":"#VALUE!"},{"$error":"#VALUE!"},{"$error":"#VALUE!"},{"$error":"#VALUE!"},{"$error":"#VALUE!"},4,0,{"$error":"#VALUE!"},{"$error":"#VALUE!"},{"$error":"#VALUE!"},{"$error":"#VALUE!"},{"$error":"#VALUE!"},{"$error":"#VALUE!"},{"$error":"#VALUE!"},{"$error":"#VALUE!"},{"$error":"#VALUE!"},{"$error":"#VALUE!"},{"$error":"#VALUE!"},{"$error":"#VALUE!"},{"$error":"#VALUE!"},{"$error":"#VALUE!"},{"$error":"#VALUE!"},{"$error":"#VALUE!"},{"$error":"#VALUE!"},{"$error":"#VALUE!"},{"$error":"#VALUE!"},{"$error":"#VALUE!"},{"$error":"#VALUE!"},{"$error":"#VALUE!"},{"$error":"#VALUE!"},{"$error":"#VALUE!"},{"$error":"#VALUE!"},{"$error":"#VALUE!"},{"$error":"#VALUE!"},{"$error":"#VALUE!"},{"$error":"#VALUE!"},{"$error":"#VALUE!"},{"$error":"#VALUE!"},{"$error":"#VALUE!"},{"$error":"#VALUE!"},4,0,{"$error":"#VALUE!"},{"$error":"#VALUE!"},{"$error":"#VALUE!"},{"$error":"#VALUE!"},{"$error":"#VALUE!"},{"$error":"#VALUE!"},{"$error":"#VALUE!"},{"$error":"#VALUE!"},{"$error":"#VALUE!"},{"$error":"#VALUE!"},{"$error":"#VALUE!"},{"$error":"#VALUE!"},{"$error":"#VALUE!"},{"$error":"#VALUE!"},{"$error":"#VALUE!"},{"$error":"#VALUE!"},{"$error":"#VALUE!"},{"$error":"#VALUE!"},{"$error":"#VALUE!"},{"$error":"#VALUE!"},{"$error":"#VALUE!"},{"$error":"#VALUE!"},{"$error":"#VALUE!"},{"$error":"#VALUE!"},{"$error":"#VALUE!"},{"$error":"#VALUE!"},{"$error":"#VALUE!"},{"$error":"#VALUE!"},{"$error":"#VALUE!"},{"$error":"#VALUE!"},{"$error":"#VALUE!"},{"$error":"#VALUE!"},{"$error":"#VALUE!"},4,0,{"$error":"#VALUE!"},{"$error":"#VALUE!"},{"$error":"#VALUE!"},{"$error":"#VALUE!"},{"$error":"#VALUE!"},{"$error":"#VALUE!"},{"$error":"#VALUE!"},{"$error":"#VALUE!"},{"$error":"#VALUE!"},{"$error":"#VALUE!"},{"$error":"#VALUE!"},{"$error":"#VALUE!"},{"$error":"#VALUE!"},{"$error":"#VALUE!"},{"$error":"#VALUE!"},{"$error":"#VALUE!"},{"$error":"#VALUE!"},{"$error":"#VALUE!"},{"$error":"#VALUE!"},{"$error":"#VALUE!"},{"$error":"#VALUE!"},{"$error":"#VALUE!"},{"$error":"#VALUE!"},{"$error":"#VALUE!"},{"$error":"#VALUE!"},{"$error":"#VALUE!"},{"$error":"#VALUE!"},{"$error":"#VALUE!"},{"$error":"#VALUE!"},{"$error":"#VALUE!"},{"$error":"#VALUE!"},{"$error":"#VALUE!"},{"$error":"#VALUE!"},4,0,{"$error":"#VALUE!"},{"$error":"#VALUE!"},{"$error":"#VALUE!"},{"$error":"#VALUE!"},{"$error":"#VALUE!"},{"$error":"#VALUE!"},{"$error":"#VALUE!"},{"$error":"#VALUE!"},{"$error":"#VALUE!"},{"$error":"#VALUE!"},{"$error":"#VALUE!"},{"$error":"#VALUE!"},{"$error":"#VALUE!"},{"$error":"#VALUE!"},{"$error":"#VALUE!"},{"$error":"#VALUE!"},{"$error":"#VALUE!"},{"$error":"#VALUE!"},{"$error":"#VALUE!"},{"$error":"#VALUE!"},{"$error":"#VALUE!"},{"$error":"#VALUE!"},{"$error":"#VALUE!"},{"$error":"#VALUE!"},{"$error":"#VALUE!"},{"$error":"#VALUE!"},{"$error":"#VALUE!"},{"$error":"#VALUE!"},{"$error":"#VALUE!"},{"$error":"#VALUE!"},{"$error":"#VALUE!"},{"$error":"#VALUE!"},{"$error":"#VALUE!"},4,0,{"$error":"#VALUE!"},{"$error":"#VALUE!"},{"$error":"#VALUE!"},{"$error":"#VALUE!"},{"$error":"#VALUE!"},{"$error":"#VALUE!"},{"$error":"#VALUE!"},{"$error":"#VALUE!"},{"$error":"#VALUE!"},{"$error":"#VALUE!"},{"$error":"#VALUE!"},{"$error":"#VALUE!"},{"$error":"#VALUE!"},{"$error":"#VALUE!"},{"$error":"#VALUE!"},{"$error":"#VALUE!"},{"$error":"#VALUE!"},{"$error":"#VALUE!"},{"$error":"#VALUE!"},{"$error":"#VALUE!"},{"$error":"#VALUE!"},{"$error":"#VALUE!"},{"$error":"#VALUE!"},{"$error":"#VALUE!"},{"$error":"#VALUE!"},{"$error":"#VALUE!"},{"$error":"#VALUE!"},{"$error":"#VALUE!"},{"$error":"#VALUE!"},{"$error":"#VALUE!"},{"$error":"#VALUE!"},{"$error":"#VALUE!"},{"$error":"#VALUE!"}]
[null,null,null,null,null,null,null,null,null,null,null,null,null,null,null,null,null,null,null,null,null,null,null,7,null,null,null,null,null,null,null,null,null,"N/A",null,false,null,null,null,null,7,null,null,null,null,null,null,null,null,null,null,null,{"$f":"IF(AND(BB101=\"OK\",BC101=\"OK\",BD101=\"OK\"),\"OK\",\"ERR!\")","v":"OK"},"OK","OK","OK",10000,10000,10000,10000,10000,10000,10000,null,7,null,null,null,null,1,null,null,null,null,null,null,null,null,null,null,1,null,null,null,null,null,null,null,null,null,null,1,null,null,null,null,null,null,null,null,null,null,1,null,null,null,null,null,null,null,null,null,null,1,null,null,null,null,null,null,null,null,null,null,1,null,null,null,null,null,null,null,7,{"$error":"#VALUE!"},{"$error":"#VALUE!"},{"$error":"#VALUE!"},{"$error":"#VALUE!"},{"$error":"#VALUE!"},{"$error":"#VALUE!"},{"$error":"#VALUE!"},{"$error":"#VALUE!"},{"$error":"#VALUE!"},{"$error":"#VALUE!"},{"$error":"#VALUE!"},{"$error":"#VALUE!"},{"$error":"#VALUE!"},{"$error":"#VALUE!"},{"$error":"#VALUE!"},{"$error":"#VALUE!"},{"$error":"#VALUE!"},{"$error":"#VALUE!"},null,7,0,{"$error":"#VALUE!"},{"$error":"#VALUE!"},{"$error":"#VALUE!"},{"$error":"#VALUE!"},{"$error":"#VALUE!"},{"$error":"#VALUE!"},{"$error":"#VALUE!"},{"$error":"#VALUE!"},{"$error":"#VALUE!"},{"$error":"#VALUE!"},{"$error":"#VALUE!"},{"$error":"#VALUE!"},{"$error":"#VALUE!"},{"$error":"#VALUE!"},{"$error":"#VALUE!"},{"$error":"#VALUE!"},{"$error":"#VALUE!"},{"$error":"#VALUE!"},{"$error":"#VALUE!"},{"$error":"#VALUE!"},{"$error":"#VALUE!"},{"$error":"#VALUE!"},{"$error":"#VALUE!"},{"$error":"#VALUE!"},{"$error":"#VALUE!"},{"$error":"#VALUE!"},{"$error":"#VALUE!"},{"$error":"#VALUE!"},{"$error":"#VALUE!"},{"$error":"#VALUE!"},{"$error":"#VALUE!"},{"$error":"#VALUE!"},{"$error":"#VALUE!"},7,0,{"$error":"#VALUE!"},{"$error":"#VALUE!"},{"$error":"#VALUE!"},{"$error":"#VALUE!"},{"$error":"#VALUE!"},{"$error":"#VALUE!"},{"$error":"#VALUE!"},{"$error":"#VALUE!"},{"$error":"#VALUE!"},{"$error":"#VALUE!"},{"$error":"#VALUE!"},{"$error":"#VALUE!"},{"$error":"#VALUE!"},{"$error":"#VALUE!"},{"$error":"#VALUE!"},{"$error":"#VALUE!"},{"$error":"#VALUE!"},{"$error":"#VALUE!"},{"$error":"#VALUE!"},{"$error":"#VALUE!"},{"$error":"#VALUE!"},{"$error":"#VALUE!"},{"$error":"#VALUE!"},{"$error":"#VALUE!"},{"$error":"#VALUE!"},{"$error":"#VALUE!"},{"$error":"#VALUE!"},{"$error":"#VALUE!"},{"$error":"#VALUE!"},{"$error":"#VALUE!"},{"$error":"#VALUE!"},{"$error":"#VALUE!"},{"$error":"#VALUE!"},7,0,{"$error":"#VALUE!"},{"$error":"#VALUE!"},{"$error":"#VALUE!"},{"$error":"#VALUE!"},{"$error":"#VALUE!"},{"$error":"#VALUE!"},{"$error":"#VALUE!"},{"$error":"#VALUE!"},{"$error":"#VALUE!"},{"$error":"#VALUE!"},{"$error":"#VALUE!"},{"$error":"#VALUE!"},{"$error":"#VALUE!"},{"$error":"#VALUE!"},{"$error":"#VALUE!"},{"$error":"#VALUE!"},{"$error":"#VALUE!"},{"$error":"#VALUE!"},{"$error":"#VALUE!"},{"$error":"#VALUE!"},{"$error":"#VALUE!"},{"$error":"#VALUE!"},{"$error":"#VALUE!"},{"$error":"#VALUE!"},{"$error":"#VALUE!"},{"$error":"#VALUE!"},{"$error":"#VALUE!"},{"$error":"#VALUE!"},{"$error":"#VALUE!"},{"$error":"#VALUE!"},{"$error":"#VALUE!"},{"$error":"#VALUE!"},{"$error":"#VALUE!"},7,0,{"$error":"#VALUE!"},{"$error":"#VALUE!"},{"$error":"#VALUE!"},{"$error":"#VALUE!"},{"$error":"#VALUE!"},{"$error":"#VALUE!"},{"$error":"#VALUE!"},{"$error":"#VALUE!"},{"$error":"#VALUE!"},{"$error":"#VALUE!"},{"$error":"#VALUE!"},{"$error":"#VALUE!"},{"$error":"#VALUE!"},{"$error":"#VALUE!"},{"$error":"#VALUE!"},{"$error":"#VALUE!"},{"$error":"#VALUE!"},{"$error":"#VALUE!"},{"$error":"#VALUE!"},{"$error":"#VALUE!"},{"$error":"#VALUE!"},{"$error":"#VALUE!"},{"$error":"#VALUE!"},{"$error":"#VALUE!"},{"$error":"#VALUE!"},{"$error":"#VALUE!"},{"$error":"#VALUE!"},{"$error":"#VALUE!"},{"$error":"#VALUE!"},{"$error":"#VALUE!"},{"$error":"#VALUE!"},{"$error":"#VALUE!"},{"$error":"#VALUE!"},7,0,{"$error":"#VALUE!"},{"$error":"#VALUE!"},{"$error":"#VALUE!"},{"$error":"#VALUE!"},{"$error":"#VALUE!"},{"$error":"#VALUE!"},{"$error":"#VALUE!"},{"$error":"#VALUE!"},{"$error":"#VALUE!"},{"$error":"#VALUE!"},{"$error":"#VALUE!"},{"$error":"#VALUE!"},{"$error":"#VALUE!"},{"$error":"#VALUE!"},{"$error":"#VALUE!"},{"$error":"#VALUE!"},{"$error":"#VALUE!"},{"$error":"#VALUE!"},{"$error":"#VALUE!"},{"$error":"#VALUE!"},{"$error":"#VALUE!"},{"$error":"#VALUE!"},{"$error":"#VALUE!"},{"$error":"#VALUE!"},{"$error":"#VALUE!"},{"$error":"#VALUE!"},{"$error":"#VALUE!"},{"$error":"#VALUE!"},{"$error":"#VALUE!"},{"$error":"#VALUE!"},{"$error":"#VALUE!"},{"$error":"#VALUE!"},{"$error":"#VALUE!"},7,0,{"$error":"#VALUE!"},{"$error":"#VALUE!"},{"$error":"#VALUE!"},{"$error":"#VALUE!"},{"$error":"#VALUE!"},{"$error":"#VALUE!"},{"$error":"#VALUE!"},{"$error":"#VALUE!"},{"$error":"#VALUE!"},{"$error":"#VALUE!"},{"$error":"#VALUE!"},{"$error":"#VALUE!"},{"$error":"#VALUE!"},{"$error":"#VALUE!"},{"$error":"#VALUE!"},{"$error":"#VALUE!"},{"$error":"#VALUE!"},{"$error":"#VALUE!"},{"$error":"#VALUE!"},{"$error":"#VALUE!"},{"$error":"#VALUE!"},{"$error":"#VALUE!"},{"$error":"#VALUE!"},{"$error":"#VALUE!"},{"$error":"#VALUE!"},{"$error":"#VALUE!"},{"$error":"#VALUE!"},{"$error":"#VALUE!"},{"$error":"#VALUE!"},{"$error":"#VALUE!"},{"$error":"#VALUE!"},{"$error":"#VALUE!"},{"$error":"#VALUE!"}]
[null,null,null,null,null,null,null,null,null,null,null,null,null,null,null,null,null,null,null,null,null,null,null,8,null,null,null,null,null,null,null,null,null,"N/A",null,false,null,null,null,null,8,null,null,null,null,null,null,null,null,null,null,null,"OK","OK","OK","OK",10000,10000,10000,10000,10000,10000,10000,null,8,null,null,null,null,1,null,null,null,null,null,null,null,null,null,null,1,null,null,null,null,null,null,null,null,null,null,1,null,null,null,null,null,null,null,null,null,null,1,null,null,null,null,null,null,null,null,null,null,1,null,null,null,null,null,null,null,null,null,null,1,null,null,null,null,null,null,null,8,{"$error":"#VALUE!"},{"$error":"#VALUE!"},{"$error":"#VALUE!"},{"$error":"#VALUE!"},{"$error":"#VALUE!"},{"$error":"#VALUE!"},{"$error":"#VALUE!"},{"$error":"#VALUE!"},{"$error":"#VALUE!"},{"$error":"#VALUE!"},{"$error":"#VALUE!"},{"$error":"#VALUE!"},{"$error":"#VALUE!"},{"$error":"#VALUE!"},{"$error":"#VALUE!"},{"$error":"#VALUE!"},{"$error":"#VALUE!"},{"$error":"#VALUE!"},null,8,0,{"$error":"#VALUE!"},{"$error":"#VALUE!"},{"$error":"#VALUE!"},{"$error":"#VALUE!"},{"$error":"#VALUE!"},{"$error":"#VALUE!"},{"$error":"#VALUE!"},{"$error":"#VALUE!"},{"$error":"#VALUE!"},{"$error":"#VALUE!"},{"$error":"#VALUE!"},{"$error":"#VALUE!"},{"$error":"#VALUE!"},{"$error":"#VALUE!"},{"$error":"#VALUE!"},{"$error":"#VALUE!"},{"$error":"#VALUE!"},{"$error":"#VALUE!"},{"$error":"#VALUE!"},{"$error":"#VALUE!"},{"$error":"#VALUE!"},{"$error":"#VALUE!"},{"$error":"#VALUE!"},{"$error":"#VALUE!"},{"$error":"#VALUE!"},{"$error":"#VALUE!"},{"$error":"#VALUE!"},{"$error":"#VALUE!"},{"$error":"#VALUE!"},{"$error":"#VALUE!"},{"$error":"#VALUE!"},{"$error":"#VALUE!"},{"$error":"#VALUE!"},8,0,{"$error":"#VALUE!"},{"$error":"#VALUE!"},{"$error":"#VALUE!"},{"$error":"#VALUE!"},{"$error":"#VALUE!"},{"$error":"#VALUE!"},{"$error":"#VALUE!"},{"$error":"#VALUE!"},{"$error":"#VALUE!"},{"$error":"#VALUE!"},{"$error":"#VALUE!"},{"$error":"#VALUE!"},{"$error":"#VALUE!"},{"$error":"#VALUE!"},{"$error":"#VALUE!"},{"$error":"#VALUE!"},{"$error":"#VALUE!"},{"$error":"#VALUE!"},{"$error":"#VALUE!"},{"$error":"#VALUE!"},{"$error":"#VALUE!"},{"$error":"#VALUE!"},{"$error":"#VALUE!"},{"$error":"#VALUE!"},{"$error":"#VALUE!"},{"$error":"#VALUE!"},{"$error":"#VALUE!"},{"$error":"#VALUE!"},{"$error":"#VALUE!"},{"$error":"#VALUE!"},{"$error":"#VALUE!"},{"$error":"#VALUE!"},{"$error":"#VALUE!"},8,0,{"$error":"#VALUE!"},{"$error":"#VALUE!"},{"$error":"#VALUE!"},{"$error":"#VALUE!"},{"$error":"#VALUE!"},{"$error":"#VALUE!"},{"$error":"#VALUE!"},{"$error":"#VALUE!"},{"$error":"#VALUE!"},{"$error":"#VALUE!"},{"$error":"#VALUE!"},{"$error":"#VALUE!"},{"$error":"#VALUE!"},{"$error":"#VALUE!"},{"$error":"#VALUE!"},{"$error":"#VALUE!"},{"$error":"#VALUE!"},{"$error":"#VALUE!"},{"$error":"#VALUE!"},{"$error":"#VALUE!"},{"$error":"#VALUE!"},{"$error":"#VALUE!"},{"$error":"#VALUE!"},{"$error":"#VALUE!"},{"$error":"#VALUE!"},{"$error":"#VALUE!"},{"$error":"#VALUE!"},{"$error":"#VALUE!"},{"$error":"#VALUE!"},{"$error":"#VALUE!"},{"$error":"#VALUE!"},{"$error":"#VALUE!"},{"$error":"#VALUE!"},8,0,{"$error":"#VALUE!"},{"$error":"#VALUE!"},{"$error":"#VALUE!"},{"$error":"#VALUE!"},{"$error":"#VALUE!"},{"$error":"#VALUE!"},{"$error":"#VALUE!"},{"$error":"#VALUE!"},{"$error":"#VALUE!"},{"$error":"#VALUE!"},{"$error":"#VALUE!"},{"$error":"#VALUE!"},{"$error":"#VALUE!"},{"$error":"#VALUE!"},{"$error":"#VALUE!"},{"$error":"#VALUE!"},{"$error":"#VALUE!"},{"$error":"#VALUE!"},{"$error":"#VALUE!"},{"$error":"#VALUE!"},{"$error":"#VALUE!"},{"$error":"#VALUE!"},{"$error":"#VALUE!"},{"$error":"#VALUE!"},{"$error":"#VALUE!"},{"$error":"#VALUE!"},{"$error":"#VALUE!"},{"$error":"#VALUE!"},{"$error":"#VALUE!"},{"$error":"#VALUE!"},{"$error":"#VALUE!"},{"$error":"#VALUE!"},{"$error":"#VALUE!"},8,0,{"$error":"#VALUE!"},{"$error":"#VALUE!"},{"$error":"#VALUE!"},{"$error":"#VALUE!"},{"$error":"#VALUE!"},{"$error":"#VALUE!"},{"$error":"#VALUE!"},{"$error":"#VALUE!"},{"$error":"#VALUE!"},{"$error":"#VALUE!"},{"$error":"#VALUE!"},{"$error":"#VALUE!"},{"$error":"#VALUE!"},{"$error":"#VALUE!"},{"$error":"#VALUE!"},{"$error":"#VALUE!"},{"$error":"#VALUE!"},{"$error":"#VALUE!"},{"$error":"#VALUE!"},{"$error":"#VALUE!"},{"$error":"#VALUE!"},{"$error":"#VALUE!"},{"$error":"#VALUE!"},{"$error":"#VALUE!"},{"$error":"#VALUE!"},{"$error":"#VALUE!"},{"$error":"#VALUE!"},{"$error":"#VALUE!"},{"$error":"#VALUE!"},{"$error":"#VALUE!"},{"$error":"#VALUE!"},{"$error":"#VALUE!"},{"$error":"#VALUE!"},8,0,{"$error":"#VALUE!"},{"$error":"#VALUE!"},{"$error":"#VALUE!"},{"$error":"#VALUE!"},{"$error":"#VALUE!"},{"$error":"#VALUE!"},{"$error":"#VALUE!"},{"$error":"#VALUE!"},{"$error":"#VALUE!"},{"$error":"#VALUE!"},{"$error":"#VALUE!"},{"$error":"#VALUE!"},{"$error":"#VALUE!"},{"$error":"#VALUE!"},{"$error":"#VALUE!"},{"$error":"#VALUE!"},{"$error":"#VALUE!"},{"$error":"#VALUE!"},{"$error":"#VALUE!"},{"$error":"#VALUE!"},{"$error":"#VALUE!"},{"$error":"#VALUE!"},{"$error":"#VALUE!"},{"$error":"#VALUE!"},{"$error":"#VALUE!"},{"$error":"#VALUE!"},{"$error":"#VALUE!"},{"$error":"#VALUE!"},{"$error":"#VALUE!"},{"$error":"#VALUE!"},{"$error":"#VALUE!"},{"$error":"#VALUE!"},{"$error":"#VALUE!"}]
[null,null,null,null,null,null,null,null,null,null,null,null,null,null,null,null,null,null,null,null,null,null,null,9,null,null,null,null,null,null,null,null,null,"N/A",null,false,null,null,null,null,9,null,null,null,null,null,null,null,null,null,null,null,"OK","OK","OK","OK",10000,10000,10000,{"$f":"(CU103*POWER(10,0)+CV103*POWER(10,1)+CW103*POWER(10,2)+CX103*POWER(10,3)+CY103*POWER(10,4)+CZ103*POWER(10,5)+DA103*POWER(10,6)+DB103*POWER(10,7)+DC103*POWER(10,8)+DD103*POWER(10,9)+DE103*POWER(10,10))","v":10000},{"$f":"(DF103*POWER(10,0)+DG103*POWER(10,1)+DH103*POWER(10,2)+DI103*POWER(10,3)+DJ103*POWER(10,4)+DK103*POWER(10,5)+DL103*POWER(10,6)+DM103*POWER(10,7)+DN103*POWER(10,8)+DO103*POWER(10,9)+DP103*POWER(10,10))","v":10000},10000,10000,null,9,null,null,null,null,1,null,null,null,null,null,null,null,null,null,null,1,null,null,null,null,null,null,null,null,null,null,1,null,null,null,null,null,null,null,null,null,null,1,null,null,null,null,null,null,null,null,null,null,1,null,null,null,null,null,null,null,null,null,null,1,null,null,null,null,null,null,null,9,{"$error":"#VALUE!"},{"$error":"#VALUE!"},{"$error":"#VALUE!"},{"$error":"#VALUE!"},{"$error":"#VALUE!"},{"$error":"#VALUE!"},{"$error":"#VALUE!"},{"$error":"#VALUE!"},{"$error":"#VALUE!"},{"$error":"#VALUE!"},{"$error":"#VALUE!"},{"$error":"#VALUE!"},{"$error":"#VALUE!"},{"$error":"#VALUE!"},{"$error":"#VALUE!"},{"$error":"#VALUE!"},{"$error":"#VALUE!"},{"$error":"#VALUE!"},null,9,0,{"$error":"#VALUE!"},{"$error":"#VALUE!"},{"$error":"#VALUE!"},{"$error":"#VALUE!"},{"$error":"#VALUE!"},{"$error":"#VALUE!"},{"$error":"#VALUE!"},{"$error":"#VALUE!"},{"$error":"#VALUE!"},{"$error":"#VALUE!"},{"$error":"#VALUE!"},{"$error":"#VALUE!"},{"$error":"#VALUE!"},{"$error":"#VALUE!"},{"$error":"#VALUE!"},{"$error":"#VALUE!"},{"$error":"#VALUE!"},{"$error":"#VALUE!"},{"$error":"#VALUE!"},{"$error":"#VALUE!"},{"$error":"#VALUE!"},{"$error":"#VALUE!"},{"$error":"#VALUE!"},{"$error":"#VALUE!"},{"$error":"#VALUE!"},{"$error":"#VALUE!"},{"$error":"#VALUE!"},{"$error":"#VALUE!"},{"$error":"#VALUE!"},{"$error":"#VALUE!"},{"$error":"#VALUE!"},{"$error":"#VALUE!"},{"$error":"#VALUE!"},9,0,{"$error":"#VALUE!"},{"$error":"#VALUE!"},{"$error":"#VALUE!"},{"$error":"#VALUE!"},{"$error":"#VALUE!"},{"$error":"#VALUE!"},{"$error":"#VALUE!"},{"$error":"#VALUE!"},{"$error":"#VALUE!"},{"$error":"#VALUE!"},{"$error":"#VALUE!"},{"$error":"#VALUE!"},{"$error":"#VALUE!"},{"$error":"#VALUE!"},{"$error":"#VALUE!"},{"$error":"#VALUE!"},{"$error":"#VALUE!"},{"$error":"#VALUE!"},{"$error":"#VALUE!"},{"$error":"#VALUE!"},{"$error":"#VALUE!"},{"$error":"#VALUE!"},{"$error":"#VALUE!"},{"$error":"#VALUE!"},{"$error":"#VALUE!"},{"$error":"#VALUE!"},{"$error":"#VALUE!"},{"$error":"#VALUE!"},{"$error":"#VALUE!"},{"$error":"#VALUE!"},{"$error":"#VALUE!"},{"$error":"#VALUE!"},{"$error":"#VALUE!"},9,0,{"$error":"#VALUE!"},{"$error":"#VALUE!"},{"$error":"#VALUE!"},{"$error":"#VALUE!"},{"$error":"#VALUE!"},{"$error":"#VALUE!"},{"$error":"#VALUE!"},{"$error":"#VALUE!"},{"$error":"#VALUE!"},{"$error":"#VALUE!"},{"$error":"#VALUE!"},{"$error":"#VALUE!"},{"$error":"#VALUE!"},{"$error":"#VALUE!"},{"$error":"#VALUE!"},{"$error":"#VALUE!"},{"$error":"#VALUE!"},{"$error":"#VALUE!"},{"$error":"#VALUE!"},{"$error":"#VALUE!"},{"$error":"#VALUE!"},{"$error":"#VALUE!"},{"$error":"#VALUE!"},{"$error":"#VALUE!"},{"$error":"#VALUE!"},{"$error":"#VALUE!"},{"$error":"#VALUE!"},{"$error":"#VALUE!"},{"$error":"#VALUE!"},{"$error":"#VALUE!"},{"$error":"#VALUE!"},{"$error":"#VALUE!"},{"$error":"#VALUE!"},9,0,{"$error":"#VALUE!"},{"$error":"#VALUE!"},{"$error":"#VALUE!"},{"$error":"#VALUE!"},{"$error":"#VALUE!"},{"$error":"#VALUE!"},{"$error":"#VALUE!"},{"$error":"#VALUE!"},{"$error":"#VALUE!"},{"$error":"#VALUE!"},{"$error":"#VALUE!"},{"$error":"#VALUE!"},{"$error":"#VALUE!"},{"$error":"#VALUE!"},{"$error":"#VALUE!"},{"$error":"#VALUE!"},{"$error":"#VALUE!"},{"$error":"#VALUE!"},{"$error":"#VALUE!"},{"$error":"#VALUE!"},{"$error":"#VALUE!"},{"$error":"#VALUE!"},{"$error":"#VALUE!"},{"$error":"#VALUE!"},{"$error":"#VALUE!"},{"$error":"#VALUE!"},{"$error":"#VALUE!"},{"$error":"#VALUE!"},{"$error":"#VALUE!"},{"$error":"#VALUE!"},{"$error":"#VALUE!"},{"$error":"#VALUE!"},{"$error":"#VALUE!"},9,0,{"$error":"#VALUE!"},{"$error":"#VALUE!"},{"$error":"#VALUE!"},{"$error":"#VALUE!"},{"$error":"#VALUE!"},{"$error":"#VALUE!"},{"$error":"#VALUE!"},{"$error":"#VALUE!"},{"$error":"#VALUE!"},{"$error":"#VALUE!"},{"$error":"#VALUE!"},{"$error":"#VALUE!"},{"$error":"#VALUE!"},{"$error":"#VALUE!"},{"$error":"#VALUE!"},{"$error":"#VALUE!"},{"$error":"#VALUE!"},{"$error":"#VALUE!"},{"$error":"#VALUE!"},{"$error":"#VALUE!"},{"$error":"#VALUE!"},{"$error":"#VALUE!"},{"$error":"#VALUE!"},{"$error":"#VALUE!"},{"$error":"#VALUE!"},{"$error":"#VALUE!"},{"$error":"#VALUE!"},{"$error":"#VALUE!"},{"$error":"#VALUE!"},{"$error":"#VALUE!"},{"$error":"#VALUE!"},{"$error":"#VALUE!"},{"$error":"#VALUE!"},9,0,{"$error":"#VALUE!"},{"$error":"#VALUE!"},{"$error":"#VALUE!"},{"$error":"#VALUE!"},{"$error":"#VALUE!"},{"$error":"#VALUE!"},{"$error":"#VALUE!"},{"$error":"#VALUE!"},{"$error":"#VALUE!"},{"$error":"#VALUE!"},{"$error":"#VALUE!"},{"$error":"#VALUE!"},{"$error":"#VALUE!"},{"$error":"#VALUE!"},{"$error":"#VALUE!"},{"$error":"#VALUE!"},{"$error":"#VALUE!"},{"$error":"#VALUE!"},{"$error":"#VALUE!"},{"$error":"#VALUE!"},{"$error":"#VALUE!"},{"$error":"#VALUE!"},{"$error":"#VALUE!"},{"$error":"#VALUE!"},{"$error":"#VALUE!"},{"$error":"#VALUE!"},{"$error":"#VALUE!"},{"$error":"#VALUE!"},{"$error":"#VALUE!"},{"$error":"#VALUE!"},{"$error":"#VALUE!"},{"$error":"#VALUE!"},{"$error":"#VALUE!"}]
[null,null,null,null,null,null,null,null,null,null,null,null,null,null,null,null,null,null,null,null,null,null,null,"Total",{"$f":"SUM(Y97:Y103)","v":0},{"$f":"SUM(Z97:Z103)","v":0},0,0,0,0,null,null,null,"N/A",null,false,null,null,null,null,"Total",null,null,null,null,null,null,null,null,null,null,null,null,null,null,null,null,null,null,null,null,null,null,null,"Total",null,null,null,null,null,null,null,null,null,null,null,null,null,null,null,null,null,null,null,null,null,null,null,null,null,null,null,null,null,null,null,null,null,null,null,null,null,null,null,null,null,null,null,null,null,null,null,null,null,null,null,null,null,null,null,null,null,null,null,null,null,null,null,null,null,null,null,"Total",{"$f":"SUM(ED97:ED103)","v":{"$error":"#VALUE!"}},{"$f":"SUM(EE97:EE103)","v":{"$error":"#VALUE!"}},{"$f":"SUM(EF97:EF103)","v":{"$error":"#VALUE!"}},{"$f":"SUM(EG97:EG103)","v":{"$error":"#VALUE!"}},{"$f":"SUM(EH97:EH103)","v":{"$error":"#VALUE!"}},{"$f":"SUM(EI97:EI103)","v":{"$error":"#VALUE!"}},{"$error":"#VALUE!"},{"$error":"#VALUE!"},{"$error":"#VALUE!"},{"$error":"#VALUE!"},{"$error":"#VALUE!"},{"$error":"#VALUE!"},{"$error":"#VALUE!"},{"$error":"#VALUE!"},{"$error":"#VALUE!"},{"$error":"#VALUE!"},{"$error":"#VALUE!"},{"$error":"#VALUE!"},null,"Total",{"$f":"SUM(EX97:EX103)","v":0},{"$f":"SUM(EY97:EY103)","v":{"$error":"#VALUE!"}},{"$f":"SUM(EZ97:EZ103)","v":{"$error":"#VALUE!"}},{"$error":"#VALUE!"},{"$error":"#VALUE!"},{"$f":"SUM(FC97:FC103)","v":{"$error":"#VALUE!"}},{"$f":"SUM(FD97:FD103)","v":{"$error":"#VALUE!"}},{"$error":"#VALUE!"},{"$error":"#VALUE!"},{"$error":"#VALUE!"},{"$error":"#VALUE!"},{"$error":"#VALUE!"},{"$error":"#VALUE!"},{"$error":"#VALUE!"},{"$error":"#VALUE!"},{"$error":"#VALUE!"},{"$f":"SUM(FN97:FN103)","v":{"$error":"#VALUE!"}},{"$f":"SUM(FO97:FO103)","v":{"$error":"#VALUE!"}},{"$f":"SUM(FP97:FP103)","v":{"$error":"#VALUE!"}},{"$f":"SUM(FQ97:FQ103)","v":{"$error":"#VALUE!"}},{"$error":"#VALUE!"},{"$error":"#VALUE!"},{"$error":"#VALUE!"},{"$error":"#VALUE!"},{"$error":"#VALUE!"},{"$error":"#VALUE!"},{"$error":"#VALUE!"},{"$error":"#VALUE!"},{"$error":"#VALUE!"},{"$error":"#VALUE!"},{"$error":"#VALUE!"},{"$f":"SUM(GC97:GC103)","v":{"$error":"#VALUE!"}},{"$f":"SUM(GD97:GD103)","v":{"$error":"#VALUE!"}},{"$error":"#VALUE!"},"Total",{"$f":"SUM(GG97:GG103)","v":0},{"$f":"SUM(GH97:GH103)","v":{"$error":"#VALUE!"}},{"$f":"SUM(GI97:GI103)","v":{"$error":"#VALUE!"}},{"$error":"#VALUE!"},{"$error":"#VALUE!"},{"$f":"SUM(GL97:GL103)","v":{"$error":"#VALUE!"}},{"$f":"SUM(GM97:GM103)","v":{"$error":"#VALUE!"}},{"$f":"SUM(GN97:GN103)","v":{"$error":"#VALUE!"}},{"$error":"#VALUE!"},{"$error":"#VALUE!"},{"$error":"#VALUE!"},{"$error":"#VALUE!"},{"$error":"#VALUE!"},{"$error":"#VALUE!"},{"$error":"#VALUE!"},{"$error":"#VALUE!"},{"$f":"SUM(GW97:GW103)","v":{"$error":"#VALUE!"}},{"$f":"SUM(GX97:GX103)","v":{"$error":"#VALUE!"}},{"$f":"SUM(GY97:GY103)","v":{"$error":"#VALUE!"}},{"$f":"SUM(GZ97:GZ103)","v":{"$error":"#VALUE!"}},{"$error":"#VALUE!"},{"$error":"#VALUE!"},{"$error":"#VALUE!"},{"$error":"#VALUE!"},{"$error":"#VALUE!"},{"$error":"#VALUE!"},{"$error":"#VALUE!"},{"$error":"#VALUE!"},{"$error":"#VALUE!"},{"$error":"#VALUE!"},{"$error":"#VALUE!"},{"$f":"SUM(HL97:HL103)","v":{"$error":"#VALUE!"}},{"$f":"SUM(HM97:HM103)","v":{"$error":"#VALUE!"}},{"$error":"#VALUE!"},"Total",{"$f":"SUM(HP97:HP103)","v":0},{"$f":"SUM(HQ97:HQ103)","v":{"$error":"#VALUE!"}},{"$f":"SUM(HR97:HR103)","v":{"$error":"#VALUE!"}},{"$error":"#VALUE!"},{"$error":"#VALUE!"},{"$f":"SUM(HU97:HU103)","v":{"$error":"#VALUE!"}},{"$f":"SUM(HV97:HV103)","v":{"$error":"#VALUE!"}},{"$error":"#VALUE!"},{"$error":"#VALUE!"},{"$error":"#VALUE!"},{"$error":"#VALUE!"},{"$error":"#VALUE!"},{"$error":"#VALUE!"},{"$error":"#VALUE!"},{"$error":"#VALUE!"},{"$error":"#VALUE!"},{"$f":"SUM(IF97:IF103)","v":{"$error":"#VALUE!"}},{"$f":"SUM(IG97:IG103)","v":{"$error":"#VALUE!"}},{"$f":"SUM(IH97:IH103)","v":{"$error":"#VALUE!"}},{"$f":"SUM(II97:II103)","v":{"$error":"#VALUE!"}},{"$error":"#VALUE!"},{"$error":"#VALUE!"},{"$error":"#VALUE!"},{"$error":"#VALUE!"},{"$error":"#VALUE!"},{"$error":"#VALUE!"},{"$error":"#VALUE!"},{"$error":"#VALUE!"},{"$error":"#VALUE!"},{"$error":"#VALUE!"},{"$error":"#VALUE!"},{"$f":"SUM(IU97:IU103)","v":{"$error":"#VALUE!"}},{"$f":"SUM(IV97:IV103)","v":{"$error":"#VALUE!"}},{"$error":"#VALUE!"},"Total",{"$f":"SUM(IY97:IY103)","v":0},{"$f":"SUM(IZ97:IZ103)","v":{"$error":"#VALUE!"}},{"$f":"SUM(JA97:JA103)","v":{"$error":"#VALUE!"}},{"$error":"#VALUE!"},{"$error":"#VALUE!"},{"$f":"SUM(JD97:JD103)","v":{"$error":"#VALUE!"}},{"$f":"SUM(JE97:JE103)","v":{"$error":"#VALUE!"}},{"$error":"#VALUE!"},{"$error":"#VALUE!"},{"$error":"#VALUE!"},{"$error":"#VALUE!"},{"$error":"#VALUE!"},{"$error":"#VALUE!"},{"$error":"#VALUE!"},{"$error":"#VALUE!"},{"$error":"#VALUE!"},{"$f":"SUM(JO97:JO103)","v":{"$error":"#VALUE!"}},{"$f":"SUM(JP97:JP103)","v":{"$error":"#VALUE!"}},{"$f":"SUM(JQ97:JQ103)","v":{"$error":"#VALUE!"}},{"$f":"SUM(JR97:JR103)","v":{"$error":"#VALUE!"}},{"$error":"#VALUE!"},{"$error":"#VALUE!"},{"$error":"#VALUE!"},{"$error":"#VALUE!"},{"$error":"#VALUE!"},{"$error":"#VALUE!"},{"$error":"#VALUE!"},{"$error":"#VALUE!"},{"$error":"#VALUE!"},{"$error":"#VALUE!"},{"$error":"#VALUE!"},{"$f":"SUM(KD97:KD103)","v":{"$error":"#VALUE!"}},{"$f":"SUM(KE97:KE103)","v":{"$error":"#VALUE!"}},{"$error":"#VALUE!"},"Total",{"$f":"SUM(KH97:KH103)","v":0},{"$f":"SUM(KI97:KI103)","v":{"$error":"#VALUE!"}},{"$f":"SUM(KJ97:KJ103)","v":{"$error":"#VALUE!"}},{"$error":"#VALUE!"},{"$error":"#VALUE!"},{"$f":"SUM(KM97:KM103)","v":{"$error":"#VALUE!"}},{"$f":"SUM(KN97:KN103)","v":{"$error":"#VALUE!"}},{"$error":"#VALUE!"},{"$error":"#VALUE!"},{"$error":"#VALUE!"},{"$error":"#VALUE!"},{"$error":"#VALUE!"},{"$error":"#VALUE!"},{"$error":"#VALUE!"},{"$error":"#VALUE!"},{"$error":"#VALUE!"},{"$f":"SUM(KX97:KX103)","v":{"$error":"#VALUE!"}},{"$f":"SUM(KY97:KY103)","v":{"$error":"#VALUE!"}},{"$f":"SUM(KZ97:KZ103)","v":{"$error":"#VALUE!"}},{"$f":"SUM(LA97:LA103)","v":{"$error":"#VALUE!"}},{"$error":"#VALUE!"},{"$error":"#VALUE!"},{"$error":"#VALUE!"},{"$error":"#VALUE!"},{"$error":"#VALUE!"},{"$error":"#VALUE!"},{"$error":"#VALUE!"},{"$error":"#VALUE!"},{"$error":"#VALUE!"},{"$error":"#VALUE!"},{"$error":"#VALUE!"},{"$f":"SUM(LM97:LM103)","v":{"$error":"#VALUE!"}},{"$f":"SUM(LN97:LN103)","v":{"$error":"#VALUE!"}},{"$error":"#VALUE!"},"Total",{"$f":"SUM(LQ97:LQ103)","v":0},{"$f":"SUM(LR97:LR103)","v":{"$error":"#VALUE!"}},{"$f":"SUM(LS97:LS103)","v":{"$error":"#VALUE!"}},{"$error":"#VALUE!"},{"$error":"#VALUE!"},{"$f":"SUM(LV97:LV103)","v":{"$error":"#VALUE!"}},{"$f":"SUM(LW97:LW103)","v":{"$error":"#VALUE!"}},{"$error":"#VALUE!"},{"$error":"#VALUE!"},{"$error":"#VALUE!"},{"$error":"#VALUE!"},{"$error":"#VALUE!"},{"$error":"#VALUE!"},{"$error":"#VALUE!"},{"$error":"#VALUE!"},{"$f":"SUM(MF97:MF103)","v":{"$error":"#VALUE!"}},{"$f":"SUM(MG97:MG103)","v":{"$error":"#VALUE!"}},{"$f":"SUM(MH97:MH103)","v":{"$error":"#VALUE!"}},{"$f":"SUM(MI97:MI103)","v":{"$error":"#VALUE!"}},{"$f":"SUM(MJ97:MJ103)","v":{"$error":"#VALUE!"}},{"$error":"#VALUE!"},{"$error":"#VALUE!"},{"$error":"#VALUE!"},{"$error":"#VALUE!"},{"$error":"#VALUE!"},{"$error":"#VALUE!"},{"$error":"#VALUE!"},{"$error":"#VALUE!"},{"$error":"#VALUE!"},{"$error":"#VALUE!"},{"$error":"#VALUE!"},{"$f":"SUM(MV97:MV103)","v":{"$error":"#VALUE!"}},{"$f":"SUM(MW97:MW103)","v":{"$error":"#VALUE!"}},{"$error":"#VALUE!"}]
[null,10,{"$f":"'Regional Project List Sheet'!F14","v":0},{"$f":"IF('Regional Project List Sheet'!$G14=\"New\",1,\"\")","v":""},{"$f":"IF('Regional Project List Sheet'!$G14=\"Funded Old\",1,\"\")","v":""},{"$f":"IF('Regional Project List Sheet'!$G14=\"Unfunded Old\",1,\"\")","v":""},{"$f":"'Regional Project List Sheet'!H14","v":0},{"$f":"'Regional Project List Sheet'!I14","v":0},{"$f":"'Regional Project List Sheet'!L14","v":0},{"$f":"'Regional Project List Sheet'!M14","v":0},{"$f":"'Regional Project List Sheet'!N14","v":0},{"$f":"'Regional Project List Sheet'!O14","v":0},{"$f":"'Regional Project List Sheet'!P14","v":0},{"$f":"IF('Regional Project List Sheet'!$Q14=\"N/A\",\"N/A\",IF($Y108<>0,5,IF($Z108<>0,4,IF($AA108<>0,3,IF($AB108<>0,2,1)))))","v":1},{"$f":"VLOOKUP($C105,'[2]Ranking|Priority'!$B$5:$O$40,12,FALSE)","v":{"$error":"#N/A"}},{"$f":"VLOOKUP($C105,'[2]Ranking|Priority'!$B$5:$O$68,13,FALSE)","v":{"$error":"#N/A"}},{"$f":"VLOOKUP($C105,'[2]Ranking|Priority'!$B$5:$O$68,14,FALSE)","v":{"$error":"#N/A"}},{"$f":"'Regional Project List Sheet'!T14","v":0},{"$f":"'Regional Project List Sheet'!U14","v":0},{"$f":"'Regional Project List Sheet'!V14","v":0},{"$f":"'Regional Project List Sheet'!W14","v":0},{"$f":"'Regional Project List Sheet'!X14","v":0},{"$f":"'Regional Project List Sheet'!Y14","v":"Choose from Project List in cell I2"},0,null,null,null,null,null,null,null,{"$f":"'Regional Project List Sheet'!AJ14","v":0},{"$f":"IF(OR('Regional Project List Sheet'!$AA14<>'Regional Project List Sheet'!$A$40,'Regional Project List Sheet'!$AD14<>'Regional Project List Sheet'!$A$40,'Regional Project List Sheet'!$AG14<>'Regional Project List Sheet'!$A$40),_xlfn.CONCAT(IF(ISNUMBER('Regional Project List Sheet'!$AA14),'Regional Project List Sheet'!$A$36,\"\"),\" \",IF(ISNUMBER('Regional Project List Sheet'!$AD14),'Regional Project List Sheet'!$A$37,\"\"),\" \",IF(ISNUMBER('Regional Project List Sheet'!$AG14),'Regional Project List Sheet'!$A$38,\"\")),\"N/A\")","v":"N/A"},"N/A",{"$f":"IF(OR('Regional Project List Sheet'!AC14<>'Regional Project List Sheet'!$A$40,'Regional Project List Sheet'!AF14<>'Regional Project List Sheet'!$A$40,'Regional Project List Sheet'!AI14<>'Regional Project List Sheet'!$A$40),\n\nIF(LEN(_xlfn.CONCAT(IF('Regional Project List Sheet'!AC14=\"Yes\",'Regional Project List Sheet'!$A$36,\"\"),\" \",\n\nIF('Regional Project List Sheet'!AF14=\"Yes\",'Regional Project List Sheet'!$A$37,\"\"),\" \",\n\nIF('Regional Project List Sheet'!AI14=\"Yes\",'Regional Project List Sheet'!$A$38,\"\")))<3,\"No\",\n\n_xlfn.CONCAT(IF('Regional Project List Sheet'!AC14=\"Yes\",'Regional Project List Sheet'!$A$36,\"\"),\" \",\n\nIF('Regional Project List Sheet'!AF14=\"Yes\",'Regional Project List Sheet'!$A$37,\"\"),\" \",\n\nIF('Regional Project List Sheet'!AI14=\"Yes\",'Regional Project List Sheet'!$A$38,\"\"))))","v":false},false,{"$f":"'Regional Project List Sheet'!AK14","v":0},null,{"$f":"'Regional Project List Sheet'!AL14","v":0},null,0,null,null,null,null,null,null,null,null,null,null,1,{"$f":"IF(AND(BB105=\"OK\",BC105=\"OK\",BD105=\"OK\"),\"OK\",\"ERR!\")","v":"OK"},{"$f":"IF(AND(Y105>0,SUM(BN105:BX105)<1),\"ERR!\",IF(AND(Z105>0,SUM(BY105:CI105)<1),\"ERR!\",IF(AND(AA105>0,SUM(CJ105:CT105)<1),\"ERR\",IF(AND(AB105>0,SUM(CU105:DE105)<1),\"ERR\",IF(AND(AC105>0,SUM(DF105:DP105)<1),\"ERR\",IF(AND(AD105>0,SUM(DQ105:EA105)<1),\"ERR\",\"OK\"))))))","v":"OK"},{"$f":"IF(OR(SUM(BN105:BX105)<>1,SUM(BY105:CI105)<>1,SUM(CJ105:CT105)<>1,SUM(CU105:DE105)<>1,SUM(DF105:DP105)<>1,SUM(DQ105:EA105)<>1),\"ERR!\",\"OK\")","v":"OK"},{"$f":"IF(AND(OR(BE105=BK105,BE105=0),OR(BF105=BK105,BF105=0),OR(BG105=BK105,BG105=0),OR(BH105=BK105,BH105=0),OR(BI105=BK105,BI105=0),OR(BJ105=BK105,BJ105=0)),\"OK\",\"ERR!\")","v":"OK"},{"$f":"(BN105*POWER(10,0)+BO105*POWER(10,1)+BP105*POWER(10,2)+BQ105*POWER(10,3)+BR105*POWER(10,4)+BS105*POWER(10,5)+BT105*POWER(10,6)+BU105*POWER(10,7)+BV105*POWER(10,8)+BW105*POWER(10,9)+BX105*POWER(10,10))","v":100},{"$f":"(BY105*POWER(10,0)+BZ105*POWER(10,1)+CA105*POWER(10,2)+CB105*POWER(10,3)+CC105*POWER(10,4)+CD105*POWER(10,5)+CE105*POWER(10,6)+CF105*POWER(10,7)+CG105*POWER(10,8)+CH105*POWER(10,9)+CI105*POWER(10,10))","v":100},{"$f":"(CJ105*POWER(10,0)+CK105*POWER(10,1)+CL105*POWER(10,2)+CM105*POWER(10,3)+CN105*POWER(10,4)+CO105*POWER(10,5)+CP105*POWER(10,6)+CQ105*POWER(10,7)+CR105*POWER(10,8)+CS105*POWER(10,9)+CT105*POWER(10,10))","v":100},{"$f":"(CU105*POWER(10,0)+CV105*POWER(10,1)+CW105*POWER(10,2)+CX105*POWER(10,3)+CY105*POWER(10,4)+CZ105*POWER(10,5)+DA105*POWER(10,6)+DB105*POWER(10,7)+DC105*POWER(10,8)+DD105*POWER(10,9)+DE105*POWER(10,10))","v":100},{"$f":"(DF105*POWER(10,0)+DG105*POWER(10,1)+DH105*POWER(10,2)+DI105*POWER(10,3)+DJ105*POWER(10,4)+DK105*POWER(10,5)+DL105*POWER(10,6)+DM105*POWER(10,7)+DN105*POWER(10,8)+DO105*POWER(10,9)+DP105*POWER(10,10))","v":100},{"$f":"(DQ105*POWER(10,0)+DR105*POWER(10,1)+DS105*POWER(10,2)+DT105*POWER(10,3)+DU105*POWER(10,4)+DV105*POWER(10,5)+DW105*POWER(10,6)+DX105*POWER(10,7)+DY105*POWER(10,8)+DZ105*POWER(10,9)+EA105*POWER(10,10))","v":100},{"$f":"MAX(BE105:BJ105)","v":100},null,0,null,null,1,null,null,null,null,null,null,null,null,null,null,1,null,null,null,null,null,null,null,null,null,null,1,null,null,null,null,null,null,null,null,null,null,1,null,null,null,null,null,null,null,null,null,null,1,null,null,null,null,null,null,null,null,null,null,1,null,null,null,null,null,null,null,null,null,0,{"$f":"($Y105*D$97)/1000","v":{"$error":"#VALUE!"}},{"$error":"#VALUE!"},{"$error":"#VALUE!"},{"$f":"($Z105*D$97)/1000","v":{"$error":"#VALUE!"}},{"$error":"#VALUE!"},{"$error":"#VALUE!"},{"$f":"($AA105*D$97)/1000","v":{"$error":"#VALUE!"}},{"$error":"#VALUE!"},{"$error":"#VALUE!"},{"$f":"($AB105*D$97)/1000","v":{"$error":"#VALUE!"}},{"$error":"#VALUE!"},{"$error":"#VALUE!"},{"$f":"($AC105*D$97)/1000","v":{"$error":"#VALUE!"}},{"$error":"#VALUE!"},{"$error":"#VALUE!"},{"$f":"($AD105*D$97)/1000","v":{"$error":"#VALUE!"}},{"$error":"#VALUE!"},{"$error":"#VALUE!"},null,0,{"$f":"$AZ$105*$Y105","v":0},{"$f":"($AZ$105*$BN105*D$97*$Y105)/1000","v":{"$error":"#VALUE!"}},{"$error":"#VALUE!"},{"$error":"#VALUE!"},{"$f":"($AZ$105*$BO105*D$97*$Y105)/1000","v":{"$error":"#VALUE!"}},{"$error":"#VALUE!"},{"$error":"#VALUE!"},{"$f":"($AZ$105*$BP105*D$97*$Y105)/1000","v":{"$error":"#VALUE!"}},{"$error":"#VALUE!"},{"$error":"#VALUE!"},{"$f":"($AZ$105*$BQ105*D$97*$Y105)/1000","v":{"$error":"#VALUE!"}},{"$error":"#VALUE!"},{"$error":"#VALUE!"},{"$f":"($AZ$105*$BR105*D$97*$Y105)/1000","v":{"$error":"#VALUE!"}},{"$error":"#VALUE!"},{"$error":"#VALUE!"},{"$f":"($AZ$105*$BS105*D$97*$Y105)/1000","v":{"$error":"#VALUE!"}},{"$error":"#VALUE!"},{"$error":"#VALUE!"},{"$f":"($AZ$105*$BT105*D$97*$Y105)/1000","v":{"$error":"#VALUE!"}},{"$error":"#VALUE!"},{"$error":"#VALUE!"},{"$f":"($AZ$105*$BU105*D$97*$Y105)/1000","v":{"$error":"#VALUE!"}},{"$error":"#VALUE!"},{"$error":"#VALUE!"},{"$f":"($AZ$105*$BV105*D$97*$Y105)/1000","v":{"$error":"#VALUE!"}},{"$error":"#VALUE!"},{"$error":"#VALUE!"},{"$f":"($AZ$105*$BW105*D$97*$Y105)/1000","v":{"$error":"#VALUE!"}},{"$error":"#VALUE!"},{"$error":"#VALUE!"},{"$f":"($AZ$105*$BX105*D$97*$Y105)/1000","v":{"$error":"#VALUE!"}},{"$error":"#VALUE!"},{"$error":"#VALUE!"},0,{"$f":"$AZ$105*$Z105","v":0},{"$f":"($AZ$105*$BY105*D$97*$Z105)/1000","v":{"$error":"#VALUE!"}},{"$error":"#VALUE!"},{"$error":"#VALUE!"},{"$f":"($AZ$105*$BZ105*D$97*$Z105)/1000","v":{"$error":"#VALUE!"}},{"$error":"#VALUE!"},{"$error":"#VALUE!"},{"$f":"($AZ$105*$CA105*D$97*$Z105)/1000","v":{"$error":"#VALUE!"}},{"$error":"#VALUE!"},{"$error":"#VALUE!"},{"$f":"($AZ$105*$CB105*D$97*$Z105)/1000","v":{"$error":"#VALUE!"}},{"$error":"#VALUE!"},{"$error":"#VALUE!"},{"$f":"($AZ$105*$CD105*D$97*$Z105)/1000","v":{"$error":"#VALUE!"}},{"$error":"#VALUE!"},{"$error":"#VALUE!"},{"$f":"($AZ$105*$CD105*D$97*$Z105)/1000","v":{"$error":"#VALUE!"}},{"$error":"#VALUE!"},{"$error":"#VALUE!"},{"$f":"($AZ$105*$CE105*D$97*$Z105)/1000","v":{"$error":"#VALUE!"}},{"$error":"#VALUE!"},{"$error":"#VALUE!"},{"$f":"($AZ$105*$CF105*D$97*$Z105)/1000","v":{"$error":"#VALUE!"}},{"$error":"#VALUE!"},{"$error":"#VALUE!"},{"$f":"($AZ$105*$CG105*D$97*$Z105)/1000","v":{"$error":"#VALUE!"}},{"$error":"#VALUE!"},{"$error":"#VALUE!"},{"$f":"($AZ$105*$CH105*D$97*$Z105)/1000","v":{"$error":"#VALUE!"}},{"$error":"#VALUE!"},{"$error":"#VALUE!"},{"$f":"($AZ$105*$CI105*D$97*$Z105)/1000","v":{"$error":"#VALUE!"}},{"$error":"#VALUE!"},{"$error":"#VALUE!"},0,{"$f":"$AZ$105*$AA105","v":0},{"$f":"($AZ$105*$CJ105*D$97*$AA105)/1000","v":{"$error":"#VALUE!"}},{"$error":"#VALUE!"},{"$error":"#VALUE!"},{"$f":"($AZ$105*$CK105*D$97*$AA105)/1000","v":{"$error":"#VALUE!"}},{"$error":"#VALUE!"},{"$error":"#VALUE!"},{"$f":"($AZ$105*$CL105*D$97*$AA105)/1000","v":{"$error":"#VALUE!"}},{"$error":"#VALUE!"},{"$error":"#VALUE!"},{"$f":"($AZ$105*$CM105*D$97*$AA105)/1000","v":{"$error":"#VALUE!"}},{"$error":"#VALUE!"},{"$error":"#VALUE!"},{"$f":"($AZ$105*$CN105*D$97*$AA105)/1000","v":{"$error":"#VALUE!"}},{"$error":"#VALUE!"},{"$error":"#VALUE!"},{"$f":"($AZ$105*$CO105*D$97*$AA105)/1000","v":{"$error":"#VALUE!"}},{"$error":"#VALUE!"},{"$error":"#VALUE!"},{"$f":"($AZ$105*$CP105*D$97*$AA105)/1000","v":{"$error":"#VALUE!"}},{"$error":"#VALUE!"},{"$error":"#VALUE!"},{"$f":"($AZ$105*$CQ105*D$97*$AA105)/1000","v":{"$error":"#VALUE!"}},{"$error":"#VALUE!"},{"$error":"#VALUE!"},{"$f":"($AZ$105*$CR105*D$97*$AA105)/1000","v":{"$error":"#VALUE!"}},{"$error":"#VALUE!"},{"$error":"#VALUE!"},{"$f":"($AZ$105*$CS105*D$97*$AA105)/1000","v":{"$error":"#VALUE!"}},{"$error":"#VALUE!"},{"$error":"#VALUE!"},{"$f":"($AZ$105*$CT105*D$97*$AA105)/1000","v":{"$error":"#VALUE!"}},{"$error":"#VALUE!"},{"$error":"#VALUE!"},0,{"$f":"$AZ$105*$AB105","v":0},{"$f":"($AZ$105*$CU105*D$97*$AB105)/1000","v":{"$error":"#VALUE!"}},{"$error":"#VALUE!"},{"$error":"#VALUE!"},{"$f":"($AZ$105*$CV105*D$97*$AB105)/1000","v":{"$error":"#VALUE!"}},{"$error":"#VALUE!"},{"$error":"#VALUE!"},{"$f":"($AZ$105*$CW105*D$97*$AB105)/1000","v":{"$error":"#VALUE!"}},{"$error":"#VALUE!"},{"$error":"#VALUE!"},{"$f":"($AZ$105*$CX105*D$97*$AB105)/1000","v":{"$error":"#VALUE!"}},{"$error":"#VALUE!"},{"$error":"#VALUE!"},{"$f":"($AZ$105*$CY105*D$97*$AB105)/1000","v":{"$error":"#VALUE!"}},{"$error":"#VALUE!"},{"$error":"#VALUE!"},{"$f":"($AZ$105*$CZ105*D$97*$AB105)/1000","v":{"$error":"#VALUE!"}},{"$error":"#VALUE!"},{"$error":"#VALUE!"},{"$f":"($AZ$105*$DA105*D$97*$AB105)/1000","v":{"$error":"#VALUE!"}},{"$error":"#VALUE!"},{"$error":"#VALUE!"},{"$f":"($AZ$105*$DB105*D$97*$AB105)/1000","v":{"$error":"#VALUE!"}},{"$error":"#VALUE!"},{"$error":"#VALUE!"},{"$f":"($AZ$105*$DC105*D$97*$AB105)/1000","v":{"$error":"#VALUE!"}},{"$error":"#VALUE!"},{"$error":"#VALUE!"},{"$f":"($AZ$105*$DD105*D$97*$AB105)/1000","v":{"$error":"#VALUE!"}},{"$error":"#VALUE!"},{"$error":"#VALUE!"},{"$f":"($AZ$105*$DE105*D$97*$AB105)/1000","v":{"$error":"#VALUE!"}},{"$error":"#VALUE!"},{"$error":"#VALUE!"},0,{"$f":"$AZ$105*$AC105","v":0},{"$f":"($AZ$105*$DF105*D$97*$AC105)/1000","v":{"$error":"#VALUE!"}},{"$error":"#VALUE!"},{"$error":"#VALUE!"},{"$f":"($AZ$105*$DG105*D$97*$AC105)/1000","v":{"$error":"#VALUE!"}},{"$error":"#VALUE!"},{"$error":"#VALUE!"},{"$f":"($AZ$105*$DH105*D$97*$AC105)/1000","v":{"$error":"#VALUE!"}},{"$error":"#VALUE!"},{"$error":"#VALUE!"},{"$f":"($AZ$105*$DI105*D$97*$AC105)/1000","v":{"$error":"#VALUE!"}},{"$error":"#VALUE!"},{"$error":"#VALUE!"},{"$f":"($AZ$105*$DJ105*D$97*$AC105)/1000","v":{"$error":"#VALUE!"}},{"$error":"#VALUE!"},{"$error":"#VALUE!"},{"$f":"($AZ$105*$DK105*D$97*$AC105)/1000","v":{"$error":"#VALUE!"}},{"$error":"#VALUE!"},{"$error":"#VALUE!"},{"$f":"($AZ$105*$DL105*D$97*$AC105)/1000","v":{"$error":"#VALUE!"}},{"$error":"#VALUE!"},{"$error":"#VALUE!"},{"$f":"($AZ$105*$DM105*D$97*$AC105)/1000","v":{"$error":"#VALUE!"}},{"$error":"#VALUE!"},{"$error":"#VALUE!"},{"$f":"($AZ$105*$DN105*D$97*$AC105)/1000","v":{"$error":"#VALUE!"}},{"$error":"#VALUE!"},{"$error":"#VALUE!"},{"$f":"($AZ$105*$DO105*D$97*$AC105)/1000","v":{"$error":"#VALUE!"}},{"$error":"#VALUE!"},{"$error":"#VALUE!"},{"$f":"($AZ$105*$DP105*D$97*$AC105)/1000","v":{"$error":"#VALUE!"}},{"$error":"#VALUE!"},{"$error":"#VALUE!"},0,{"$f":"$AZ$105*$AD105","v":0},{"$f":"($AZ$105*$DQ105*D$97*$AD105)/1000","v":{"$error":"#VALUE!"}},{"$error":"#VALUE!"},{"$error":"#VALUE!"},{"$f":"($AZ$105*$DR105*D$97*$AD105)/1000","v":{"$error":"#VALUE!"}},{"$error":"#VALUE!"},{"$error":"#VALUE!"},{"$f":"($AZ$105*$DS105*D$97*$AD105)/1000","v":{"$error":"#VALUE!"}},{"$error":"#VALUE!"},{"$error":"#VALUE!"},{"$f":"($AZ$105*$DT105*D$97*$AD105)/1000","v":{"$error":"#VALUE!"}},{"$error":"#VALUE!"},{"$error":"#VALUE!"},{"$f":"($AZ$105*$DU105*D$97*$AD105)/1000","v":{"$error":"#VALUE!"}},{"$error":"#VALUE!"},{"$error":"#VALUE!"},{"$f":"($AZ$105*$DV105*D$97*$AD105)/1000","v":{"$error":"#VALUE!"}},{"$error":"#VALUE!"},{"$error":"#VALUE!"},{"$f":"($AZ$105*$DW105*D$97*$AD105)/1000","v":{"$error":"#VALUE!"}},{"$error":"#VALUE!"},{"$error":"#VALUE!"},{"$f":"($AZ$105*$DX105*D$97*$AD105)/1000","v":{"$error":"#VALUE!"}},{"$error":"#VALUE!"},{"$error":"#VALUE!"},{"$f":"($AZ$105*$DY105*D$97*$AD105)/1000","v":{"$error":"#VALUE!"}},{"$error":"#VALUE!"},{"$error":"#VALUE!"},{"$f":"($AZ$105*$DZ105*D$97*$AD105)/1000","v":{"$error":"#VALUE!"}},{"$error":"#VALUE!"},{"$error":"#VALUE!"},{"$f":"($AZ$105*$EA105*D$97*$AD105)/1000","v":{"$error":"#VALUE!"}},{"$error":"#VALUE!"},{"$error":"#VALUE!"}]
[null,null,null,null,null,null,null,null,null,null,null,null,null,null,null,null,null,null,null,null,null,null,null,2,null,null,null,null,null,null,null,null,null,"N/A",null,false,null,null,null,null,2,null,null,null,null,null,null,null,null,null,null,null,{"$f":"IF(AND(BB106=\"OK\",BC106=\"OK\",BD106=\"OK\"),\"OK\",\"ERR!\")","v":"OK"},"OK",{"$f":"IF(OR(SUM(BN106:BX106)<>1,SUM(BY106:CI106)<>1,SUM(CJ106:CT106)<>1,SUM(CU106:DE106)<>1,SUM(DF106:DP106)<>1,SUM(DQ106:EA106)<>1),\"ERR!\",\"OK\")","v":"OK"},{"$f":"IF(AND(OR(BE106=BK106,BE106=0),OR(BF106=BK106,BF106=0),OR(BG106=BK106,BG106=0),OR(BH106=BK106,BH106=0),OR(BI106=BK106,BI106=0),OR(BJ106=BK106,BJ106=0)),\"OK\",\"ERR!\")","v":"OK"},{"$f":"(BN106*POWER(10,0)+BO106*POWER(10,1)+BP106*POWER(10,2)+BQ106*POWER(10,3)+BR106*POWER(10,4)+BS106*POWER(10,5)+BT106*POWER(10,6)+BU106*POWER(10,7)+BV106*POWER(10,8)+BW106*POWER(10,9)+BX106*POWER(10,10))","v":100},{"$f":"(BY106*POWER(10,0)+BZ106*POWER(10,1)+CA106*POWER(10,2)+CB106*POWER(10,3)+CC106*POWER(10,4)+CD106*POWER(10,5)+CE106*POWER(10,6)+CF106*POWER(10,7)+CG106*POWER(10,8)+CH106*POWER(10,9)+CI106*POWER(10,10))","v":100},{"$f":"(CJ106*POWER(10,0)+CK106*POWER(10,1)+CL106*POWER(10,2)+CM106*POWER(10,3)+CN106*POWER(10,4)+CO106*POWER(10,5)+CP106*POWER(10,6)+CQ106*POWER(10,7)+CR106*POWER(10,8)+CS106*POWER(10,9)+CT106*POWER(10,10))","v":100},{"$f":"(CU106*POWER(10,0)+CV106*POWER(10,1)+CW106*POWER(10,2)+CX106*POWER(10,3)+CY106*POWER(10,4)+CZ106*POWER(10,5)+DA106*POWER(10,6)+DB106*POWER(10,7)+DC106*POWER(10,8)+DD106*POWER(10,9)+DE106*POWER(10,10))","v":100},{"$f":"(DF106*POWER(10,0)+DG106*POWER(10,1)+DH106*POWER(10,2)+DI106*POWER(10,3)+DJ106*POWER(10,4)+DK106*POWER(10,5)+DL106*POWER(10,6)+DM106*POWER(10,7)+DN106*POWER(10,8)+DO106*POWER(10,9)+DP106*POWER(10,10))","v":100},{"$f":"(DQ106*POWER(10,0)+DR106*POWER(10,1)+DS106*POWER(10,2)+DT106*POWER(10,3)+DU106*POWER(10,4)+DV106*POWER(10,5)+DW106*POWER(10,6)+DX106*POWER(10,7)+DY106*POWER(10,8)+DZ106*POWER(10,9)+EA106*POWER(10,10))","v":100},{"$f":"MAX(BE106:BJ106)","v":100},null,2,null,null,1,null,null,null,null,null,null,null,null,null,null,1,null,null,null,null,null,null,null,null,null,null,1,null,null,null,null,null,null,null,null,null,null,1,null,null,null,null,null,null,null,null,null,null,1,null,null,null,null,null,null,null,null,null,null,1,null,null,null,null,null,null,null,null,null,2,{"$error":"#VALUE!"},{"$error":"#VALUE!"},{"$error":"#VALUE!"},{"$error":"#VALUE!"},{"$error":"#VALUE!"},{"$error":"#VALUE!"},{"$error":"#VALUE!"},{"$error":"#VALUE!"},{"$error":"#VALUE!"},{"$error":"#VALUE!"},{"$error":"#VALUE!"},{"$error":"#VALUE!"},{"$error":"#VALUE!"},{"$error":"#VALUE!"},{"$error":"#VALUE!"},{"$error":"#VALUE!"},{"$error":"#VALUE!"},{"$error":"#VALUE!"},null,2,0,{"$error":"#VALUE!"},{"$error":"#VALUE!"},{"$error":"#VALUE!"},{"$error":"#VALUE!"},{"$error":"#VALUE!"},{"$error":"#VALUE!"},{"$error":"#VALUE!"},{"$error":"#VALUE!"},{"$error":"#VALUE!"},{"$error":"#VALUE!"},{"$error":"#VALUE!"},{"$error":"#VALUE!"},{"$error":"#VALUE!"},{"$error":"#VALUE!"},{"$error":"#VALUE!"},{"$error":"#VALUE!"},{"$error":"#VALUE!"},{"$error":"#VALUE!"},{"$error":"#VALUE!"},{"$error":"#VALUE!"},{"$error":"#VALUE!"},{"$error":"#VALUE!"},{"$error":"#VALUE!"},{"$error":"#VALUE!"},{"$error":"#VALUE!"},{"$error":"#VALUE!"},{"$error":"#VALUE!"},{"$error":"#VALUE!"},{"$error":"#VALUE!"},{"$error":"#VALUE!"},{"$error":"#VALUE!"},{"$error":"#VALUE!"},{"$error":"#VALUE!"},2,0,{"$error":"#VALUE!"},{"$error":"#VALUE!"},{"$error":"#VALUE!"},{"$error":"#VALUE!"},{"$error":"#VALUE!"},{"$error":"#VALUE!"},{"$error":"#VALUE!"},{"$error":"#VALUE!"},{"$error":"#VALUE!"},{"$error":"#VALUE!"},{"$error":"#VALUE!"},{"$error":"#VALUE!"},{"$error":"#VALUE!"},{"$error":"#VALUE!"},{"$error":"#VALUE!"},{"$error":"#VALUE!"},{"$error":"#VALUE!"},{"$error":"#VALUE!"},{"$error":"#VALUE!"},{"$error":"#VALUE!"},{"$error":"#VALUE!"},{"$error":"#VALUE!"},{"$error":"#VALUE!"},{"$error":"#VALUE!"},{"$error":"#VALUE!"},{"$error":"#VALUE!"},{"$error":"#VALUE!"},{"$error":"#VALUE!"},{"$error":"#VALUE!"},{"$error":"#VALUE!"},{"$error":"#VALUE!"},{"$error":"#VALUE!"},{"$error":"#VALUE!"},2,0,{"$error":"#VALUE!"},{"$error":"#VALUE!"},{"$error":"#VALUE!"},{"$error":"#VALUE!"},{"$error":"#VALUE!"},{"$error":"#VALUE!"},{"$error":"#VALUE!"},{"$error":"#VALUE!"},{"$error":"#VALUE!"},{"$error":"#VALUE!"},{"$error":"#VALUE!"},{"$error":"#VALUE!"},{"$error":"#VALUE!"},{"$error":"#VALUE!"},{"$error":"#VALUE!"},{"$error":"#VALUE!"},{"$error":"#VALUE!"},{"$error":"#VALUE!"},{"$error":"#VALUE!"},{"$error":"#VALUE!"},{"$error":"#VALUE!"},{"$error":"#VALUE!"},{"$error":"#VALUE!"},{"$error":"#VALUE!"},{"$error":"#VALUE!"},{"$error":"#VALUE!"},{"$error":"#VALUE!"},{"$error":"#VALUE!"},{"$error":"#VALUE!"},{"$error":"#VALUE!"},{"$error":"#VALUE!"},{"$error":"#VALUE!"},{"$error":"#VALUE!"},2,0,{"$error":"#VALUE!"},{"$error":"#VALUE!"},{"$error":"#VALUE!"},{"$error":"#VALUE!"},{"$error":"#VALUE!"},{"$error":"#VALUE!"},{"$error":"#VALUE!"},{"$error":"#VALUE!"},{"$error":"#VALUE!"},{"$error":"#VALUE!"},{"$error":"#VALUE!"},{"$error":"#VALUE!"},{"$error":"#VALUE!"},{"$error":"#VALUE!"},{"$error":"#VALUE!"},{"$error":"#VALUE!"},{"$error":"#VALUE!"},{"$error":"#VALUE!"},{"$error":"#VALUE!"},{"$error":"#VALUE!"},{"$error":"#VALUE!"},{"$error":"#VALUE!"},{"$error":"#VALUE!"},{"$error":"#VALUE!"},{"$error":"#VALUE!"},{"$error":"#VALUE!"},{"$error":"#VALUE!"},{"$error":"#VALUE!"},{"$error":"#VALUE!"},{"$error":"#VALUE!"},{"$error":"#VALUE!"},{"$error":"#VALUE!"},{"$error":"#VALUE!"},2,0,{"$error":"#VALUE!"},{"$error":"#VALUE!"},{"$error":"#VALUE!"},{"$error":"#VALUE!"},{"$error":"#VALUE!"},{"$error":"#VALUE!"},{"$error":"#VALUE!"},{"$error":"#VALUE!"},{"$error":"#VALUE!"},{"$error":"#VALUE!"},{"$error":"#VALUE!"},{"$error":"#VALUE!"},{"$error":"#VALUE!"},{"$error":"#VALUE!"},{"$error":"#VALUE!"},{"$error":"#VALUE!"},{"$error":"#VALUE!"},{"$error":"#VALUE!"},{"$error":"#VALUE!"},{"$error":"#VALUE!"},{"$error":"#VALUE!"},{"$error":"#VALUE!"},{"$error":"#VALUE!"},{"$error":"#VALUE!"},{"$error":"#VALUE!"},{"$error":"#VALUE!"},{"$error":"#VALUE!"},{"$error":"#VALUE!"},{"$error":"#VALUE!"},{"$error":"#VALUE!"},{"$error":"#VALUE!"},{"$error":"#VALUE!"},{"$error":"#VALUE!"},2,0,{"$error":"#VALUE!"},{"$error":"#VALUE!"},{"$error":"#VALUE!"},{"$error":"#VALUE!"},{"$error":"#VALUE!"},{"$error":"#VALUE!"},{"$error":"#VALUE!"},{"$error":"#VALUE!"},{"$error":"#VALUE!"},{"$error":"#VALUE!"},{"$error":"#VALUE!"},{"$error":"#VALUE!"},{"$error":"#VALUE!"},{"$error":"#VALUE!"},{"$error":"#VALUE!"},{"$error":"#VALUE!"},{"$error":"#VALUE!"},{"$error":"#VALUE!"},{"$error":"#VALUE!"},{"$error":"#VALUE!"},{"$error":"#VALUE!"},{"$error":"#VALUE!"},{"$error":"#VALUE!"},{"$error":"#VALUE!"},{"$error":"#VALUE!"},{"$error":"#VALUE!"},{"$error":"#VALUE!"},{"$error":"#VALUE!"},{"$error":"#VALUE!"},{"$error":"#VALUE!"},{"$error":"#VALUE!"},{"$error":"#VALUE!"},{"$error":"#VALUE!"}]
[null,null,null,null,null,null,null,null,null,null,null,null,null,null,null,null,null,null,null,null,null,null,null,3,null,null,null,null,null,null,null,null,null,"N/A",null,false,null,null,null,null,3,null,null,null,null,null,null,null,null,null,null,null,{"$f":"IF(AND(BB107=\"OK\",BC107=\"OK\",BD107=\"OK\"),\"OK\",\"ERR!\")","v":"OK"},"OK",{"$f":"IF(OR(SUM(BN107:BX107)<>1,SUM(BY107:CI107)<>1,SUM(CJ107:CT107)<>1,SUM(CU107:DE107)<>1,SUM(DF107:DP107)<>1,SUM(DQ107:EA107)<>1),\"ERR!\",\"OK\")","v":"OK"},{"$f":"IF(AND(OR(BE107=BK107,BE107=0),OR(BF107=BK107,BF107=0),OR(BG107=BK107,BG107=0),OR(BH107=BK107,BH107=0),OR(BI107=BK107,BI107=0),OR(BJ107=BK107,BJ107=0)),\"OK\",\"ERR!\")","v":"OK"},100,100,100,100,100,100,{"$f":"MAX(BE107:BJ107)","v":100},null,3,null,null,1,null,null,null,null,null,null,null,null,null,null,1,null,null,null,null,null,null,null,null,null,null,1,null,null,null,null,null,null,null,null,null,null,1,null,null,null,null,null,null,null,null,null,null,1,null,null,null,null,null,null,null,null,null,null,1,null,null,null,null,null,null,null,null,null,3,{"$error":"#VALUE!"},{"$error":"#VALUE!"},{"$error":"#VALUE!"},{"$error":"#VALUE!"},{"$error":"#VALUE!"},{"$error":"#VALUE!"},{"$error":"#VALUE!"},{"$error":"#VALUE!"},{"$error":"#VALUE!"},{"$error":"#VALUE!"},{"$error":"#VALUE!"},{"$error":"#VALUE!"},{"$error":"#VALUE!"},{"$error":"#VALUE!"},{"$error":"#VALUE!"},{"$error":"#VALUE!"},{"$error":"#VALUE!"},{"$error":"#VALUE!"},null,3,0,{"$error":"#VALUE!"},{"$error":"#VALUE!"},{"$error":"#VALUE!"},{"$error":"#VALUE!"},{"$error":"#VALUE!"},{"$error":"#VALUE!"},{"$error":"#VALUE!"},{"$error":"#VALUE!"},{"$error":"#VALUE!"},{"$error":"#VALUE!"},{"$error":"#VALUE!"},{"$error":"#VALUE!"},{"$error":"#VALUE!"},{"$error":"#VALUE!"},{"$error":"#VALUE!"},{"$error":"#VALUE!"},{"$error":"#VALUE!"},{"$error":"#VALUE!"},{"$error":"#VALUE!"},{"$error":"#VALUE!"},{"$error":"#VALUE!"},{"$error":"#VALUE!"},{"$error":"#VALUE!"},{"$error":"#VALUE!"},{"$error":"#VALUE!"},{"$error":"#VALUE!"},{"$error":"#VALUE!"},{"$error":"#VALUE!"},{"$error":"#VALUE!"},{"$error":"#VALUE!"},{"$error":"#VALUE!"},{"$error":"#VALUE!"},{"$error":"#VALUE!"},3,0,{"$error":"#VALUE!"},{"$error":"#VALUE!"},{"$error":"#VALUE!"},{"$error":"#VALUE!"},{"$error":"#VALUE!"},{"$error":"#VALUE!"},{"$error":"#VALUE!"},{"$error":"#VALUE!"},{"$error":"#VALUE!"},{"$error":"#VALUE!"},{"$error":"#VALUE!"},{"$error":"#VALUE!"},{"$error":"#VALUE!"},{"$error":"#VALUE!"},{"$error":"#VALUE!"},{"$error":"#VALUE!"},{"$error":"#VALUE!"},{"$error":"#VALUE!"},{"$error":"#VALUE!"},{"$error":"#VALUE!"},{"$error":"#VALUE!"},{"$error":"#VALUE!"},{"$error":"#VALUE!"},{"$error":"#VALUE!"},{"$error":"#VALUE!"},{"$error":"#VALUE!"},{"$error":"#VALUE!"},{"$error":"#VALUE!"},{"$error":"#VALUE!"},{"$error":"#VALUE!"},{"$error":"#VALUE!"},{"$error":"#VALUE!"},{"$error":"#VALUE!"},3,0,{"$error":"#VALUE!"},{"$error":"#VALUE!"},{"$error":"#VALUE!"},{"$error":"#VALUE!"},{"$error":"#VALUE!"},{"$error":"#VALUE!"},{"$error":"#VALUE!"},{"$error":"#VALUE!"},{"$error":"#VALUE!"},{"$error":"#VALUE!"},{"$error":"#VALUE!"},{"$error":"#VALUE!"},{"$error":"#VALUE!"},{"$error":"#VALUE!"},{"$error":"#VALUE!"},{"$error":"#VALUE!"},{"$error":"#VALUE!"},{"$error":"#VALUE!"},{"$error":"#VALUE!"},{"$error":"#VALUE!"},{"$error":"#VALUE!"},{"$error":"#VALUE!"},{"$error":"#VALUE!"},{"$error":"#VALUE!"},{"$error":"#VALUE!"},{"$error":"#VALUE!"},{"$error":"#VALUE!"},{"$error":"#VALUE!"},{"$error":"#VALUE!"},{"$error":"#VALUE!"},{"$error":"#VALUE!"},{"$error":"#VALUE!"},{"$error":"#VALUE!"},3,0,{"$error":"#VALUE!"},{"$error":"#VALUE!"},{"$error":"#VALUE!"},{"$error":"#VALUE!"},{"$error":"#VALUE!"},{"$error":"#VALUE!"},{"$error":"#VALUE!"},{"$error":"#VALUE!"},{"$error":"#VALUE!"},{"$error":"#VALUE!"},{"$error":"#VALUE!"},{"$error":"#VALUE!"},{"$error":"#VALUE!"},{"$error":"#VALUE!"},{"$error":"#VALUE!"},{"$error":"#VALUE!"},{"$error":"#VALUE!"},{"$error":"#VALUE!"},{"$error":"#VALUE!"},{"$error":"#VALUE!"},{"$error":"#VALUE!"},{"$error":"#VALUE!"},{"$error":"#VALUE!"},{"$error":"#VALUE!"},{"$error":"#VALUE!"},{"$error":"#VALUE!"},{"$error":"#VALUE!"},{"$error":"#VALUE!"},{"$error":"#VALUE!"},{"$error":"#VALUE!"},{"$error":"#VALUE!"},{"$error":"#VALUE!"},{"$error":"#VALUE!"},3,0,{"$error":"#VALUE!"},{"$error":"#VALUE!"},{"$error":"#VALUE!"},{"$error":"#VALUE!"},{"$error":"#VALUE!"},{"$error":"#VALUE!"},{"$error":"#VALUE!"},{"$error":"#VALUE!"},{"$error":"#VALUE!"},{"$error":"#VALUE!"},{"$error":"#VALUE!"},{"$error":"#VALUE!"},{"$error":"#VALUE!"},{"$error":"#VALUE!"},{"$error":"#VALUE!"},{"$error":"#VALUE!"},{"$error":"#VALUE!"},{"$error":"#VALUE!"},{"$error":"#VALUE!"},{"$error":"#VALUE!"},{"$error":"#VALUE!"},{"$error":"#VALUE!"},{"$error":"#VALUE!"},{"$error":"#VALUE!"},{"$error":"#VALUE!"},{"$error":"#VALUE!"},{"$error":"#VALUE!"},{"$error":"#VALUE!"},{"$error":"#VALUE!"},{"$error":"#VALUE!"},{"$error":"#VALUE!"},{"$error":"#VALUE!"},{"$error":"#VALUE!"},3,0,{"$error":"#VALUE!"},{"$error":"#VALUE!"},{"$error":"#VALUE!"},{"$error":"#VALUE!"},{"$error":"#VALUE!"},{"$error":"#VALUE!"},{"$error":"#VALUE!"},{"$error":"#VALUE!"},{"$error":"#VALUE!"},{"$error":"#VALUE!"},{"$error":"#VALUE!"},{"$error":"#VALUE!"},{"$error":"#VALUE!"},{"$error":"#VALUE!"},{"$error":"#VALUE!"},{"$error":"#VALUE!"},{"$error":"#VALUE!"},{"$error":"#VALUE!"},{"$error":"#VALUE!"},{"$error":"#VALUE!"},{"$error":"#VALUE!"},{"$error":"#VALUE!"},{"$error":"#VALUE!"},{"$error":"#VALUE!"},{"$error":"#VALUE!"},{"$error":"#VALUE!"},{"$error":"#VALUE!"},{"$error":"#VALUE!"},{"$error":"#VALUE!"},{"$error":"#VALUE!"},{"$error":"#VALUE!"},{"$error":"#VALUE!"},{"$error":"#VALUE!"}]
[null,null,null,null,null,null,null,null,null,null,null,null,null,null,null,null,null,null,null,null,null,null,null,4,null,null,null,null,null,null,null,null,null,"N/A",null,false,null,null,null,null,4,null,null,null,null,null,null,null,null,null,null,null,{"$f":"IF(AND(BB108=\"OK\",BC108=\"OK\",BD108=\"OK\"),\"OK\",\"ERR!\")","v":"OK"},"OK","OK",{"$f":"IF(AND(OR(BE108=BK108,BE108=0),OR(BF108=BK108,BF108=0),OR(BG108=BK108,BG108=0),OR(BH108=BK108,BH108=0),OR(BI108=BK108,BI108=0),OR(BJ108=BK108,BJ108=0)),\"OK\",\"ERR!\")","v":"OK"},100,100,100,100,100,100,100,null,4,null,null,1,null,null,null,null,null,null,null,null,null,null,1,null,null,null,null,null,null,null,null,null,null,1,null,null,null,null,null,null,null,null,null,null,1,null,null,null,null,null,null,null,null,null,null,1,null,null,null,null,null,null,null,null,null,null,1,null,null,null,null,null,null,null,null,null,4,{"$error":"#VALUE!"},{"$error":"#VALUE!"},{"$error":"#VALUE!"},{"$error":"#VALUE!"},{"$error":"#VALUE!"},{"$error":"#VALUE!"},{"$error":"#VALUE!"},{"$error":"#VALUE!"},{"$error":"#VALUE!"},{"$error":"#VALUE!"},{"$error":"#VALUE!"},{"$error":"#VALUE!"},{"$error":"#VALUE!"},{"$error":"#VALUE!"},{"$error":"#VALUE!"},{"$error":"#VALUE!"},{"$error":"#VALUE!"},{"$error":"#VALUE!"},null,4,0,{"$error":"#VALUE!"},{"$error":"#VALUE!"},{"$error":"#VALUE!"},{"$error":"#VALUE!"},{"$error":"#VALUE!"},{"$error":"#VALUE!"},{"$error":"#VALUE!"},{"$error":"#VALUE!"},{"$error":"#VALUE!"},{"$error":"#VALUE!"},{"$error":"#VALUE!"},{"$error":"#VALUE!"},{"$error":"#VALUE!"},{"$error":"#VALUE!"},{"$error":"#VALUE!"},{"$error":"#VALUE!"},{"$error":"#VALUE!"},{"$error":"#VALUE!"},{"$error":"#VALUE!"},{"$error":"#VALUE!"},{"$error":"#VALUE!"},{"$error":"#VALUE!"},{"$error":"#VALUE!"},{"$error":"#VALUE!"},{"$error":"#VALUE!"},{"$error":"#VALUE!"},{"$error":"#VALUE!"},{"$error":"#VALUE!"},{"$error":"#VALUE!"},{"$error":"#VALUE!"},{"$error":"#VALUE!"},{"$error":"#VALUE!"},{"$error":"#VALUE!"},4,0,{"$error":"#VALUE!"},{"$error":"#VALUE!"},{"$error":"#VALUE!"},{"$error":"#VALUE!"},{"$error":"#VALUE!"},{"$error":"#VALUE!"},{"$error":"#VALUE!"},{"$error":"#VALUE!"},{"$error":"#VALUE!"},{"$error":"#VALUE!"},{"$error":"#VALUE!"},{"$error":"#VALUE!"},{"$error":"#VALUE!"},{"$error":"#VALUE!"},{"$error":"#VALUE!"},{"$error":"#VALUE!"},{"$error":"#VALUE!"},{"$error":"#VALUE!"},{"$error":"#VALUE!"},{"$error":"#VALUE!"},{"$error":"#VALUE!"},{"$error":"#VALUE!"},{"$error":"#VALUE!"},{"$error":"#VALUE!"},{"$error":"#VALUE!"},{"$error":"#VALUE!"},{"$error":"#VALUE!"},{"$error":"#VALUE!"},{"$error":"#VALUE!"},{"$error":"#VALUE!"},{"$error":"#VALUE!"},{"$error":"#VALUE!"},{"$error":"#VALUE!"},4,0,{"$error":"#VALUE!"},{"$error":"#VALUE!"},{"$error":"#VALUE!"},{"$error":"#VALUE!"},{"$error":"#VALUE!"},{"$error":"#VALUE!"},{"$error":"#VALUE!"},{"$error":"#VALUE!"},{"$error":"#VALUE!"},{"$error":"#VALUE!"},{"$error":"#VALUE!"},{"$error":"#VALUE!"},{"$error":"#VALUE!"},{"$error":"#VALUE!"},{"$error":"#VALUE!"},{"$error":"#VALUE!"},{"$error":"#VALUE!"},{"$error":"#VALUE!"},{"$error":"#VALUE!"},{"$error":"#VALUE!"},{"$error":"#VALUE!"},{"$error":"#VALUE!"},{"$error":"#VALUE!"},{"$error":"#VALUE!"},{"$error":"#VALUE!"},{"$error":"#VALUE!"},{"$error":"#VALUE!"},{"$error":"#VALUE!"},{"$error":"#VALUE!"},{"$error":"#VALUE!"},{"$error":"#VALUE!"},{"$error":"#VALUE!"},{"$error":"#VALUE!"},4,0,{"$error":"#VALUE!"},{"$error":"#VALUE!"},{"$error":"#VALUE!"},{"$error":"#VALUE!"},{"$error":"#VALUE!"},{"$error":"#VALUE!"},{"$error":"#VALUE!"},{"$error":"#VALUE!"},{"$error":"#VALUE!"},{"$error":"#VALUE!"},{"$error":"#VALUE!"},{"$error":"#VALUE!"},{"$error":"#VALUE!"},{"$error":"#VALUE!"},{"$error":"#VALUE!"},{"$error":"#VALUE!"},{"$error":"#VALUE!"},{"$error":"#VALUE!"},{"$error":"#VALUE!"},{"$error":"#VALUE!"},{"$error":"#VALUE!"},{"$error":"#VALUE!"},{"$error":"#VALUE!"},{"$error":"#VALUE!"},{"$error":"#VALUE!"},{"$error":"#VALUE!"},{"$error":"#VALUE!"},{"$error":"#VALUE!"},{"$error":"#VALUE!"},{"$error":"#VALUE!"},{"$error":"#VALUE!"},{"$error":"#VALUE!"},{"$error":"#VALUE!"},4,0,{"$error":"#VALUE!"},{"$error":"#VALUE!"},{"$error":"#VALUE!"},{"$error":"#VALUE!"},{"$error":"#VALUE!"},{"$error":"#VALUE!"},{"$error":"#VALUE!"},{"$error":"#VALUE!"},{"$error":"#VALUE!"},{"$error":"#VALUE!"},{"$error":"#VALUE!"},{"$error":"#VALUE!"},{"$error":"#VALUE!"},{"$error":"#VALUE!"},{"$error":"#VALUE!"},{"$error":"#VALUE!"},{"$error":"#VALUE!"},{"$error":"#VALUE!"},{"$error":"#VALUE!"},{"$error":"#VALUE!"},{"$error":"#VALUE!"},{"$error":"#VALUE!"},{"$error":"#VALUE!"},{"$error":"#VALUE!"},{"$error":"#VALUE!"},{"$error":"#VALUE!"},{"$error":"#VALUE!"},{"$error":"#VALUE!"},{"$error":"#VALUE!"},{"$error":"#VALUE!"},{"$error":"#VALUE!"},{"$error":"#VALUE!"},{"$error":"#VALUE!"},4,0,{"$error":"#VALUE!"},{"$error":"#VALUE!"},{"$error":"#VALUE!"},{"$error":"#VALUE!"},{"$error":"#VALUE!"},{"$error":"#VALUE!"},{"$error":"#VALUE!"},{"$error":"#VALUE!"},{"$error":"#VALUE!"},{"$error":"#VALUE!"},{"$error":"#VALUE!"},{"$error":"#VALUE!"},{"$error":"#VALUE!"},{"$error":"#VALUE!"},{"$error":"#VALUE!"},{"$error":"#VALUE!"},{"$error":"#VALUE!"},{"$error":"#VALUE!"},{"$error":"#VALUE!"},{"$error":"#VALUE!"},{"$error":"#VALUE!"},{"$error":"#VALUE!"},{"$error":"#VALUE!"},{"$error":"#VALUE!"},{"$error":"#VALUE!"},{"$error":"#VALUE!"},{"$error":"#VALUE!"},{"$error":"#VALUE!"},{"$error":"#VALUE!"},{"$error":"#VALUE!"},{"$error":"#VALUE!"},{"$error":"#VALUE!"},{"$error":"#VALUE!"}]
[null,null,null,null,null,null,null,null,null,null,null,null,null,null,null,null,null,null,null,null,null,null,null,7,null,null,null,null,null,null,null,null,null,"N/A",null,false,null,null,null,null,7,null,null,null,null,null,null,null,null,null,null,null,{"$f":"IF(AND(BB109=\"OK\",BC109=\"OK\",BD109=\"OK\"),\"OK\",\"ERR!\")","v":"OK"},"OK","OK","OK",100,100,100,100,100,100,100,null,7,null,null,1,null,null,null,null,null,null,null,null,null,null,1,null,null,null,null,null,null,null,null,null,null,1,null,null,null,null,null,null,null,null,null,null,1,null,null,null,null,null,null,null,null,null,null,1,null,null,null,null,null,null,null,null,null,null,1,null,null,null,null,null,null,null,null,null,7,{"$error":"#VALUE!"},{"$error":"#VALUE!"},{"$error":"#VALUE!"},{"$error":"#VALUE!"},{"$error":"#VALUE!"},{"$error":"#VALUE!"},{"$error":"#VALUE!"},{"$error":"#VALUE!"},{"$error":"#VALUE!"},{"$error":"#VALUE!"},{"$error":"#VALUE!"},{"$error":"#VALUE!"},{"$error":"#VALUE!"},{"$error":"#VALUE!"},{"$error":"#VALUE!"},{"$error":"#VALUE!"},{"$error":"#VALUE!"},{"$error":"#VALUE!"},null,7,0,{"$error":"#VALUE!"},{"$error":"#VALUE!"},{"$error":"#VALUE!"},{"$error":"#VALUE!"},{"$error":"#VALUE!"},{"$error":"#VALUE!"},{"$error":"#VALUE!"},{"$error":"#VALUE!"},{"$error":"#VALUE!"},{"$error":"#VALUE!"},{"$error":"#VALUE!"},{"$error":"#VALUE!"},{"$error":"#VALUE!"},{"$error":"#VALUE!"},{"$error":"#VALUE!"},{"$error":"#VALUE!"},{"$error":"#VALUE!"},{"$error":"#VALUE!"},{"$error":"#VALUE!"},{"$error":"#VALUE!"},{"$error":"#VALUE!"},{"$error":"#VALUE!"},{"$error":"#VALUE!"},{"$error":"#VALUE!"},{"$error":"#VALUE!"},{"$error":"#VALUE!"},{"$error":"#VALUE!"},{"$error":"#VALUE!"},{"$error":"#VALUE!"},{"$error":"#VALUE!"},{"$error":"#VALUE!"},{"$error":"#VALUE!"},{"$error":"#VALUE!"},7,0,{"$error":"#VALUE!"},{"$error":"#VALUE!"},{"$error":"#VALUE!"},{"$error":"#VALUE!"},{"$error":"#VALUE!"},{"$error":"#VALUE!"},{"$error":"#VALUE!"},{"$error":"#VALUE!"},{"$error":"#VALUE!"},{"$error":"#VALUE!"},{"$error":"#VALUE!"},{"$error":"#VALUE!"},{"$error":"#VALUE!"},{"$error":"#VALUE!"},{"$error":"#VALUE!"},{"$error":"#VALUE!"},{"$error":"#VALUE!"},{"$error":"#VALUE!"},{"$error":"#VALUE!"},{"$error":"#VALUE!"},{"$error":"#VALUE!"},{"$error":"#VALUE!"},{"$error":"#VALUE!"},{"$error":"#VALUE!"},{"$error":"#VALUE!"},{"$error":"#VALUE!"},{"$error":"#VALUE!"},{"$error":"#VALUE!"},{"$error":"#VALUE!"},{"$error":"#VALUE!"},{"$error":"#VALUE!"},{"$error":"#VALUE!"},{"$error":"#VALUE!"},7,0,{"$error":"#VALUE!"},{"$error":"#VALUE!"},{"$error":"#VALUE!"},{"$error":"#VALUE!"},{"$error":"#VALUE!"},{"$error":"#VALUE!"},{"$error":"#VALUE!"},{"$error":"#VALUE!"},{"$error":"#VALUE!"},{"$error":"#VALUE!"},{"$error":"#VALUE!"},{"$error":"#VALUE!"},{"$error":"#VALUE!"},{"$error":"#VALUE!"},{"$error":"#VALUE!"},{"$error":"#VALUE!"},{"$error":"#VALUE!"},{"$error":"#VALUE!"},{"$error":"#VALUE!"},{"$error":"#VALUE!"},{"$error":"#VALUE!"},{"$error":"#VALUE!"},{"$error":"#VALUE!"},{"$error":"#VALUE!"},{"$error":"#VALUE!"},{"$error":"#VALUE!"},{"$error":"#VALUE!"},{"$error":"#VALUE!"},{"$error":"#VALUE!"},{"$error":"#VALUE!"},{"$error":"#VALUE!"},{"$error":"#VALUE!"},{"$error":"#VALUE!"},7,0,{"$error":"#VALUE!"},{"$error":"#VALUE!"},{"$error":"#VALUE!"},{"$error":"#VALUE!"},{"$error":"#VALUE!"},{"$error":"#VALUE!"},{"$error":"#VALUE!"},{"$error":"#VALUE!"},{"$error":"#VALUE!"},{"$error":"#VALUE!"},{"$error":"#VALUE!"},{"$error":"#VALUE!"},{"$error":"#VALUE!"},{"$error":"#VALUE!"},{"$error":"#VALUE!"},{"$error":"#VALUE!"},{"$error":"#VALUE!"},{"$error":"#VALUE!"},{"$error":"#VALUE!"},{"$error":"#VALUE!"},{"$error":"#VALUE!"},{"$error":"#VALUE!"},{"$error":"#VALUE!"},{"$error":"#VALUE!"},{"$error":"#VALUE!"},{"$error":"#VALUE!"},{"$error":"#VALUE!"},{"$error":"#VALUE!"},{"$error":"#VALUE!"},{"$error":"#VALUE!"},{"$error":"#VALUE!"},{"$error":"#VALUE!"},{"$error":"#VALUE!"},7,0,{"$error":"#VALUE!"},{"$error":"#VALUE!"},{"$error":"#VALUE!"},{"$error":"#VALUE!"},{"$error":"#VALUE!"},{"$error":"#VALUE!"},{"$error":"#VALUE!"},{"$error":"#VALUE!"},{"$error":"#VALUE!"},{"$error":"#VALUE!"},{"$error":"#VALUE!"},{"$error":"#VALUE!"},{"$error":"#VALUE!"},{"$error":"#VALUE!"},{"$error":"#VALUE!"},{"$error":"#VALUE!"},{"$error":"#VALUE!"},{"$error":"#VALUE!"},{"$error":"#VALUE!"},{"$error":"#VALUE!"},{"$error":"#VALUE!"},{"$error":"#VALUE!"},{"$error":"#VALUE!"},{"$error":"#VALUE!"},{"$error":"#VALUE!"},{"$error":"#VALUE!"},{"$error":"#VALUE!"},{"$error":"#VALUE!"},{"$error":"#VALUE!"},{"$error":"#VALUE!"},{"$error":"#VALUE!"},{"$error":"#VALUE!"},{"$error":"#VALUE!"},7,0,{"$error":"#VALUE!"},{"$error":"#VALUE!"},{"$error":"#VALUE!"},{"$error":"#VALUE!"},{"$error":"#VALUE!"},{"$error":"#VALUE!"},{"$error":"#VALUE!"},{"$error":"#VALUE!"},{"$error":"#VALUE!"},{"$error":"#VALUE!"},{"$error":"#VALUE!"},{"$error":"#VALUE!"},{"$error":"#VALUE!"},{"$error":"#VALUE!"},{"$error":"#VALUE!"},{"$error":"#VALUE!"},{"$error":"#VALUE!"},{"$error":"#VALUE!"},{"$error":"#VALUE!"},{"$error":"#VALUE!"},{"$error":"#VALUE!"},{"$error":"#VALUE!"},{"$error":"#VALUE!"},{"$error":"#VALUE!"},{"$error":"#VALUE!"},{"$error":"#VALUE!"},{"$error":"#VALUE!"},{"$error":"#VALUE!"},{"$error":"#VALUE!"},{"$error":"#VALUE!"},{"$error":"#VALUE!"},{"$error":"#VALUE!"},{"$error":"#VALUE!"}]
[null,null,null,null,null,null,null,null,null,null,null,null,null,null,null,null,null,null,null,null,null,null,null,8,null,null,null,null,null,null,null,null,null,"N/A",null,false,null,null,null,null,8,null,null,null,null,null,null,null,null,null,null,null,"OK","OK","OK","OK",100,100,100,100,100,100,100,null,8,null,null,1,null,null,null,null,null,null,null,null,null,null,1,null,null,null,null,null,null,null,null,null,null,1,null,null,null,null,null,null,null,null,null,null,1,null,null,null,null,null,null,null,null,null,null,1,null,null,null,null,null,null,null,null,null,null,1,null,null,null,null,null,null,null,null,null,8,{"$error":"#VALUE!"},{"$error":"#VALUE!"},{"$error":"#VALUE!"},{"$error":"#VALUE!"},{"$error":"#VALUE!"},{"$error":"#VALUE!"},{"$error":"#VALUE!"},{"$error":"#VALUE!"},{"$error":"#VALUE!"},{"$error":"#VALUE!"},{"$error":"#VALUE!"},{"$error":"#VALUE!"},{"$error":"#VALUE!"},{"$error":"#VALUE!"},{"$error":"#VALUE!"},{"$error":"#VALUE!"},{"$error":"#VALUE!"},{"$error":"#VALUE!"},null,8,0,{"$error":"#VALUE!"},{"$error":"#VALUE!"},{"$error":"#VALUE!"},{"$error":"#VALUE!"},{"$error":"#VALUE!"},{"$error":"#VALUE!"},{"$error":"#VALUE!"},{"$error":"#VALUE!"},{"$error":"#VALUE!"},{"$error":"#VALUE!"},{"$error":"#VALUE!"},{"$error":"#VALUE!"},{"$error":"#VALUE!"},{"$error":"#VALUE!"},{"$error":"#VALUE!"},{"$error":"#VALUE!"},{"$error":"#VALUE!"},{"$error":"#VALUE!"},{"$error":"#VALUE!"},{"$error":"#VALUE!"},{"$error":"#VALUE!"},{"$error":"#VALUE!"},{"$error":"#VALUE!"},{"$error":"#VALUE!"},{"$error":"#VALUE!"},{"$error":"#VALUE!"},{"$error":"#VALUE!"},{"$error":"#VALUE!"},{"$error":"#VALUE!"},{"$error":"#VALUE!"},{"$error":"#VALUE!"},{"$error":"#VALUE!"},{"$error":"#VALUE!"},8,0,{"$error":"#VALUE!"},{"$error":"#VALUE!"},{"$error":"#VALUE!"},{"$error":"#VALUE!"},{"$error":"#VALUE!"},{"$error":"#VALUE!"},{"$error":"#VALUE!"},{"$error":"#VALUE!"},{"$error":"#VALUE!"},{"$error":"#VALUE!"},{"$error":"#VALUE!"},{"$error":"#VALUE!"},{"$error":"#VALUE!"},{"$error":"#VALUE!"},{"$error":"#VALUE!"},{"$error":"#VALUE!"},{"$error":"#VALUE!"},{"$error":"#VALUE!"},{"$error":"#VALUE!"},{"$error":"#VALUE!"},{"$error":"#VALUE!"},{"$error":"#VALUE!"},{"$error":"#VALUE!"},{"$error":"#VALUE!"},{"$error":"#VALUE!"},{"$error":"#VALUE!"},{"$error":"#VALUE!"},{"$error":"#VALUE!"},{"$error":"#VALUE!"},{"$error":"#VALUE!"},{"$error":"#VALUE!"},{"$error":"#VALUE!"},{"$error":"#VALUE!"},8,0,{"$error":"#VALUE!"},{"$error":"#VALUE!"},{"$error":"#VALUE!"},{"$error":"#VALUE!"},{"$error":"#VALUE!"},{"$error":"#VALUE!"},{"$error":"#VALUE!"},{"$error":"#VALUE!"},{"$error":"#VALUE!"},{"$error":"#VALUE!"},{"$error":"#VALUE!"},{"$error":"#VALUE!"},{"$error":"#VALUE!"},{"$error":"#VALUE!"},{"$error":"#VALUE!"},{"$error":"#VALUE!"},{"$error":"#VALUE!"},{"$error":"#VALUE!"},{"$error":"#VALUE!"},{"$error":"#VALUE!"},{"$error":"#VALUE!"},{"$error":"#VALUE!"},{"$error":"#VALUE!"},{"$error":"#VALUE!"},{"$error":"#VALUE!"},{"$error":"#VALUE!"},{"$error":"#VALUE!"},{"$error":"#VALUE!"},{"$error":"#VALUE!"},{"$error":"#VALUE!"},{"$error":"#VALUE!"},{"$error":"#VALUE!"},{"$error":"#VALUE!"},8,0,{"$error":"#VALUE!"},{"$error":"#VALUE!"},{"$error":"#VALUE!"},{"$error":"#VALUE!"},{"$error":"#VALUE!"},{"$error":"#VALUE!"},{"$error":"#VALUE!"},{"$error":"#VALUE!"},{"$error":"#VALUE!"},{"$error":"#VALUE!"},{"$error":"#VALUE!"},{"$error":"#VALUE!"},{"$error":"#VALUE!"},{"$error":"#VALUE!"},{"$error":"#VALUE!"},{"$error":"#VALUE!"},{"$error":"#VALUE!"},{"$error":"#VALUE!"},{"$error":"#VALUE!"},{"$error":"#VALUE!"},{"$error":"#VALUE!"},{"$error":"#VALUE!"},{"$error":"#VALUE!"},{"$error":"#VALUE!"},{"$error":"#VALUE!"},{"$error":"#VALUE!"},{"$error":"#VALUE!"},{"$error":"#VALUE!"},{"$error":"#VALUE!"},{"$error":"#VALUE!"},{"$error":"#VALUE!"},{"$error":"#VALUE!"},{"$error":"#VALUE!"},8,0,{"$error":"#VALUE!"},{"$error":"#VALUE!"},{"$error":"#VALUE!"},{"$error":"#VALUE!"},{"$error":"#VALUE!"},{"$error":"#VALUE!"},{"$error":"#VALUE!"},{"$error":"#VALUE!"},{"$error":"#VALUE!"},{"$error":"#VALUE!"},{"$error":"#VALUE!"},{"$error":"#VALUE!"},{"$error":"#VALUE!"},{"$error":"#VALUE!"},{"$error":"#VALUE!"},{"$error":"#VALUE!"},{"$error":"#VALUE!"},{"$error":"#VALUE!"},{"$error":"#VALUE!"},{"$error":"#VALUE!"},{"$error":"#VALUE!"},{"$error":"#VALUE!"},{"$error":"#VALUE!"},{"$error":"#VALUE!"},{"$error":"#VALUE!"},{"$error":"#VALUE!"},{"$error":"#VALUE!"},{"$error":"#VALUE!"},{"$error":"#VALUE!"},{"$error":"#VALUE!"},{"$error":"#VALUE!"},{"$error":"#VALUE!"},{"$error":"#VALUE!"},8,0,{"$error":"#VALUE!"},{"$error":"#VALUE!"},{"$error":"#VALUE!"},{"$error":"#VALUE!"},{"$error":"#VALUE!"},{"$error":"#VALUE!"},{"$error":"#VALUE!"},{"$error":"#VALUE!"},{"$error":"#VALUE!"},{"$error":"#VALUE!"},{"$error":"#VALUE!"},{"$error":"#VALUE!"},{"$error":"#VALUE!"},{"$error":"#VALUE!"},{"$error":"#VALUE!"},{"$error":"#VALUE!"},{"$error":"#VALUE!"},{"$error":"#VALUE!"},{"$error":"#VALUE!"},{"$error":"#VALUE!"},{"$error":"#VALUE!"},{"$error":"#VALUE!"},{"$error":"#VALUE!"},{"$error":"#VALUE!"},{"$error":"#VALUE!"},{"$error":"#VALUE!"},{"$error":"#VALUE!"},{"$error":"#VALUE!"},{"$error":"#VALUE!"},{"$error":"#VALUE!"},{"$error":"#VALUE!"},{"$error":"#VALUE!"},{"$error":"#VALUE!"}]
[null,null,null,null,null,null,null,null,null,null,null,null,null,null,null,null,null,null,null,null,null,null,null,9,null,null,null,null,null,null,null,null,null,"N/A",null,false,null,null,null,null,9,null,null,null,null,null,null,null,null,null,null,null,"OK","OK","OK","OK",100,100,100,{"$f":"(CU111*POWER(10,0)+CV111*POWER(10,1)+CW111*POWER(10,2)+CX111*POWER(10,3)+CY111*POWER(10,4)+CZ111*POWER(10,5)+DA111*POWER(10,6)+DB111*POWER(10,7)+DC111*POWER(10,8)+DD111*POWER(10,9)+DE111*POWER(10,10))","v":100},{"$f":"(DF111*POWER(10,0)+DG111*POWER(10,1)+DH111*POWER(10,2)+DI111*POWER(10,3)+DJ111*POWER(10,4)+DK111*POWER(10,5)+DL111*POWER(10,6)+DM111*POWER(10,7)+DN111*POWER(10,8)+DO111*POWER(10,9)+DP111*POWER(10,10))","v":100},100,100,null,9,null,null,1,null,null,null,null,null,null,null,null,null,null,1,null,null,null,null,null,null,null,null,null,null,1,null,null,null,null,null,null,null,null,null,null,1,null,null,null,null,null,null,null,null,null,null,1,null,null,null,null,null,null,null,null,null,null,1,null,null,null,null,null,null,null,null,null,9,{"$error":"#VALUE!"},{"$error":"#VALUE!"},{"$error":"#VALUE!"},{"$error":"#VALUE!"},{"$error":"#VALUE!"},{"$error":"#VALUE!"},{"$error":"#VALUE!"},{"$error":"#VALUE!"},{"$error":"#VALUE!"},{"$error":"#VALUE!"},{"$error":"#VALUE!"},{"$error":"#VALUE!"},{"$error":"#VALUE!"},{"$error":"#VALUE!"},{"$error":"#VALUE!"},{"$error":"#VALUE!"},{"$error":"#VALUE!"},{"$error":"#VALUE!"},null,9,0,{"$error":"#VALUE!"},{"$error":"#VALUE!"},{"$error":"#VALUE!"},{"$error":"#VALUE!"},{"$error":"#VALUE!"},{"$error":"#VALUE!"},{"$error":"#VALUE!"},{"$error":"#VALUE!"},{"$error":"#VALUE!"},{"$error":"#VALUE!"},{"$error":"#VALUE!"},{"$error":"#VALUE!"},{"$error":"#VALUE!"},{"$error":"#VALUE!"},{"$error":"#VALUE!"},{"$error":"#VALUE!"},{"$error":"#VALUE!"},{"$error":"#VALUE!"},{"$error":"#VALUE!"},{"$error":"#VALUE!"},{"$error":"#VALUE!"},{"$error":"#VALUE!"},{"$error":"#VALUE!"},{"$error":"#VALUE!"},{"$error":"#VALUE!"},{"$error":"#VALUE!"},{"$error":"#VALUE!"},{"$error":"#VALUE!"},{"$error":"#VALUE!"},{"$error":"#VALUE!"},{"$error":"#VALUE!"},{"$error":"#VALUE!"},{"$error":"#VALUE!"},9,0,{"$error":"#VALUE!"},{"$error":"#VALUE!"},{"$error":"#VALUE!"},{"$error":"#VALUE!"},{"$error":"#VALUE!"},{"$error":"#VALUE!"},{"$error":"#VALUE!"},{"$error":"#VALUE!"},{"$error":"#VALUE!"},{"$error":"#VALUE!"},{"$error":"#VALUE!"},{"$error":"#VALUE!"},{"$error":"#VALUE!"},{"$error":"#VALUE!"},{"$error":"#VALUE!"},{"$error":"#VALUE!"},{"$error":"#VALUE!"},{"$error":"#VALUE!"},{"$error":"#VALUE!"},{"$error":"#VALUE!"},{"$error":"#VALUE!"},{"$error":"#VALUE!"},{"$error":"#VALUE!"},{"$error":"#VALUE!"},{"$error":"#VALUE!"},{"$error":"#VALUE!"},{"$error":"#VALUE!"},{"$error":"#VALUE!"},{"$error":"#VALUE!"},{"$error":"#VALUE!"},{"$error":"#VALUE!"},{"$error":"#VALUE!"},{"$error":"#VALUE!"},9,0,{"$error":"#VALUE!"},{"$error":"#VALUE!"},{"$error":"#VALUE!"},{"$error":"#VALUE!"},{"$error":"#VALUE!"},{"$error":"#VALUE!"},{"$error":"#VALUE!"},{"$error":"#VALUE!"},{"$error":"#VALUE!"},{"$error":"#VALUE!"},{"$error":"#VALUE!"},{"$error":"#VALUE!"},{"$error":"#VALUE!"},{"$error":"#VALUE!"},{"$error":"#VALUE!"},{"$error":"#VALUE!"},{"$error":"#VALUE!"},{"$error":"#VALUE!"},{"$error":"#VALUE!"},{"$error":"#VALUE!"},{"$error":"#VALUE!"},{"$error":"#VALUE!"},{"$error":"#VALUE!"},{"$error":"#VALUE!"},{"$error":"#VALUE!"},{"$error":"#VALUE!"},{"$error":"#VALUE!"},{"$error":"#VALUE!"},{"$error":"#VALUE!"},{"$error":"#VALUE!"},{"$error":"#VALUE!"},{"$error":"#VALUE!"},{"$error":"#VALUE!"},9,0,{"$error":"#VALUE!"},{"$error":"#VALUE!"},{"$error":"#VALUE!"},{"$error":"#VALUE!"},{"$error":"#VALUE!"},{"$error":"#VALUE!"},{"$error":"#VALUE!"},{"$error":"#VALUE!"},{"$error":"#VALUE!"},{"$error":"#VALUE!"},{"$error":"#VALUE!"},{"$error":"#VALUE!"},{"$error":"#VALUE!"},{"$error":"#VALUE!"},{"$error":"#VALUE!"},{"$error":"#VALUE!"},{"$error":"#VALUE!"},{"$error":"#VALUE!"},{"$error":"#VALUE!"},{"$error":"#VALUE!"},{"$error":"#VALUE!"},{"$error":"#VALUE!"},{"$error":"#VALUE!"},{"$error":"#VALUE!"},{"$error":"#VALUE!"},{"$error":"#VALUE!"},{"$error":"#VALUE!"},{"$error":"#VALUE!"},{"$error":"#VALUE!"},{"$error":"#VALUE!"},{"$error":"#VALUE!"},{"$error":"#VALUE!"},{"$error":"#VALUE!"},9,0,{"$error":"#VALUE!"},{"$error":"#VALUE!"},{"$error":"#VALUE!"},{"$error":"#VALUE!"},{"$error":"#VALUE!"},{"$error":"#VALUE!"},{"$error":"#VALUE!"},{"$error":"#VALUE!"},{"$error":"#VALUE!"},{"$error":"#VALUE!"},{"$error":"#VALUE!"},{"$error":"#VALUE!"},{"$error":"#VALUE!"},{"$error":"#VALUE!"},{"$error":"#VALUE!"},{"$error":"#VALUE!"},{"$error":"#VALUE!"},{"$error":"#VALUE!"},{"$error":"#VALUE!"},{"$error":"#VALUE!"},{"$error":"#VALUE!"},{"$error":"#VALUE!"},{"$error":"#VALUE!"},{"$error":"#VALUE!"},{"$error":"#VALUE!"},{"$error":"#VALUE!"},{"$error":"#VALUE!"},{"$error":"#VALUE!"},{"$error":"#VALUE!"},{"$error":"#VALUE!"},{"$error":"#VALUE!"},{"$error":"#VALUE!"},{"$error":"#VALUE!"},9,0,{"$error":"#VALUE!"},{"$error":"#VALUE!"},{"$error":"#VALUE!"},{"$error":"#VALUE!"},{"$error":"#VALUE!"},{"$error":"#VALUE!"},{"$error":"#VALUE!"},{"$error":"#VALUE!"},{"$error":"#VALUE!"},{"$error":"#VALUE!"},{"$error":"#VALUE!"},{"$error":"#VALUE!"},{"$error":"#VALUE!"},{"$error":"#VALUE!"},{"$error":"#VALUE!"},{"$error":"#VALUE!"},{"$error":"#VALUE!"},{"$error":"#VALUE!"},{"$error":"#VALUE!"},{"$error":"#VALUE!"},{"$error":"#VALUE!"},{"$error":"#VALUE!"},{"$error":"#VALUE!"},{"$error":"#VALUE!"},{"$error":"#VALUE!"},{"$error":"#VALUE!"},{"$error":"#VALUE!"},{"$error":"#VALUE!"},{"$error":"#VALUE!"},{"$error":"#VALUE!"},{"$error":"#VALUE!"},{"$error":"#VALUE!"},{"$error":"#VALUE!"}]
[null,null,null,null,null,null,null,null,null,null,null,null,null,null,null,null,null,null,null,null,null,null,null,"Total",{"$f":"SUM(Y105:Y111)","v":0},{"$f":"SUM(Z105:Z111)","v":0},0,0,0,0,null,null,null,"N/A",null,false,null,null,null,null,"Total",null,null,null,null,null,null,null,null,null,null,null,null,null,null,null,null,null,null,null,null,null,null,null,"Total",null,null,null,null,null,null,null,null,null,null,null,null,null,null,null,null,null,null,null,null,null,null,null,null,null,null,null,null,null,null,null,null,null,null,null,null,null,null,null,null,null,null,null,null,null,null,null,null,null,null,null,null,null,null,null,null,null,null,null,null,null,null,null,null,null,null,null,"Total",{"$f":"SUM(ED105:ED111)","v":{"$error":"#VALUE!"}},{"$f":"SUM(EE105:EE111)","v":{"$error":"#VALUE!"}},{"$f":"SUM(EF105:EF111)","v":{"$error":"#VALUE!"}},{"$f":"SUM(EG105:EG111)","v":{"$error":"#VALUE!"}},{"$f":"SUM(EH105:EH111)","v":{"$error":"#VALUE!"}},{"$f":"SUM(EI105:EI111)","v":{"$error":"#VALUE!"}},{"$error":"#VALUE!"},{"$error":"#VALUE!"},{"$error":"#VALUE!"},{"$error":"#VALUE!"},{"$error":"#VALUE!"},{"$error":"#VALUE!"},{"$error":"#VALUE!"},{"$error":"#VALUE!"},{"$error":"#VALUE!"},{"$error":"#VALUE!"},{"$error":"#VALUE!"},{"$error":"#VALUE!"},null,"Total",{"$f":"SUM(EX105:EX111)","v":0},{"$f":"SUM(EY105:EY111)","v":{"$error":"#VALUE!"}},{"$f":"SUM(EZ105:EZ111)","v":{"$error":"#VALUE!"}},{"$error":"#VALUE!"},{"$error":"#VALUE!"},{"$f":"SUM(FC105:FC111)","v":{"$error":"#VALUE!"}},{"$f":"SUM(FD105:FD111)","v":{"$error":"#VALUE!"}},{"$error":"#VALUE!"},{"$error":"#VALUE!"},{"$error":"#VALUE!"},{"$error":"#VALUE!"},{"$error":"#VALUE!"},{"$error":"#VALUE!"},{"$error":"#VALUE!"},{"$error":"#VALUE!"},{"$error":"#VALUE!"},{"$f":"SUM(FN105:FN111)","v":{"$error":"#VALUE!"}},{"$f":"SUM(FO105:FO111)","v":{"$error":"#VALUE!"}},{"$f":"SUM(FP105:FP111)","v":{"$error":"#VALUE!"}},{"$f":"SUM(FQ105:FQ111)","v":{"$error":"#VALUE!"}},{"$error":"#VALUE!"},{"$error":"#VALUE!"},{"$error":"#VALUE!"},{"$error":"#VALUE!"},{"$error":"#VALUE!"},{"$error":"#VALUE!"},{"$error":"#VALUE!"},{"$error":"#VALUE!"},{"$error":"#VALUE!"},{"$error":"#VALUE!"},{"$error":"#VALUE!"},{"$f":"SUM(GC105:GC111)","v":{"$error":"#VALUE!"}},{"$f":"SUM(GD105:GD111)","v":{"$error":"#VALUE!"}},{"$error":"#VALUE!"},"Total",{"$f":"SUM(GG105:GG111)","v":0},{"$f":"SUM(GH105:GH111)","v":{"$error":"#VALUE!"}},{"$f":"SUM(GI105:GI111)","v":{"$error":"#VALUE!"}},{"$error":"#VALUE!"},{"$error":"#VALUE!"},{"$f":"SUM(GL105:GL111)","v":{"$error":"#VALUE!"}},{"$f":"SUM(GM105:GM111)","v":{"$error":"#VALUE!"}},{"$f":"SUM(GN105:GN111)","v":{"$error":"#VALUE!"}},{"$error":"#VALUE!"},{"$error":"#VALUE!"},{"$error":"#VALUE!"},{"$error":"#VALUE!"},{"$error":"#VALUE!"},{"$error":"#VALUE!"},{"$error":"#VALUE!"},{"$error":"#VALUE!"},{"$f":"SUM(GW105:GW111)","v":{"$error":"#VALUE!"}},{"$f":"SUM(GX105:GX111)","v":{"$error":"#VALUE!"}},{"$f":"SUM(GY105:GY111)","v":{"$error":"#VALUE!"}},{"$f":"SUM(GZ105:GZ111)","v":{"$error":"#VALUE!"}},{"$error":"#VALUE!"},{"$error":"#VALUE!"},{"$error":"#VALUE!"},{"$error":"#VALUE!"},{"$error":"#VALUE!"},{"$error":"#VALUE!"},{"$error":"#VALUE!"},{"$error":"#VALUE!"},{"$error":"#VALUE!"},{"$error":"#VALUE!"},{"$error":"#VALUE!"},{"$f":"SUM(HL105:HL111)","v":{"$error":"#VALUE!"}},{"$f":"SUM(HM105:HM111)","v":{"$error":"#VALUE!"}},{"$error":"#VALUE!"},"Total",{"$f":"SUM(HP105:HP111)","v":0},{"$f":"SUM(HQ105:HQ111)","v":{"$error":"#VALUE!"}},{"$f":"SUM(HR105:HR111)","v":{"$error":"#VALUE!"}},{"$error":"#VALUE!"},{"$error":"#VALUE!"},{"$f":"SUM(HU105:HU111)","v":{"$error":"#VALUE!"}},{"$f":"SUM(HV105:HV111)","v":{"$error":"#VALUE!"}},{"$error":"#VALUE!"},{"$error":"#VALUE!"},{"$error":"#VALUE!"},{"$error":"#VALUE!"},{"$error":"#VALUE!"},{"$error":"#VALUE!"},{"$error":"#VALUE!"},{"$error":"#VALUE!"},{"$error":"#VALUE!"},{"$f":"SUM(IF105:IF111)","v":{"$error":"#VALUE!"}},{"$f":"SUM(IG105:IG111)","v":{"$error":"#VALUE!"}},{"$f":"SUM(IH105:IH111)","v":{"$error":"#VALUE!"}},{"$f":"SUM(II105:II111)","v":{"$error":"#VALUE!"}},{"$error":"#VALUE!"},{"$error":"#VALUE!"},{"$error":"#VALUE!"},{"$error":"#VALUE!"},{"$error":"#VALUE!"},{"$error":"#VALUE!"},{"$error":"#VALUE!"},{"$error":"#VALUE!"},{"$error":"#VALUE!"},{"$error":"#VALUE!"},{"$error":"#VALUE!"},{"$f":"SUM(IU105:IU111)","v":{"$error":"#VALUE!"}},{"$f":"SUM(IV105:IV111)","v":{"$error":"#VALUE!"}},{"$error":"#VALUE!"},"Total",{"$f":"SUM(IY105:IY111)","v":0},{"$f":"SUM(IZ105:IZ111)","v":{"$error":"#VALUE!"}},{"$f":"SUM(JA105:JA111)","v":{"$error":"#VALUE!"}},{"$error":"#VALUE!"},{"$error":"#VALUE!"},{"$f":"SUM(JD105:JD111)","v":{"$error":"#VALUE!"}},{"$f":"SUM(JE105:JE111)","v":{"$error":"#VALUE!"}},{"$error":"#VALUE!"},{"$error":"#VALUE!"},{"$error":"#VALUE!"},{"$error":"#VALUE!"},{"$error":"#VALUE!"},{"$error":"#VALUE!"},{"$error":"#VALUE!"},{"$error":"#VALUE!"},{"$error":"#VALUE!"},{"$f":"SUM(JO105:JO111)","v":{"$error":"#VALUE!"}},{"$f":"SUM(JP105:JP111)","v":{"$error":"#VALUE!"}},{"$f":"SUM(JQ105:JQ111)","v":{"$error":"#VALUE!"}},{"$f":"SUM(JR105:JR111)","v":{"$error":"#VALUE!"}},{"$error":"#VALUE!"},{"$error":"#VALUE!"},{"$error":"#VALUE!"},{"$error":"#VALUE!"},{"$error":"#VALUE!"},{"$error":"#VALUE!"},{"$error":"#VALUE!"},{"$error":"#VALUE!"},{"$error":"#VALUE!"},{"$error":"#VALUE!"},{"$error":"#VALUE!"},{"$f":"SUM(KD105:KD111)","v":{"$error":"#VALUE!"}},{"$f":"SUM(KE105:KE111)","v":{"$error":"#VALUE!"}},{"$error":"#VALUE!"},"Total",{"$f":"SUM(KH105:KH111)","v":0},{"$f":"SUM(KI105:KI111)","v":{"$error":"#VALUE!"}},{"$f":"SUM(KJ105:KJ111)","v":{"$error":"#VALUE!"}},{"$error":"#VALUE!"},{"$error":"#VALUE!"},{"$f":"SUM(KM105:KM111)","v":{"$error":"#VALUE!"}},{"$f":"SUM(KN105:KN111)","v":{"$error":"#VALUE!"}},{"$error":"#VALUE!"},{"$error":"#VALUE!"},{"$error":"#VALUE!"},{"$error":"#VALUE!"},{"$error":"#VALUE!"},{"$error":"#VALUE!"},{"$error":"#VALUE!"},{"$error":"#VALUE!"},{"$error":"#VALUE!"},{"$f":"SUM(KX105:KX111)","v":{"$error":"#VALUE!"}},{"$f":"SUM(KY105:KY111)","v":{"$error":"#VALUE!"}},{"$f":"SUM(KZ105:KZ111)","v":{"$error":"#VALUE!"}},{"$f":"SUM(LA105:LA111)","v":{"$error":"#VALUE!"}},{"$error":"#VALUE!"},{"$error":"#VALUE!"},{"$error":"#VALUE!"},{"$error":"#VALUE!"},{"$error":"#VALUE!"},{"$error":"#VALUE!"},{"$error":"#VALUE!"},{"$error":"#VALUE!"},{"$error":"#VALUE!"},{"$error":"#VALUE!"},{"$error":"#VALUE!"},{"$f":"SUM(LM105:LM111)","v":{"$error":"#VALUE!"}},{"$f":"SUM(LN105:LN111)","v":{"$error":"#VALUE!"}},{"$error":"#VALUE!"},"Total",{"$f":"SUM(LQ105:LQ111)","v":0},{"$f":"SUM(LR105:LR111)","v":{"$error":"#VALUE!"}},{"$f":"SUM(LS105:LS111)","v":{"$error":"#VALUE!"}},{"$error":"#VALUE!"},{"$error":"#VALUE!"},{"$f":"SUM(LV105:LV111)","v":{"$error":"#VALUE!"}},{"$f":"SUM(LW105:LW111)","v":{"$error":"#VALUE!"}},{"$error":"#VALUE!"},{"$error":"#VALUE!"},{"$error":"#VALUE!"},{"$error":"#VALUE!"},{"$error":"#VALUE!"},{"$error":"#VALUE!"},{"$error":"#VALUE!"},{"$error":"#VALUE!"},{"$f":"SUM(MF105:MF111)","v":{"$error":"#VALUE!"}},{"$f":"SUM(MG105:MG111)","v":{"$error":"#VALUE!"}},{"$f":"SUM(MH105:MH111)","v":{"$error":"#VALUE!"}},{"$f":"SUM(MI105:MI111)","v":{"$error":"#VALUE!"}},{"$f":"SUM(MJ105:MJ111)","v":{"$error":"#VALUE!"}},{"$error":"#VALUE!"},{"$error":"#VALUE!"},{"$error":"#VALUE!"},{"$error":"#VALUE!"},{"$error":"#VALUE!"},{"$error":"#VALUE!"},{"$error":"#VALUE!"},{"$error":"#VALUE!"},{"$error":"#VALUE!"},{"$error":"#VALUE!"},{"$error":"#VALUE!"},{"$f":"SUM(MV105:MV111)","v":{"$error":"#VALUE!"}},{"$f":"SUM(MW105:MW111)","v":{"$error":"#VALUE!"}},{"$error":"#VALUE!"}]
[null,11,{"$f":"'Regional Project List Sheet'!F15","v":0},{"$f":"IF('Regional Project List Sheet'!$G15=\"New\",1,\"\")","v":""},{"$f":"IF('Regional Project List Sheet'!$G15=\"Funded Old\",1,\"\")","v":""},{"$f":"IF('Regional Project List Sheet'!$G15=\"Unfunded Old\",1,\"\")","v":""},{"$f":"'Regional Project List Sheet'!H15","v":0},{"$f":"'Regional Project List Sheet'!I15","v":0},{"$f":"'Regional Project List Sheet'!L15","v":0},{"$f":"'Regional Project List Sheet'!M15","v":0},{"$f":"'Regional Project List Sheet'!N15","v":0},{"$f":"'Regional Project List Sheet'!O15","v":0},{"$f":"'Regional Project List Sheet'!P15","v":0},{"$f":"IF('Regional Project List Sheet'!$Q15=\"N/A\",\"N/A\",IF($Y116<>0,5,IF($Z116<>0,4,IF($AA116<>0,3,IF($AB116<>0,2,1)))))","v":1},{"$f":"VLOOKUP($C113,'[2]Ranking|Priority'!$B$5:$O$40,12,FALSE)","v":{"$error":"#N/A"}},{"$f":"VLOOKUP($C113,'[2]Ranking|Priority'!$B$5:$O$68,13,FALSE)","v":{"$error":"#N/A"}},{"$f":"VLOOKUP($C113,'[2]Ranking|Priority'!$B$5:$O$68,14,FALSE)","v":{"$error":"#N/A"}},{"$f":"'Regional Project List Sheet'!T15","v":0},{"$f":"'Regional Project List Sheet'!U15","v":0},{"$f":"'Regional Project List Sheet'!V15","v":0},{"$f":"'Regional Project List Sheet'!W15","v":0},{"$f":"'Regional Project List Sheet'!X15","v":0},{"$f":"'Regional Project List Sheet'!Y15","v":"Choose from Project List in cell I2"},0,null,null,null,null,null,null,null,{"$f":"'Regional Project List Sheet'!AJ15","v":0},{"$f":"IF(OR('Regional Project List Sheet'!$AA15<>'Regional Project List Sheet'!$A$40,'Regional Project List Sheet'!$AD15<>'Regional Project List Sheet'!$A$40,'Regional Project List Sheet'!$AG15<>'Regional Project List Sheet'!$A$40),_xlfn.CONCAT(IF(ISNUMBER('Regional Project List Sheet'!$AA15),'Regional Project List Sheet'!$A$36,\"\"),\" \",IF(ISNUMBER('Regional Project List Sheet'!$AD15),'Regional Project List Sheet'!$A$37,\"\"),\" \",IF(ISNUMBER('Regional Project List Sheet'!$AG15),'Regional Project List Sheet'!$A$38,\"\")),\"N/A\")","v":"N/A"},"N/A",{"$f":"IF(OR('Regional Project List Sheet'!AC15<>'Regional Project List Sheet'!$A$40,'Regional Project List Sheet'!AF15<>'Regional Project List Sheet'!$A$40,'Regional Project List Sheet'!AI15<>'Regional Project List Sheet'!$A$40),\n\nIF(LEN(_xlfn.CONCAT(IF('Regional Project List Sheet'!AC15=\"Yes\",'Regional Project List Sheet'!$A$36,\"\"),\" \",\n\nIF('Regional Project List Sheet'!AF15=\"Yes\",'Regional Project List Sheet'!$A$37,\"\"),\" \",\n\nIF('Regional Project List Sheet'!AI15=\"Yes\",'Regional Project List Sheet'!$A$38,\"\")))<3,\"No\",\n\n_xlfn.CONCAT(IF('Regional Project List Sheet'!AC15=\"Yes\",'Regional Project List Sheet'!$A$36,\"\"),\" \",\n\nIF('Regional Project List Sheet'!AF15=\"Yes\",'Regional Project List Sheet'!$A$37,\"\"),\" \",\n\nIF('Regional Project List Sheet'!AI15=\"Yes\",'Regional Project List Sheet'!$A$38,\"\"))))","v":false},false,{"$f":"'Regional Project List Sheet'!AK15","v":0},"PIH occurred 11/12/24",{"$f":"'Regional Project List Sheet'!AL15","v":0},null,0,null,null,null,null,null,null,null,null,null,null,1,{"$f":"IF(AND(BB113=\"OK\",BC113=\"OK\",BD113=\"OK\"),\"OK\",\"ERR!\")","v":"OK"},{"$f":"IF(AND(Y113>0,SUM(BN113:BX113)<1),\"ERR!\",IF(AND(Z113>0,SUM(BY113:CI113)<1),\"ERR!\",IF(AND(AA113>0,SUM(CJ113:CT113)<1),\"ERR\",IF(AND(AB113>0,SUM(CU113:DE113)<1),\"ERR\",IF(AND(AC113>0,SUM(DF113:DP113)<1),\"ERR\",IF(AND(AD113>0,SUM(DQ113:EA113)<1),\"ERR\",\"OK\"))))))","v":"OK"},{"$f":"IF(OR(SUM(BN113:BX113)<>1,SUM(BY113:CI113)<>1,SUM(CJ113:CT113)<>1,SUM(CU113:DE113)<>1,SUM(DF113:DP113)<>1,SUM(DQ113:EA113)<>1),\"ERR!\",\"OK\")","v":"OK"},{"$f":"IF(AND(OR(BE113=BK113,BE113=0),OR(BF113=BK113,BF113=0),OR(BG113=BK113,BG113=0),OR(BH113=BK113,BH113=0),OR(BI113=BK113,BI113=0),OR(BJ113=BK113,BJ113=0)),\"OK\",\"ERR!\")","v":"OK"},{"$f":"(BN113*POWER(10,0)+BO113*POWER(10,1)+BP113*POWER(10,2)+BQ113*POWER(10,3)+BR113*POWER(10,4)+BS113*POWER(10,5)+BT113*POWER(10,6)+BU113*POWER(10,7)+BV113*POWER(10,8)+BW113*POWER(10,9)+BX113*POWER(10,10))","v":100},{"$f":"(BY113*POWER(10,0)+BZ113*POWER(10,1)+CA113*POWER(10,2)+CB113*POWER(10,3)+CC113*POWER(10,4)+CD113*POWER(10,5)+CE113*POWER(10,6)+CF113*POWER(10,7)+CG113*POWER(10,8)+CH113*POWER(10,9)+CI113*POWER(10,10))","v":100},{"$f":"(CJ113*POWER(10,0)+CK113*POWER(10,1)+CL113*POWER(10,2)+CM113*POWER(10,3)+CN113*POWER(10,4)+CO113*POWER(10,5)+CP113*POWER(10,6)+CQ113*POWER(10,7)+CR113*POWER(10,8)+CS113*POWER(10,9)+CT113*POWER(10,10))","v":100},{"$f":"(CU113*POWER(10,0)+CV113*POWER(10,1)+CW113*POWER(10,2)+CX113*POWER(10,3)+CY113*POWER(10,4)+CZ113*POWER(10,5)+DA113*POWER(10,6)+DB113*POWER(10,7)+DC113*POWER(10,8)+DD113*POWER(10,9)+DE113*POWER(10,10))","v":100},{"$f":"(DF113*POWER(10,0)+DG113*POWER(10,1)+DH113*POWER(10,2)+DI113*POWER(10,3)+DJ113*POWER(10,4)+DK113*POWER(10,5)+DL113*POWER(10,6)+DM113*POWER(10,7)+DN113*POWER(10,8)+DO113*POWER(10,9)+DP113*POWER(10,10))","v":100},{"$f":"(DQ113*POWER(10,0)+DR113*POWER(10,1)+DS113*POWER(10,2)+DT113*POWER(10,3)+DU113*POWER(10,4)+DV113*POWER(10,5)+DW113*POWER(10,6)+DX113*POWER(10,7)+DY113*POWER(10,8)+DZ113*POWER(10,9)+EA113*POWER(10,10))","v":100},{"$f":"MAX(BE113:BJ113)","v":100},null,0,null,null,1,null,null,null,null,null,null,null,null,null,null,1,null,null,null,null,null,null,null,null,null,null,1,null,null,null,null,null,null,null,null,null,null,1,null,null,null,null,null,null,null,null,null,null,1,null,null,null,null,null,null,null,null,null,null,1,null,null,null,null,null,null,null,null,null,0,{"$f":"($Y113*D$113)/1000","v":{"$error":"#VALUE!"}},{"$error":"#VALUE!"},{"$error":"#VALUE!"},{"$f":"($Z113*D$113)/1000","v":{"$error":"#VALUE!"}},{"$error":"#VALUE!"},{"$error":"#VALUE!"},{"$f":"($AA113*D$113)/1000","v":{"$error":"#VALUE!"}},{"$error":"#VALUE!"},{"$error":"#VALUE!"},{"$f":"($AB113*D$113)/1000","v":{"$error":"#VALUE!"}},{"$error":"#VALUE!"},{"$error":"#VALUE!"},{"$f":"($AC113*D$113)/1000","v":{"$error":"#VALUE!"}},{"$error":"#VALUE!"},{"$error":"#VALUE!"},{"$f":"($AD113*D$113)/1000","v":{"$error":"#VALUE!"}},{"$error":"#VALUE!"},{"$error":"#VALUE!"},null,0,{"$f":"$AZ$113*$Y113","v":0},{"$f":"($AZ$113*$BN113*D$113*$Y113)/1000","v":{"$error":"#VALUE!"}},{"$error":"#VALUE!"},{"$error":"#VALUE!"},{"$f":"($AZ$113*$BO113*D$113*$Y113)/1000","v":{"$error":"#VALUE!"}},{"$error":"#VALUE!"},{"$error":"#VALUE!"},{"$f":"($AZ$113*$BP113*D$113*$Y113)/1000","v":{"$error":"#VALUE!"}},{"$error":"#VALUE!"},{"$error":"#VALUE!"},{"$f":"($AZ$113*$BQ113*D$113*$Y113)/1000","v":{"$error":"#VALUE!"}},{"$error":"#VALUE!"},{"$error":"#VALUE!"},{"$f":"($AZ$113*$BR113*D$113*$Y113)/1000","v":{"$error":"#VALUE!"}},{"$error":"#VALUE!"},{"$error":"#VALUE!"},{"$f":"($AZ$113*$BS113*D$113*$Y113)/1000","v":{"$error":"#VALUE!"}},{"$error":"#VALUE!"},{"$error":"#VALUE!"},{"$f":"($AZ$113*$BT113*D$113*$Y113)/1000","v":{"$error":"#VALUE!"}},{"$error":"#VALUE!"},{"$error":"#VALUE!"},{"$f":"($AZ$113*$BU113*D$113*$Y113)/1000","v":{"$error":"#VALUE!"}},{"$error":"#VALUE!"},{"$error":"#VALUE!"},{"$f":"($AZ$113*$BV113*D$113*$Y113)/1000","v":{"$error":"#VALUE!"}},{"$error":"#VALUE!"},{"$error":"#VALUE!"},{"$f":"($AZ$113*$BW113*D$113*$Y113)/1000","v":{"$error":"#VALUE!"}},{"$error":"#VALUE!"},{"$error":"#VALUE!"},{"$f":"($AZ$113*$BX113*D$113*$Y113)/1000","v":{"$error":"#VALUE!"}},{"$error":"#VALUE!"},{"$error":"#VALUE!"},0,{"$f":"$AZ$113*$Z113","v":0},{"$f":"($AZ$113*$BY113*D$113*$Z113)/1000","v":{"$error":"#VALUE!"}},{"$error":"#VALUE!"},{"$error":"#VALUE!"},{"$f":"($AZ$113*$BZ113*D$113*$Z113)/1000","v":{"$error":"#VALUE!"}},{"$error":"#VALUE!"},{"$error":"#VALUE!"},{"$f":"($AZ$113*$CA113*D$113*$Z113)/1000","v":{"$error":"#VALUE!"}},{"$error":"#VALUE!"},{"$error":"#VALUE!"},{"$f":"($AZ$113*$CB113*D$113*$Z113)/1000","v":{"$error":"#VALUE!"}},{"$error":"#VALUE!"},{"$error":"#VALUE!"},{"$f":"($AZ$113*$CD113*D$113*$Z113)/1000","v":{"$error":"#VALUE!"}},{"$error":"#VALUE!"},{"$error":"#VALUE!"},{"$f":"($AZ$113*$CD113*D$113*$Z113)/1000","v":{"$error":"#VALUE!"}},{"$error":"#VALUE!"},{"$error":"#VALUE!"},{"$f":"($AZ$113*$CE113*D$113*$Z113)/1000","v":{"$error":"#VALUE!"}},{"$error":"#VALUE!"},{"$error":"#VALUE!"},{"$f":"($AZ$113*$CF113*D$113*$Z113)/1000","v":{"$error":"#VALUE!"}},{"$error":"#VALUE!"},{"$error":"#VALUE!"},{"$f":"($AZ$113*$CG113*D$113*$Z113)/1000","v":{"$error":"#VALUE!"}},{"$error":"#VALUE!"},{"$error":"#VALUE!"},{"$f":"($AZ$113*$CH113*D$113*$Z113)/1000","v":{"$error":"#VALUE!"}},{"$error":"#VALUE!"},{"$error":"#VALUE!"},{"$f":"($AZ$113*$CI113*D$113*$Z113)/1000","v":{"$error":"#VALUE!"}},{"$error":"#VALUE!"},{"$error":"#VALUE!"},0,{"$f":"$AZ$113*$AA113","v":0},{"$f":"($AZ$113*$CJ113*D$113*$AA113)/1000","v":{"$error":"#VALUE!"}},{"$error":"#VALUE!"},{"$error":"#VALUE!"},{"$f":"($AZ$113*$CK113*D$113*$AA113)/1000","v":{"$error":"#VALUE!"}},{"$error":"#VALUE!"},{"$error":"#VALUE!"},{"$f":"($AZ$113*$CL113*D$113*$AA113)/1000","v":{"$error":"#VALUE!"}},{"$error":"#VALUE!"},{"$error":"#VALUE!"},{"$f":"($AZ$113*$CM113*D$113*$AA113)/1000","v":{"$error":"#VALUE!"}},{"$error":"#VALUE!"},{"$error":"#VALUE!"},{"$f":"($AZ$113*$CN113*D$113*$AA113)/1000","v":{"$error":"#VALUE!"}},{"$error":"#VALUE!"},{"$error":"#VALUE!"},{"$f":"($AZ$113*$CO113*D$113*$AA113)/1000","v":{"$error":"#VALUE!"}},{"$error":"#VALUE!"},{"$error":"#VALUE!"},{"$f":"($AZ$113*$CP113*D$113*$AA113)/1000","v":{"$error":"#VALUE!"}},{"$error":"#VALUE!"},{"$error":"#VALUE!"},{"$f":"($AZ$113*$CQ113*D$113*$AA113)/1000","v":{"$error":"#VALUE!"}},{"$error":"#VALUE!"},{"$error":"#VALUE!"},{"$f":"($AZ$113*$CR113*D$113*$AA113)/1000","v":{"$error":"#VALUE!"}},{"$error":"#VALUE!"},{"$error":"#VALUE!"},{"$f":"($AZ$113*$CS113*D$113*$AA113)/1000","v":{"$error":"#VALUE!"}},{"$error":"#VALUE!"},{"$error":"#VALUE!"},{"$f":"($AZ$113*$CT113*D$113*$AA113)/1000","v":{"$error":"#VALUE!"}},{"$error":"#VALUE!"},{"$error":"#VALUE!"},0,{"$f":"$AZ$113*$AB113","v":0},{"$f":"($AZ$113*$CU113*D$113*$AB113)/1000","v":{"$error":"#VALUE!"}},{"$error":"#VALUE!"},{"$error":"#VALUE!"},{"$f":"($AZ$113*$CV113*D$113*$AB113)/1000","v":{"$error":"#VALUE!"}},{"$error":"#VALUE!"},{"$error":"#VALUE!"},{"$f":"($AZ$113*$CW113*D$113*$AB113)/1000","v":{"$error":"#VALUE!"}},{"$error":"#VALUE!"},{"$error":"#VALUE!"},{"$f":"($AZ$113*$CX113*D$113*$AB113)/1000","v":{"$error":"#VALUE!"}},{"$error":"#VALUE!"},{"$error":"#VALUE!"},{"$f":"($AZ$113*$CY113*D$113*$AB113)/1000","v":{"$error":"#VALUE!"}},{"$error":"#VALUE!"},{"$error":"#VALUE!"},{"$f":"($AZ$113*$CZ113*D$113*$AB113)/1000","v":{"$error":"#VALUE!"}},{"$error":"#VALUE!"},{"$error":"#VALUE!"},{"$f":"($AZ$113*$DA113*D$113*$AB113)/1000","v":{"$error":"#VALUE!"}},{"$error":"#VALUE!"},{"$error":"#VALUE!"},{"$f":"($AZ$113*$DB113*D$113*$AB113)/1000","v":{"$error":"#VALUE!"}},{"$error":"#VALUE!"},{"$error":"#VALUE!"},{"$f":"($AZ$113*$DC113*D$113*$AB113)/1000","v":{"$error":"#VALUE!"}},{"$error":"#VALUE!"},{"$error":"#VALUE!"},{"$f":"($AZ$113*$DD113*D$113*$AB113)/1000","v":{"$error":"#VALUE!"}},{"$error":"#VALUE!"},{"$error":"#VALUE!"},{"$f":"($AZ$113*$DE113*D$113*$AB113)/1000","v":{"$error":"#VALUE!"}},{"$error":"#VALUE!"},{"$error":"#VALUE!"},0,{"$f":"$AZ$113*$AC113","v":0},{"$f":"($AZ$113*$DF113*D$113*$AC113)/1000","v":{"$error":"#VALUE!"}},{"$error":"#VALUE!"},{"$error":"#VALUE!"},{"$f":"($AZ$113*$DG113*D$113*$AC113)/1000","v":{"$error":"#VALUE!"}},{"$error":"#VALUE!"},{"$error":"#VALUE!"},{"$f":"($AZ$113*$DH113*D$113*$AC113)/1000","v":{"$error":"#VALUE!"}},{"$error":"#VALUE!"},{"$error":"#VALUE!"},{"$f":"($AZ$113*$DI113*D$113*$AC113)/1000","v":{"$error":"#VALUE!"}},{"$error":"#VALUE!"},{"$error":"#VALUE!"},{"$f":"($AZ$113*$DJ113*D$113*$AC113)/1000","v":{"$error":"#VALUE!"}},{"$error":"#VALUE!"},{"$error":"#VALUE!"},{"$f":"($AZ$113*$DK113*D$113*$AC113)/1000","v":{"$error":"#VALUE!"}},{"$error":"#VALUE!"},{"$error":"#VALUE!"},{"$f":"($AZ$113*$DL113*D$113*$AC113)/1000","v":{"$error":"#VALUE!"}},{"$error":"#VALUE!"},{"$error":"#VALUE!"},{"$f":"($AZ$113*$DM113*D$113*$AC113)/1000","v":{"$error":"#VALUE!"}},{"$error":"#VALUE!"},{"$error":"#VALUE!"},{"$f":"($AZ$113*$DN113*D$113*$AC113)/1000","v":{"$error":"#VALUE!"}},{"$error":"#VALUE!"},{"$error":"#VALUE!"},{"$f":"($AZ$113*$DO113*D$113*$AC113)/1000","v":{"$error":"#VALUE!"}},{"$error":"#VALUE!"},{"$error":"#VALUE!"},{"$f":"($AZ$113*$DP113*D$113*$AC113)/1000","v":{"$error":"#VALUE!"}},{"$error":"#VALUE!"},{"$error":"#VALUE!"},0,{"$f":"$AZ$113*$AD113","v":0},{"$f":"($AZ$113*$DQ113*D$113*$AD113)/1000","v":{"$error":"#VALUE!"}},{"$error":"#VALUE!"},{"$error":"#VALUE!"},{"$f":"($AZ$113*$DR113*D$113*$AD113)/1000","v":{"$error":"#VALUE!"}},{"$error":"#VALUE!"},{"$error":"#VALUE!"},{"$f":"($AZ$113*$DS113*D$113*$AD113)/1000","v":{"$error":"#VALUE!"}},{"$error":"#VALUE!"},{"$error":"#VALUE!"},{"$f":"($AZ$113*$DT113*D$113*$AD113)/1000","v":{"$error":"#VALUE!"}},{"$error":"#VALUE!"},{"$error":"#VALUE!"},{"$f":"($AZ$113*$DU113*D$113*$AD113)/1000","v":{"$error":"#VALUE!"}},{"$error":"#VALUE!"},{"$error":"#VALUE!"},{"$f":"($AZ$113*$DV113*D$113*$AD113)/1000","v":{"$error":"#VALUE!"}},{"$error":"#VALUE!"},{"$error":"#VALUE!"},{"$f":"($AZ$113*$DW113*D$113*$AD113)/1000","v":{"$error":"#VALUE!"}},{"$error":"#VALUE!"},{"$error":"#VALUE!"},{"$f":"($AZ$113*$DX113*D$113*$AD113)/1000","v":{"$error":"#VALUE!"}},{"$error":"#VALUE!"},{"$error":"#VALUE!"},{"$f":"($AZ$113*$DY113*D$113*$AD113)/1000","v":{"$error":"#VALUE!"}},{"$error":"#VALUE!"},{"$error":"#VALUE!"},{"$f":"($AZ$113*$DZ113*D$113*$AD113)/1000","v":{"$error":"#VALUE!"}},{"$error":"#VALUE!"},{"$error":"#VALUE!"},{"$f":"($AZ$113*$EA113*D$113*$AD113)/1000","v":{"$error":"#VALUE!"}},{"$error":"#VALUE!"},{"$error":"#VALUE!"}]
[null,null,null,null,null,null,null,null,null,null,null,null,null,null,null,null,null,null,null,null,null,null,null,2,null,null,null,null,null,null,null,null,null,"N/A",null,false,null,null,null,null,2,null,null,null,null,null,null,null,null,null,null,null,{"$f":"IF(AND(BB114=\"OK\",BC114=\"OK\",BD114=\"OK\"),\"OK\",\"ERR!\")","v":"OK"},"OK",{"$f":"IF(OR(SUM(BN114:BX114)<>1,SUM(BY114:CI114)<>1,SUM(CJ114:CT114)<>1,SUM(CU114:DE114)<>1,SUM(DF114:DP114)<>1,SUM(DQ114:EA114)<>1),\"ERR!\",\"OK\")","v":"OK"},{"$f":"IF(AND(OR(BE114=BK114,BE114=0),OR(BF114=BK114,BF114=0),OR(BG114=BK114,BG114=0),OR(BH114=BK114,BH114=0),OR(BI114=BK114,BI114=0),OR(BJ114=BK114,BJ114=0)),\"OK\",\"ERR!\")","v":"OK"},{"$f":"(BN114*POWER(10,0)+BO114*POWER(10,1)+BP114*POWER(10,2)+BQ114*POWER(10,3)+BR114*POWER(10,4)+BS114*POWER(10,5)+BT114*POWER(10,6)+BU114*POWER(10,7)+BV114*POWER(10,8)+BW114*POWER(10,9)+BX114*POWER(10,10))","v":100},{"$f":"(BY114*POWER(10,0)+BZ114*POWER(10,1)+CA114*POWER(10,2)+CB114*POWER(10,3)+CC114*POWER(10,4)+CD114*POWER(10,5)+CE114*POWER(10,6)+CF114*POWER(10,7)+CG114*POWER(10,8)+CH114*POWER(10,9)+CI114*POWER(10,10))","v":100},{"$f":"(CJ114*POWER(10,0)+CK114*POWER(10,1)+CL114*POWER(10,2)+CM114*POWER(10,3)+CN114*POWER(10,4)+CO114*POWER(10,5)+CP114*POWER(10,6)+CQ114*POWER(10,7)+CR114*POWER(10,8)+CS114*POWER(10,9)+CT114*POWER(10,10))","v":100},{"$f":"(CU114*POWER(10,0)+CV114*POWER(10,1)+CW114*POWER(10,2)+CX114*POWER(10,3)+CY114*POWER(10,4)+CZ114*POWER(10,5)+DA114*POWER(10,6)+DB114*POWER(10,7)+DC114*POWER(10,8)+DD114*POWER(10,9)+DE114*POWER(10,10))","v":100},{"$f":"(DF114*POWER(10,0)+DG114*POWER(10,1)+DH114*POWER(10,2)+DI114*POWER(10,3)+DJ114*POWER(10,4)+DK114*POWER(10,5)+DL114*POWER(10,6)+DM114*POWER(10,7)+DN114*POWER(10,8)+DO114*POWER(10,9)+DP114*POWER(10,10))","v":100},{"$f":"(DQ114*POWER(10,0)+DR114*POWER(10,1)+DS114*POWER(10,2)+DT114*POWER(10,3)+DU114*POWER(10,4)+DV114*POWER(10,5)+DW114*POWER(10,6)+DX114*POWER(10,7)+DY114*POWER(10,8)+DZ114*POWER(10,9)+EA114*POWER(10,10))","v":100},{"$f":"MAX(BE114:BJ114)","v":100},null,2,null,null,1,null,null,null,null,null,null,null,null,null,null,1,null,null,null,null,null,null,null,null,null,null,1,null,null,null,null,null,null,null,null,null,null,1,null,null,null,null,null,null,null,null,null,null,1,null,null,null,null,null,null,null,null,null,null,1,null,null,null,null,null,null,null,null,null,2,{"$error":"#VALUE!"},{"$error":"#VALUE!"},{"$error":"#VALUE!"},{"$error":"#VALUE!"},{"$error":"#VALUE!"},{"$error":"#VALUE!"},{"$error":"#VALUE!"},{"$error":"#VALUE!"},{"$error":"#VALUE!"},{"$error":"#VALUE!"},{"$error":"#VALUE!"},{"$error":"#VALUE!"},{"$error":"#VALUE!"},{"$error":"#VALUE!"},{"$error":"#VALUE!"},{"$error":"#VALUE!"},{"$error":"#VALUE!"},{"$error":"#VALUE!"},null,2,0,{"$error":"#VALUE!"},{"$error":"#VALUE!"},{"$error":"#VALUE!"},{"$error":"#VALUE!"},{"$error":"#VALUE!"},{"$error":"#VALUE!"},{"$error":"#VALUE!"},{"$error":"#VALUE!"},{"$error":"#VALUE!"},{"$error":"#VALUE!"},{"$error":"#VALUE!"},{"$error":"#VALUE!"},{"$error":"#VALUE!"},{"$error":"#VALUE!"},{"$error":"#VALUE!"},{"$error":"#VALUE!"},{"$error":"#VALUE!"},{"$error":"#VALUE!"},{"$error":"#VALUE!"},{"$error":"#VALUE!"},{"$error":"#VALUE!"},{"$error":"#VALUE!"},{"$error":"#VALUE!"},{"$error":"#VALUE!"},{"$error":"#VALUE!"},{"$error":"#VALUE!"},{"$error":"#VALUE!"},{"$error":"#VALUE!"},{"$error":"#VALUE!"},{"$error":"#VALUE!"},{"$error":"#VALUE!"},{"$error":"#VALUE!"},{"$error":"#VALUE!"},2,0,{"$error":"#VALUE!"},{"$error":"#VALUE!"},{"$error":"#VALUE!"},{"$error":"#VALUE!"},{"$error":"#VALUE!"},{"$error":"#VALUE!"},{"$error":"#VALUE!"},{"$error":"#VALUE!"},{"$error":"#VALUE!"},{"$error":"#VALUE!"},{"$error":"#VALUE!"},{"$error":"#VALUE!"},{"$error":"#VALUE!"},{"$error":"#VALUE!"},{"$error":"#VALUE!"},{"$error":"#VALUE!"},{"$error":"#VALUE!"},{"$error":"#VALUE!"},{"$error":"#VALUE!"},{"$error":"#VALUE!"},{"$error":"#VALUE!"},{"$error":"#VALUE!"},{"$error":"#VALUE!"},{"$error":"#VALUE!"},{"$error":"#VALUE!"},{"$error":"#VALUE!"},{"$error":"#VALUE!"},{"$error":"#VALUE!"},{"$error":"#VALUE!"},{"$error":"#VALUE!"},{"$error":"#VALUE!"},{"$error":"#VALUE!"},{"$error":"#VALUE!"},2,0,{"$error":"#VALUE!"},{"$error":"#VALUE!"},{"$error":"#VALUE!"},{"$error":"#VALUE!"},{"$error":"#VALUE!"},{"$error":"#VALUE!"},{"$error":"#VALUE!"},{"$error":"#VALUE!"},{"$error":"#VALUE!"},{"$error":"#VALUE!"},{"$error":"#VALUE!"},{"$error":"#VALUE!"},{"$error":"#VALUE!"},{"$error":"#VALUE!"},{"$error":"#VALUE!"},{"$error":"#VALUE!"},{"$error":"#VALUE!"},{"$error":"#VALUE!"},{"$error":"#VALUE!"},{"$error":"#VALUE!"},{"$error":"#VALUE!"},{"$error":"#VALUE!"},{"$error":"#VALUE!"},{"$error":"#VALUE!"},{"$error":"#VALUE!"},{"$error":"#VALUE!"},{"$error":"#VALUE!"},{"$error":"#VALUE!"},{"$error":"#VALUE!"},{"$error":"#VALUE!"},{"$error":"#VALUE!"},{"$error":"#VALUE!"},{"$error":"#VALUE!"},2,0,{"$error":"#VALUE!"},{"$error":"#VALUE!"},{"$error":"#VALUE!"},{"$error":"#VALUE!"},{"$error":"#VALUE!"},{"$error":"#VALUE!"},{"$error":"#VALUE!"},{"$error":"#VALUE!"},{"$error":"#VALUE!"},{"$error":"#VALUE!"},{"$error":"#VALUE!"},{"$error":"#VALUE!"},{"$error":"#VALUE!"},{"$error":"#VALUE!"},{"$error":"#VALUE!"},{"$error":"#VALUE!"},{"$error":"#VALUE!"},{"$error":"#VALUE!"},{"$error":"#VALUE!"},{"$error":"#VALUE!"},{"$error":"#VALUE!"},{"$error":"#VALUE!"},{"$error":"#VALUE!"},{"$error":"#VALUE!"},{"$error":"#VALUE!"},{"$error":"#VALUE!"},{"$error":"#VALUE!"},{"$error":"#VALUE!"},{"$error":"#VALUE!"},{"$error":"#VALUE!"},{"$error":"#VALUE!"},{"$error":"#VALUE!"},{"$error":"#VALUE!"},2,0,{"$error":"#VALUE!"},{"$error":"#VALUE!"},{"$error":"#VALUE!"},{"$error":"#VALUE!"},{"$error":"#VALUE!"},{"$error":"#VALUE!"},{"$error":"#VALUE!"},{"$error":"#VALUE!"},{"$error":"#VALUE!"},{"$error":"#VALUE!"},{"$error":"#VALUE!"},{"$error":"#VALUE!"},{"$error":"#VALUE!"},{"$error":"#VALUE!"},{"$error":"#VALUE!"},{"$error":"#VALUE!"},{"$error":"#VALUE!"},{"$error":"#VALUE!"},{"$error":"#VALUE!"},{"$error":"#VALUE!"},{"$error":"#VALUE!"},{"$error":"#VALUE!"},{"$error":"#VALUE!"},{"$error":"#VALUE!"},{"$error":"#VALUE!"},{"$error":"#VALUE!"},{"$error":"#VALUE!"},{"$error":"#VALUE!"},{"$error":"#VALUE!"},{"$error":"#VALUE!"},{"$error":"#VALUE!"},{"$error":"#VALUE!"},{"$error":"#VALUE!"},2,0,{"$error":"#VALUE!"},{"$error":"#VALUE!"},{"$error":"#VALUE!"},{"$error":"#VALUE!"},{"$error":"#VALUE!"},{"$error":"#VALUE!"},{"$error":"#VALUE!"},{"$error":"#VALUE!"},{"$error":"#VALUE!"},{"$error":"#VALUE!"},{"$error":"#VALUE!"},{"$error":"#VALUE!"},{"$error":"#VALUE!"},{"$error":"#VALUE!"},{"$error":"#VALUE!"},{"$error":"#VALUE!"},{"$error":"#VALUE!"},{"$error":"#VALUE!"},{"$error":"#VALUE!"},{"$error":"#VALUE!"},{"$error":"#VALUE!"},{"$error":"#VALUE!"},{"$error":"#VALUE!"},{"$error":"#VALUE!"},{"$error":"#VALUE!"},{"$error":"#VALUE!"},{"$error":"#VALUE!"},{"$error":"#VALUE!"},{"$error":"#VALUE!"},{"$error":"#VALUE!"},{"$error":"#VALUE!"},{"$error":"#VALUE!"},{"$error":"#VALUE!"}]
[null,null,null,null,null,null,null,null,null,null,null,null,null,null,null,null,null,null,null,null,null,null,null,3,null,null,null,null,null,null,null,null,null,"N/A",null,false,null,null,null,null,3,null,null,null,null,null,null,null,null,null,null,null,{"$f":"IF(AND(BB115=\"OK\",BC115=\"OK\",BD115=\"OK\"),\"OK\",\"ERR!\")","v":"OK"},"OK",{"$f":"IF(OR(SUM(BN115:BX115)<>1,SUM(BY115:CI115)<>1,SUM(CJ115:CT115)<>1,SUM(CU115:DE115)<>1,SUM(DF115:DP115)<>1,SUM(DQ115:EA115)<>1),\"ERR!\",\"OK\")","v":"OK"},{"$f":"IF(AND(OR(BE115=BK115,BE115=0),OR(BF115=BK115,BF115=0),OR(BG115=BK115,BG115=0),OR(BH115=BK115,BH115=0),OR(BI115=BK115,BI115=0),OR(BJ115=BK115,BJ115=0)),\"OK\",\"ERR!\")","v":"OK"},100,100,100,100,100,100,{"$f":"MAX(BE115:BJ115)","v":100},null,3,null,null,1,null,null,null,null,null,null,null,null,null,null,1,null,null,null,null,null,null,null,null,null,null,1,null,null,null,null,null,null,null,null,null,null,1,null,null,null,null,null,null,null,null,null,null,1,null,null,null,null,null,null,null,null,null,null,1,null,null,null,null,null,null,null,null,null,3,{"$error":"#VALUE!"},{"$error":"#VALUE!"},{"$error":"#VALUE!"},{"$error":"#VALUE!"},{"$error":"#VALUE!"},{"$error":"#VALUE!"},{"$error":"#VALUE!"},{"$error":"#VALUE!"},{"$error":"#VALUE!"},{"$error":"#VALUE!"},{"$error":"#VALUE!"},{"$error":"#VALUE!"},{"$error":"#VALUE!"},{"$error":"#VALUE!"},{"$error":"#VALUE!"},{"$error":"#VALUE!"},{"$error":"#VALUE!"},{"$error":"#VALUE!"},null,3,0,{"$error":"#VALUE!"},{"$error":"#VALUE!"},{"$error":"#VALUE!"},{"$error":"#VALUE!"},{"$error":"#VALUE!"},{"$error":"#VALUE!"},{"$error":"#VALUE!"},{"$error":"#VALUE!"},{"$error":"#VALUE!"},{"$error":"#VALUE!"},{"$error":"#VALUE!"},{"$error":"#VALUE!"},{"$error":"#VALUE!"},{"$error":"#VALUE!"},{"$error":"#VALUE!"},{"$error":"#VALUE!"},{"$error":"#VALUE!"},{"$error":"#VALUE!"},{"$error":"#VALUE!"},{"$error":"#VALUE!"},{"$error":"#VALUE!"},{"$error":"#VALUE!"},{"$error":"#VALUE!"},{"$error":"#VALUE!"},{"$error":"#VALUE!"},{"$error":"#VALUE!"},{"$error":"#VALUE!"},{"$error":"#VALUE!"},{"$error":"#VALUE!"},{"$error":"#VALUE!"},{"$error":"#VALUE!"},{"$error":"#VALUE!"},{"$error":"#VALUE!"},3,0,{"$error":"#VALUE!"},{"$error":"#VALUE!"},{"$error":"#VALUE!"},{"$error":"#VALUE!"},{"$error":"#VALUE!"},{"$error":"#VALUE!"},{"$error":"#VALUE!"},{"$error":"#VALUE!"},{"$error":"#VALUE!"},{"$error":"#VALUE!"},{"$error":"#VALUE!"},{"$error":"#VALUE!"},{"$error":"#VALUE!"},{"$error":"#VALUE!"},{"$error":"#VALUE!"},{"$error":"#VALUE!"},{"$error":"#VALUE!"},{"$error":"#VALUE!"},{"$error":"#VALUE!"},{"$error":"#VALUE!"},{"$error":"#VALUE!"},{"$error":"#VALUE!"},{"$error":"#VALUE!"},{"$error":"#VALUE!"},{"$error":"#VALUE!"},{"$error":"#VALUE!"},{"$error":"#VALUE!"},{"$error":"#VALUE!"},{"$error":"#VALUE!"},{"$error":"#VALUE!"},{"$error":"#VALUE!"},{"$error":"#VALUE!"},{"$error":"#VALUE!"},3,0,{"$error":"#VALUE!"},{"$error":"#VALUE!"},{"$error":"#VALUE!"},{"$error":"#VALUE!"},{"$error":"#VALUE!"},{"$error":"#VALUE!"},{"$error":"#VALUE!"},{"$error":"#VALUE!"},{"$error":"#VALUE!"},{"$error":"#VALUE!"},{"$error":"#VALUE!"},{"$error":"#VALUE!"},{"$error":"#VALUE!"},{"$error":"#VALUE!"},{"$error":"#VALUE!"},{"$error":"#VALUE!"},{"$error":"#VALUE!"},{"$error":"#VALUE!"},{"$error":"#VALUE!"},{"$error":"#VALUE!"},{"$error":"#VALUE!"},{"$error":"#VALUE!"},{"$error":"#VALUE!"},{"$error":"#VALUE!"},{"$error":"#VALUE!"},{"$error":"#VALUE!"},{"$error":"#VALUE!"},{"$error":"#VALUE!"},{"$error":"#VALUE!"},{"$error":"#VALUE!"},{"$error":"#VALUE!"},{"$error":"#VALUE!"},{"$error":"#VALUE!"},3,0,{"$error":"#VALUE!"},{"$error":"#VALUE!"},{"$error":"#VALUE!"},{"$error":"#VALUE!"},{"$error":"#VALUE!"},{"$error":"#VALUE!"},{"$error":"#VALUE!"},{"$error":"#VALUE!"},{"$error":"#VALUE!"},{"$error":"#VALUE!"},{"$error":"#VALUE!"},{"$error":"#VALUE!"},{"$error":"#VALUE!"},{"$error":"#VALUE!"},{"$error":"#VALUE!"},{"$error":"#VALUE!"},{"$error":"#VALUE!"},{"$error":"#VALUE!"},{"$error":"#VALUE!"},{"$error":"#VALUE!"},{"$error":"#VALUE!"},{"$error":"#VALUE!"},{"$error":"#VALUE!"},{"$error":"#VALUE!"},{"$error":"#VALUE!"},{"$error":"#VALUE!"},{"$error":"#VALUE!"},{"$error":"#VALUE!"},{"$error":"#VALUE!"},{"$error":"#VALUE!"},{"$error":"#VALUE!"},{"$error":"#VALUE!"},{"$error":"#VALUE!"},3,0,{"$error":"#VALUE!"},{"$error":"#VALUE!"},{"$error":"#VALUE!"},{"$error":"#VALUE!"},{"$error":"#VALUE!"},{"$error":"#VALUE!"},{"$error":"#VALUE!"},{"$error":"#VALUE!"},{"$error":"#VALUE!"},{"$error":"#VALUE!"},{"$error":"#VALUE!"},{"$error":"#VALUE!"},{"$error":"#VALUE!"},{"$error":"#VALUE!"},{"$error":"#VALUE!"},{"$error":"#VALUE!"},{"$error":"#VALUE!"},{"$error":"#VALUE!"},{"$error":"#VALUE!"},{"$error":"#VALUE!"},{"$error":"#VALUE!"},{"$error":"#VALUE!"},{"$error":"#VALUE!"},{"$error":"#VALUE!"},{"$error":"#VALUE!"},{"$error":"#VALUE!"},{"$error":"#VALUE!"},{"$error":"#VALUE!"},{"$error":"#VALUE!"},{"$error":"#VALUE!"},{"$error":"#VALUE!"},{"$error":"#VALUE!"},{"$error":"#VALUE!"},3,0,{"$error":"#VALUE!"},{"$error":"#VALUE!"},{"$error":"#VALUE!"},{"$error":"#VALUE!"},{"$error":"#VALUE!"},{"$error":"#VALUE!"},{"$error":"#VALUE!"},{"$error":"#VALUE!"},{"$error":"#VALUE!"},{"$error":"#VALUE!"},{"$error":"#VALUE!"},{"$error":"#VALUE!"},{"$error":"#VALUE!"},{"$error":"#VALUE!"},{"$error":"#VALUE!"},{"$error":"#VALUE!"},{"$error":"#VALUE!"},{"$error":"#VALUE!"},{"$error":"#VALUE!"},{"$error":"#VALUE!"},{"$error":"#VALUE!"},{"$error":"#VALUE!"},{"$error":"#VALUE!"},{"$error":"#VALUE!"},{"$error":"#VALUE!"},{"$error":"#VALUE!"},{"$error":"#VALUE!"},{"$error":"#VALUE!"},{"$error":"#VALUE!"},{"$error":"#VALUE!"},{"$error":"#VALUE!"},{"$error":"#VALUE!"},{"$error":"#VALUE!"}]
[null,null,null,null,null,null,null,null,null,null,null,null,null,null,null,null,null,null,null,null,null,null,null,4,null,null,null,null,null,null,null,null,null,"N/A",null,false,null,null,null,null,4,null,null,null,null,null,null,null,null,null,null,null,{"$f":"IF(AND(BB116=\"OK\",BC116=\"OK\",BD116=\"OK\"),\"OK\",\"ERR!\")","v":"OK"},"OK","OK",{"$f":"IF(AND(OR(BE116=BK116,BE116=0),OR(BF116=BK116,BF116=0),OR(BG116=BK116,BG116=0),OR(BH116=BK116,BH116=0),OR(BI116=BK116,BI116=0),OR(BJ116=BK116,BJ116=0)),\"OK\",\"ERR!\")","v":"OK"},100,100,100,100,100,100,100,null,4,null,null,1,null,null,null,null,null,null,null,null,null,null,1,null,null,null,null,null,null,null,null,null,null,1,null,null,null,null,null,null,null,null,null,null,1,null,null,null,null,null,null,null,null,null,null,1,null,null,null,null,null,null,null,null,null,null,1,null,null,null,null,null,null,null,null,null,4,{"$error":"#VALUE!"},{"$error":"#VALUE!"},{"$error":"#VALUE!"},{"$error":"#VALUE!"},{"$error":"#VALUE!"},{"$error":"#VALUE!"},{"$error":"#VALUE!"},{"$error":"#VALUE!"},{"$error":"#VALUE!"},{"$error":"#VALUE!"},{"$error":"#VALUE!"},{"$error":"#VALUE!"},{"$error":"#VALUE!"},{"$error":"#VALUE!"},{"$error":"#VALUE!"},{"$error":"#VALUE!"},{"$error":"#VALUE!"},{"$error":"#VALUE!"},null,4,0,{"$error":"#VALUE!"},{"$error":"#VALUE!"},{"$error":"#VALUE!"},{"$error":"#VALUE!"},{"$error":"#VALUE!"},{"$error":"#VALUE!"},{"$error":"#VALUE!"},{"$error":"#VALUE!"},{"$error":"#VALUE!"},{"$error":"#VALUE!"},{"$error":"#VALUE!"},{"$error":"#VALUE!"},{"$error":"#VALUE!"},{"$error":"#VALUE!"},{"$error":"#VALUE!"},{"$error":"#VALUE!"},{"$error":"#VALUE!"},{"$error":"#VALUE!"},{"$error":"#VALUE!"},{"$error":"#VALUE!"},{"$error":"#VALUE!"},{"$error":"#VALUE!"},{"$error":"#VALUE!"},{"$error":"#VALUE!"},{"$error":"#VALUE!"},{"$error":"#VALUE!"},{"$error":"#VALUE!"},{"$error":"#VALUE!"},{"$error":"#VALUE!"},{"$error":"#VALUE!"},{"$error":"#VALUE!"},{"$error":"#VALUE!"},{"$error":"#VALUE!"},4,0,{"$error":"#VALUE!"},{"$error":"#VALUE!"},{"$error":"#VALUE!"},{"$error":"#VALUE!"},{"$error":"#VALUE!"},{"$error":"#VALUE!"},{"$error":"#VALUE!"},{"$error":"#VALUE!"},{"$error":"#VALUE!"},{"$error":"#VALUE!"},{"$error":"#VALUE!"},{"$error":"#VALUE!"},{"$error":"#VALUE!"},{"$error":"#VALUE!"},{"$error":"#VALUE!"},{"$error":"#VALUE!"},{"$error":"#VALUE!"},{"$error":"#VALUE!"},{"$error":"#VALUE!"},{"$error":"#VALUE!"},{"$error":"#VALUE!"},{"$error":"#VALUE!"},{"$error":"#VALUE!"},{"$error":"#VALUE!"},{"$error":"#VALUE!"},{"$error":"#VALUE!"},{"$error":"#VALUE!"},{"$error":"#VALUE!"},{"$error":"#VALUE!"},{"$error":"#VALUE!"},{"$error":"#VALUE!"},{"$error":"#VALUE!"},{"$error":"#VALUE!"},4,0,{"$error":"#VALUE!"},{"$error":"#VALUE!"},{"$error":"#VALUE!"},{"$error":"#VALUE!"},{"$error":"#VALUE!"},{"$error":"#VALUE!"},{"$error":"#VALUE!"},{"$error":"#VALUE!"},{"$error":"#VALUE!"},{"$error":"#VALUE!"},{"$error":"#VALUE!"},{"$error":"#VALUE!"},{"$error":"#VALUE!"},{"$error":"#VALUE!"},{"$error":"#VALUE!"},{"$error":"#VALUE!"},{"$error":"#VALUE!"},{"$error":"#VALUE!"},{"$error":"#VALUE!"},{"$error":"#VALUE!"},{"$error":"#VALUE!"},{"$error":"#VALUE!"},{"$error":"#VALUE!"},{"$error":"#VALUE!"},{"$error":"#VALUE!"},{"$error":"#VALUE!"},{"$error":"#VALUE!"},{"$error":"#VALUE!"},{"$error":"#VALUE!"},{"$error":"#VALUE!"},{"$error":"#VALUE!"},{"$error":"#VALUE!"},{"$error":"#VALUE!"},4,0,{"$error":"#VALUE!"},{"$error":"#VALUE!"},{"$error":"#VALUE!"},{"$error":"#VALUE!"},{"$error":"#VALUE!"},{"$error":"#VALUE!"},{"$error":"#VALUE!"},{"$error":"#VALUE!"},{"$error":"#VALUE!"},{"$error":"#VALUE!"},{"$error":"#VALUE!"},{"$error":"#VALUE!"},{"$error":"#VALUE!"},{"$error":"#VALUE!"},{"$error":"#VALUE!"},{"$error":"#VALUE!"},{"$error":"#VALUE!"},{"$error":"#VALUE!"},{"$error":"#VALUE!"},{"$error":"#VALUE!"},{"$error":"#VALUE!"},{"$error":"#VALUE!"},{"$error":"#VALUE!"},{"$error":"#VALUE!"},{"$error":"#VALUE!"},{"$error":"#VALUE!"},{"$error":"#VALUE!"},{"$error":"#VALUE!"},{"$error":"#VALUE!"},{"$error":"#VALUE!"},{"$error":"#VALUE!"},{"$error":"#VALUE!"},{"$error":"#VALUE!"},4,0,{"$error":"#VALUE!"},{"$error":"#VALUE!"},{"$error":"#VALUE!"},{"$error":"#VALUE!"},{"$error":"#VALUE!"},{"$error":"#VALUE!"},{"$error":"#VALUE!"},{"$error":"#VALUE!"},{"$error":"#VALUE!"},{"$error":"#VALUE!"},{"$error":"#VALUE!"},{"$error":"#VALUE!"},{"$error":"#VALUE!"},{"$error":"#VALUE!"},{"$error":"#VALUE!"},{"$error":"#VALUE!"},{"$error":"#VALUE!"},{"$error":"#VALUE!"},{"$error":"#VALUE!"},{"$error":"#VALUE!"},{"$error":"#VALUE!"},{"$error":"#VALUE!"},{"$error":"#VALUE!"},{"$error":"#VALUE!"},{"$error":"#VALUE!"},{"$error":"#VALUE!"},{"$error":"#VALUE!"},{"$error":"#VALUE!"},{"$error":"#VALUE!"},{"$error":"#VALUE!"},{"$error":"#VALUE!"},{"$error":"#VALUE!"},{"$error":"#VALUE!"},4,0,{"$error":"#VALUE!"},{"$error":"#VALUE!"},{"$error":"#VALUE!"},{"$error":"#VALUE!"},{"$error":"#VALUE!"},{"$error":"#VALUE!"},{"$error":"#VALUE!"},{"$error":"#VALUE!"},{"$error":"#VALUE!"},{"$error":"#VALUE!"},{"$error":"#VALUE!"},{"$error":"#VALUE!"},{"$error":"#VALUE!"},{"$error":"#VALUE!"},{"$error":"#VALUE!"},{"$error":"#VALUE!"},{"$error":"#VALUE!"},{"$error":"#VALUE!"},{"$error":"#VALUE!"},{"$error":"#VALUE!"},{"$error":"#VALUE!"},{"$error":"#VALUE!"},{"$error":"#VALUE!"},{"$error":"#VALUE!"},{"$error":"#VALUE!"},{"$error":"#VALUE!"},{"$error":"#VALUE!"},{"$error":"#VALUE!"},{"$error":"#VALUE!"},{"$error":"#VALUE!"},{"$error":"#VALUE!"},{"$error":"#VALUE!"},{"$error":"#VALUE!"}]
[null,null,null,null,null,null,null,null,null,null,null,null,null,null,null,null,null,null,null,null,null,null,null,7,null,null,null,null,null,null,null,null,null,"N/A",null,false,null,null,null,null,7,null,null,null,null,null,null,null,null,null,null,null,{"$f":"IF(AND(BB117=\"OK\",BC117=\"OK\",BD117=\"OK\"),\"OK\",\"ERR!\")","v":"OK"},"OK","OK","OK",100,100,100,100,100,100,100,null,7,null,null,1,null,null,null,null,null,null,null,null,null,null,1,null,null,null,null,null,null,null,null,null,null,1,null,null,null,null,null,null,null,null,null,null,1,null,null,null,null,null,null,null,null,null,null,1,null,null,null,null,null,null,null,null,null,null,1,null,null,null,null,null,null,null,null,null,7,{"$error":"#VALUE!"},{"$error":"#VALUE!"},{"$error":"#VALUE!"},{"$error":"#VALUE!"},{"$error":"#VALUE!"},{"$error":"#VALUE!"},{"$error":"#VALUE!"},{"$error":"#VALUE!"},{"$error":"#VALUE!"},{"$error":"#VALUE!"},{"$error":"#VALUE!"},{"$error":"#VALUE!"},{"$error":"#VALUE!"},{"$error":"#VALUE!"},{"$error":"#VALUE!"},{"$error":"#VALUE!"},{"$error":"#VALUE!"},{"$error":"#VALUE!"},null,7,0,{"$error":"#VALUE!"},{"$error":"#VALUE!"},{"$error":"#VALUE!"},{"$error":"#VALUE!"},{"$error":"#VALUE!"},{"$error":"#VALUE!"},{"$error":"#VALUE!"},{"$error":"#VALUE!"},{"$error":"#VALUE!"},{"$error":"#VALUE!"},{"$error":"#VALUE!"},{"$error":"#VALUE!"},{"$error":"#VALUE!"},{"$error":"#VALUE!"},{"$error":"#VALUE!"},{"$error":"#VALUE!"},{"$error":"#VALUE!"},{"$error":"#VALUE!"},{"$error":"#VALUE!"},{"$error":"#VALUE!"},{"$error":"#VALUE!"},{"$error":"#VALUE!"},{"$error":"#VALUE!"},{"$error":"#VALUE!"},{"$error":"#VALUE!"},{"$error":"#VALUE!"},{"$error":"#VALUE!"},{"$error":"#VALUE!"},{"$error":"#VALUE!"},{"$error":"#VALUE!"},{"$error":"#VALUE!"},{"$error":"#VALUE!"},{"$error":"#VALUE!"},7,0,{"$error":"#VALUE!"},{"$error":"#VALUE!"},{"$error":"#VALUE!"},{"$error":"#VALUE!"},{"$error":"#VALUE!"},{"$error":"#VALUE!"},{"$error":"#VALUE!"},{"$error":"#VALUE!"},{"$error":"#VALUE!"},{"$error":"#VALUE!"},{"$error":"#VALUE!"},{"$error":"#VALUE!"},{"$error":"#VALUE!"},{"$error":"#VALUE!"},{"$error":"#VALUE!"},{"$error":"#VALUE!"},{"$error":"#VALUE!"},{"$error":"#VALUE!"},{"$error":"#VALUE!"},{"$error":"#VALUE!"},{"$error":"#VALUE!"},{"$error":"#VALUE!"},{"$error":"#VALUE!"},{"$error":"#VALUE!"},{"$error":"#VALUE!"},{"$error":"#VALUE!"},{"$error":"#VALUE!"},{"$error":"#VALUE!"},{"$error":"#VALUE!"},{"$error":"#VALUE!"},{"$error":"#VALUE!"},{"$error":"#VALUE!"},{"$error":"#VALUE!"},7,0,{"$error":"#VALUE!"},{"$error":"#VALUE!"},{"$error":"#VALUE!"},{"$error":"#VALUE!"},{"$error":"#VALUE!"},{"$error":"#VALUE!"},{"$error":"#VALUE!"},{"$error":"#VALUE!"},{"$error":"#VALUE!"},{"$error":"#VALUE!"},{"$error":"#VALUE!"},{"$error":"#VALUE!"},{"$error":"#VALUE!"},{"$error":"#VALUE!"},{"$error":"#VALUE!"},{"$error":"#VALUE!"},{"$error":"#VALUE!"},{"$error":"#VALUE!"},{"$error":"#VALUE!"},{"$error":"#VALUE!"},{"$error":"#VALUE!"},{"$error":"#VALUE!"},{"$error":"#VALUE!"},{"$error":"#VALUE!"},{"$error":"#VALUE!"},{"$error":"#VALUE!"},{"$error":"#VALUE!"},{"$error":"#VALUE!"},{"$error":"#VALUE!"},{"$error":"#VALUE!"},{"$error":"#VALUE!"},{"$error":"#VALUE!"},{"$error":"#VALUE!"},7,0,{"$error":"#VALUE!"},{"$error":"#VALUE!"},{"$error":"#VALUE!"},{"$error":"#VALUE!"},{"$error":"#VALUE!"},{"$error":"#VALUE!"},{"$error":"#VALUE!"},{"$error":"#VALUE!"},{"$error":"#VALUE!"},{"$error":"#VALUE!"},{"$error":"#VALUE!"},{"$error":"#VALUE!"},{"$error":"#VALUE!"},{"$error":"#VALUE!"},{"$error":"#VALUE!"},{"$error":"#VALUE!"},{"$error":"#VALUE!"},{"$error":"#VALUE!"},{"$error":"#VALUE!"},{"$error":"#VALUE!"},{"$error":"#VALUE!"},{"$error":"#VALUE!"},{"$error":"#VALUE!"},{"$error":"#VALUE!"},{"$error":"#VALUE!"},{"$error":"#VALUE!"},{"$error":"#VALUE!"},{"$error":"#VALUE!"},{"$error":"#VALUE!"},{"$error":"#VALUE!"},{"$error":"#VALUE!"},{"$error":"#VALUE!"},{"$error":"#VALUE!"},7,0,{"$error":"#VALUE!"},{"$error":"#VALUE!"},{"$error":"#VALUE!"},{"$error":"#VALUE!"},{"$error":"#VALUE!"},{"$error":"#VALUE!"},{"$error":"#VALUE!"},{"$error":"#VALUE!"},{"$error":"#VALUE!"},{"$error":"#VALUE!"},{"$error":"#VALUE!"},{"$error":"#VALUE!"},{"$error":"#VALUE!"},{"$error":"#VALUE!"},{"$error":"#VALUE!"},{"$error":"#VALUE!"},{"$error":"#VALUE!"},{"$error":"#VALUE!"},{"$error":"#VALUE!"},{"$error":"#VALUE!"},{"$error":"#VALUE!"},{"$error":"#VALUE!"},{"$error":"#VALUE!"},{"$error":"#VALUE!"},{"$error":"#VALUE!"},{"$error":"#VALUE!"},{"$error":"#VALUE!"},{"$error":"#VALUE!"},{"$error":"#VALUE!"},{"$error":"#VALUE!"},{"$error":"#VALUE!"},{"$error":"#VALUE!"},{"$error":"#VALUE!"},7,0,{"$error":"#VALUE!"},{"$error":"#VALUE!"},{"$error":"#VALUE!"},{"$error":"#VALUE!"},{"$error":"#VALUE!"},{"$error":"#VALUE!"},{"$error":"#VALUE!"},{"$error":"#VALUE!"},{"$error":"#VALUE!"},{"$error":"#VALUE!"},{"$error":"#VALUE!"},{"$error":"#VALUE!"},{"$error":"#VALUE!"},{"$error":"#VALUE!"},{"$error":"#VALUE!"},{"$error":"#VALUE!"},{"$error":"#VALUE!"},{"$error":"#VALUE!"},{"$error":"#VALUE!"},{"$error":"#VALUE!"},{"$error":"#VALUE!"},{"$error":"#VALUE!"},{"$error":"#VALUE!"},{"$error":"#VALUE!"},{"$error":"#VALUE!"},{"$error":"#VALUE!"},{"$error":"#VALUE!"},{"$error":"#VALUE!"},{"$error":"#VALUE!"},{"$error":"#VALUE!"},{"$error":"#VALUE!"},{"$error":"#VALUE!"},{"$error":"#VALUE!"}]
[null,null,null,null,null,null,null,null,null,null,null,null,null,null,null,null,null,null,null,null,null,null,null,8,null,null,null,null,null,null,null,null,null,"N/A",null,false,null,null,null,null,8,null,null,null,null,null,null,null,null,null,null,null,"OK","OK","OK","OK",100,100,100,100,100,100,100,null,8,null,null,1,null,null,null,null,null,null,null,null,null,null,1,null,null,null,null,null,null,null,null,null,null,1,null,null,null,null,null,null,null,null,null,null,1,null,null,null,null,null,null,null,null,null,null,1,null,null,null,null,null,null,null,null,null,null,1,null,null,null,null,null,null,null,null,null,8,{"$error":"#VALUE!"},{"$error":"#VALUE!"},{"$error":"#VALUE!"},{"$error":"#VALUE!"},{"$error":"#VALUE!"},{"$error":"#VALUE!"},{"$error":"#VALUE!"},{"$error":"#VALUE!"},{"$error":"#VALUE!"},{"$error":"#VALUE!"},{"$error":"#VALUE!"},{"$error":"#VALUE!"},{"$error":"#VALUE!"},{"$error":"#VALUE!"},{"$error":"#VALUE!"},{"$error":"#VALUE!"},{"$error":"#VALUE!"},{"$error":"#VALUE!"},null,8,0,{"$error":"#VALUE!"},{"$error":"#VALUE!"},{"$error":"#VALUE!"},{"$error":"#VALUE!"},{"$error":"#VALUE!"},{"$error":"#VALUE!"},{"$error":"#VALUE!"},{"$error":"#VALUE!"},{"$error":"#VALUE!"},{"$error":"#VALUE!"},{"$error":"#VALUE!"},{"$error":"#VALUE!"},{"$error":"#VALUE!"},{"$error":"#VALUE!"},{"$error":"#VALUE!"},{"$error":"#VALUE!"},{"$error":"#VALUE!"},{"$error":"#VALUE!"},{"$error":"#VALUE!"},{"$error":"#VALUE!"},{"$error":"#VALUE!"},{"$error":"#VALUE!"},{"$error":"#VALUE!"},{"$error":"#VALUE!"},{"$error":"#VALUE!"},{"$error":"#VALUE!"},{"$error":"#VALUE!"},{"$error":"#VALUE!"},{"$error":"#VALUE!"},{"$error":"#VALUE!"},{"$error":"#VALUE!"},{"$error":"#VALUE!"},{"$error":"#VALUE!"},8,0,{"$error":"#VALUE!"},{"$error":"#VALUE!"},{"$error":"#VALUE!"},{"$error":"#VALUE!"},{"$error":"#VALUE!"},{"$error":"#VALUE!"},{"$error":"#VALUE!"},{"$error":"#VALUE!"},{"$error":"#VALUE!"},{"$error":"#VALUE!"},{"$error":"#VALUE!"},{"$error":"#VALUE!"},{"$error":"#VALUE!"},{"$error":"#VALUE!"},{"$error":"#VALUE!"},{"$error":"#VALUE!"},{"$error":"#VALUE!"},{"$error":"#VALUE!"},{"$error":"#VALUE!"},{"$error":"#VALUE!"},{"$error":"#VALUE!"},{"$error":"#VALUE!"},{"$error":"#VALUE!"},{"$error":"#VALUE!"},{"$error":"#VALUE!"},{"$error":"#VALUE!"},{"$error":"#VALUE!"},{"$error":"#VALUE!"},{"$error":"#VALUE!"},{"$error":"#VALUE!"},{"$error":"#VALUE!"},{"$error":"#VALUE!"},{"$error":"#VALUE!"},8,0,{"$error":"#VALUE!"},{"$error":"#VALUE!"},{"$error":"#VALUE!"},{"$error":"#VALUE!"},{"$error":"#VALUE!"},{"$error":"#VALUE!"},{"$error":"#VALUE!"},{"$error":"#VALUE!"},{"$error":"#VALUE!"},{"$error":"#VALUE!"},{"$error":"#VALUE!"},{"$error":"#VALUE!"},{"$error":"#VALUE!"},{"$error":"#VALUE!"},{"$error":"#VALUE!"},{"$error":"#VALUE!"},{"$error":"#VALUE!"},{"$error":"#VALUE!"},{"$error":"#VALUE!"},{"$error":"#VALUE!"},{"$error":"#VALUE!"},{"$error":"#VALUE!"},{"$error":"#VALUE!"},{"$error":"#VALUE!"},{"$error":"#VALUE!"},{"$error":"#VALUE!"},{"$error":"#VALUE!"},{"$error":"#VALUE!"},{"$error":"#VALUE!"},{"$error":"#VALUE!"},{"$error":"#VALUE!"},{"$error":"#VALUE!"},{"$error":"#VALUE!"},8,0,{"$error":"#VALUE!"},{"$error":"#VALUE!"},{"$error":"#VALUE!"},{"$error":"#VALUE!"},{"$error":"#VALUE!"},{"$error":"#VALUE!"},{"$error":"#VALUE!"},{"$error":"#VALUE!"},{"$error":"#VALUE!"},{"$error":"#VALUE!"},{"$error":"#VALUE!"},{"$error":"#VALUE!"},{"$error":"#VALUE!"},{"$error":"#VALUE!"},{"$error":"#VALUE!"},{"$error":"#VALUE!"},{"$error":"#VALUE!"},{"$error":"#VALUE!"},{"$error":"#VALUE!"},{"$error":"#VALUE!"},{"$error":"#VALUE!"},{"$error":"#VALUE!"},{"$error":"#VALUE!"},{"$error":"#VALUE!"},{"$error":"#VALUE!"},{"$error":"#VALUE!"},{"$error":"#VALUE!"},{"$error":"#VALUE!"},{"$error":"#VALUE!"},{"$error":"#VALUE!"},{"$error":"#VALUE!"},{"$error":"#VALUE!"},{"$error":"#VALUE!"},8,0,{"$error":"#VALUE!"},{"$error":"#VALUE!"},{"$error":"#VALUE!"},{"$error":"#VALUE!"},{"$error":"#VALUE!"},{"$error":"#VALUE!"},{"$error":"#VALUE!"},{"$error":"#VALUE!"},{"$error":"#VALUE!"},{"$error":"#VALUE!"},{"$error":"#VALUE!"},{"$error":"#VALUE!"},{"$error":"#VALUE!"},{"$error":"#VALUE!"},{"$error":"#VALUE!"},{"$error":"#VALUE!"},{"$error":"#VALUE!"},{"$error":"#VALUE!"},{"$error":"#VALUE!"},{"$error":"#VALUE!"},{"$error":"#VALUE!"},{"$error":"#VALUE!"},{"$error":"#VALUE!"},{"$error":"#VALUE!"},{"$error":"#VALUE!"},{"$error":"#VALUE!"},{"$error":"#VALUE!"},{"$error":"#VALUE!"},{"$error":"#VALUE!"},{"$error":"#VALUE!"},{"$error":"#VALUE!"},{"$error":"#VALUE!"},{"$error":"#VALUE!"},8,0,{"$error":"#VALUE!"},{"$error":"#VALUE!"},{"$error":"#VALUE!"},{"$error":"#VALUE!"},{"$error":"#VALUE!"},{"$error":"#VALUE!"},{"$error":"#VALUE!"},{"$error":"#VALUE!"},{"$error":"#VALUE!"},{"$error":"#VALUE!"},{"$error":"#VALUE!"},{"$error":"#VALUE!"},{"$error":"#VALUE!"},{"$error":"#VALUE!"},{"$error":"#VALUE!"},{"$error":"#VALUE!"},{"$error":"#VALUE!"},{"$error":"#VALUE!"},{"$error":"#VALUE!"},{"$error":"#VALUE!"},{"$error":"#VALUE!"},{"$error":"#VALUE!"},{"$error":"#VALUE!"},{"$error":"#VALUE!"},{"$error":"#VALUE!"},{"$error":"#VALUE!"},{"$error":"#VALUE!"},{"$error":"#VALUE!"},{"$error":"#VALUE!"},{"$error":"#VALUE!"},{"$error":"#VALUE!"},{"$error":"#VALUE!"},{"$error":"#VALUE!"}]
[null,null,null,null,null,null,null,null,null,null,null,null,null,null,null,null,null,null,null,null,null,null,null,9,null,null,null,null,null,null,null,null,null,"N/A",null,false,null,null,null,null,9,null,null,null,null,null,null,null,null,null,null,null,"OK","OK","OK","OK",100,100,100,{"$f":"(CU119*POWER(10,0)+CV119*POWER(10,1)+CW119*POWER(10,2)+CX119*POWER(10,3)+CY119*POWER(10,4)+CZ119*POWER(10,5)+DA119*POWER(10,6)+DB119*POWER(10,7)+DC119*POWER(10,8)+DD119*POWER(10,9)+DE119*POWER(10,10))","v":100},{"$f":"(DF119*POWER(10,0)+DG119*POWER(10,1)+DH119*POWER(10,2)+DI119*POWER(10,3)+DJ119*POWER(10,4)+DK119*POWER(10,5)+DL119*POWER(10,6)+DM119*POWER(10,7)+DN119*POWER(10,8)+DO119*POWER(10,9)+DP119*POWER(10,10))","v":100},100,100,null,9,null,null,1,null,null,null,null,null,null,null,null,null,null,1,null,null,null,null,null,null,null,null,null,null,1,null,null,null,null,null,null,null,null,null,null,1,null,null,null,null,null,null,null,null,null,null,1,null,null,null,null,null,null,null,null,null,null,1,null,null,null,null,null,null,null,null,null,9,{"$error":"#VALUE!"},{"$error":"#VALUE!"},{"$error":"#VALUE!"},{"$error":"#VALUE!"},{"$error":"#VALUE!"},{"$error":"#VALUE!"},{"$error":"#VALUE!"},{"$error":"#VALUE!"},{"$error":"#VALUE!"},{"$error":"#VALUE!"},{"$error":"#VALUE!"},{"$error":"#VALUE!"},{"$error":"#VALUE!"},{"$error":"#VALUE!"},{"$error":"#VALUE!"},{"$error":"#VALUE!"},{"$error":"#VALUE!"},{"$error":"#VALUE!"},null,9,0,{"$error":"#VALUE!"},{"$error":"#VALUE!"},{"$error":"#VALUE!"},{"$error":"#VALUE!"},{"$error":"#VALUE!"},{"$error":"#VALUE!"},{"$error":"#VALUE!"},{"$error":"#VALUE!"},{"$error":"#VALUE!"},{"$error":"#VALUE!"},{"$error":"#VALUE!"},{"$error":"#VALUE!"},{"$error":"#VALUE!"},{"$error":"#VALUE!"},{"$error":"#VALUE!"},{"$error":"#VALUE!"},{"$error":"#VALUE!"},{"$error":"#VALUE!"},{"$error":"#VALUE!"},{"$error":"#VALUE!"},{"$error":"#VALUE!"},{"$error":"#VALUE!"},{"$error":"#VALUE!"},{"$error":"#VALUE!"},{"$error":"#VALUE!"},{"$error":"#VALUE!"},{"$error":"#VALUE!"},{"$error":"#VALUE!"},{"$error":"#VALUE!"},{"$error":"#VALUE!"},{"$error":"#VALUE!"},{"$error":"#VALUE!"},{"$error":"#VALUE!"},9,0,{"$error":"#VALUE!"},{"$error":"#VALUE!"},{"$error":"#VALUE!"},{"$error":"#VALUE!"},{"$error":"#VALUE!"},{"$error":"#VALUE!"},{"$error":"#VALUE!"},{"$error":"#VALUE!"},{"$error":"#VALUE!"},{"$error":"#VALUE!"},{"$error":"#VALUE!"},{"$error":"#VALUE!"},{"$error":"#VALUE!"},{"$error":"#VALUE!"},{"$error":"#VALUE!"},{"$error":"#VALUE!"},{"$error":"#VALUE!"},{"$error":"#VALUE!"},{"$error":"#VALUE!"},{"$error":"#VALUE!"},{"$error":"#VALUE!"},{"$error":"#VALUE!"},{"$error":"#VALUE!"},{"$error":"#VALUE!"},{"$error":"#VALUE!"},{"$error":"#VALUE!"},{"$error":"#VALUE!"},{"$error":"#VALUE!"},{"$error":"#VALUE!"},{"$error":"#VALUE!"},{"$error":"#VALUE!"},{"$error":"#VALUE!"},{"$error":"#VALUE!"},9,0,{"$error":"#VALUE!"},{"$error":"#VALUE!"},{"$error":"#VALUE!"},{"$error":"#VALUE!"},{"$error":"#VALUE!"},{"$error":"#VALUE!"},{"$error":"#VALUE!"},{"$error":"#VALUE!"},{"$error":"#VALUE!"},{"$error":"#VALUE!"},{"$error":"#VALUE!"},{"$error":"#VALUE!"},{"$error":"#VALUE!"},{"$error":"#VALUE!"},{"$error":"#VALUE!"},{"$error":"#VALUE!"},{"$error":"#VALUE!"},{"$error":"#VALUE!"},{"$error":"#VALUE!"},{"$error":"#VALUE!"},{"$error":"#VALUE!"},{"$error":"#VALUE!"},{"$error":"#VALUE!"},{"$error":"#VALUE!"},{"$error":"#VALUE!"},{"$error":"#VALUE!"},{"$error":"#VALUE!"},{"$error":"#VALUE!"},{"$error":"#VALUE!"},{"$error":"#VALUE!"},{"$error":"#VALUE!"},{"$error":"#VALUE!"},{"$error":"#VALUE!"},9,0,{"$error":"#VALUE!"},{"$error":"#VALUE!"},{"$error":"#VALUE!"},{"$error":"#VALUE!"},{"$error":"#VALUE!"},{"$error":"#VALUE!"},{"$error":"#VALUE!"},{"$error":"#VALUE!"},{"$error":"#VALUE!"},{"$error":"#VALUE!"},{"$error":"#VALUE!"},{"$error":"#VALUE!"},{"$error":"#VALUE!"},{"$error":"#VALUE!"},{"$error":"#VALUE!"},{"$error":"#VALUE!"},{"$error":"#VALUE!"},{"$error":"#VALUE!"},{"$error":"#VALUE!"},{"$error":"#VALUE!"},{"$error":"#VALUE!"},{"$error":"#VALUE!"},{"$error":"#VALUE!"},{"$error":"#VALUE!"},{"$error":"#VALUE!"},{"$error":"#VALUE!"},{"$error":"#VALUE!"},{"$error":"#VALUE!"},{"$error":"#VALUE!"},{"$error":"#VALUE!"},{"$error":"#VALUE!"},{"$error":"#VALUE!"},{"$error":"#VALUE!"},9,0,{"$error":"#VALUE!"},{"$error":"#VALUE!"},{"$error":"#VALUE!"},{"$error":"#VALUE!"},{"$error":"#VALUE!"},{"$error":"#VALUE!"},{"$error":"#VALUE!"},{"$error":"#VALUE!"},{"$error":"#VALUE!"},{"$error":"#VALUE!"},{"$error":"#VALUE!"},{"$error":"#VALUE!"},{"$error":"#VALUE!"},{"$error":"#VALUE!"},{"$error":"#VALUE!"},{"$error":"#VALUE!"},{"$error":"#VALUE!"},{"$error":"#VALUE!"},{"$error":"#VALUE!"},{"$error":"#VALUE!"},{"$error":"#VALUE!"},{"$error":"#VALUE!"},{"$error":"#VALUE!"},{"$error":"#VALUE!"},{"$error":"#VALUE!"},{"$error":"#VALUE!"},{"$error":"#VALUE!"},{"$error":"#VALUE!"},{"$error":"#VALUE!"},{"$error":"#VALUE!"},{"$error":"#VALUE!"},{"$error":"#VALUE!"},{"$error":"#VALUE!"},9,0,{"$error":"#VALUE!"},{"$error":"#VALUE!"},{"$error":"#VALUE!"},{"$error":"#VALUE!"},{"$error":"#VALUE!"},{"$error":"#VALUE!"},{"$error":"#VALUE!"},{"$error":"#VALUE!"},{"$error":"#VALUE!"},{"$error":"#VALUE!"},{"$error":"#VALUE!"},{"$error":"#VALUE!"},{"$error":"#VALUE!"},{"$error":"#VALUE!"},{"$error":"#VALUE!"},{"$error":"#VALUE!"},{"$error":"#VALUE!"},{"$error":"#VALUE!"},{"$error":"#VALUE!"},{"$error":"#VALUE!"},{"$error":"#VALUE!"},{"$error":"#VALUE!"},{"$error":"#VALUE!"},{"$error":"#VALUE!"},{"$error":"#VALUE!"},{"$error":"#VALUE!"},{"$error":"#VALUE!"},{"$error":"#VALUE!"},{"$error":"#VALUE!"},{"$error":"#VALUE!"},{"$error":"#VALUE!"},{"$error":"#VALUE!"},{"$error":"#VALUE!"}]
[null,null,null,null,null,null,null,null,null,null,null,null,null,null,null,null,null,null,null,null,null,null,null,"Total",{"$f":"SUM(Y113:Y119)","v":0},{"$f":"SUM(Z113:Z119)","v":0},0,0,0,0,null,null,null,"N/A",null,false,null,null,null,null,"Total",null,null,null,null,null,null,null,null,null,null,null,null,null,null,null,null,null,null,null,null,null,null,null,"Total",null,null,null,null,null,null,null,null,null,null,null,null,null,null,null,null,null,null,null,null,null,null,null,null,null,null,null,null,null,null,null,null,null,null,null,null,null,null,null,null,null,null,null,null,null,null,null,null,null,null,null,null,null,null,null,null,null,null,null,null,null,null,null,null,null,null,null,"Total",{"$f":"SUM(ED113:ED119)","v":{"$error":"#VALUE!"}},{"$f":"SUM(EE113:EE119)","v":{"$error":"#VALUE!"}},{"$f":"SUM(EF113:EF119)","v":{"$error":"#VALUE!"}},{"$f":"SUM(EG113:EG119)","v":{"$error":"#VALUE!"}},{"$f":"SUM(EH113:EH119)","v":{"$error":"#VALUE!"}},{"$f":"SUM(EI113:EI119)","v":{"$error":"#VALUE!"}},{"$error":"#VALUE!"},{"$error":"#VALUE!"},{"$error":"#VALUE!"},{"$error":"#VALUE!"},{"$error":"#VALUE!"},{"$error":"#VALUE!"},{"$error":"#VALUE!"},{"$error":"#VALUE!"},{"$error":"#VALUE!"},{"$error":"#VALUE!"},{"$error":"#VALUE!"},{"$error":"#VALUE!"},null,"Total",{"$f":"SUM(EX113:EX119)","v":0},{"$f":"SUM(EY113:EY119)","v":{"$error":"#VALUE!"}},{"$f":"SUM(EZ113:EZ119)","v":{"$error":"#VALUE!"}},{"$error":"#VALUE!"},{"$error":"#VALUE!"},{"$f":"SUM(FC113:FC119)","v":{"$error":"#VALUE!"}},{"$f":"SUM(FD113:FD119)","v":{"$error":"#VALUE!"}},{"$error":"#VALUE!"},{"$error":"#VALUE!"},{"$error":"#VALUE!"},{"$error":"#VALUE!"},{"$error":"#VALUE!"},{"$error":"#VALUE!"},{"$error":"#VALUE!"},{"$error":"#VALUE!"},{"$error":"#VALUE!"},{"$f":"SUM(FN113:FN119)","v":{"$error":"#VALUE!"}},{"$f":"SUM(FO113:FO119)","v":{"$error":"#VALUE!"}},{"$f":"SUM(FP113:FP119)","v":{"$error":"#VALUE!"}},{"$f":"SUM(FQ113:FQ119)","v":{"$error":"#VALUE!"}},{"$error":"#VALUE!"},{"$error":"#VALUE!"},{"$error":"#VALUE!"},{"$error":"#VALUE!"},{"$error":"#VALUE!"},{"$error":"#VALUE!"},{"$error":"#VALUE!"},{"$error":"#VALUE!"},{"$error":"#VALUE!"},{"$error":"#VALUE!"},{"$error":"#VALUE!"},{"$f":"SUM(GC113:GC119)","v":{"$error":"#VALUE!"}},{"$f":"SUM(GD113:GD119)","v":{"$error":"#VALUE!"}},{"$error":"#VALUE!"},"Total",{"$f":"SUM(GG113:GG119)","v":0},{"$f":"SUM(GH113:GH119)","v":{"$error":"#VALUE!"}},{"$f":"SUM(GI113:GI119)","v":{"$error":"#VALUE!"}},{"$error":"#VALUE!"},{"$error":"#VALUE!"},{"$f":"SUM(GL113:GL119)","v":{"$error":"#VALUE!"}},{"$f":"SUM(GM113:GM119)","v":{"$error":"#VALUE!"}},{"$f":"SUM(GN113:GN119)","v":{"$error":"#VALUE!"}},{"$error":"#VALUE!"},{"$error":"#VALUE!"},{"$error":"#VALUE!"},{"$error":"#VALUE!"},{"$error":"#VALUE!"},{"$error":"#VALUE!"},{"$error":"#VALUE!"},{"$error":"#VALUE!"},{"$f":"SUM(GW113:GW119)","v":{"$error":"#VALUE!"}},{"$f":"SUM(GX113:GX119)","v":{"$error":"#VALUE!"}},{"$f":"SUM(GY113:GY119)","v":{"$error":"#VALUE!"}},{"$f":"SUM(GZ113:GZ119)","v":{"$error":"#VALUE!"}},{"$error":"#VALUE!"},{"$error":"#VALUE!"},{"$error":"#VALUE!"},{"$error":"#VALUE!"},{"$error":"#VALUE!"},{"$error":"#VALUE!"},{"$error":"#VALUE!"},{"$error":"#VALUE!"},{"$error":"#VALUE!"},{"$error":"#VALUE!"},{"$error":"#VALUE!"},{"$f":"SUM(HL113:HL119)","v":{"$error":"#VALUE!"}},{"$f":"SUM(HM113:HM119)","v":{"$error":"#VALUE!"}},{"$error":"#VALUE!"},"Total",{"$f":"SUM(HP113:HP119)","v":0},{"$f":"SUM(HQ113:HQ119)","v":{"$error":"#VALUE!"}},{"$f":"SUM(HR113:HR119)","v":{"$error":"#VALUE!"}},{"$error":"#VALUE!"},{"$error":"#VALUE!"},{"$f":"SUM(HU113:HU119)","v":{"$error":"#VALUE!"}},{"$f":"SUM(HV113:HV119)","v":{"$error":"#VALUE!"}},{"$error":"#VALUE!"},{"$error":"#VALUE!"},{"$error":"#VALUE!"},{"$error":"#VALUE!"},{"$error":"#VALUE!"},{"$error":"#VALUE!"},{"$error":"#VALUE!"},{"$error":"#VALUE!"},{"$error":"#VALUE!"},{"$f":"SUM(IF113:IF119)","v":{"$error":"#VALUE!"}},{"$f":"SUM(IG113:IG119)","v":{"$error":"#VALUE!"}},{"$f":"SUM(IH113:IH119)","v":{"$error":"#VALUE!"}},{"$f":"SUM(II113:II119)","v":{"$error":"#VALUE!"}},{"$error":"#VALUE!"},{"$error":"#VALUE!"},{"$error":"#VALUE!"},{"$error":"#VALUE!"},{"$error":"#VALUE!"},{"$error":"#VALUE!"},{"$error":"#VALUE!"},{"$error":"#VALUE!"},{"$error":"#VALUE!"},{"$error":"#VALUE!"},{"$error":"#VALUE!"},{"$f":"SUM(IU113:IU119)","v":{"$error":"#VALUE!"}},{"$f":"SUM(IV113:IV119)","v":{"$error":"#VALUE!"}},{"$error":"#VALUE!"},"Total",{"$f":"SUM(IY113:IY119)","v":0},{"$f":"SUM(IZ113:IZ119)","v":{"$error":"#VALUE!"}},{"$f":"SUM(JA113:JA119)","v":{"$error":"#VALUE!"}},{"$error":"#VALUE!"},{"$error":"#VALUE!"},{"$f":"SUM(JD113:JD119)","v":{"$error":"#VALUE!"}},{"$f":"SUM(JE113:JE119)","v":{"$error":"#VALUE!"}},{"$error":"#VALUE!"},{"$error":"#VALUE!"},{"$error":"#VALUE!"},{"$error":"#VALUE!"},{"$error":"#VALUE!"},{"$error":"#VALUE!"},{"$error":"#VALUE!"},{"$error":"#VALUE!"},{"$error":"#VALUE!"},{"$f":"SUM(JO113:JO119)","v":{"$error":"#VALUE!"}},{"$f":"SUM(JP113:JP119)","v":{"$error":"#VALUE!"}},{"$f":"SUM(JQ113:JQ119)","v":{"$error":"#VALUE!"}},{"$f":"SUM(JR113:JR119)","v":{"$error":"#VALUE!"}},{"$error":"#VALUE!"},{"$error":"#VALUE!"},{"$error":"#VALUE!"},{"$error":"#VALUE!"},{"$error":"#VALUE!"},{"$error":"#VALUE!"},{"$error":"#VALUE!"},{"$error":"#VALUE!"},{"$error":"#VALUE!"},{"$error":"#VALUE!"},{"$error":"#VALUE!"},{"$f":"SUM(KD113:KD119)","v":{"$error":"#VALUE!"}},{"$f":"SUM(KE113:KE119)","v":{"$error":"#VALUE!"}},{"$error":"#VALUE!"},"Total",{"$f":"SUM(KH113:KH119)","v":0},{"$f":"SUM(KI113:KI119)","v":{"$error":"#VALUE!"}},{"$f":"SUM(KJ113:KJ119)","v":{"$error":"#VALUE!"}},{"$error":"#VALUE!"},{"$error":"#VALUE!"},{"$f":"SUM(KM113:KM119)","v":{"$error":"#VALUE!"}},{"$f":"SUM(KN113:KN119)","v":{"$error":"#VALUE!"}},{"$error":"#VALUE!"},{"$error":"#VALUE!"},{"$error":"#VALUE!"},{"$error":"#VALUE!"},{"$error":"#VALUE!"},{"$error":"#VALUE!"},{"$error":"#VALUE!"},{"$error":"#VALUE!"},{"$error":"#VALUE!"},{"$f":"SUM(KX113:KX119)","v":{"$error":"#VALUE!"}},{"$f":"SUM(KY113:KY119)","v":{"$error":"#VALUE!"}},{"$f":"SUM(KZ113:KZ119)","v":{"$error":"#VALUE!"}},{"$f":"SUM(LA113:LA119)","v":{"$error":"#VALUE!"}},{"$error":"#VALUE!"},{"$error":"#VALUE!"},{"$error":"#VALUE!"},{"$error":"#VALUE!"},{"$error":"#VALUE!"},{"$error":"#VALUE!"},{"$error":"#VALUE!"},{"$error":"#VALUE!"},{"$error":"#VALUE!"},{"$error":"#VALUE!"},{"$error":"#VALUE!"},{"$f":"SUM(LM113:LM119)","v":{"$error":"#VALUE!"}},{"$f":"SUM(LN113:LN119)","v":{"$error":"#VALUE!"}},{"$error":"#VALUE!"},"Total",{"$f":"SUM(LQ113:LQ119)","v":0},{"$f":"SUM(LR113:LR119)","v":{"$error":"#VALUE!"}},{"$f":"SUM(LS113:LS119)","v":{"$error":"#VALUE!"}},{"$error":"#VALUE!"},{"$error":"#VALUE!"},{"$f":"SUM(LV113:LV119)","v":{"$error":"#VALUE!"}},{"$f":"SUM(LW113:LW119)","v":{"$error":"#VALUE!"}},{"$error":"#VALUE!"},{"$error":"#VALUE!"},{"$error":"#VALUE!"},{"$error":"#VALUE!"},{"$error":"#VALUE!"},{"$error":"#VALUE!"},{"$error":"#VALUE!"},{"$error":"#VALUE!"},{"$f":"SUM(MF113:MF119)","v":{"$error":"#VALUE!"}},{"$f":"SUM(MG113:MG119)","v":{"$error":"#VALUE!"}},{"$f":"SUM(MH113:MH119)","v":{"$error":"#VALUE!"}},{"$f":"SUM(MI113:MI119)","v":{"$error":"#VALUE!"}},{"$f":"SUM(MJ113:MJ119)","v":{"$error":"#VALUE!"}},{"$error":"#VALUE!"},{"$error":"#VALUE!"},{"$error":"#VALUE!"},{"$error":"#VALUE!"},{"$error":"#VALUE!"},{"$error":"#VALUE!"},{"$error":"#VALUE!"},{"$error":"#VALUE!"},{"$error":"#VALUE!"},{"$error":"#VALUE!"},{"$error":"#VALUE!"},{"$f":"SUM(MV113:MV119)","v":{"$error":"#VALUE!"}},{"$f":"SUM(MW113:MW119)","v":{"$error":"#VALUE!"}},{"$error":"#VALUE!"}]
[null,12,{"$f":"'Regional Project List Sheet'!F16","v":0},{"$f":"IF('Regional Project List Sheet'!$G16=\"New\",1,\"\")","v":""},{"$f":"IF('Regional Project List Sheet'!$G16=\"Funded Old\",1,\"\")","v":""},{"$f":"IF('Regional Project List Sheet'!$G16=\"Unfunded Old\",1,\"\")","v":""},{"$f":"'Regional Project List Sheet'!H16","v":0},{"$f":"'Regional Project List Sheet'!I16","v":0},{"$f":"'Regional Project List Sheet'!L16","v":0},{"$f":"'Regional Project List Sheet'!M16","v":0},{"$f":"'Regional Project List Sheet'!N16","v":0},{"$f":"'Regional Project List Sheet'!O16","v":0},{"$f":"'Regional Project List Sheet'!P16","v":0},{"$f":"IF('Regional Project List Sheet'!$Q16=\"N/A\",\"N/A\",IF($Y124<>0,5,IF($Z124<>0,4,IF($AA124<>0,3,IF($AB124<>0,2,1)))))","v":1},{"$f":"VLOOKUP($C121,'[2]Ranking|Priority'!$B$5:$O$68,12,FALSE)","v":{"$error":"#N/A"}},{"$f":"VLOOKUP($C121,'[2]Ranking|Priority'!$B$5:$O$68,13,FALSE)","v":{"$error":"#N/A"}},{"$f":"VLOOKUP($C121,'[2]Ranking|Priority'!$B$5:$O$68,14,FALSE)","v":{"$error":"#N/A"}},{"$f":"'Regional Project List Sheet'!T16","v":0},{"$f":"'Regional Project List Sheet'!U16","v":0},{"$f":"'Regional Project List Sheet'!V16","v":0},{"$f":"'Regional Project List Sheet'!W16","v":0},{"$f":"'Regional Project List Sheet'!X16","v":0},{"$f":"'Regional Project List Sheet'!Y16","v":"Choose from Project List in cell I2"},0,null,null,null,null,null,null,null,{"$f":"'Regional Project List Sheet'!AJ16","v":0},{"$f":"IF(OR('Regional Project List Sheet'!$AA16<>'Regional Project List Sheet'!$A$40,'Regional Project List Sheet'!$AD16<>'Regional Project List Sheet'!$A$40,'Regional Project List Sheet'!$AG16<>'Regional Project List Sheet'!$A$40),_xlfn.CONCAT(IF(ISNUMBER('Regional Project List Sheet'!$AA16),'Regional Project List Sheet'!$A$36,\"\"),\" \",IF(ISNUMBER('Regional Project List Sheet'!$AD16),'Regional Project List Sheet'!$A$37,\"\"),\" \",IF(ISNUMBER('Regional Project List Sheet'!$AG16),'Regional Project List Sheet'!$A$38,\"\")),\"N/A\")","v":"N/A"},"N/A",{"$f":"IF(OR('Regional Project List Sheet'!AC16<>'Regional Project List Sheet'!$A$40,'Regional Project List Sheet'!AF16<>'Regional Project List Sheet'!$A$40,'Regional Project List Sheet'!AI16<>'Regional Project List Sheet'!$A$40),\n\nIF(LEN(_xlfn.CONCAT(IF('Regional Project List Sheet'!AC16=\"Yes\",'Regional Project List Sheet'!$A$36,\"\"),\" \",\n\nIF('Regional Project List Sheet'!AF16=\"Yes\",'Regional Project List Sheet'!$A$37,\"\"),\" \",\n\nIF('Regional Project List Sheet'!AI16=\"Yes\",'Regional Project List Sheet'!$A$38,\"\")))<3,\"No\",\n\n_xlfn.CONCAT(IF('Regional Project List Sheet'!AC16=\"Yes\",'Regional Project List Sheet'!$A$36,\"\"),\" \",\n\nIF('Regional Project List Sheet'!AF16=\"Yes\",'Regional Project List Sheet'!$A$37,\"\"),\" \",\n\nIF('Regional Project List Sheet'!AI16=\"Yes\",'Regional Project List Sheet'!$A$38,\"\"))))","v":false},false,{"$f":"'Regional Project List Sheet'!AK16","v":0},null,{"$f":"'Regional Project List Sheet'!AL16","v":0},null,0,null,null,null,null,null,null,null,null,null,null,1,{"$f":"IF(AND(BB121=\"OK\",BC121=\"OK\",BD121=\"OK\"),\"OK\",\"ERR!\")","v":"OK"},{"$f":"IF(AND(Y121>0,SUM(BN121:BX121)<1),\"ERR!\",IF(AND(Z121>0,SUM(BY121:CI121)<1),\"ERR!\",IF(AND(AA121>0,SUM(CJ121:CT121)<1),\"ERR\",IF(AND(AB121>0,SUM(CU121:DE121)<1),\"ERR\",IF(AND(AC121>0,SUM(DF121:DP121)<1),\"ERR\",IF(AND(AD121>0,SUM(DQ121:EA121)<1),\"ERR\",\"OK\"))))))","v":"OK"},{"$f":"IF(OR(SUM(BN121:BX121)<>1,SUM(BY121:CI121)<>1,SUM(CJ121:CT121)<>1,SUM(CU121:DE121)<>1,SUM(DF121:DP121)<>1,SUM(DQ121:EA121)<>1),\"ERR!\",\"OK\")","v":"OK"},{"$f":"IF(AND(OR(BE121=BK121,BE121=0),OR(BF121=BK121,BF121=0),OR(BG121=BK121,BG121=0),OR(BH121=BK121,BH121=0),OR(BI121=BK121,BI121=0),OR(BJ121=BK121,BJ121=0)),\"OK\",\"ERR!\")","v":"OK"},{"$f":"(BN121*POWER(10,0)+BO121*POWER(10,1)+BP121*POWER(10,2)+BQ121*POWER(10,3)+BR121*POWER(10,4)+BS121*POWER(10,5)+BT121*POWER(10,6)+BU121*POWER(10,7)+BV121*POWER(10,8)+BW121*POWER(10,9)+BX121*POWER(10,10))","v":100},{"$f":"(BY121*POWER(10,0)+BZ121*POWER(10,1)+CA121*POWER(10,2)+CB121*POWER(10,3)+CC121*POWER(10,4)+CD121*POWER(10,5)+CE121*POWER(10,6)+CF121*POWER(10,7)+CG121*POWER(10,8)+CH121*POWER(10,9)+CI121*POWER(10,10))","v":100},{"$f":"(CJ121*POWER(10,0)+CK121*POWER(10,1)+CL121*POWER(10,2)+CM121*POWER(10,3)+CN121*POWER(10,4)+CO121*POWER(10,5)+CP121*POWER(10,6)+CQ121*POWER(10,7)+CR121*POWER(10,8)+CS121*POWER(10,9)+CT121*POWER(10,10))","v":100},{"$f":"(CU121*POWER(10,0)+CV121*POWER(10,1)+CW121*POWER(10,2)+CX121*POWER(10,3)+CY121*POWER(10,4)+CZ121*POWER(10,5)+DA121*POWER(10,6)+DB121*POWER(10,7)+DC121*POWER(10,8)+DD121*POWER(10,9)+DE121*POWER(10,10))","v":100},{"$f":"(DF121*POWER(10,0)+DG121*POWER(10,1)+DH121*POWER(10,2)+DI121*POWER(10,3)+DJ121*POWER(10,4)+DK121*POWER(10,5)+DL121*POWER(10,6)+DM121*POWER(10,7)+DN121*POWER(10,8)+DO121*POWER(10,9)+DP121*POWER(10,10))","v":100},{"$f":"(DQ121*POWER(10,0)+DR121*POWER(10,1)+DS121*POWER(10,2)+DT121*POWER(10,3)+DU121*POWER(10,4)+DV121*POWER(10,5)+DW121*POWER(10,6)+DX121*POWER(10,7)+DY121*POWER(10,8)+DZ121*POWER(10,9)+EA121*POWER(10,10))","v":100},{"$f":"MAX(BE121:BJ121)","v":100},null,0,null,null,1,null,null,null,null,null,null,null,null,null,null,1,null,null,null,null,null,null,null,null,null,null,1,null,null,null,null,null,null,null,null,null,null,1,null,null,null,null,null,null,null,null,null,null,1,null,null,null,null,null,null,null,null,null,null,1,null,null,null,null,null,null,null,null,null,0,{"$f":"($Y121*D$121)/1000","v":{"$error":"#VALUE!"}},{"$f":"($Y121*E$121)/1000","v":{"$error":"#VALUE!"}},{"$f":"($Y121*F$121)/1000","v":{"$error":"#VALUE!"}},{"$f":"($Z121*D$121)/1000","v":{"$error":"#VALUE!"}},{"$error":"#VALUE!"},{"$error":"#VALUE!"},{"$f":"($AA121*D$121)/1000","v":{"$error":"#VALUE!"}},{"$error":"#VALUE!"},{"$error":"#VALUE!"},{"$f":"($AB121*D$121)/1000","v":{"$error":"#VALUE!"}},{"$error":"#VALUE!"},{"$error":"#VALUE!"},{"$f":"($AC121*D$121)/1000","v":{"$error":"#VALUE!"}},{"$error":"#VALUE!"},{"$error":"#VALUE!"},{"$f":"($AD121*D$121)/1000","v":{"$error":"#VALUE!"}},{"$error":"#VALUE!"},{"$error":"#VALUE!"},null,0,{"$f":"$AZ$121*$Y121","v":0},{"$f":"($AZ$121*$BN121*D$121*$Y121)/1000","v":{"$error":"#VALUE!"}},{"$f":"($AZ$121*$BN121*E$121*$Y121)/1000","v":{"$error":"#VALUE!"}},{"$f":"($AZ$121*$BN121*F$121*$Y121)/1000","v":{"$error":"#VALUE!"}},{"$f":"($AZ$121*$BO121*D$121*$Y121)/1000","v":{"$error":"#VALUE!"}},{"$f":"($AZ$121*$BO121*E$121*$Y121)/1000","v":{"$error":"#VALUE!"}},{"$f":"($AZ$121*$BO121*F$121*$Y121)/1000","v":{"$error":"#VALUE!"}},{"$f":"($AZ$121*$BP121*D$121*$Y121)/1000","v":{"$error":"#VALUE!"}},{"$f":"($AZ$121*$BP121*E$121*$Y121)/1000","v":{"$error":"#VALUE!"}},{"$f":"($AZ$121*$BP121*F$121*$Y121)/1000","v":{"$error":"#VALUE!"}},{"$f":"($AZ$121*$BQ121*D$121*$Y121)/1000","v":{"$error":"#VALUE!"}},{"$f":"($AZ$121*$BQ121*E$121*$Y121)/1000","v":{"$error":"#VALUE!"}},{"$f":"($AZ$121*$BQ121*F$121*$Y121)/1000","v":{"$error":"#VALUE!"}},{"$f":"($AZ$121*$BR121*D$121*$Y121)/1000","v":{"$error":"#VALUE!"}},{"$f":"($AZ$121*$BR121*E$121*$Y121)/1000","v":{"$error":"#VALUE!"}},{"$f":"($AZ$121*$BR121*F$121*$Y121)/1000","v":{"$error":"#VALUE!"}},{"$f":"($AZ$121*$BS121*D$121*$Y121)/1000","v":{"$error":"#VALUE!"}},{"$f":"($AZ$121*$BS121*E$121*$Y121)/1000","v":{"$error":"#VALUE!"}},{"$f":"($AZ$121*$BS121*F$121*$Y121)/1000","v":{"$error":"#VALUE!"}},{"$f":"($AZ$121*$BT121*D$121*$Y121)/1000","v":{"$error":"#VALUE!"}},{"$f":"($AZ$121*$BT121*E$121*$Y121)/1000","v":{"$error":"#VALUE!"}},{"$f":"($AZ$121*$BT121*F$121*$Y121)/1000","v":{"$error":"#VALUE!"}},{"$f":"($AZ$121*$BU121*D$121*$Y121)/1000","v":{"$error":"#VALUE!"}},{"$f":"($AZ$121*$BU121*E$121*$Y121)/1000","v":{"$error":"#VALUE!"}},{"$f":"($AZ$121*$BU121*F$121*$Y121)/1000","v":{"$error":"#VALUE!"}},{"$f":"($AZ$121*$BV121*D$121*$Y121)/1000","v":{"$error":"#VALUE!"}},{"$f":"($AZ$121*$BV121*E$121*$Y121)/1000","v":{"$error":"#VALUE!"}},{"$f":"($AZ$121*$BV121*F$121*$Y121)/1000","v":{"$error":"#VALUE!"}},{"$f":"($AZ$121*$BW121*D$121*$Y121)/1000","v":{"$error":"#VALUE!"}},{"$f":"($AZ$121*$BW121*E$121*$Y121)/1000","v":{"$error":"#VALUE!"}},{"$f":"($AZ$121*$BW121*F$121*$Y121)/1000","v":{"$error":"#VALUE!"}},{"$f":"($AZ$121*$BX121*D$121*$Y121)/1000","v":{"$error":"#VALUE!"}},{"$f":"($AZ$121*$BX121*E$121*$Y121)/1000","v":{"$error":"#VALUE!"}},{"$f":"($AZ$121*$BX121*F$121*$Y121)/1000","v":{"$error":"#VALUE!"}},0,{"$f":"$AZ$121*$Z121","v":0},{"$f":"($AZ$121*$BY121*D$121*$Z121)/1000","v":{"$error":"#VALUE!"}},{"$error":"#VALUE!"},{"$error":"#VALUE!"},{"$f":"($AZ$121*$BZ121*D$121*$Z121)/1000","v":{"$error":"#VALUE!"}},{"$error":"#VALUE!"},{"$error":"#VALUE!"},{"$f":"($AZ$121*$CA121*D$121*$Z121)/1000","v":{"$error":"#VALUE!"}},{"$error":"#VALUE!"},{"$error":"#VALUE!"},{"$f":"($AZ$121*$CB121*D$121*$Z121)/1000","v":{"$error":"#VALUE!"}},{"$error":"#VALUE!"},{"$error":"#VALUE!"},{"$f":"($AZ$121*$CD121*D$121*$Z121)/1000","v":{"$error":"#VALUE!"}},{"$error":"#VALUE!"},{"$error":"#VALUE!"},{"$f":"($AZ$121*$CD121*D$121*$Z121)/1000","v":{"$error":"#VALUE!"}},{"$error":"#VALUE!"},{"$error":"#VALUE!"},{"$f":"($AZ$121*$CE121*D$121*$Z121)/1000","v":{"$error":"#VALUE!"}},{"$error":"#VALUE!"},{"$error":"#VALUE!"},{"$f":"($AZ$121*$CF121*D$121*$Z121)/1000","v":{"$error":"#VALUE!"}},{"$error":"#VALUE!"},{"$error":"#VALUE!"},{"$f":"($AZ$121*$CG121*D$121*$Z121)/1000","v":{"$error":"#VALUE!"}},{"$error":"#VALUE!"},{"$error":"#VALUE!"},{"$f":"($AZ$121*$CH121*D$121*$Z121)/1000","v":{"$error":"#VALUE!"}},{"$error":"#VALUE!"},{"$error":"#VALUE!"},{"$f":"($AZ$121*$CI121*D$121*$Z121)/1000","v":{"$error":"#VALUE!"}},{"$error":"#VALUE!"},{"$error":"#VALUE!"},0,{"$f":"$AZ$121*$AA121","v":0},{"$f":"($AZ$121*$CJ121*D$121*$AA121)/1000","v":{"$error":"#VALUE!"}},{"$error":"#VALUE!"},{"$error":"#VALUE!"},{"$f":"($AZ$121*$CK121*D$121*$AA121)/1000","v":{"$error":"#VALUE!"}},{"$error":"#VALUE!"},{"$error":"#VALUE!"},{"$f":"($AZ$121*$CL121*D$121*$AA121)/1000","v":{"$error":"#VALUE!"}},{"$error":"#VALUE!"},{"$error":"#VALUE!"},{"$f":"($AZ$121*$CM121*D$121*$AA121)/1000","v":{"$error":"#VALUE!"}},{"$error":"#VALUE!"},{"$error":"#VALUE!"},{"$f":"($AZ$121*$CN121*D$121*$AA121)/1000","v":{"$error":"#VALUE!"}},{"$error":"#VALUE!"},{"$error":"#VALUE!"},{"$f":"($AZ$121*$CO121*D$121*$AA121)/1000","v":{"$error":"#VALUE!"}},{"$error":"#VALUE!"},{"$error":"#VALUE!"},{"$f":"($AZ$121*$CP121*D$121*$AA121)/1000","v":{"$error":"#VALUE!"}},{"$error":"#VALUE!"},{"$error":"#VALUE!"},{"$f":"($AZ$121*$CQ121*D$121*$AA121)/1000","v":{"$error":"#VALUE!"}},{"$error":"#VALUE!"},{"$error":"#VALUE!"},{"$f":"($AZ$121*$CR121*D$121*$AA121)/1000","v":{"$error":"#VALUE!"}},{"$error":"#VALUE!"},{"$error":"#VALUE!"},{"$f":"($AZ$121*$CS121*D$121*$AA121)/1000","v":{"$error":"#VALUE!"}},{"$error":"#VALUE!"},{"$error":"#VALUE!"},{"$f":"($AZ$121*$CT121*D$121*$AA121)/1000","v":{"$error":"#VALUE!"}},{"$error":"#VALUE!"},{"$error":"#VALUE!"},0,{"$f":"$AZ$121*$AB121","v":0},{"$f":"($AZ$121*$CU121*D$121*$AB121)/1000","v":{"$error":"#VALUE!"}},{"$error":"#VALUE!"},{"$error":"#VALUE!"},{"$f":"($AZ$121*$CV121*D$121*$AB121)/1000","v":{"$error":"#VALUE!"}},{"$error":"#VALUE!"},{"$error":"#VALUE!"},{"$f":"($AZ$121*$CW121*D$121*$AB121)/1000","v":{"$error":"#VALUE!"}},{"$error":"#VALUE!"},{"$error":"#VALUE!"},{"$f":"($AZ$121*$CX121*D$121*$AB121)/1000","v":{"$error":"#VALUE!"}},{"$error":"#VALUE!"},{"$error":"#VALUE!"},{"$f":"($AZ$121*$CY121*D$121*$AB121)/1000","v":{"$error":"#VALUE!"}},{"$error":"#VALUE!"},{"$error":"#VALUE!"},{"$f":"($AZ$121*$CZ121*D$121*$AB121)/1000","v":{"$error":"#VALUE!"}},{"$error":"#VALUE!"},{"$error":"#VALUE!"},{"$f":"($AZ$121*$DA121*D$121*$AB121)/1000","v":{"$error":"#VALUE!"}},{"$error":"#VALUE!"},{"$error":"#VALUE!"},{"$f":"($AZ$121*$DB121*D$121*$AB121)/1000","v":{"$error":"#VALUE!"}},{"$error":"#VALUE!"},{"$error":"#VALUE!"},{"$f":"($AZ$121*$DC121*D$121*$AB121)/1000","v":{"$error":"#VALUE!"}},{"$error":"#VALUE!"},{"$error":"#VALUE!"},{"$f":"($AZ$121*$DD121*D$121*$AB121)/1000","v":{"$error":"#VALUE!"}},{"$error":"#VALUE!"},{"$error":"#VALUE!"},{"$f":"($AZ$121*$DE121*D$121*$AB121)/1000","v":{"$error":"#VALUE!"}},{"$error":"#VALUE!"},{"$error":"#VALUE!"},0,{"$f":"$AZ$121*$AC121","v":0},{"$f":"($AZ$121*$DF121*D$121*$AC121)/1000","v":{"$error":"#VALUE!"}},{"$error":"#VALUE!"},{"$error":"#VALUE!"},{"$f":"($AZ$121*$DG121*D$121*$AC121)/1000","v":{"$error":"#VALUE!"}},{"$error":"#VALUE!"},{"$error":"#VALUE!"},{"$f":"($AZ$121*$DH121*D$121*$AC121)/1000","v":{"$error":"#VALUE!"}},{"$error":"#VALUE!"},{"$error":"#VALUE!"},{"$f":"($AZ$121*$DI121*D$121*$AC121)/1000","v":{"$error":"#VALUE!"}},{"$error":"#VALUE!"},{"$error":"#VALUE!"},{"$f":"($AZ$121*$DJ121*D$121*$AC121)/1000","v":{"$error":"#VALUE!"}},{"$error":"#VALUE!"},{"$error":"#VALUE!"},{"$f":"($AZ$121*$DK121*D$121*$AC121)/1000","v":{"$error":"#VALUE!"}},{"$error":"#VALUE!"},{"$error":"#VALUE!"},{"$f":"($AZ$121*$DL121*D$121*$AC121)/1000","v":{"$error":"#VALUE!"}},{"$error":"#VALUE!"},{"$error":"#VALUE!"},{"$f":"($AZ$121*$DM121*D$121*$AC121)/1000","v":{"$error":"#VALUE!"}},{"$error":"#VALUE!"},{"$error":"#VALUE!"},{"$f":"($AZ$121*$DN121*D$121*$AC121)/1000","v":{"$error":"#VALUE!"}},{"$error":"#VALUE!"},{"$error":"#VALUE!"},{"$f":"($AZ$121*$DO121*D$121*$AC121)/1000","v":{"$error":"#VALUE!"}},{"$error":"#VALUE!"},{"$error":"#VALUE!"},{"$f":"($AZ$121*$DP121*D$121*$AC121)/1000","v":{"$error":"#VALUE!"}},{"$error":"#VALUE!"},{"$error":"#VALUE!"},0,{"$f":"$AZ$121*$AD121","v":0},{"$f":"($AZ$121*$DQ121*D$121*$AD121)/1000","v":{"$error":"#VALUE!"}},{"$error":"#VALUE!"},{"$error":"#VALUE!"},{"$f":"($AZ$121*$DR121*D$121*$AD121)/1000","v":{"$error":"#VALUE!"}},{"$error":"#VALUE!"},{"$error":"#VALUE!"},{"$f":"($AZ$121*$DS121*D$121*$AD121)/1000","v":{"$error":"#VALUE!"}},{"$error":"#VALUE!"},{"$error":"#VALUE!"},{"$f":"($AZ$121*$DT121*D$121*$AD121)/1000","v":{"$error":"#VALUE!"}},{"$error":"#VALUE!"},{"$error":"#VALUE!"},{"$f":"($AZ$121*$DU121*D$121*$AD121)/1000","v":{"$error":"#VALUE!"}},{"$error":"#VALUE!"},{"$error":"#VALUE!"},{"$f":"($AZ$121*$DV121*D$121*$AD121)/1000","v":{"$error":"#VALUE!"}},{"$error":"#VALUE!"},{"$error":"#VALUE!"},{"$f":"($AZ$121*$DW121*D$121*$AD121)/1000","v":{"$error":"#VALUE!"}},{"$error":"#VALUE!"},{"$error":"#VALUE!"},{"$f":"($AZ$121*$DX121*D$121*$AD121)/1000","v":{"$error":"#VALUE!"}},{"$error":"#VALUE!"},{"$error":"#VALUE!"},{"$f":"($AZ$121*$DY121*D$121*$AD121)/1000","v":{"$error":"#VALUE!"}},{"$error":"#VALUE!"},{"$error":"#VALUE!"},{"$f":"($AZ$121*$DZ121*D$121*$AD121)/1000","v":{"$error":"#VALUE!"}},{"$error":"#VALUE!"},{"$error":"#VALUE!"},{"$f":"($AZ$121*$EA121*D$121*$AD121)/1000","v":{"$error":"#VALUE!"}},{"$error":"#VALUE!"},{"$error":"#VALUE!"}]
[null,null,null,null,null,null,null,null,null,null,null,null,null,null,null,null,null,null,null,null,null,null,null,2,null,null,null,null,null,null,null,null,null,"N/A",null,false,null,null,null,null,2,null,null,null,null,null,null,null,null,null,null,null,{"$f":"IF(AND(BB122=\"OK\",BC122=\"OK\",BD122=\"OK\"),\"OK\",\"ERR!\")","v":"OK"},{"$f":"IF(AND(Y122>0,SUM(BN122:BX122)<1),\"ERR!\",IF(AND(Z122>0,SUM(BY122:CI122)<1),\"ERR!\",IF(AND(AA122>0,SUM(CJ122:CT122)<1),\"ERR\",IF(AND(AB122>0,SUM(CU122:DE122)<1),\"ERR\",IF(AND(AC122>0,SUM(DF122:DP122)<1),\"ERR\",IF(AND(AD122>0,SUM(DQ122:EA122)<1),\"ERR\",\"OK\"))))))","v":"OK"},{"$f":"IF(OR(SUM(BN122:BX122)<>1,SUM(BY122:CI122)<>1,SUM(CJ122:CT122)<>1,SUM(CU122:DE122)<>1,SUM(DF122:DP122)<>1,SUM(DQ122:EA122)<>1),\"ERR!\",\"OK\")","v":"OK"},{"$f":"IF(AND(OR(BE122=BK122,BE122=0),OR(BF122=BK122,BF122=0),OR(BG122=BK122,BG122=0),OR(BH122=BK122,BH122=0),OR(BI122=BK122,BI122=0),OR(BJ122=BK122,BJ122=0)),\"OK\",\"ERR!\")","v":"OK"},{"$f":"(BN122*POWER(10,0)+BO122*POWER(10,1)+BP122*POWER(10,2)+BQ122*POWER(10,3)+BR122*POWER(10,4)+BS122*POWER(10,5)+BT122*POWER(10,6)+BU122*POWER(10,7)+BV122*POWER(10,8)+BW122*POWER(10,9)+BX122*POWER(10,10))","v":100},{"$f":"(BY122*POWER(10,0)+BZ122*POWER(10,1)+CA122*POWER(10,2)+CB122*POWER(10,3)+CC122*POWER(10,4)+CD122*POWER(10,5)+CE122*POWER(10,6)+CF122*POWER(10,7)+CG122*POWER(10,8)+CH122*POWER(10,9)+CI122*POWER(10,10))","v":100},{"$f":"(CJ122*POWER(10,0)+CK122*POWER(10,1)+CL122*POWER(10,2)+CM122*POWER(10,3)+CN122*POWER(10,4)+CO122*POWER(10,5)+CP122*POWER(10,6)+CQ122*POWER(10,7)+CR122*POWER(10,8)+CS122*POWER(10,9)+CT122*POWER(10,10))","v":100},{"$f":"(CU122*POWER(10,0)+CV122*POWER(10,1)+CW122*POWER(10,2)+CX122*POWER(10,3)+CY122*POWER(10,4)+CZ122*POWER(10,5)+DA122*POWER(10,6)+DB122*POWER(10,7)+DC122*POWER(10,8)+DD122*POWER(10,9)+DE122*POWER(10,10))","v":100},{"$f":"(DF122*POWER(10,0)+DG122*POWER(10,1)+DH122*POWER(10,2)+DI122*POWER(10,3)+DJ122*POWER(10,4)+DK122*POWER(10,5)+DL122*POWER(10,6)+DM122*POWER(10,7)+DN122*POWER(10,8)+DO122*POWER(10,9)+DP122*POWER(10,10))","v":100},{"$f":"(DQ122*POWER(10,0)+DR122*POWER(10,1)+DS122*POWER(10,2)+DT122*POWER(10,3)+DU122*POWER(10,4)+DV122*POWER(10,5)+DW122*POWER(10,6)+DX122*POWER(10,7)+DY122*POWER(10,8)+DZ122*POWER(10,9)+EA122*POWER(10,10))","v":100},{"$f":"MAX(BE122:BJ122)","v":100},null,2,null,null,1,null,null,null,null,null,null,null,null,null,null,1,null,null,null,null,null,null,null,null,null,null,1,null,null,null,null,null,null,null,null,null,null,1,null,null,null,null,null,null,null,null,null,null,1,null,null,null,null,null,null,null,null,null,null,1,null,null,null,null,null,null,null,null,null,2,{"$f":"($Y122*D$121)/1000","v":{"$error":"#VALUE!"}},{"$error":"#VALUE!"},{"$error":"#VALUE!"},{"$error":"#VALUE!"},{"$error":"#VALUE!"},{"$error":"#VALUE!"},{"$error":"#VALUE!"},{"$error":"#VALUE!"},{"$error":"#VALUE!"},{"$error":"#VALUE!"},{"$error":"#VALUE!"},{"$error":"#VALUE!"},{"$error":"#VALUE!"},{"$error":"#VALUE!"},{"$error":"#VALUE!"},{"$error":"#VALUE!"},{"$error":"#VALUE!"},{"$error":"#VALUE!"},null,2,{"$f":"$AZ$121*$Y122","v":0},{"$f":"($AZ$121*$BN122*D$121*$Y122)/1000","v":{"$error":"#VALUE!"}},{"$error":"#VALUE!"},{"$error":"#VALUE!"},{"$f":"($AZ$121*$BO122*D$121*$Y122)/1000","v":{"$error":"#VALUE!"}},{"$error":"#VALUE!"},{"$error":"#VALUE!"},{"$f":"($AZ$121*$BP122*D$121*$Y122)/1000","v":{"$error":"#VALUE!"}},{"$error":"#VALUE!"},{"$error":"#VALUE!"},{"$f":"($AZ$121*$BQ122*D$121*$Y122)/1000","v":{"$error":"#VALUE!"}},{"$error":"#VALUE!"},{"$error":"#VALUE!"},{"$f":"($AZ$121*$BR122*D$121*$Y122)/1000","v":{"$error":"#VALUE!"}},{"$error":"#VALUE!"},{"$error":"#VALUE!"},{"$f":"($AZ$121*$BS122*D$121*$Y122)/1000","v":{"$error":"#VALUE!"}},{"$error":"#VALUE!"},{"$error":"#VALUE!"},{"$f":"($AZ$121*$BT122*D$121*$Y122)/1000","v":{"$error":"#VALUE!"}},{"$error":"#VALUE!"},{"$error":"#VALUE!"},{"$f":"($AZ$121*$BU122*D$121*$Y122)/1000","v":{"$error":"#VALUE!"}},{"$error":"#VALUE!"},{"$error":"#VALUE!"},{"$f":"($AZ$121*$BV122*D$121*$Y122)/1000","v":{"$error":"#VALUE!"}},{"$error":"#VALUE!"},{"$error":"#VALUE!"},{"$f":"($AZ$121*$BW122*D$121*$Y122)/1000","v":{"$error":"#VALUE!"}},{"$error":"#VALUE!"},{"$error":"#VALUE!"},{"$f":"($AZ$121*$BX122*D$121*$Y122)/1000","v":{"$error":"#VALUE!"}},{"$error":"#VALUE!"},{"$error":"#VALUE!"},2,0,{"$error":"#VALUE!"},{"$error":"#VALUE!"},{"$error":"#VALUE!"},{"$error":"#VALUE!"},{"$error":"#VALUE!"},{"$error":"#VALUE!"},{"$error":"#VALUE!"},{"$error":"#VALUE!"},{"$error":"#VALUE!"},{"$error":"#VALUE!"},{"$error":"#VALUE!"},{"$error":"#VALUE!"},{"$error":"#VALUE!"},{"$error":"#VALUE!"},{"$error":"#VALUE!"},{"$error":"#VALUE!"},{"$error":"#VALUE!"},{"$error":"#VALUE!"},{"$error":"#VALUE!"},{"$error":"#VALUE!"},{"$error":"#VALUE!"},{"$error":"#VALUE!"},{"$error":"#VALUE!"},{"$error":"#VALUE!"},{"$error":"#VALUE!"},{"$error":"#VALUE!"},{"$error":"#VALUE!"},{"$error":"#VALUE!"},{"$error":"#VALUE!"},{"$error":"#VALUE!"},{"$error":"#VALUE!"},{"$error":"#VALUE!"},{"$error":"#VALUE!"},2,0,{"$error":"#VALUE!"},{"$error":"#VALUE!"},{"$error":"#VALUE!"},{"$error":"#VALUE!"},{"$error":"#VALUE!"},{"$error":"#VALUE!"},{"$error":"#VALUE!"},{"$error":"#VALUE!"},{"$error":"#VALUE!"},{"$error":"#VALUE!"},{"$error":"#VALUE!"},{"$error":"#VALUE!"},{"$error":"#VALUE!"},{"$error":"#VALUE!"},{"$error":"#VALUE!"},{"$error":"#VALUE!"},{"$error":"#VALUE!"},{"$error":"#VALUE!"},{"$error":"#VALUE!"},{"$error":"#VALUE!"},{"$error":"#VALUE!"},{"$error":"#VALUE!"},{"$error":"#VALUE!"},{"$error":"#VALUE!"},{"$error":"#VALUE!"},{"$error":"#VALUE!"},{"$error":"#VALUE!"},{"$error":"#VALUE!"},{"$error":"#VALUE!"},{"$error":"#VALUE!"},{"$error":"#VALUE!"},{"$error":"#VALUE!"},{"$error":"#VALUE!"},2,0,{"$error":"#VALUE!"},{"$error":"#VALUE!"},{"$error":"#VALUE!"},{"$error":"#VALUE!"},{"$error":"#VALUE!"},{"$error":"#VALUE!"},{"$error":"#VALUE!"},{"$error":"#VALUE!"},{"$error":"#VALUE!"},{"$error":"#VALUE!"},{"$error":"#VALUE!"},{"$error":"#VALUE!"},{"$error":"#VALUE!"},{"$error":"#VALUE!"},{"$error":"#VALUE!"},{"$error":"#VALUE!"},{"$error":"#VALUE!"},{"$error":"#VALUE!"},{"$error":"#VALUE!"},{"$error":"#VALUE!"},{"$error":"#VALUE!"},{"$error":"#VALUE!"},{"$error":"#VALUE!"},{"$error":"#VALUE!"},{"$error":"#VALUE!"},{"$error":"#VALUE!"},{"$error":"#VALUE!"},{"$error":"#VALUE!"},{"$error":"#VALUE!"},{"$error":"#VALUE!"},{"$error":"#VALUE!"},{"$error":"#VALUE!"},{"$error":"#VALUE!"},2,0,{"$error":"#VALUE!"},{"$error":"#VALUE!"},{"$error":"#VALUE!"},{"$error":"#VALUE!"},{"$error":"#VALUE!"},{"$error":"#VALUE!"},{"$error":"#VALUE!"},{"$error":"#VALUE!"},{"$error":"#VALUE!"},{"$error":"#VALUE!"},{"$error":"#VALUE!"},{"$error":"#VALUE!"},{"$error":"#VALUE!"},{"$error":"#VALUE!"},{"$error":"#VALUE!"},{"$error":"#VALUE!"},{"$error":"#VALUE!"},{"$error":"#VALUE!"},{"$error":"#VALUE!"},{"$error":"#VALUE!"},{"$error":"#VALUE!"},{"$error":"#VALUE!"},{"$error":"#VALUE!"},{"$error":"#VALUE!"},{"$error":"#VALUE!"},{"$error":"#VALUE!"},{"$error":"#VALUE!"},{"$error":"#VALUE!"},{"$error":"#VALUE!"},{"$error":"#VALUE!"},{"$error":"#VALUE!"},{"$error":"#VALUE!"},{"$error":"#VALUE!"},2,0,{"$error":"#VALUE!"},{"$error":"#VALUE!"},{"$error":"#VALUE!"},{"$error":"#VALUE!"},{"$error":"#VALUE!"},{"$error":"#VALUE!"},{"$error":"#VALUE!"},{"$error":"#VALUE!"},{"$error":"#VALUE!"},{"$error":"#VALUE!"},{"$error":"#VALUE!"},{"$error":"#VALUE!"},{"$error":"#VALUE!"},{"$error":"#VALUE!"},{"$error":"#VALUE!"},{"$error":"#VALUE!"},{"$error":"#VALUE!"},{"$error":"#VALUE!"},{"$error":"#VALUE!"},{"$error":"#VALUE!"},{"$error":"#VALUE!"},{"$error":"#VALUE!"},{"$error":"#VALUE!"},{"$error":"#VALUE!"},{"$error":"#VALUE!"},{"$error":"#VALUE!"},{"$error":"#VALUE!"},{"$error":"#VALUE!"},{"$error":"#VALUE!"},{"$error":"#VALUE!"},{"$error":"#VALUE!"},{"$error":"#VALUE!"},{"$error":"#VALUE!"}]
[null,null,null,null,null,null,null,null,null,null,null,null,null,null,null,null,null,null,null,null,null,null,null,3,null,null,null,null,null,null,null,null,null,"N/A",null,false,null,null,null,null,3,null,null,null,null,null,null,null,null,null,null,null,{"$f":"IF(AND(BB123=\"OK\",BC123=\"OK\",BD123=\"OK\"),\"OK\",\"ERR!\")","v":"OK"},"OK",{"$f":"IF(OR(SUM(BN123:BX123)<>1,SUM(BY123:CI123)<>1,SUM(CJ123:CT123)<>1,SUM(CU123:DE123)<>1,SUM(DF123:DP123)<>1,SUM(DQ123:EA123)<>1),\"ERR!\",\"OK\")","v":"OK"},{"$f":"IF(AND(OR(BE123=BK123,BE123=0),OR(BF123=BK123,BF123=0),OR(BG123=BK123,BG123=0),OR(BH123=BK123,BH123=0),OR(BI123=BK123,BI123=0),OR(BJ123=BK123,BJ123=0)),\"OK\",\"ERR!\")","v":"OK"},100,100,100,100,100,100,{"$f":"MAX(BE123:BJ123)","v":100},null,3,null,null,1,null,null,null,null,null,null,null,null,null,null,1,null,null,null,null,null,null,null,null,null,null,1,null,null,null,null,null,null,null,null,null,null,1,null,null,null,null,null,null,null,null,null,null,1,null,null,null,null,null,null,null,null,null,null,1,null,null,null,null,null,null,null,null,null,3,{"$error":"#VALUE!"},{"$error":"#VALUE!"},{"$error":"#VALUE!"},{"$error":"#VALUE!"},{"$error":"#VALUE!"},{"$error":"#VALUE!"},{"$error":"#VALUE!"},{"$error":"#VALUE!"},{"$error":"#VALUE!"},{"$error":"#VALUE!"},{"$error":"#VALUE!"},{"$error":"#VALUE!"},{"$error":"#VALUE!"},{"$error":"#VALUE!"},{"$error":"#VALUE!"},{"$error":"#VALUE!"},{"$error":"#VALUE!"},{"$error":"#VALUE!"},null,3,0,{"$error":"#VALUE!"},{"$error":"#VALUE!"},{"$error":"#VALUE!"},{"$error":"#VALUE!"},{"$error":"#VALUE!"},{"$error":"#VALUE!"},{"$error":"#VALUE!"},{"$error":"#VALUE!"},{"$error":"#VALUE!"},{"$error":"#VALUE!"},{"$error":"#VALUE!"},{"$error":"#VALUE!"},{"$error":"#VALUE!"},{"$error":"#VALUE!"},{"$error":"#VALUE!"},{"$error":"#VALUE!"},{"$error":"#VALUE!"},{"$error":"#VALUE!"},{"$error":"#VALUE!"},{"$error":"#VALUE!"},{"$error":"#VALUE!"},{"$error":"#VALUE!"},{"$error":"#VALUE!"},{"$error":"#VALUE!"},{"$error":"#VALUE!"},{"$error":"#VALUE!"},{"$error":"#VALUE!"},{"$error":"#VALUE!"},{"$error":"#VALUE!"},{"$error":"#VALUE!"},{"$error":"#VALUE!"},{"$error":"#VALUE!"},{"$error":"#VALUE!"},3,0,{"$error":"#VALUE!"},{"$error":"#VALUE!"},{"$error":"#VALUE!"},{"$error":"#VALUE!"},{"$error":"#VALUE!"},{"$error":"#VALUE!"},{"$error":"#VALUE!"},{"$error":"#VALUE!"},{"$error":"#VALUE!"},{"$error":"#VALUE!"},{"$error":"#VALUE!"},{"$error":"#VALUE!"},{"$error":"#VALUE!"},{"$error":"#VALUE!"},{"$error":"#VALUE!"},{"$error":"#VALUE!"},{"$error":"#VALUE!"},{"$error":"#VALUE!"},{"$error":"#VALUE!"},{"$error":"#VALUE!"},{"$error":"#VALUE!"},{"$error":"#VALUE!"},{"$error":"#VALUE!"},{"$error":"#VALUE!"},{"$error":"#VALUE!"},{"$error":"#VALUE!"},{"$error":"#VALUE!"},{"$error":"#VALUE!"},{"$error":"#VALUE!"},{"$error":"#VALUE!"},{"$error":"#VALUE!"},{"$error":"#VALUE!"},{"$error":"#VALUE!"},3,0,{"$error":"#VALUE!"},{"$error":"#VALUE!"},{"$error":"#VALUE!"},{"$error":"#VALUE!"},{"$error":"#VALUE!"},{"$error":"#VALUE!"},{"$error":"#VALUE!"},{"$error":"#VALUE!"},{"$error":"#VALUE!"},{"$error":"#VALUE!"},{"$error":"#VALUE!"},{"$error":"#VALUE!"},{"$error":"#VALUE!"},{"$error":"#VALUE!"},{"$error":"#VALUE!"},{"$error":"#VALUE!"},{"$error":"#VALUE!"},{"$error":"#VALUE!"},{"$error":"#VALUE!"},{"$error":"#VALUE!"},{"$error":"#VALUE!"},{"$error":"#VALUE!"},{"$error":"#VALUE!"},{"$error":"#VALUE!"},{"$error":"#VALUE!"},{"$error":"#VALUE!"},{"$error":"#VALUE!"},{"$error":"#VALUE!"},{"$error":"#VALUE!"},{"$error":"#VALUE!"},{"$error":"#VALUE!"},{"$error":"#VALUE!"},{"$error":"#VALUE!"},3,0,{"$error":"#VALUE!"},{"$error":"#VALUE!"},{"$error":"#VALUE!"},{"$error":"#VALUE!"},{"$error":"#VALUE!"},{"$error":"#VALUE!"},{"$error":"#VALUE!"},{"$error":"#VALUE!"},{"$error":"#VALUE!"},{"$error":"#VALUE!"},{"$error":"#VALUE!"},{"$error":"#VALUE!"},{"$error":"#VALUE!"},{"$error":"#VALUE!"},{"$error":"#VALUE!"},{"$error":"#VALUE!"},{"$error":"#VALUE!"},{"$error":"#VALUE!"},{"$error":"#VALUE!"},{"$error":"#VALUE!"},{"$error":"#VALUE!"},{"$error":"#VALUE!"},{"$error":"#VALUE!"},{"$error":"#VALUE!"},{"$error":"#VALUE!"},{"$error":"#VALUE!"},{"$error":"#VALUE!"},{"$error":"#VALUE!"},{"$error":"#VALUE!"},{"$error":"#VALUE!"},{"$error":"#VALUE!"},{"$error":"#VALUE!"},{"$error":"#VALUE!"},3,0,{"$error":"#VALUE!"},{"$error":"#VALUE!"},{"$error":"#VALUE!"},{"$error":"#VALUE!"},{"$error":"#VALUE!"},{"$error":"#VALUE!"},{"$error":"#VALUE!"},{"$error":"#VALUE!"},{"$error":"#VALUE!"},{"$error":"#VALUE!"},{"$error":"#VALUE!"},{"$error":"#VALUE!"},{"$error":"#VALUE!"},{"$error":"#VALUE!"},{"$error":"#VALUE!"},{"$error":"#VALUE!"},{"$error":"#VALUE!"},{"$error":"#VALUE!"},{"$error":"#VALUE!"},{"$error":"#VALUE!"},{"$error":"#VALUE!"},{"$error":"#VALUE!"},{"$error":"#VALUE!"},{"$error":"#VALUE!"},{"$error":"#VALUE!"},{"$error":"#VALUE!"},{"$error":"#VALUE!"},{"$error":"#VALUE!"},{"$error":"#VALUE!"},{"$error":"#VALUE!"},{"$error":"#VALUE!"},{"$error":"#VALUE!"},{"$error":"#VALUE!"},3,0,{"$error":"#VALUE!"},{"$error":"#VALUE!"},{"$error":"#VALUE!"},{"$error":"#VALUE!"},{"$error":"#VALUE!"},{"$error":"#VALUE!"},{"$error":"#VALUE!"},{"$error":"#VALUE!"},{"$error":"#VALUE!"},{"$error":"#VALUE!"},{"$error":"#VALUE!"},{"$error":"#VALUE!"},{"$error":"#VALUE!"},{"$error":"#VALUE!"},{"$error":"#VALUE!"},{"$error":"#VALUE!"},{"$error":"#VALUE!"},{"$error":"#VALUE!"},{"$error":"#VALUE!"},{"$error":"#VALUE!"},{"$error":"#VALUE!"},{"$error":"#VALUE!"},{"$error":"#VALUE!"},{"$error":"#VALUE!"},{"$error":"#VALUE!"},{"$error":"#VALUE!"},{"$error":"#VALUE!"},{"$error":"#VALUE!"},{"$error":"#VALUE!"},{"$error":"#VALUE!"},{"$error":"#VALUE!"},{"$error":"#VALUE!"},{"$error":"#VALUE!"}]
[null,null,null,null,null,null,null,null,null,null,null,null,null,null,null,null,null,null,null,null,null,null,null,4,null,null,null,null,null,null,null,null,null,"N/A",null,false,null,null,null,null,4,null,null,null,null,null,null,null,null,null,null,null,{"$f":"IF(AND(BB124=\"OK\",BC124=\"OK\",BD124=\"OK\"),\"OK\",\"ERR!\")","v":"OK"},"OK","OK",{"$f":"IF(AND(OR(BE124=BK124,BE124=0),OR(BF124=BK124,BF124=0),OR(BG124=BK124,BG124=0),OR(BH124=BK124,BH124=0),OR(BI124=BK124,BI124=0),OR(BJ124=BK124,BJ124=0)),\"OK\",\"ERR!\")","v":"OK"},100,100,100,100,100,100,100,null,4,null,null,1,null,null,null,null,null,null,null,null,null,null,1,null,null,null,null,null,null,null,null,null,null,1,null,null,null,null,null,null,null,null,null,null,1,null,null,null,null,null,null,null,null,null,null,1,null,null,null,null,null,null,null,null,null,null,1,null,null,null,null,null,null,null,null,null,4,{"$error":"#VALUE!"},{"$error":"#VALUE!"},{"$error":"#VALUE!"},{"$error":"#VALUE!"},{"$error":"#VALUE!"},{"$error":"#VALUE!"},{"$error":"#VALUE!"},{"$error":"#VALUE!"},{"$error":"#VALUE!"},{"$error":"#VALUE!"},{"$error":"#VALUE!"},{"$error":"#VALUE!"},{"$error":"#VALUE!"},{"$error":"#VALUE!"},{"$error":"#VALUE!"},{"$error":"#VALUE!"},{"$error":"#VALUE!"},{"$error":"#VALUE!"},null,4,0,{"$error":"#VALUE!"},{"$error":"#VALUE!"},{"$error":"#VALUE!"},{"$error":"#VALUE!"},{"$error":"#VALUE!"},{"$error":"#VALUE!"},{"$error":"#VALUE!"},{"$error":"#VALUE!"},{"$error":"#VALUE!"},{"$error":"#VALUE!"},{"$error":"#VALUE!"},{"$error":"#VALUE!"},{"$error":"#VALUE!"},{"$error":"#VALUE!"},{"$error":"#VALUE!"},{"$error":"#VALUE!"},{"$error":"#VALUE!"},{"$error":"#VALUE!"},{"$error":"#VALUE!"},{"$error":"#VALUE!"},{"$error":"#VALUE!"},{"$error":"#VALUE!"},{"$error":"#VALUE!"},{"$error":"#VALUE!"},{"$error":"#VALUE!"},{"$error":"#VALUE!"},{"$error":"#VALUE!"},{"$error":"#VALUE!"},{"$error":"#VALUE!"},{"$error":"#VALUE!"},{"$error":"#VALUE!"},{"$error":"#VALUE!"},{"$error":"#VALUE!"},4,0,{"$error":"#VALUE!"},{"$error":"#VALUE!"},{"$error":"#VALUE!"},{"$error":"#VALUE!"},{"$error":"#VALUE!"},{"$error":"#VALUE!"},{"$error":"#VALUE!"},{"$error":"#VALUE!"},{"$error":"#VALUE!"},{"$error":"#VALUE!"},{"$error":"#VALUE!"},{"$error":"#VALUE!"},{"$error":"#VALUE!"},{"$error":"#VALUE!"},{"$error":"#VALUE!"},{"$error":"#VALUE!"},{"$error":"#VALUE!"},{"$error":"#VALUE!"},{"$error":"#VALUE!"},{"$error":"#VALUE!"},{"$error":"#VALUE!"},{"$error":"#VALUE!"},{"$error":"#VALUE!"},{"$error":"#VALUE!"},{"$error":"#VALUE!"},{"$error":"#VALUE!"},{"$error":"#VALUE!"},{"$error":"#VALUE!"},{"$error":"#VALUE!"},{"$error":"#VALUE!"},{"$error":"#VALUE!"},{"$error":"#VALUE!"},{"$error":"#VALUE!"},4,0,{"$error":"#VALUE!"},{"$error":"#VALUE!"},{"$error":"#VALUE!"},{"$error":"#VALUE!"},{"$error":"#VALUE!"},{"$error":"#VALUE!"},{"$error":"#VALUE!"},{"$error":"#VALUE!"},{"$error":"#VALUE!"},{"$error":"#VALUE!"},{"$error":"#VALUE!"},{"$error":"#VALUE!"},{"$error":"#VALUE!"},{"$error":"#VALUE!"},{"$error":"#VALUE!"},{"$error":"#VALUE!"},{"$error":"#VALUE!"},{"$error":"#VALUE!"},{"$error":"#VALUE!"},{"$error":"#VALUE!"},{"$error":"#VALUE!"},{"$error":"#VALUE!"},{"$error":"#VALUE!"},{"$error":"#VALUE!"},{"$error":"#VALUE!"},{"$error":"#VALUE!"},{"$error":"#VALUE!"},{"$error":"#VALUE!"},{"$error":"#VALUE!"},{"$error":"#VALUE!"},{"$error":"#VALUE!"},{"$error":"#VALUE!"},{"$error":"#VALUE!"},4,0,{"$error":"#VALUE!"},{"$error":"#VALUE!"},{"$error":"#VALUE!"},{"$error":"#VALUE!"},{"$error":"#VALUE!"},{"$error":"#VALUE!"},{"$error":"#VALUE!"},{"$error":"#VALUE!"},{"$error":"#VALUE!"},{"$error":"#VALUE!"},{"$error":"#VALUE!"},{"$error":"#VALUE!"},{"$error":"#VALUE!"},{"$error":"#VALUE!"},{"$error":"#VALUE!"},{"$error":"#VALUE!"},{"$error":"#VALUE!"},{"$error":"#VALUE!"},{"$error":"#VALUE!"},{"$error":"#VALUE!"},{"$error":"#VALUE!"},{"$error":"#VALUE!"},{"$error":"#VALUE!"},{"$error":"#VALUE!"},{"$error":"#VALUE!"},{"$error":"#VALUE!"},{"$error":"#VALUE!"},{"$error":"#VALUE!"},{"$error":"#VALUE!"},{"$error":"#VALUE!"},{"$error":"#VALUE!"},{"$error":"#VALUE!"},{"$error":"#VALUE!"},4,0,{"$error":"#VALUE!"},{"$error":"#VALUE!"},{"$error":"#VALUE!"},{"$error":"#VALUE!"},{"$error":"#VALUE!"},{"$error":"#VALUE!"},{"$error":"#VALUE!"},{"$error":"#VALUE!"},{"$error":"#VALUE!"},{"$error":"#VALUE!"},{"$error":"#VALUE!"},{"$error":"#VALUE!"},{"$error":"#VALUE!"},{"$error":"#VALUE!"},{"$error":"#VALUE!"},{"$error":"#VALUE!"},{"$error":"#VALUE!"},{"$error":"#VALUE!"},{"$error":"#VALUE!"},{"$error":"#VALUE!"},{"$error":"#VALUE!"},{"$error":"#VALUE!"},{"$error":"#VALUE!"},{"$error":"#VALUE!"},{"$error":"#VALUE!"},{"$error":"#VALUE!"},{"$error":"#VALUE!"},{"$error":"#VALUE!"},{"$error":"#VALUE!"},{"$error":"#VALUE!"},{"$error":"#VALUE!"},{"$error":"#VALUE!"},{"$error":"#VALUE!"},4,0,{"$error":"#VALUE!"},{"$error":"#VALUE!"},{"$error":"#VALUE!"},{"$error":"#VALUE!"},{"$error":"#VALUE!"},{"$error":"#VALUE!"},{"$error":"#VALUE!"},{"$error":"#VALUE!"},{"$error":"#VALUE!"},{"$error":"#VALUE!"},{"$error":"#VALUE!"},{"$error":"#VALUE!"},{"$error":"#VALUE!"},{"$error":"#VALUE!"},{"$error":"#VALUE!"},{"$error":"#VALUE!"},{"$error":"#VALUE!"},{"$error":"#VALUE!"},{"$error":"#VALUE!"},{"$error":"#VALUE!"},{"$error":"#VALUE!"},{"$error":"#VALUE!"},{"$error":"#VALUE!"},{"$error":"#VALUE!"},{"$error":"#VALUE!"},{"$error":"#VALUE!"},{"$error":"#VALUE!"},{"$error":"#VALUE!"},{"$error":"#VALUE!"},{"$error":"#VALUE!"},{"$error":"#VALUE!"},{"$error":"#VALUE!"},{"$error":"#VALUE!"}]
[null,null,null,null,null,null,null,null,null,null,null,null,null,null,null,null,null,null,null,null,null,null,null,7,null,null,null,null,null,null,null,null,null,"N/A",null,false,null,null,null,null,7,null,null,null,null,null,null,null,null,null,null,null,{"$f":"IF(AND(BB125=\"OK\",BC125=\"OK\",BD125=\"OK\"),\"OK\",\"ERR!\")","v":"OK"},"OK","OK","OK",100,100,100,100,100,100,100,null,7,null,null,1,null,null,null,null,null,null,null,null,null,null,1,null,null,null,null,null,null,null,null,null,null,1,null,null,null,null,null,null,null,null,null,null,1,null,null,null,null,null,null,null,null,null,null,1,null,null,null,null,null,null,null,null,null,null,1,null,null,null,null,null,null,null,null,null,7,{"$error":"#VALUE!"},{"$error":"#VALUE!"},{"$error":"#VALUE!"},{"$error":"#VALUE!"},{"$error":"#VALUE!"},{"$error":"#VALUE!"},{"$error":"#VALUE!"},{"$error":"#VALUE!"},{"$error":"#VALUE!"},{"$error":"#VALUE!"},{"$error":"#VALUE!"},{"$error":"#VALUE!"},{"$error":"#VALUE!"},{"$error":"#VALUE!"},{"$error":"#VALUE!"},{"$error":"#VALUE!"},{"$error":"#VALUE!"},{"$error":"#VALUE!"},null,7,0,{"$error":"#VALUE!"},{"$error":"#VALUE!"},{"$error":"#VALUE!"},{"$error":"#VALUE!"},{"$error":"#VALUE!"},{"$error":"#VALUE!"},{"$error":"#VALUE!"},{"$error":"#VALUE!"},{"$error":"#VALUE!"},{"$error":"#VALUE!"},{"$error":"#VALUE!"},{"$error":"#VALUE!"},{"$error":"#VALUE!"},{"$error":"#VALUE!"},{"$error":"#VALUE!"},{"$error":"#VALUE!"},{"$error":"#VALUE!"},{"$error":"#VALUE!"},{"$error":"#VALUE!"},{"$error":"#VALUE!"},{"$error":"#VALUE!"},{"$error":"#VALUE!"},{"$error":"#VALUE!"},{"$error":"#VALUE!"},{"$error":"#VALUE!"},{"$error":"#VALUE!"},{"$error":"#VALUE!"},{"$error":"#VALUE!"},{"$error":"#VALUE!"},{"$error":"#VALUE!"},{"$error":"#VALUE!"},{"$error":"#VALUE!"},{"$error":"#VALUE!"},7,0,{"$error":"#VALUE!"},{"$error":"#VALUE!"},{"$error":"#VALUE!"},{"$error":"#VALUE!"},{"$error":"#VALUE!"},{"$error":"#VALUE!"},{"$error":"#VALUE!"},{"$error":"#VALUE!"},{"$error":"#VALUE!"},{"$error":"#VALUE!"},{"$error":"#VALUE!"},{"$error":"#VALUE!"},{"$error":"#VALUE!"},{"$error":"#VALUE!"},{"$error":"#VALUE!"},{"$error":"#VALUE!"},{"$error":"#VALUE!"},{"$error":"#VALUE!"},{"$error":"#VALUE!"},{"$error":"#VALUE!"},{"$error":"#VALUE!"},{"$error":"#VALUE!"},{"$error":"#VALUE!"},{"$error":"#VALUE!"},{"$error":"#VALUE!"},{"$error":"#VALUE!"},{"$error":"#VALUE!"},{"$error":"#VALUE!"},{"$error":"#VALUE!"},{"$error":"#VALUE!"},{"$error":"#VALUE!"},{"$error":"#VALUE!"},{"$error":"#VALUE!"},7,0,{"$error":"#VALUE!"},{"$error":"#VALUE!"},{"$error":"#VALUE!"},{"$error":"#VALUE!"},{"$error":"#VALUE!"},{"$error":"#VALUE!"},{"$error":"#VALUE!"},{"$error":"#VALUE!"},{"$error":"#VALUE!"},{"$error":"#VALUE!"},{"$error":"#VALUE!"},{"$error":"#VALUE!"},{"$error":"#VALUE!"},{"$error":"#VALUE!"},{"$error":"#VALUE!"},{"$error":"#VALUE!"},{"$error":"#VALUE!"},{"$error":"#VALUE!"},{"$error":"#VALUE!"},{"$error":"#VALUE!"},{"$error":"#VALUE!"},{"$error":"#VALUE!"},{"$error":"#VALUE!"},{"$error":"#VALUE!"},{"$error":"#VALUE!"},{"$error":"#VALUE!"},{"$error":"#VALUE!"},{"$error":"#VALUE!"},{"$error":"#VALUE!"},{"$error":"#VALUE!"},{"$error":"#VALUE!"},{"$error":"#VALUE!"},{"$error":"#VALUE!"},7,0,{"$error":"#VALUE!"},{"$error":"#VALUE!"},{"$error":"#VALUE!"},{"$error":"#VALUE!"},{"$error":"#VALUE!"},{"$error":"#VALUE!"},{"$error":"#VALUE!"},{"$error":"#VALUE!"},{"$error":"#VALUE!"},{"$error":"#VALUE!"},{"$error":"#VALUE!"},{"$error":"#VALUE!"},{"$error":"#VALUE!"},{"$error":"#VALUE!"},{"$error":"#VALUE!"},{"$error":"#VALUE!"},{"$error":"#VALUE!"},{"$error":"#VALUE!"},{"$error":"#VALUE!"},{"$error":"#VALUE!"},{"$error":"#VALUE!"},{"$error":"#VALUE!"},{"$error":"#VALUE!"},{"$error":"#VALUE!"},{"$error":"#VALUE!"},{"$error":"#VALUE!"},{"$error":"#VALUE!"},{"$error":"#VALUE!"},{"$error":"#VALUE!"},{"$error":"#VALUE!"},{"$error":"#VALUE!"},{"$error":"#VALUE!"},{"$error":"#VALUE!"},7,0,{"$error":"#VALUE!"},{"$error":"#VALUE!"},{"$error":"#VALUE!"},{"$error":"#VALUE!"},{"$error":"#VALUE!"},{"$error":"#VALUE!"},{"$error":"#VALUE!"},{"$error":"#VALUE!"},{"$error":"#VALUE!"},{"$error":"#VALUE!"},{"$error":"#VALUE!"},{"$error":"#VALUE!"},{"$error":"#VALUE!"},{"$error":"#VALUE!"},{"$error":"#VALUE!"},{"$error":"#VALUE!"},{"$error":"#VALUE!"},{"$error":"#VALUE!"},{"$error":"#VALUE!"},{"$error":"#VALUE!"},{"$error":"#VALUE!"},{"$error":"#VALUE!"},{"$error":"#VALUE!"},{"$error":"#VALUE!"},{"$error":"#VALUE!"},{"$error":"#VALUE!"},{"$error":"#VALUE!"},{"$error":"#VALUE!"},{"$error":"#VALUE!"},{"$error":"#VALUE!"},{"$error":"#VALUE!"},{"$error":"#VALUE!"},{"$error":"#VALUE!"},7,0,{"$error":"#VALUE!"},{"$error":"#VALUE!"},{"$error":"#VALUE!"},{"$error":"#VALUE!"},{"$error":"#VALUE!"},{"$error":"#VALUE!"},{"$error":"#VALUE!"},{"$error":"#VALUE!"},{"$error":"#VALUE!"},{"$error":"#VALUE!"},{"$error":"#VALUE!"},{"$error":"#VALUE!"},{"$error":"#VALUE!"},{"$error":"#VALUE!"},{"$error":"#VALUE!"},{"$error":"#VALUE!"},{"$error":"#VALUE!"},{"$error":"#VALUE!"},{"$error":"#VALUE!"},{"$error":"#VALUE!"},{"$error":"#VALUE!"},{"$error":"#VALUE!"},{"$error":"#VALUE!"},{"$error":"#VALUE!"},{"$error":"#VALUE!"},{"$error":"#VALUE!"},{"$error":"#VALUE!"},{"$error":"#VALUE!"},{"$error":"#VALUE!"},{"$error":"#VALUE!"},{"$error":"#VALUE!"},{"$error":"#VALUE!"},{"$error":"#VALUE!"}]
[null,null,null,null,null,null,null,null,null,null,null,null,null,null,null,null,null,null,null,null,null,null,null,8,null,null,null,null,null,null,null,null,null,"N/A",null,false,null,null,null,null,8,null,null,null,null,null,null,null,null,null,null,null,"OK","OK","OK","OK",100,100,100,100,100,100,100,null,8,null,null,1,null,null,null,null,null,null,null,null,null,null,1,null,null,null,null,null,null,null,null,null,null,1,null,null,null,null,null,null,null,null,null,null,1,null,null,null,null,null,null,null,null,null,null,1,null,null,null,null,null,null,null,null,null,null,1,null,null,null,null,null,null,null,null,null,8,{"$error":"#VALUE!"},{"$error":"#VALUE!"},{"$error":"#VALUE!"},{"$error":"#VALUE!"},{"$error":"#VALUE!"},{"$error":"#VALUE!"},{"$error":"#VALUE!"},{"$error":"#VALUE!"},{"$error":"#VALUE!"},{"$error":"#VALUE!"},{"$error":"#VALUE!"},{"$error":"#VALUE!"},{"$error":"#VALUE!"},{"$error":"#VALUE!"},{"$error":"#VALUE!"},{"$error":"#VALUE!"},{"$error":"#VALUE!"},{"$error":"#VALUE!"},null,8,0,{"$error":"#VALUE!"},{"$error":"#VALUE!"},{"$error":"#VALUE!"},{"$error":"#VALUE!"},{"$error":"#VALUE!"},{"$error":"#VALUE!"},{"$error":"#VALUE!"},{"$error":"#VALUE!"},{"$error":"#VALUE!"},{"$error":"#VALUE!"},{"$error":"#VALUE!"},{"$error":"#VALUE!"},{"$error":"#VALUE!"},{"$error":"#VALUE!"},{"$error":"#VALUE!"},{"$error":"#VALUE!"},{"$error":"#VALUE!"},{"$error":"#VALUE!"},{"$error":"#VALUE!"},{"$error":"#VALUE!"},{"$error":"#VALUE!"},{"$error":"#VALUE!"},{"$error":"#VALUE!"},{"$error":"#VALUE!"},{"$error":"#VALUE!"},{"$error":"#VALUE!"},{"$error":"#VALUE!"},{"$error":"#VALUE!"},{"$error":"#VALUE!"},{"$error":"#VALUE!"},{"$error":"#VALUE!"},{"$error":"#VALUE!"},{"$error":"#VALUE!"},8,0,{"$error":"#VALUE!"},{"$error":"#VALUE!"},{"$error":"#VALUE!"},{"$error":"#VALUE!"},{"$error":"#VALUE!"},{"$error":"#VALUE!"},{"$error":"#VALUE!"},{"$error":"#VALUE!"},{"$error":"#VALUE!"},{"$error":"#VALUE!"},{"$error":"#VALUE!"},{"$error":"#VALUE!"},{"$error":"#VALUE!"},{"$error":"#VALUE!"},{"$error":"#VALUE!"},{"$error":"#VALUE!"},{"$error":"#VALUE!"},{"$error":"#VALUE!"},{"$error":"#VALUE!"},{"$error":"#VALUE!"},{"$error":"#VALUE!"},{"$error":"#VALUE!"},{"$error":"#VALUE!"},{"$error":"#VALUE!"},{"$error":"#VALUE!"},{"$error":"#VALUE!"},{"$error":"#VALUE!"},{"$error":"#VALUE!"},{"$error":"#VALUE!"},{"$error":"#VALUE!"},{"$error":"#VALUE!"},{"$error":"#VALUE!"},{"$error":"#VALUE!"},8,0,{"$error":"#VALUE!"},{"$error":"#VALUE!"},{"$error":"#VALUE!"},{"$error":"#VALUE!"},{"$error":"#VALUE!"},{"$error":"#VALUE!"},{"$error":"#VALUE!"},{"$error":"#VALUE!"},{"$error":"#VALUE!"},{"$error":"#VALUE!"},{"$error":"#VALUE!"},{"$error":"#VALUE!"},{"$error":"#VALUE!"},{"$error":"#VALUE!"},{"$error":"#VALUE!"},{"$error":"#VALUE!"},{"$error":"#VALUE!"},{"$error":"#VALUE!"},{"$error":"#VALUE!"},{"$error":"#VALUE!"},{"$error":"#VALUE!"},{"$error":"#VALUE!"},{"$error":"#VALUE!"},{"$error":"#VALUE!"},{"$error":"#VALUE!"},{"$error":"#VALUE!"},{"$error":"#VALUE!"},{"$error":"#VALUE!"},{"$error":"#VALUE!"},{"$error":"#VALUE!"},{"$error":"#VALUE!"},{"$error":"#VALUE!"},{"$error":"#VALUE!"},8,0,{"$error":"#VALUE!"},{"$error":"#VALUE!"},{"$error":"#VALUE!"},{"$error":"#VALUE!"},{"$error":"#VALUE!"},{"$error":"#VALUE!"},{"$error":"#VALUE!"},{"$error":"#VALUE!"},{"$error":"#VALUE!"},{"$error":"#VALUE!"},{"$error":"#VALUE!"},{"$error":"#VALUE!"},{"$error":"#VALUE!"},{"$error":"#VALUE!"},{"$error":"#VALUE!"},{"$error":"#VALUE!"},{"$error":"#VALUE!"},{"$error":"#VALUE!"},{"$error":"#VALUE!"},{"$error":"#VALUE!"},{"$error":"#VALUE!"},{"$error":"#VALUE!"},{"$error":"#VALUE!"},{"$error":"#VALUE!"},{"$error":"#VALUE!"},{"$error":"#VALUE!"},{"$error":"#VALUE!"},{"$error":"#VALUE!"},{"$error":"#VALUE!"},{"$error":"#VALUE!"},{"$error":"#VALUE!"},{"$error":"#VALUE!"},{"$error":"#VALUE!"},8,0,{"$error":"#VALUE!"},{"$error":"#VALUE!"},{"$error":"#VALUE!"},{"$error":"#VALUE!"},{"$error":"#VALUE!"},{"$error":"#VALUE!"},{"$error":"#VALUE!"},{"$error":"#VALUE!"},{"$error":"#VALUE!"},{"$error":"#VALUE!"},{"$error":"#VALUE!"},{"$error":"#VALUE!"},{"$error":"#VALUE!"},{"$error":"#VALUE!"},{"$error":"#VALUE!"},{"$error":"#VALUE!"},{"$error":"#VALUE!"},{"$error":"#VALUE!"},{"$error":"#VALUE!"},{"$error":"#VALUE!"},{"$error":"#VALUE!"},{"$error":"#VALUE!"},{"$error":"#VALUE!"},{"$error":"#VALUE!"},{"$error":"#VALUE!"},{"$error":"#VALUE!"},{"$error":"#VALUE!"},{"$error":"#VALUE!"},{"$error":"#VALUE!"},{"$error":"#VALUE!"},{"$error":"#VALUE!"},{"$error":"#VALUE!"},{"$error":"#VALUE!"},8,0,{"$error":"#VALUE!"},{"$error":"#VALUE!"},{"$error":"#VALUE!"},{"$error":"#VALUE!"},{"$error":"#VALUE!"},{"$error":"#VALUE!"},{"$error":"#VALUE!"},{"$error":"#VALUE!"},{"$error":"#VALUE!"},{"$error":"#VALUE!"},{"$error":"#VALUE!"},{"$error":"#VALUE!"},{"$error":"#VALUE!"},{"$error":"#VALUE!"},{"$error":"#VALUE!"},{"$error":"#VALUE!"},{"$error":"#VALUE!"},{"$error":"#VALUE!"},{"$error":"#VALUE!"},{"$error":"#VALUE!"},{"$error":"#VALUE!"},{"$error":"#VALUE!"},{"$error":"#VALUE!"},{"$error":"#VALUE!"},{"$error":"#VALUE!"},{"$error":"#VALUE!"},{"$error":"#VALUE!"},{"$error":"#VALUE!"},{"$error":"#VALUE!"},{"$error":"#VALUE!"},{"$error":"#VALUE!"},{"$error":"#VALUE!"},{"$error":"#VALUE!"}]
[null,null,null,null,null,null,null,null,null,null,null,null,null,null,null,null,null,null,null,null,null,null,null,9,null,null,null,null,null,null,null,null,null,"N/A",null,false,null,null,null,null,9,null,null,null,null,null,null,null,null,null,null,null,"OK","OK","OK","OK",100,100,100,{"$f":"(CU127*POWER(10,0)+CV127*POWER(10,1)+CW127*POWER(10,2)+CX127*POWER(10,3)+CY127*POWER(10,4)+CZ127*POWER(10,5)+DA127*POWER(10,6)+DB127*POWER(10,7)+DC127*POWER(10,8)+DD127*POWER(10,9)+DE127*POWER(10,10))","v":100},{"$f":"(DF127*POWER(10,0)+DG127*POWER(10,1)+DH127*POWER(10,2)+DI127*POWER(10,3)+DJ127*POWER(10,4)+DK127*POWER(10,5)+DL127*POWER(10,6)+DM127*POWER(10,7)+DN127*POWER(10,8)+DO127*POWER(10,9)+DP127*POWER(10,10))","v":100},100,100,null,9,null,null,1,null,null,null,null,null,null,null,null,null,null,1,null,null,null,null,null,null,null,null,null,null,1,null,null,null,null,null,null,null,null,null,null,1,null,null,null,null,null,null,null,null,null,null,1,null,null,null,null,null,null,null,null,null,null,1,null,null,null,null,null,null,null,null,null,9,{"$error":"#VALUE!"},{"$error":"#VALUE!"},{"$error":"#VALUE!"},{"$error":"#VALUE!"},{"$error":"#VALUE!"},{"$error":"#VALUE!"},{"$error":"#VALUE!"},{"$error":"#VALUE!"},{"$error":"#VALUE!"},{"$error":"#VALUE!"},{"$error":"#VALUE!"},{"$error":"#VALUE!"},{"$error":"#VALUE!"},{"$error":"#VALUE!"},{"$error":"#VALUE!"},{"$error":"#VALUE!"},{"$error":"#VALUE!"},{"$error":"#VALUE!"},null,9,0,{"$error":"#VALUE!"},{"$error":"#VALUE!"},{"$error":"#VALUE!"},{"$error":"#VALUE!"},{"$error":"#VALUE!"},{"$error":"#VALUE!"},{"$error":"#VALUE!"},{"$error":"#VALUE!"},{"$error":"#VALUE!"},{"$error":"#VALUE!"},{"$error":"#VALUE!"},{"$error":"#VALUE!"},{"$error":"#VALUE!"},{"$error":"#VALUE!"},{"$error":"#VALUE!"},{"$error":"#VALUE!"},{"$error":"#VALUE!"},{"$error":"#VALUE!"},{"$error":"#VALUE!"},{"$error":"#VALUE!"},{"$error":"#VALUE!"},{"$error":"#VALUE!"},{"$error":"#VALUE!"},{"$error":"#VALUE!"},{"$error":"#VALUE!"},{"$error":"#VALUE!"},{"$error":"#VALUE!"},{"$error":"#VALUE!"},{"$error":"#VALUE!"},{"$error":"#VALUE!"},{"$error":"#VALUE!"},{"$error":"#VALUE!"},{"$error":"#VALUE!"},9,0,{"$error":"#VALUE!"},{"$error":"#VALUE!"},{"$error":"#VALUE!"},{"$error":"#VALUE!"},{"$error":"#VALUE!"},{"$error":"#VALUE!"},{"$error":"#VALUE!"},{"$error":"#VALUE!"},{"$error":"#VALUE!"},{"$error":"#VALUE!"},{"$error":"#VALUE!"},{"$error":"#VALUE!"},{"$error":"#VALUE!"},{"$error":"#VALUE!"},{"$error":"#VALUE!"},{"$error":"#VALUE!"},{"$error":"#VALUE!"},{"$error":"#VALUE!"},{"$error":"#VALUE!"},{"$error":"#VALUE!"},{"$error":"#VALUE!"},{"$error":"#VALUE!"},{"$error":"#VALUE!"},{"$error":"#VALUE!"},{"$error":"#VALUE!"},{"$error":"#VALUE!"},{"$error":"#VALUE!"},{"$error":"#VALUE!"},{"$error":"#VALUE!"},{"$error":"#VALUE!"},{"$error":"#VALUE!"},{"$error":"#VALUE!"},{"$error":"#VALUE!"},9,0,{"$error":"#VALUE!"},{"$error":"#VALUE!"},{"$error":"#VALUE!"},{"$error":"#VALUE!"},{"$error":"#VALUE!"},{"$error":"#VALUE!"},{"$error":"#VALUE!"},{"$error":"#VALUE!"},{"$error":"#VALUE!"},{"$error":"#VALUE!"},{"$error":"#VALUE!"},{"$error":"#VALUE!"},{"$error":"#VALUE!"},{"$error":"#VALUE!"},{"$error":"#VALUE!"},{"$error":"#VALUE!"},{"$error":"#VALUE!"},{"$error":"#VALUE!"},{"$error":"#VALUE!"},{"$error":"#VALUE!"},{"$error":"#VALUE!"},{"$error":"#VALUE!"},{"$error":"#VALUE!"},{"$error":"#VALUE!"},{"$error":"#VALUE!"},{"$error":"#VALUE!"},{"$error":"#VALUE!"},{"$error":"#VALUE!"},{"$error":"#VALUE!"},{"$error":"#VALUE!"},{"$error":"#VALUE!"},{"$error":"#VALUE!"},{"$error":"#VALUE!"},9,0,{"$error":"#VALUE!"},{"$error":"#VALUE!"},{"$error":"#VALUE!"},{"$error":"#VALUE!"},{"$error":"#VALUE!"},{"$error":"#VALUE!"},{"$error":"#VALUE!"},{"$error":"#VALUE!"},{"$error":"#VALUE!"},{"$error":"#VALUE!"},{"$error":"#VALUE!"},{"$error":"#VALUE!"},{"$error":"#VALUE!"},{"$error":"#VALUE!"},{"$error":"#VALUE!"},{"$error":"#VALUE!"},{"$error":"#VALUE!"},{"$error":"#VALUE!"},{"$error":"#VALUE!"},{"$error":"#VALUE!"},{"$error":"#VALUE!"},{"$error":"#VALUE!"},{"$error":"#VALUE!"},{"$error":"#VALUE!"},{"$error":"#VALUE!"},{"$error":"#VALUE!"},{"$error":"#VALUE!"},{"$error":"#VALUE!"},{"$error":"#VALUE!"},{"$error":"#VALUE!"},{"$error":"#VALUE!"},{"$error":"#VALUE!"},{"$error":"#VALUE!"},9,0,{"$error":"#VALUE!"},{"$error":"#VALUE!"},{"$error":"#VALUE!"},{"$error":"#VALUE!"},{"$error":"#VALUE!"},{"$error":"#VALUE!"},{"$error":"#VALUE!"},{"$error":"#VALUE!"},{"$error":"#VALUE!"},{"$error":"#VALUE!"},{"$error":"#VALUE!"},{"$error":"#VALUE!"},{"$error":"#VALUE!"},{"$error":"#VALUE!"},{"$error":"#VALUE!"},{"$error":"#VALUE!"},{"$error":"#VALUE!"},{"$error":"#VALUE!"},{"$error":"#VALUE!"},{"$error":"#VALUE!"},{"$error":"#VALUE!"},{"$error":"#VALUE!"},{"$error":"#VALUE!"},{"$error":"#VALUE!"},{"$error":"#VALUE!"},{"$error":"#VALUE!"},{"$error":"#VALUE!"},{"$error":"#VALUE!"},{"$error":"#VALUE!"},{"$error":"#VALUE!"},{"$error":"#VALUE!"},{"$error":"#VALUE!"},{"$error":"#VALUE!"},9,0,{"$error":"#VALUE!"},{"$error":"#VALUE!"},{"$error":"#VALUE!"},{"$error":"#VALUE!"},{"$error":"#VALUE!"},{"$error":"#VALUE!"},{"$error":"#VALUE!"},{"$error":"#VALUE!"},{"$error":"#VALUE!"},{"$error":"#VALUE!"},{"$error":"#VALUE!"},{"$error":"#VALUE!"},{"$error":"#VALUE!"},{"$error":"#VALUE!"},{"$error":"#VALUE!"},{"$error":"#VALUE!"},{"$error":"#VALUE!"},{"$error":"#VALUE!"},{"$error":"#VALUE!"},{"$error":"#VALUE!"},{"$error":"#VALUE!"},{"$error":"#VALUE!"},{"$error":"#VALUE!"},{"$error":"#VALUE!"},{"$error":"#VALUE!"},{"$error":"#VALUE!"},{"$error":"#VALUE!"},{"$error":"#VALUE!"},{"$error":"#VALUE!"},{"$error":"#VALUE!"},{"$error":"#VALUE!"},{"$error":"#VALUE!"},{"$error":"#VALUE!"}]
[null,null,null,null,null,null,null,null,null,null,null,null,null,null,null,null,null,null,null,null,null,null,null,"Total",{"$f":"SUM(Y121:Y127)","v":0},{"$f":"SUM(Z121:Z127)","v":0},0,0,0,0,null,null,null,"N/A",null,false,null,null,null,null,"Total",null,null,null,null,null,null,null,null,null,null,null,null,null,null,null,null,null,null,null,null,null,null,null,"Total",null,null,null,null,null,null,null,null,null,null,null,null,null,null,null,null,null,null,null,null,null,null,null,null,null,null,null,null,null,null,null,null,null,null,null,null,null,null,null,null,null,null,null,null,null,null,null,null,null,null,null,null,null,null,null,null,null,null,null,null,null,null,null,null,null,null,null,"Total",{"$f":"SUM(ED121:ED127)","v":{"$error":"#VALUE!"}},{"$f":"SUM(EE121:EE127)","v":{"$error":"#VALUE!"}},{"$f":"SUM(EF121:EF127)","v":{"$error":"#VALUE!"}},{"$f":"SUM(EG121:EG127)","v":{"$error":"#VALUE!"}},{"$f":"SUM(EH121:EH127)","v":{"$error":"#VALUE!"}},{"$f":"SUM(EI121:EI127)","v":{"$error":"#VALUE!"}},{"$error":"#VALUE!"},{"$error":"#VALUE!"},{"$error":"#VALUE!"},{"$error":"#VALUE!"},{"$error":"#VALUE!"},{"$error":"#VALUE!"},{"$error":"#VALUE!"},{"$error":"#VALUE!"},{"$error":"#VALUE!"},{"$error":"#VALUE!"},{"$error":"#VALUE!"},{"$error":"#VALUE!"},null,"Total",{"$f":"SUM(EX121:EX127)","v":0},{"$f":"SUM(EY121:EY127)","v":{"$error":"#VALUE!"}},{"$f":"SUM(EZ121:EZ127)","v":{"$error":"#VALUE!"}},{"$error":"#VALUE!"},{"$error":"#VALUE!"},{"$f":"SUM(FC121:FC127)","v":{"$error":"#VALUE!"}},{"$f":"SUM(FD121:FD127)","v":{"$error":"#VALUE!"}},{"$error":"#VALUE!"},{"$error":"#VALUE!"},{"$error":"#VALUE!"},{"$error":"#VALUE!"},{"$error":"#VALUE!"},{"$error":"#VALUE!"},{"$error":"#VALUE!"},{"$error":"#VALUE!"},{"$error":"#VALUE!"},{"$f":"SUM(FN121:FN127)","v":{"$error":"#VALUE!"}},{"$f":"SUM(FO121:FO127)","v":{"$error":"#VALUE!"}},{"$f":"SUM(FP121:FP127)","v":{"$error":"#VALUE!"}},{"$f":"SUM(FQ121:FQ127)","v":{"$error":"#VALUE!"}},{"$error":"#VALUE!"},{"$error":"#VALUE!"},{"$error":"#VALUE!"},{"$error":"#VALUE!"},{"$error":"#VALUE!"},{"$error":"#VALUE!"},{"$error":"#VALUE!"},{"$error":"#VALUE!"},{"$error":"#VALUE!"},{"$error":"#VALUE!"},{"$error":"#VALUE!"},{"$f":"SUM(GC121:GC127)","v":{"$error":"#VALUE!"}},{"$f":"SUM(GD121:GD127)","v":{"$error":"#VALUE!"}},{"$error":"#VALUE!"},"Total",{"$f":"SUM(GG121:GG127)","v":0},{"$f":"SUM(GH121:GH127)","v":{"$error":"#VALUE!"}},{"$f":"SUM(GI121:GI127)","v":{"$error":"#VALUE!"}},{"$error":"#VALUE!"},{"$error":"#VALUE!"},{"$f":"SUM(GL121:GL127)","v":{"$error":"#VALUE!"}},{"$f":"SUM(GM121:GM127)","v":{"$error":"#VALUE!"}},{"$f":"SUM(GN121:GN127)","v":{"$error":"#VALUE!"}},{"$error":"#VALUE!"},{"$error":"#VALUE!"},{"$error":"#VALUE!"},{"$error":"#VALUE!"},{"$error":"#VALUE!"},{"$error":"#VALUE!"},{"$error":"#VALUE!"},{"$error":"#VALUE!"},{"$f":"SUM(GW121:GW127)","v":{"$error":"#VALUE!"}},{"$f":"SUM(GX121:GX127)","v":{"$error":"#VALUE!"}},{"$f":"SUM(GY121:GY127)","v":{"$error":"#VALUE!"}},{"$f":"SUM(GZ121:GZ127)","v":{"$error":"#VALUE!"}},{"$error":"#VALUE!"},{"$error":"#VALUE!"},{"$error":"#VALUE!"},{"$error":"#VALUE!"},{"$error":"#VALUE!"},{"$error":"#VALUE!"},{"$error":"#VALUE!"},{"$error":"#VALUE!"},{"$error":"#VALUE!"},{"$error":"#VALUE!"},{"$error":"#VALUE!"},{"$f":"SUM(HL121:HL127)","v":{"$error":"#VALUE!"}},{"$f":"SUM(HM121:HM127)","v":{"$error":"#VALUE!"}},{"$error":"#VALUE!"},"Total",{"$f":"SUM(HP121:HP127)","v":0},{"$f":"SUM(HQ121:HQ127)","v":{"$error":"#VALUE!"}},{"$f":"SUM(HR121:HR127)","v":{"$error":"#VALUE!"}},{"$error":"#VALUE!"},{"$error":"#VALUE!"},{"$f":"SUM(HU121:HU127)","v":{"$error":"#VALUE!"}},{"$f":"SUM(HV121:HV127)","v":{"$error":"#VALUE!"}},{"$error":"#VALUE!"},{"$error":"#VALUE!"},{"$error":"#VALUE!"},{"$error":"#VALUE!"},{"$error":"#VALUE!"},{"$error":"#VALUE!"},{"$error":"#VALUE!"},{"$error":"#VALUE!"},{"$error":"#VALUE!"},{"$f":"SUM(IF121:IF127)","v":{"$error":"#VALUE!"}},{"$f":"SUM(IG121:IG127)","v":{"$error":"#VALUE!"}},{"$f":"SUM(IH121:IH127)","v":{"$error":"#VALUE!"}},{"$f":"SUM(II121:II127)","v":{"$error":"#VALUE!"}},{"$error":"#VALUE!"},{"$error":"#VALUE!"},{"$error":"#VALUE!"},{"$error":"#VALUE!"},{"$error":"#VALUE!"},{"$error":"#VALUE!"},{"$error":"#VALUE!"},{"$error":"#VALUE!"},{"$error":"#VALUE!"},{"$error":"#VALUE!"},{"$error":"#VALUE!"},{"$f":"SUM(IU121:IU127)","v":{"$error":"#VALUE!"}},{"$f":"SUM(IV121:IV127)","v":{"$error":"#VALUE!"}},{"$error":"#VALUE!"},"Total",{"$f":"SUM(IY121:IY127)","v":0},{"$f":"SUM(IZ121:IZ127)","v":{"$error":"#VALUE!"}},{"$f":"SUM(JA121:JA127)","v":{"$error":"#VALUE!"}},{"$error":"#VALUE!"},{"$error":"#VALUE!"},{"$f":"SUM(JD121:JD127)","v":{"$error":"#VALUE!"}},{"$f":"SUM(JE121:JE127)","v":{"$error":"#VALUE!"}},{"$error":"#VALUE!"},{"$error":"#VALUE!"},{"$error":"#VALUE!"},{"$error":"#VALUE!"},{"$error":"#VALUE!"},{"$error":"#VALUE!"},{"$error":"#VALUE!"},{"$error":"#VALUE!"},{"$error":"#VALUE!"},{"$f":"SUM(JO121:JO127)","v":{"$error":"#VALUE!"}},{"$f":"SUM(JP121:JP127)","v":{"$error":"#VALUE!"}},{"$f":"SUM(JQ121:JQ127)","v":{"$error":"#VALUE!"}},{"$f":"SUM(JR121:JR127)","v":{"$error":"#VALUE!"}},{"$error":"#VALUE!"},{"$error":"#VALUE!"},{"$error":"#VALUE!"},{"$error":"#VALUE!"},{"$error":"#VALUE!"},{"$error":"#VALUE!"},{"$error":"#VALUE!"},{"$error":"#VALUE!"},{"$error":"#VALUE!"},{"$error":"#VALUE!"},{"$error":"#VALUE!"},{"$f":"SUM(KD121:KD127)","v":{"$error":"#VALUE!"}},{"$f":"SUM(KE121:KE127)","v":{"$error":"#VALUE!"}},{"$error":"#VALUE!"},"Total",{"$f":"SUM(KH121:KH127)","v":0},{"$f":"SUM(KI121:KI127)","v":{"$error":"#VALUE!"}},{"$f":"SUM(KJ121:KJ127)","v":{"$error":"#VALUE!"}},{"$error":"#VALUE!"},{"$error":"#VALUE!"},{"$f":"SUM(KM121:KM127)","v":{"$error":"#VALUE!"}},{"$f":"SUM(KN121:KN127)","v":{"$error":"#VALUE!"}},{"$error":"#VALUE!"},{"$error":"#VALUE!"},{"$error":"#VALUE!"},{"$error":"#VALUE!"},{"$error":"#VALUE!"},{"$error":"#VALUE!"},{"$error":"#VALUE!"},{"$error":"#VALUE!"},{"$error":"#VALUE!"},{"$f":"SUM(KX121:KX127)","v":{"$error":"#VALUE!"}},{"$f":"SUM(KY121:KY127)","v":{"$error":"#VALUE!"}},{"$f":"SUM(KZ121:KZ127)","v":{"$error":"#VALUE!"}},{"$f":"SUM(LA121:LA127)","v":{"$error":"#VALUE!"}},{"$error":"#VALUE!"},{"$error":"#VALUE!"},{"$error":"#VALUE!"},{"$error":"#VALUE!"},{"$error":"#VALUE!"},{"$error":"#VALUE!"},{"$error":"#VALUE!"},{"$error":"#VALUE!"},{"$error":"#VALUE!"},{"$error":"#VALUE!"},{"$error":"#VALUE!"},{"$f":"SUM(LM121:LM127)","v":{"$error":"#VALUE!"}},{"$f":"SUM(LN121:LN127)","v":{"$error":"#VALUE!"}},{"$error":"#VALUE!"},"Total",{"$f":"SUM(LQ121:LQ127)","v":0},{"$f":"SUM(LR121:LR127)","v":{"$error":"#VALUE!"}},{"$f":"SUM(LS121:LS127)","v":{"$error":"#VALUE!"}},{"$error":"#VALUE!"},{"$error":"#VALUE!"},{"$f":"SUM(LV121:LV127)","v":{"$error":"#VALUE!"}},{"$f":"SUM(LW121:LW127)","v":{"$error":"#VALUE!"}},{"$error":"#VALUE!"},{"$error":"#VALUE!"},{"$error":"#VALUE!"},{"$error":"#VALUE!"},{"$error":"#VALUE!"},{"$error":"#VALUE!"},{"$error":"#VALUE!"},{"$error":"#VALUE!"},{"$f":"SUM(MF121:MF127)","v":{"$error":"#VALUE!"}},{"$f":"SUM(MG121:MG127)","v":{"$error":"#VALUE!"}},{"$f":"SUM(MH121:MH127)","v":{"$error":"#VALUE!"}},{"$f":"SUM(MI121:MI127)","v":{"$error":"#VALUE!"}},{"$f":"SUM(MJ121:MJ127)","v":{"$error":"#VALUE!"}},{"$error":"#VALUE!"},{"$error":"#VALUE!"},{"$error":"#VALUE!"},{"$error":"#VALUE!"},{"$error":"#VALUE!"},{"$error":"#VALUE!"},{"$error":"#VALUE!"},{"$error":"#VALUE!"},{"$error":"#VALUE!"},{"$error":"#VALUE!"},{"$error":"#VALUE!"},{"$f":"SUM(MV121:MV127)","v":{"$error":"#VALUE!"}},{"$f":"SUM(MW121:MW127)","v":{"$error":"#VALUE!"}},{"$error":"#VALUE!"}]
[null,{"$f":"B121+1","v":13},{"$f":"'Regional Project List Sheet'!F17","v":0},{"$f":"IF('Regional Project List Sheet'!$G17=\"New\",1,\"\")","v":""},{"$f":"IF('Regional Project List Sheet'!$G17=\"Funded Old\",1,\"\")","v":""},{"$f":"IF('Regional Project List Sheet'!$G17=\"Unfunded Old\",1,\"\")","v":""},{"$f":"'Regional Project List Sheet'!H17","v":0},{"$f":"'Regional Project List Sheet'!I17","v":0},{"$f":"'Regional Project List Sheet'!L17","v":0},{"$f":"'Regional Project List Sheet'!M17","v":0},{"$f":"'Regional Project List Sheet'!N17","v":0},{"$f":"'Regional Project List Sheet'!O17","v":0},{"$f":"'Regional Project List Sheet'!P17","v":0},{"$f":"IF('Regional Project List Sheet'!$Q17=\"N/A\",\"N/A\",IF($Y132<>0,5,IF($Z132<>0,4,IF($AA132<>0,3,IF($AB132<>0,2,1)))))","v":1},{"$f":"VLOOKUP($C129,'[2]Ranking|Priority'!$B$5:$O$40,12,FALSE)","v":{"$error":"#N/A"}},{"$f":"VLOOKUP($C129,'[2]Ranking|Priority'!$B$5:$O$68,13,FALSE)","v":{"$error":"#N/A"}},{"$f":"VLOOKUP($C129,'[2]Ranking|Priority'!$B$5:$O$68,14,FALSE)","v":{"$error":"#N/A"}},{"$f":"'Regional Project List Sheet'!T17","v":0},{"$f":"'Regional Project List Sheet'!U17","v":0},{"$f":"'Regional Project List Sheet'!V17","v":0},{"$f":"'Regional Project List Sheet'!W17","v":0},{"$f":"'Regional Project List Sheet'!X17","v":0},{"$f":"'Regional Project List Sheet'!Y17","v":"Choose from Project List in cell I2"},0,null,null,null,null,null,null,null,{"$f":"'Regional Project List Sheet'!AJ17","v":0},{"$f":"IF(OR('Regional Project List Sheet'!$AA17<>'Regional Project List Sheet'!$A$40,'Regional Project List Sheet'!$AD17<>'Regional Project List Sheet'!$A$40,'Regional Project List Sheet'!$AG17<>'Regional Project List Sheet'!$A$40),_xlfn.CONCAT(IF(ISNUMBER('Regional Project List Sheet'!$AA17),'Regional Project List Sheet'!$A$36,\"\"),\" \",IF(ISNUMBER('Regional Project List Sheet'!$AD17),'Regional Project List Sheet'!$A$37,\"\"),\" \",IF(ISNUMBER('Regional Project List Sheet'!$AG17),'Regional Project List Sheet'!$A$38,\"\")),\"N/A\")","v":"N/A"},"N/A",{"$f":"IF(OR('Regional Project List Sheet'!AC17<>'Regional Project List Sheet'!$A$40,'Regional Project List Sheet'!AF17<>'Regional Project List Sheet'!$A$40,'Regional Project List Sheet'!AI17<>'Regional Project List Sheet'!$A$40),\n\nIF(LEN(_xlfn.CONCAT(IF('Regional Project List Sheet'!AC17=\"Yes\",'Regional Project List Sheet'!$A$36,\"\"),\" \",\n\nIF('Regional Project List Sheet'!AF17=\"Yes\",'Regional Project List Sheet'!$A$37,\"\"),\" \",\n\nIF('Regional Project List Sheet'!AI17=\"Yes\",'Regional Project List Sheet'!$A$38,\"\")))<3,\"No\",\n\n_xlfn.CONCAT(IF('Regional Project List Sheet'!AC17=\"Yes\",'Regional Project List Sheet'!$A$36,\"\"),\" \",\n\nIF('Regional Project List Sheet'!AF17=\"Yes\",'Regional Project List Sheet'!$A$37,\"\"),\" \",\n\nIF('Regional Project List Sheet'!AI17=\"Yes\",'Regional Project List Sheet'!$A$38,\"\"))))","v":false},false,{"$f":"'Regional Project List Sheet'!AK17","v":0},null,{"$f":"'Regional Project List Sheet'!AL17","v":0},null,0,null,null,null,null,null,null,null,null,null,null,1,{"$f":"IF(AND(BB129=\"OK\",BC129=\"OK\",BD129=\"OK\"),\"OK\",\"ERR!\")","v":"OK"},{"$f":"IF(AND(Y129>0,SUM(BN129:BX129)<1),\"ERR!\",IF(AND(Z129>0,SUM(BY129:CI129)<1),\"ERR!\",IF(AND(AA129>0,SUM(CJ129:CT129)<1),\"ERR\",IF(AND(AB129>0,SUM(CU129:DE129)<1),\"ERR\",IF(AND(AC129>0,SUM(DF129:DP129)<1),\"ERR\",IF(AND(AD129>0,SUM(DQ129:EA129)<1),\"ERR\",\"OK\"))))))","v":"OK"},{"$f":"IF(OR(SUM(BN129:BX129)<>1,SUM(BY129:CI129)<>1,SUM(CJ129:CT129)<>1,SUM(CU129:DE129)<>1,SUM(DF129:DP129)<>1,SUM(DQ129:EA129)<>1),\"ERR!\",\"OK\")","v":"OK"},{"$f":"IF(AND(OR(BE129=BK129,BE129=0),OR(BF129=BK129,BF129=0),OR(BG129=BK129,BG129=0),OR(BH129=BK129,BH129=0),OR(BI129=BK129,BI129=0),OR(BJ129=BK129,BJ129=0)),\"OK\",\"ERR!\")","v":"OK"},{"$f":"(BN129*POWER(10,0)+BO129*POWER(10,1)+BP129*POWER(10,2)+BQ129*POWER(10,3)+BR129*POWER(10,4)+BS129*POWER(10,5)+BT129*POWER(10,6)+BU129*POWER(10,7)+BV129*POWER(10,8)+BW129*POWER(10,9)+BX129*POWER(10,10))","v":100},{"$f":"(BY129*POWER(10,0)+BZ129*POWER(10,1)+CA129*POWER(10,2)+CB129*POWER(10,3)+CC129*POWER(10,4)+CD129*POWER(10,5)+CE129*POWER(10,6)+CF129*POWER(10,7)+CG129*POWER(10,8)+CH129*POWER(10,9)+CI129*POWER(10,10))","v":100},{"$f":"(CJ129*POWER(10,0)+CK129*POWER(10,1)+CL129*POWER(10,2)+CM129*POWER(10,3)+CN129*POWER(10,4)+CO129*POWER(10,5)+CP129*POWER(10,6)+CQ129*POWER(10,7)+CR129*POWER(10,8)+CS129*POWER(10,9)+CT129*POWER(10,10))","v":100},{"$f":"(CU129*POWER(10,0)+CV129*POWER(10,1)+CW129*POWER(10,2)+CX129*POWER(10,3)+CY129*POWER(10,4)+CZ129*POWER(10,5)+DA129*POWER(10,6)+DB129*POWER(10,7)+DC129*POWER(10,8)+DD129*POWER(10,9)+DE129*POWER(10,10))","v":100},{"$f":"(DF129*POWER(10,0)+DG129*POWER(10,1)+DH129*POWER(10,2)+DI129*POWER(10,3)+DJ129*POWER(10,4)+DK129*POWER(10,5)+DL129*POWER(10,6)+DM129*POWER(10,7)+DN129*POWER(10,8)+DO129*POWER(10,9)+DP129*POWER(10,10))","v":100},{"$f":"(DQ129*POWER(10,0)+DR129*POWER(10,1)+DS129*POWER(10,2)+DT129*POWER(10,3)+DU129*POWER(10,4)+DV129*POWER(10,5)+DW129*POWER(10,6)+DX129*POWER(10,7)+DY129*POWER(10,8)+DZ129*POWER(10,9)+EA129*POWER(10,10))","v":100},{"$f":"MAX(BE129:BJ129)","v":100},null,0,null,null,1,null,null,null,null,null,null,null,null,null,null,1,null,null,null,null,null,null,null,null,null,null,1,null,null,null,null,null,null,null,null,null,null,1,null,null,null,null,null,null,null,null,null,null,1,null,null,null,null,null,null,null,null,null,null,1,null,null,null,null,null,null,null,null,null,0,{"$f":"($Y129*D$129)/1000","v":{"$error":"#VALUE!"}},{"$error":"#VALUE!"},{"$error":"#VALUE!"},{"$f":"($Z129*D$129)/1000","v":{"$error":"#VALUE!"}},{"$error":"#VALUE!"},{"$error":"#VALUE!"},{"$f":"($AA129*D$129)/1000","v":{"$error":"#VALUE!"}},{"$error":"#VALUE!"},{"$error":"#VALUE!"},{"$f":"($AB129*D$129)/1000","v":{"$error":"#VALUE!"}},{"$error":"#VALUE!"},{"$error":"#VALUE!"},{"$f":"($AC129*D$129)/1000","v":{"$error":"#VALUE!"}},{"$error":"#VALUE!"},{"$error":"#VALUE!"},{"$f":"($AD129*D$129)/1000","v":{"$error":"#VALUE!"}},{"$error":"#VALUE!"},{"$error":"#VALUE!"},null,0,{"$f":"$AZ$129*$Y129","v":0},{"$f":"($AZ$129*$BN129*D$129*$Y129)/1000","v":{"$error":"#VALUE!"}},{"$error":"#VALUE!"},{"$error":"#VALUE!"},{"$f":"($AZ$129*$BO129*D$129*$Y129)/1000","v":{"$error":"#VALUE!"}},{"$error":"#VALUE!"},{"$error":"#VALUE!"},{"$f":"($AZ$129*$BP129*D$129*$Y129)/1000","v":{"$error":"#VALUE!"}},{"$error":"#VALUE!"},{"$error":"#VALUE!"},{"$f":"($AZ$129*$BQ129*D$129*$Y129)/1000","v":{"$error":"#VALUE!"}},{"$error":"#VALUE!"},{"$error":"#VALUE!"},{"$f":"($AZ$129*$BR129*D$129*$Y129)/1000","v":{"$error":"#VALUE!"}},{"$error":"#VALUE!"},{"$error":"#VALUE!"},{"$f":"($AZ$129*$BS129*D$129*$Y129)/1000","v":{"$error":"#VALUE!"}},{"$error":"#VALUE!"},{"$error":"#VALUE!"},{"$f":"($AZ$129*$BT129*D$129*$Y129)/1000","v":{"$error":"#VALUE!"}},{"$error":"#VALUE!"},{"$error":"#VALUE!"},{"$f":"($AZ$129*$BU129*D$129*$Y129)/1000","v":{"$error":"#VALUE!"}},{"$error":"#VALUE!"},{"$error":"#VALUE!"},{"$f":"($AZ$129*$BV129*D$129*$Y129)/1000","v":{"$error":"#VALUE!"}},{"$error":"#VALUE!"},{"$error":"#VALUE!"},{"$f":"($AZ$129*$BW129*D$129*$Y129)/1000","v":{"$error":"#VALUE!"}},{"$error":"#VALUE!"},{"$error":"#VALUE!"},{"$f":"($AZ$129*$BX129*D$129*$Y129)/1000","v":{"$error":"#VALUE!"}},{"$error":"#VALUE!"},{"$error":"#VALUE!"},0,{"$f":"$AZ$129*$Z129","v":0},{"$f":"($AZ$129*$BY129*D$129*$Z129)/1000","v":{"$error":"#VALUE!"}},{"$error":"#VALUE!"},{"$error":"#VALUE!"},{"$f":"($AZ$129*$BZ129*D$129*$Z129)/1000","v":{"$error":"#VALUE!"}},{"$error":"#VALUE!"},{"$error":"#VALUE!"},{"$f":"($AZ$129*$CA129*D$129*$Z129)/1000","v":{"$error":"#VALUE!"}},{"$error":"#VALUE!"},{"$error":"#VALUE!"},{"$f":"($AZ$129*$CB129*D$129*$Z129)/1000","v":{"$error":"#VALUE!"}},{"$error":"#VALUE!"},{"$error":"#VALUE!"},{"$f":"($AZ$129*$CD129*D$129*$Z129)/1000","v":{"$error":"#VALUE!"}},{"$error":"#VALUE!"},{"$error":"#VALUE!"},{"$f":"($AZ$129*$CD129*D$129*$Z129)/1000","v":{"$error":"#VALUE!"}},{"$error":"#VALUE!"},{"$error":"#VALUE!"},{"$f":"($AZ$129*$CE129*D$129*$Z129)/1000","v":{"$error":"#VALUE!"}},{"$error":"#VALUE!"},{"$error":"#VALUE!"},{"$f":"($AZ$129*$CF129*D$129*$Z129)/1000","v":{"$error":"#VALUE!"}},{"$error":"#VALUE!"},{"$error":"#VALUE!"},{"$f":"($AZ$129*$CG129*D$129*$Z129)/1000","v":{"$error":"#VALUE!"}},{"$error":"#VALUE!"},{"$error":"#VALUE!"},{"$f":"($AZ$129*$CH129*D$129*$Z129)/1000","v":{"$error":"#VALUE!"}},{"$error":"#VALUE!"},{"$error":"#VALUE!"},{"$f":"($AZ$129*$CI129*D$129*$Z129)/1000","v":{"$error":"#VALUE!"}},{"$error":"#VALUE!"},{"$error":"#VALUE!"},0,{"$f":"$AZ$129*$AA129","v":0},{"$f":"($AZ$129*$CJ129*D$129*$AA129)/1000","v":{"$error":"#VALUE!"}},{"$error":"#VALUE!"},{"$error":"#VALUE!"},{"$f":"($AZ$129*$CK129*D$129*$AA129)/1000","v":{"$error":"#VALUE!"}},{"$error":"#VALUE!"},{"$error":"#VALUE!"},{"$f":"($AZ$129*$CL129*D$129*$AA129)/1000","v":{"$error":"#VALUE!"}},{"$error":"#VALUE!"},{"$error":"#VALUE!"},{"$f":"($AZ$129*$CM129*D$129*$AA129)/1000","v":{"$error":"#VALUE!"}},{"$error":"#VALUE!"},{"$error":"#VALUE!"},{"$f":"($AZ$129*$CN129*D$129*$AA129)/1000","v":{"$error":"#VALUE!"}},{"$error":"#VALUE!"},{"$error":"#VALUE!"},{"$f":"($AZ$129*$CO129*D$129*$AA129)/1000","v":{"$error":"#VALUE!"}},{"$error":"#VALUE!"},{"$error":"#VALUE!"},{"$f":"($AZ$129*$CP129*D$129*$AA129)/1000","v":{"$error":"#VALUE!"}},{"$error":"#VALUE!"},{"$error":"#VALUE!"},{"$f":"($AZ$129*$CQ129*D$129*$AA129)/1000","v":{"$error":"#VALUE!"}},{"$error":"#VALUE!"},{"$error":"#VALUE!"},{"$f":"($AZ$129*$CR129*D$129*$AA129)/1000","v":{"$error":"#VALUE!"}},{"$error":"#VALUE!"},{"$error":"#VALUE!"},{"$f":"($AZ$129*$CS129*D$129*$AA129)/1000","v":{"$error":"#VALUE!"}},{"$error":"#VALUE!"},{"$error":"#VALUE!"},{"$f":"($AZ$129*$CT129*D$129*$AA129)/1000","v":{"$error":"#VALUE!"}},{"$error":"#VALUE!"},{"$error":"#VALUE!"},0,{"$f":"$AZ$129*$AB129","v":0},{"$f":"($AZ$129*$CU129*D$129*$AB129)/1000","v":{"$error":"#VALUE!"}},{"$error":"#VALUE!"},{"$error":"#VALUE!"},{"$f":"($AZ$129*$CV129*D$129*$AB129)/1000","v":{"$error":"#VALUE!"}},{"$error":"#VALUE!"},{"$error":"#VALUE!"},{"$f":"($AZ$129*$CW129*D$129*$AB129)/1000","v":{"$error":"#VALUE!"}},{"$error":"#VALUE!"},{"$error":"#VALUE!"},{"$f":"($AZ$129*$CX129*D$129*$AB129)/1000","v":{"$error":"#VALUE!"}},{"$error":"#VALUE!"},{"$error":"#VALUE!"},{"$f":"($AZ$129*$CY129*D$129*$AB129)/1000","v":{"$error":"#VALUE!"}},{"$error":"#VALUE!"},{"$error":"#VALUE!"},{"$f":"($AZ$129*$CZ129*D$129*$AB129)/1000","v":{"$error":"#VALUE!"}},{"$error":"#VALUE!"},{"$error":"#VALUE!"},{"$f":"($AZ$129*$DA129*D$129*$AB129)/1000","v":{"$error":"#VALUE!"}},{"$error":"#VALUE!"},{"$error":"#VALUE!"},{"$f":"($AZ$129*$DB129*D$129*$AB129)/1000","v":{"$error":"#VALUE!"}},{"$error":"#VALUE!"},{"$error":"#VALUE!"},{"$f":"($AZ$129*$DC129*D$129*$AB129)/1000","v":{"$error":"#VALUE!"}},{"$error":"#VALUE!"},{"$error":"#VALUE!"},{"$f":"($AZ$129*$DD129*D$129*$AB129)/1000","v":{"$error":"#VALUE!"}},{"$error":"#VALUE!"},{"$error":"#VALUE!"},{"$f":"($AZ$129*$DE129*D$129*$AB129)/1000","v":{"$error":"#VALUE!"}},{"$error":"#VALUE!"},{"$error":"#VALUE!"},0,{"$f":"$AZ$129*$AC129","v":0},{"$f":"($AZ$129*$DF129*D$129*$AC129)/1000","v":{"$error":"#VALUE!"}},{"$error":"#VALUE!"},{"$error":"#VALUE!"},{"$f":"($AZ$129*$DG129*D$129*$AC129)/1000","v":{"$error":"#VALUE!"}},{"$error":"#VALUE!"},{"$error":"#VALUE!"},{"$f":"($AZ$129*$DH129*D$129*$AC129)/1000","v":{"$error":"#VALUE!"}},{"$error":"#VALUE!"},{"$error":"#VALUE!"},{"$f":"($AZ$129*$DI129*D$129*$AC129)/1000","v":{"$error":"#VALUE!"}},{"$error":"#VALUE!"},{"$error":"#VALUE!"},{"$f":"($AZ$129*$DJ129*D$129*$AC129)/1000","v":{"$error":"#VALUE!"}},{"$error":"#VALUE!"},{"$error":"#VALUE!"},{"$f":"($AZ$129*$DK129*D$129*$AC129)/1000","v":{"$error":"#VALUE!"}},{"$error":"#VALUE!"},{"$error":"#VALUE!"},{"$f":"($AZ$129*$DL129*D$129*$AC129)/1000","v":{"$error":"#VALUE!"}},{"$error":"#VALUE!"},{"$error":"#VALUE!"},{"$f":"($AZ$129*$DM129*D$129*$AC129)/1000","v":{"$error":"#VALUE!"}},{"$error":"#VALUE!"},{"$error":"#VALUE!"},{"$f":"($AZ$129*$DN129*D$129*$AC129)/1000","v":{"$error":"#VALUE!"}},{"$error":"#VALUE!"},{"$error":"#VALUE!"},{"$f":"($AZ$129*$DO129*D$129*$AC129)/1000","v":{"$error":"#VALUE!"}},{"$error":"#VALUE!"},{"$error":"#VALUE!"},{"$f":"($AZ$129*$DP129*D$129*$AC129)/1000","v":{"$error":"#VALUE!"}},{"$error":"#VALUE!"},{"$error":"#VALUE!"},0,{"$f":"$AZ$129*$AD129","v":0},{"$f":"($AZ$129*$DQ129*D$129*$AD129)/1000","v":{"$error":"#VALUE!"}},{"$error":"#VALUE!"},{"$error":"#VALUE!"},{"$f":"($AZ$129*$DR129*D$129*$AD129)/1000","v":{"$error":"#VALUE!"}},{"$error":"#VALUE!"},{"$error":"#VALUE!"},{"$f":"($AZ$129*$DS129*D$129*$AD129)/1000","v":{"$error":"#VALUE!"}},{"$error":"#VALUE!"},{"$error":"#VALUE!"},{"$f":"($AZ$129*$DT129*D$129*$AD129)/1000","v":{"$error":"#VALUE!"}},{"$error":"#VALUE!"},{"$error":"#VALUE!"},{"$f":"($AZ$129*$DU129*D$129*$AD129)/1000","v":{"$error":"#VALUE!"}},{"$error":"#VALUE!"},{"$error":"#VALUE!"},{"$f":"($AZ$129*$DV129*D$129*$AD129)/1000","v":{"$error":"#VALUE!"}},{"$error":"#VALUE!"},{"$error":"#VALUE!"},{"$f":"($AZ$129*$DW129*D$129*$AD129)/1000","v":{"$error":"#VALUE!"}},{"$error":"#VALUE!"},{"$error":"#VALUE!"},{"$f":"($AZ$129*$DX129*D$129*$AD129)/1000","v":{"$error":"#VALUE!"}},{"$error":"#VALUE!"},{"$error":"#VALUE!"},{"$f":"($AZ$129*$DY129*D$129*$AD129)/1000","v":{"$error":"#VALUE!"}},{"$error":"#VALUE!"},{"$error":"#VALUE!"},{"$f":"($AZ$129*$DZ129*D$129*$AD129)/1000","v":{"$error":"#VALUE!"}},{"$error":"#VALUE!"},{"$error":"#VALUE!"},{"$f":"($AZ$129*$EA129*D$129*$AD129)/1000","v":{"$error":"#VALUE!"}},{"$error":"#VALUE!"},{"$error":"#VALUE!"}]
[null,null,null,null,null,null,null,null,null,null,null,null,null,null,null,null,null,null,null,null,null,null,null,2,null,null,null,null,null,null,null,null,null,"N/A",null,false,null,null,null,null,2,null,null,null,null,null,null,null,null,null,null,null,{"$f":"IF(AND(BB130=\"OK\",BC130=\"OK\",BD130=\"OK\"),\"OK\",\"ERR!\")","v":"OK"},"OK",{"$f":"IF(OR(SUM(BN130:BX130)<>1,SUM(BY130:CI130)<>1,SUM(CJ130:CT130)<>1,SUM(CU130:DE130)<>1,SUM(DF130:DP130)<>1,SUM(DQ130:EA130)<>1),\"ERR!\",\"OK\")","v":"OK"},{"$f":"IF(AND(OR(BE130=BK130,BE130=0),OR(BF130=BK130,BF130=0),OR(BG130=BK130,BG130=0),OR(BH130=BK130,BH130=0),OR(BI130=BK130,BI130=0),OR(BJ130=BK130,BJ130=0)),\"OK\",\"ERR!\")","v":"OK"},{"$f":"(BN130*POWER(10,0)+BO130*POWER(10,1)+BP130*POWER(10,2)+BQ130*POWER(10,3)+BR130*POWER(10,4)+BS130*POWER(10,5)+BT130*POWER(10,6)+BU130*POWER(10,7)+BV130*POWER(10,8)+BW130*POWER(10,9)+BX130*POWER(10,10))","v":100},{"$f":"(BY130*POWER(10,0)+BZ130*POWER(10,1)+CA130*POWER(10,2)+CB130*POWER(10,3)+CC130*POWER(10,4)+CD130*POWER(10,5)+CE130*POWER(10,6)+CF130*POWER(10,7)+CG130*POWER(10,8)+CH130*POWER(10,9)+CI130*POWER(10,10))","v":100},{"$f":"(CJ130*POWER(10,0)+CK130*POWER(10,1)+CL130*POWER(10,2)+CM130*POWER(10,3)+CN130*POWER(10,4)+CO130*POWER(10,5)+CP130*POWER(10,6)+CQ130*POWER(10,7)+CR130*POWER(10,8)+CS130*POWER(10,9)+CT130*POWER(10,10))","v":100},{"$f":"(CU130*POWER(10,0)+CV130*POWER(10,1)+CW130*POWER(10,2)+CX130*POWER(10,3)+CY130*POWER(10,4)+CZ130*POWER(10,5)+DA130*POWER(10,6)+DB130*POWER(10,7)+DC130*POWER(10,8)+DD130*POWER(10,9)+DE130*POWER(10,10))","v":100},{"$f":"(DF130*POWER(10,0)+DG130*POWER(10,1)+DH130*POWER(10,2)+DI130*POWER(10,3)+DJ130*POWER(10,4)+DK130*POWER(10,5)+DL130*POWER(10,6)+DM130*POWER(10,7)+DN130*POWER(10,8)+DO130*POWER(10,9)+DP130*POWER(10,10))","v":100},{"$f":"(DQ130*POWER(10,0)+DR130*POWER(10,1)+DS130*POWER(10,2)+DT130*POWER(10,3)+DU130*POWER(10,4)+DV130*POWER(10,5)+DW130*POWER(10,6)+DX130*POWER(10,7)+DY130*POWER(10,8)+DZ130*POWER(10,9)+EA130*POWER(10,10))","v":100},{"$f":"MAX(BE130:BJ130)","v":100},null,2,null,null,1,null,null,null,null,null,null,null,null,null,null,1,null,null,null,null,null,null,null,null,null,null,1,null,null,null,null,null,null,null,null,null,null,1,null,null,null,null,null,null,null,null,null,null,1,null,null,null,null,null,null,null,null,null,null,1,null,null,null,null,null,null,null,null,null,2,{"$error":"#VALUE!"},{"$error":"#VALUE!"},{"$error":"#VALUE!"},{"$error":"#VALUE!"},{"$error":"#VALUE!"},{"$error":"#VALUE!"},{"$error":"#VALUE!"},{"$error":"#VALUE!"},{"$error":"#VALUE!"},{"$error":"#VALUE!"},{"$error":"#VALUE!"},{"$error":"#VALUE!"},{"$error":"#VALUE!"},{"$error":"#VALUE!"},{"$error":"#VALUE!"},{"$error":"#VALUE!"},{"$error":"#VALUE!"},{"$error":"#VALUE!"},null,2,0,{"$error":"#VALUE!"},{"$error":"#VALUE!"},{"$error":"#VALUE!"},{"$error":"#VALUE!"},{"$error":"#VALUE!"},{"$error":"#VALUE!"},{"$error":"#VALUE!"},{"$error":"#VALUE!"},{"$error":"#VALUE!"},{"$error":"#VALUE!"},{"$error":"#VALUE!"},{"$error":"#VALUE!"},{"$error":"#VALUE!"},{"$error":"#VALUE!"},{"$error":"#VALUE!"},{"$error":"#VALUE!"},{"$error":"#VALUE!"},{"$error":"#VALUE!"},{"$error":"#VALUE!"},{"$error":"#VALUE!"},{"$error":"#VALUE!"},{"$error":"#VALUE!"},{"$error":"#VALUE!"},{"$error":"#VALUE!"},{"$error":"#VALUE!"},{"$error":"#VALUE!"},{"$error":"#VALUE!"},{"$error":"#VALUE!"},{"$error":"#VALUE!"},{"$error":"#VALUE!"},{"$error":"#VALUE!"},{"$error":"#VALUE!"},{"$error":"#VALUE!"},2,0,{"$error":"#VALUE!"},{"$error":"#VALUE!"},{"$error":"#VALUE!"},{"$error":"#VALUE!"},{"$error":"#VALUE!"},{"$error":"#VALUE!"},{"$error":"#VALUE!"},{"$error":"#VALUE!"},{"$error":"#VALUE!"},{"$error":"#VALUE!"},{"$error":"#VALUE!"},{"$error":"#VALUE!"},{"$error":"#VALUE!"},{"$error":"#VALUE!"},{"$error":"#VALUE!"},{"$error":"#VALUE!"},{"$error":"#VALUE!"},{"$error":"#VALUE!"},{"$error":"#VALUE!"},{"$error":"#VALUE!"},{"$error":"#VALUE!"},{"$error":"#VALUE!"},{"$error":"#VALUE!"},{"$error":"#VALUE!"},{"$error":"#VALUE!"},{"$error":"#VALUE!"},{"$error":"#VALUE!"},{"$error":"#VALUE!"},{"$error":"#VALUE!"},{"$error":"#VALUE!"},{"$error":"#VALUE!"},{"$error":"#VALUE!"},{"$error":"#VALUE!"},2,0,{"$error":"#VALUE!"},{"$error":"#VALUE!"},{"$error":"#VALUE!"},{"$error":"#VALUE!"},{"$error":"#VALUE!"},{"$error":"#VALUE!"},{"$error":"#VALUE!"},{"$error":"#VALUE!"},{"$error":"#VALUE!"},{"$error":"#VALUE!"},{"$error":"#VALUE!"},{"$error":"#VALUE!"},{"$error":"#VALUE!"},{"$error":"#VALUE!"},{"$error":"#VALUE!"},{"$error":"#VALUE!"},{"$error":"#VALUE!"},{"$error":"#VALUE!"},{"$error":"#VALUE!"},{"$error":"#VALUE!"},{"$error":"#VALUE!"},{"$error":"#VALUE!"},{"$error":"#VALUE!"},{"$error":"#VALUE!"},{"$error":"#VALUE!"},{"$error":"#VALUE!"},{"$error":"#VALUE!"},{"$error":"#VALUE!"},{"$error":"#VALUE!"},{"$error":"#VALUE!"},{"$error":"#VALUE!"},{"$error":"#VALUE!"},{"$error":"#VALUE!"},2,0,{"$error":"#VALUE!"},{"$error":"#VALUE!"},{"$error":"#VALUE!"},{"$error":"#VALUE!"},{"$error":"#VALUE!"},{"$error":"#VALUE!"},{"$error":"#VALUE!"},{"$error":"#VALUE!"},{"$error":"#VALUE!"},{"$error":"#VALUE!"},{"$error":"#VALUE!"},{"$error":"#VALUE!"},{"$error":"#VALUE!"},{"$error":"#VALUE!"},{"$error":"#VALUE!"},{"$error":"#VALUE!"},{"$error":"#VALUE!"},{"$error":"#VALUE!"},{"$error":"#VALUE!"},{"$error":"#VALUE!"},{"$error":"#VALUE!"},{"$error":"#VALUE!"},{"$error":"#VALUE!"},{"$error":"#VALUE!"},{"$error":"#VALUE!"},{"$error":"#VALUE!"},{"$error":"#VALUE!"},{"$error":"#VALUE!"},{"$error":"#VALUE!"},{"$error":"#VALUE!"},{"$error":"#VALUE!"},{"$error":"#VALUE!"},{"$error":"#VALUE!"},2,0,{"$error":"#VALUE!"},{"$error":"#VALUE!"},{"$error":"#VALUE!"},{"$error":"#VALUE!"},{"$error":"#VALUE!"},{"$error":"#VALUE!"},{"$error":"#VALUE!"},{"$error":"#VALUE!"},{"$error":"#VALUE!"},{"$error":"#VALUE!"},{"$error":"#VALUE!"},{"$error":"#VALUE!"},{"$error":"#VALUE!"},{"$error":"#VALUE!"},{"$error":"#VALUE!"},{"$error":"#VALUE!"},{"$error":"#VALUE!"},{"$error":"#VALUE!"},{"$error":"#VALUE!"},{"$error":"#VALUE!"},{"$error":"#VALUE!"},{"$error":"#VALUE!"},{"$error":"#VALUE!"},{"$error":"#VALUE!"},{"$error":"#VALUE!"},{"$error":"#VALUE!"},{"$error":"#VALUE!"},{"$error":"#VALUE!"},{"$error":"#VALUE!"},{"$error":"#VALUE!"},{"$error":"#VALUE!"},{"$error":"#VALUE!"},{"$error":"#VALUE!"},2,0,{"$error":"#VALUE!"},{"$error":"#VALUE!"},{"$error":"#VALUE!"},{"$error":"#VALUE!"},{"$error":"#VALUE!"},{"$error":"#VALUE!"},{"$error":"#VALUE!"},{"$error":"#VALUE!"},{"$error":"#VALUE!"},{"$error":"#VALUE!"},{"$error":"#VALUE!"},{"$error":"#VALUE!"},{"$error":"#VALUE!"},{"$error":"#VALUE!"},{"$error":"#VALUE!"},{"$error":"#VALUE!"},{"$error":"#VALUE!"},{"$error":"#VALUE!"},{"$error":"#VALUE!"},{"$error":"#VALUE!"},{"$error":"#VALUE!"},{"$error":"#VALUE!"},{"$error":"#VALUE!"},{"$error":"#VALUE!"},{"$error":"#VALUE!"},{"$error":"#VALUE!"},{"$error":"#VALUE!"},{"$error":"#VALUE!"},{"$error":"#VALUE!"},{"$error":"#VALUE!"},{"$error":"#VALUE!"},{"$error":"#VALUE!"},{"$error":"#VALUE!"}]
[null,null,null,null,null,null,null,null,null,null,null,null,null,null,null,null,null,null,null,null,null,null,null,3,null,null,null,null,null,null,null,null,null,"N/A",null,false,null,null,null,null,3,null,null,null,null,null,null,null,null,null,null,null,{"$f":"IF(AND(BB131=\"OK\",BC131=\"OK\",BD131=\"OK\"),\"OK\",\"ERR!\")","v":"OK"},"OK",{"$f":"IF(OR(SUM(BN131:BX131)<>1,SUM(BY131:CI131)<>1,SUM(CJ131:CT131)<>1,SUM(CU131:DE131)<>1,SUM(DF131:DP131)<>1,SUM(DQ131:EA131)<>1),\"ERR!\",\"OK\")","v":"OK"},{"$f":"IF(AND(OR(BE131=BK131,BE131=0),OR(BF131=BK131,BF131=0),OR(BG131=BK131,BG131=0),OR(BH131=BK131,BH131=0),OR(BI131=BK131,BI131=0),OR(BJ131=BK131,BJ131=0)),\"OK\",\"ERR!\")","v":"OK"},100,100,100,100,100,100,{"$f":"MAX(BE131:BJ131)","v":100},null,3,null,null,1,null,null,null,null,null,null,null,null,null,null,1,null,null,null,null,null,null,null,null,null,null,1,null,null,null,null,null,null,null,null,null,null,1,null,null,null,null,null,null,null,null,null,null,1,null,null,null,null,null,null,null,null,null,null,1,null,null,null,null,null,null,null,null,null,3,{"$error":"#VALUE!"},{"$error":"#VALUE!"},{"$error":"#VALUE!"},{"$error":"#VALUE!"},{"$error":"#VALUE!"},{"$error":"#VALUE!"},{"$error":"#VALUE!"},{"$error":"#VALUE!"},{"$error":"#VALUE!"},{"$error":"#VALUE!"},{"$error":"#VALUE!"},{"$error":"#VALUE!"},{"$error":"#VALUE!"},{"$error":"#VALUE!"},{"$error":"#VALUE!"},{"$error":"#VALUE!"},{"$error":"#VALUE!"},{"$error":"#VALUE!"},null,3,0,{"$error":"#VALUE!"},{"$error":"#VALUE!"},{"$error":"#VALUE!"},{"$error":"#VALUE!"},{"$error":"#VALUE!"},{"$error":"#VALUE!"},{"$error":"#VALUE!"},{"$error":"#VALUE!"},{"$error":"#VALUE!"},{"$error":"#VALUE!"},{"$error":"#VALUE!"},{"$error":"#VALUE!"},{"$error":"#VALUE!"},{"$error":"#VALUE!"},{"$error":"#VALUE!"},{"$error":"#VALUE!"},{"$error":"#VALUE!"},{"$error":"#VALUE!"},{"$error":"#VALUE!"},{"$error":"#VALUE!"},{"$error":"#VALUE!"},{"$error":"#VALUE!"},{"$error":"#VALUE!"},{"$error":"#VALUE!"},{"$error":"#VALUE!"},{"$error":"#VALUE!"},{"$error":"#VALUE!"},{"$error":"#VALUE!"},{"$error":"#VALUE!"},{"$error":"#VALUE!"},{"$error":"#VALUE!"},{"$error":"#VALUE!"},{"$error":"#VALUE!"},3,0,{"$error":"#VALUE!"},{"$error":"#VALUE!"},{"$error":"#VALUE!"},{"$error":"#VALUE!"},{"$error":"#VALUE!"},{"$error":"#VALUE!"},{"$error":"#VALUE!"},{"$error":"#VALUE!"},{"$error":"#VALUE!"},{"$error":"#VALUE!"},{"$error":"#VALUE!"},{"$error":"#VALUE!"},{"$error":"#VALUE!"},{"$error":"#VALUE!"},{"$error":"#VALUE!"},{"$error":"#VALUE!"},{"$error":"#VALUE!"},{"$error":"#VALUE!"},{"$error":"#VALUE!"},{"$error":"#VALUE!"},{"$error":"#VALUE!"},{"$error":"#VALUE!"},{"$error":"#VALUE!"},{"$error":"#VALUE!"},{"$error":"#VALUE!"},{"$error":"#VALUE!"},{"$error":"#VALUE!"},{"$error":"#VALUE!"},{"$error":"#VALUE!"},{"$error":"#VALUE!"},{"$error":"#VALUE!"},{"$error":"#VALUE!"},{"$error":"#VALUE!"},3,0,{"$error":"#VALUE!"},{"$error":"#VALUE!"},{"$error":"#VALUE!"},{"$error":"#VALUE!"},{"$error":"#VALUE!"},{"$error":"#VALUE!"},{"$error":"#VALUE!"},{"$error":"#VALUE!"},{"$error":"#VALUE!"},{"$error":"#VALUE!"},{"$error":"#VALUE!"},{"$error":"#VALUE!"},{"$error":"#VALUE!"},{"$error":"#VALUE!"},{"$error":"#VALUE!"},{"$error":"#VALUE!"},{"$error":"#VALUE!"},{"$error":"#VALUE!"},{"$error":"#VALUE!"},{"$error":"#VALUE!"},{"$error":"#VALUE!"},{"$error":"#VALUE!"},{"$error":"#VALUE!"},{"$error":"#VALUE!"},{"$error":"#VALUE!"},{"$error":"#VALUE!"},{"$error":"#VALUE!"},{"$error":"#VALUE!"},{"$error":"#VALUE!"},{"$error":"#VALUE!"},{"$error":"#VALUE!"},{"$error":"#VALUE!"},{"$error":"#VALUE!"},3,0,{"$error":"#VALUE!"},{"$error":"#VALUE!"},{"$error":"#VALUE!"},{"$error":"#VALUE!"},{"$error":"#VALUE!"},{"$error":"#VALUE!"},{"$error":"#VALUE!"},{"$error":"#VALUE!"},{"$error":"#VALUE!"},{"$error":"#VALUE!"},{"$error":"#VALUE!"},{"$error":"#VALUE!"},{"$error":"#VALUE!"},{"$error":"#VALUE!"},{"$error":"#VALUE!"},{"$error":"#VALUE!"},{"$error":"#VALUE!"},{"$error":"#VALUE!"},{"$error":"#VALUE!"},{"$error":"#VALUE!"},{"$error":"#VALUE!"},{"$error":"#VALUE!"},{"$error":"#VALUE!"},{"$error":"#VALUE!"},{"$error":"#VALUE!"},{"$error":"#VALUE!"},{"$error":"#VALUE!"},{"$error":"#VALUE!"},{"$error":"#VALUE!"},{"$error":"#VALUE!"},{"$error":"#VALUE!"},{"$error":"#VALUE!"},{"$error":"#VALUE!"},3,0,{"$error":"#VALUE!"},{"$error":"#VALUE!"},{"$error":"#VALUE!"},{"$error":"#VALUE!"},{"$error":"#VALUE!"},{"$error":"#VALUE!"},{"$error":"#VALUE!"},{"$error":"#VALUE!"},{"$error":"#VALUE!"},{"$error":"#VALUE!"},{"$error":"#VALUE!"},{"$error":"#VALUE!"},{"$error":"#VALUE!"},{"$error":"#VALUE!"},{"$error":"#VALUE!"},{"$error":"#VALUE!"},{"$error":"#VALUE!"},{"$error":"#VALUE!"},{"$error":"#VALUE!"},{"$error":"#VALUE!"},{"$error":"#VALUE!"},{"$error":"#VALUE!"},{"$error":"#VALUE!"},{"$error":"#VALUE!"},{"$error":"#VALUE!"},{"$error":"#VALUE!"},{"$error":"#VALUE!"},{"$error":"#VALUE!"},{"$error":"#VALUE!"},{"$error":"#VALUE!"},{"$error":"#VALUE!"},{"$error":"#VALUE!"},{"$error":"#VALUE!"},3,0,{"$error":"#VALUE!"},{"$error":"#VALUE!"},{"$error":"#VALUE!"},{"$error":"#VALUE!"},{"$error":"#VALUE!"},{"$error":"#VALUE!"},{"$error":"#VALUE!"},{"$error":"#VALUE!"},{"$error":"#VALUE!"},{"$error":"#VALUE!"},{"$error":"#VALUE!"},{"$error":"#VALUE!"},{"$error":"#VALUE!"},{"$error":"#VALUE!"},{"$error":"#VALUE!"},{"$error":"#VALUE!"},{"$error":"#VALUE!"},{"$error":"#VALUE!"},{"$error":"#VALUE!"},{"$error":"#VALUE!"},{"$error":"#VALUE!"},{"$error":"#VALUE!"},{"$error":"#VALUE!"},{"$error":"#VALUE!"},{"$error":"#VALUE!"},{"$error":"#VALUE!"},{"$error":"#VALUE!"},{"$error":"#VALUE!"},{"$error":"#VALUE!"},{"$error":"#VALUE!"},{"$error":"#VALUE!"},{"$error":"#VALUE!"},{"$error":"#VALUE!"}]
[null,null,null,null,null,null,null,null,null,null,null,null,null,null,null,null,null,null,null,null,null,null,null,4,null,null,null,null,null,null,null,null,null,"N/A",null,false,null,null,null,null,4,null,null,null,null,null,null,null,null,null,null,null,{"$f":"IF(AND(BB132=\"OK\",BC132=\"OK\",BD132=\"OK\"),\"OK\",\"ERR!\")","v":"OK"},"OK","OK",{"$f":"IF(AND(OR(BE132=BK132,BE132=0),OR(BF132=BK132,BF132=0),OR(BG132=BK132,BG132=0),OR(BH132=BK132,BH132=0),OR(BI132=BK132,BI132=0),OR(BJ132=BK132,BJ132=0)),\"OK\",\"ERR!\")","v":"OK"},100,100,100,100,100,100,100,null,4,null,null,1,null,null,null,null,null,null,null,null,null,null,1,null,null,null,null,null,null,null,null,null,null,1,null,null,null,null,null,null,null,null,null,null,1,null,null,null,null,null,null,null,null,null,null,1,null,null,null,null,null,null,null,null,null,null,1,null,null,null,null,null,null,null,null,null,4,{"$error":"#VALUE!"},{"$error":"#VALUE!"},{"$error":"#VALUE!"},{"$error":"#VALUE!"},{"$error":"#VALUE!"},{"$error":"#VALUE!"},{"$error":"#VALUE!"},{"$error":"#VALUE!"},{"$error":"#VALUE!"},{"$error":"#VALUE!"},{"$error":"#VALUE!"},{"$error":"#VALUE!"},{"$error":"#VALUE!"},{"$error":"#VALUE!"},{"$error":"#VALUE!"},{"$error":"#VALUE!"},{"$error":"#VALUE!"},{"$error":"#VALUE!"},null,4,0,{"$error":"#VALUE!"},{"$error":"#VALUE!"},{"$error":"#VALUE!"},{"$error":"#VALUE!"},{"$error":"#VALUE!"},{"$error":"#VALUE!"},{"$error":"#VALUE!"},{"$error":"#VALUE!"},{"$error":"#VALUE!"},{"$error":"#VALUE!"},{"$error":"#VALUE!"},{"$error":"#VALUE!"},{"$error":"#VALUE!"},{"$error":"#VALUE!"},{"$error":"#VALUE!"},{"$error":"#VALUE!"},{"$error":"#VALUE!"},{"$error":"#VALUE!"},{"$error":"#VALUE!"},{"$error":"#VALUE!"},{"$error":"#VALUE!"},{"$error":"#VALUE!"},{"$error":"#VALUE!"},{"$error":"#VALUE!"},{"$error":"#VALUE!"},{"$error":"#VALUE!"},{"$error":"#VALUE!"},{"$error":"#VALUE!"},{"$error":"#VALUE!"},{"$error":"#VALUE!"},{"$error":"#VALUE!"},{"$error":"#VALUE!"},{"$error":"#VALUE!"},4,0,{"$error":"#VALUE!"},{"$error":"#VALUE!"},{"$error":"#VALUE!"},{"$error":"#VALUE!"},{"$error":"#VALUE!"},{"$error":"#VALUE!"},{"$error":"#VALUE!"},{"$error":"#VALUE!"},{"$error":"#VALUE!"},{"$error":"#VALUE!"},{"$error":"#VALUE!"},{"$error":"#VALUE!"},{"$error":"#VALUE!"},{"$error":"#VALUE!"},{"$error":"#VALUE!"},{"$error":"#VALUE!"},{"$error":"#VALUE!"},{"$error":"#VALUE!"},{"$error":"#VALUE!"},{"$error":"#VALUE!"},{"$error":"#VALUE!"},{"$error":"#VALUE!"},{"$error":"#VALUE!"},{"$error":"#VALUE!"},{"$error":"#VALUE!"},{"$error":"#VALUE!"},{"$error":"#VALUE!"},{"$error":"#VALUE!"},{"$error":"#VALUE!"},{"$error":"#VALUE!"},{"$error":"#VALUE!"},{"$error":"#VALUE!"},{"$error":"#VALUE!"},4,0,{"$error":"#VALUE!"},{"$error":"#VALUE!"},{"$error":"#VALUE!"},{"$error":"#VALUE!"},{"$error":"#VALUE!"},{"$error":"#VALUE!"},{"$error":"#VALUE!"},{"$error":"#VALUE!"},{"$error":"#VALUE!"},{"$error":"#VALUE!"},{"$error":"#VALUE!"},{"$error":"#VALUE!"},{"$error":"#VALUE!"},{"$error":"#VALUE!"},{"$error":"#VALUE!"},{"$error":"#VALUE!"},{"$error":"#VALUE!"},{"$error":"#VALUE!"},{"$error":"#VALUE!"},{"$error":"#VALUE!"},{"$error":"#VALUE!"},{"$error":"#VALUE!"},{"$error":"#VALUE!"},{"$error":"#VALUE!"},{"$error":"#VALUE!"},{"$error":"#VALUE!"},{"$error":"#VALUE!"},{"$error":"#VALUE!"},{"$error":"#VALUE!"},{"$error":"#VALUE!"},{"$error":"#VALUE!"},{"$error":"#VALUE!"},{"$error":"#VALUE!"},4,0,{"$error":"#VALUE!"},{"$error":"#VALUE!"},{"$error":"#VALUE!"},{"$error":"#VALUE!"},{"$error":"#VALUE!"},{"$error":"#VALUE!"},{"$error":"#VALUE!"},{"$error":"#VALUE!"},{"$error":"#VALUE!"},{"$error":"#VALUE!"},{"$error":"#VALUE!"},{"$error":"#VALUE!"},{"$error":"#VALUE!"},{"$error":"#VALUE!"},{"$error":"#VALUE!"},{"$error":"#VALUE!"},{"$error":"#VALUE!"},{"$error":"#VALUE!"},{"$error":"#VALUE!"},{"$error":"#VALUE!"},{"$error":"#VALUE!"},{"$error":"#VALUE!"},{"$error":"#VALUE!"},{"$error":"#VALUE!"},{"$error":"#VALUE!"},{"$error":"#VALUE!"},{"$error":"#VALUE!"},{"$error":"#VALUE!"},{"$error":"#VALUE!"},{"$error":"#VALUE!"},{"$error":"#VALUE!"},{"$error":"#VALUE!"},{"$error":"#VALUE!"},4,0,{"$error":"#VALUE!"},{"$error":"#VALUE!"},{"$error":"#VALUE!"},{"$error":"#VALUE!"},{"$error":"#VALUE!"},{"$error":"#VALUE!"},{"$error":"#VALUE!"},{"$error":"#VALUE!"},{"$error":"#VALUE!"},{"$error":"#VALUE!"},{"$error":"#VALUE!"},{"$error":"#VALUE!"},{"$error":"#VALUE!"},{"$error":"#VALUE!"},{"$error":"#VALUE!"},{"$error":"#VALUE!"},{"$error":"#VALUE!"},{"$error":"#VALUE!"},{"$error":"#VALUE!"},{"$error":"#VALUE!"},{"$error":"#VALUE!"},{"$error":"#VALUE!"},{"$error":"#VALUE!"},{"$error":"#VALUE!"},{"$error":"#VALUE!"},{"$error":"#VALUE!"},{"$error":"#VALUE!"},{"$error":"#VALUE!"},{"$error":"#VALUE!"},{"$error":"#VALUE!"},{"$error":"#VALUE!"},{"$error":"#VALUE!"},{"$error":"#VALUE!"},4,0,{"$error":"#VALUE!"},{"$error":"#VALUE!"},{"$error":"#VALUE!"},{"$error":"#VALUE!"},{"$error":"#VALUE!"},{"$error":"#VALUE!"},{"$error":"#VALUE!"},{"$error":"#VALUE!"},{"$error":"#VALUE!"},{"$error":"#VALUE!"},{"$error":"#VALUE!"},{"$error":"#VALUE!"},{"$error":"#VALUE!"},{"$error":"#VALUE!"},{"$error":"#VALUE!"},{"$error":"#VALUE!"},{"$error":"#VALUE!"},{"$error":"#VALUE!"},{"$error":"#VALUE!"},{"$error":"#VALUE!"},{"$error":"#VALUE!"},{"$error":"#VALUE!"},{"$error":"#VALUE!"},{"$error":"#VALUE!"},{"$error":"#VALUE!"},{"$error":"#VALUE!"},{"$error":"#VALUE!"},{"$error":"#VALUE!"},{"$error":"#VALUE!"},{"$error":"#VALUE!"},{"$error":"#VALUE!"},{"$error":"#VALUE!"},{"$error":"#VALUE!"}]
[null,null,null,null,null,null,null,null,null,null,null,null,null,null,null,null,null,null,null,null,null,null,null,7,null,null,null,null,null,null,null,null,null,"N/A",null,false,null,null,null,null,7,null,null,null,null,null,null,null,null,null,null,null,{"$f":"IF(AND(BB133=\"OK\",BC133=\"OK\",BD133=\"OK\"),\"OK\",\"ERR!\")","v":"OK"},"OK","OK","OK",100,100,100,100,100,100,100,null,7,null,null,1,null,null,null,null,null,null,null,null,null,null,1,null,null,null,null,null,null,null,null,null,null,1,null,null,null,null,null,null,null,null,null,null,1,null,null,null,null,null,null,null,null,null,null,1,null,null,null,null,null,null,null,null,null,null,1,null,null,null,null,null,null,null,null,null,7,{"$error":"#VALUE!"},{"$error":"#VALUE!"},{"$error":"#VALUE!"},{"$error":"#VALUE!"},{"$error":"#VALUE!"},{"$error":"#VALUE!"},{"$error":"#VALUE!"},{"$error":"#VALUE!"},{"$error":"#VALUE!"},{"$error":"#VALUE!"},{"$error":"#VALUE!"},{"$error":"#VALUE!"},{"$error":"#VALUE!"},{"$error":"#VALUE!"},{"$error":"#VALUE!"},{"$error":"#VALUE!"},{"$error":"#VALUE!"},{"$error":"#VALUE!"},null,7,0,{"$error":"#VALUE!"},{"$error":"#VALUE!"},{"$error":"#VALUE!"},{"$error":"#VALUE!"},{"$error":"#VALUE!"},{"$error":"#VALUE!"},{"$error":"#VALUE!"},{"$error":"#VALUE!"},{"$error":"#VALUE!"},{"$error":"#VALUE!"},{"$error":"#VALUE!"},{"$error":"#VALUE!"},{"$error":"#VALUE!"},{"$error":"#VALUE!"},{"$error":"#VALUE!"},{"$error":"#VALUE!"},{"$error":"#VALUE!"},{"$error":"#VALUE!"},{"$error":"#VALUE!"},{"$error":"#VALUE!"},{"$error":"#VALUE!"},{"$error":"#VALUE!"},{"$error":"#VALUE!"},{"$error":"#VALUE!"},{"$error":"#VALUE!"},{"$error":"#VALUE!"},{"$error":"#VALUE!"},{"$error":"#VALUE!"},{"$error":"#VALUE!"},{"$error":"#VALUE!"},{"$error":"#VALUE!"},{"$error":"#VALUE!"},{"$error":"#VALUE!"},7,0,{"$error":"#VALUE!"},{"$error":"#VALUE!"},{"$error":"#VALUE!"},{"$error":"#VALUE!"},{"$error":"#VALUE!"},{"$error":"#VALUE!"},{"$error":"#VALUE!"},{"$error":"#VALUE!"},{"$error":"#VALUE!"},{"$error":"#VALUE!"},{"$error":"#VALUE!"},{"$error":"#VALUE!"},{"$error":"#VALUE!"},{"$error":"#VALUE!"},{"$error":"#VALUE!"},{"$error":"#VALUE!"},{"$error":"#VALUE!"},{"$error":"#VALUE!"},{"$error":"#VALUE!"},{"$error":"#VALUE!"},{"$error":"#VALUE!"},{"$error":"#VALUE!"},{"$error":"#VALUE!"},{"$error":"#VALUE!"},{"$error":"#VALUE!"},{"$error":"#VALUE!"},{"$error":"#VALUE!"},{"$error":"#VALUE!"},{"$error":"#VALUE!"},{"$error":"#VALUE!"},{"$error":"#VALUE!"},{"$error":"#VALUE!"},{"$error":"#VALUE!"},7,0,{"$error":"#VALUE!"},{"$error":"#VALUE!"},{"$error":"#VALUE!"},{"$error":"#VALUE!"},{"$error":"#VALUE!"},{"$error":"#VALUE!"},{"$error":"#VALUE!"},{"$error":"#VALUE!"},{"$error":"#VALUE!"},{"$error":"#VALUE!"},{"$error":"#VALUE!"},{"$error":"#VALUE!"},{"$error":"#VALUE!"},{"$error":"#VALUE!"},{"$error":"#VALUE!"},{"$error":"#VALUE!"},{"$error":"#VALUE!"},{"$error":"#VALUE!"},{"$error":"#VALUE!"},{"$error":"#VALUE!"},{"$error":"#VALUE!"},{"$error":"#VALUE!"},{"$error":"#VALUE!"},{"$error":"#VALUE!"},{"$error":"#VALUE!"},{"$error":"#VALUE!"},{"$error":"#VALUE!"},{"$error":"#VALUE!"},{"$error":"#VALUE!"},{"$error":"#VALUE!"},{"$error":"#VALUE!"},{"$error":"#VALUE!"},{"$error":"#VALUE!"},7,0,{"$error":"#VALUE!"},{"$error":"#VALUE!"},{"$error":"#VALUE!"},{"$error":"#VALUE!"},{"$error":"#VALUE!"},{"$error":"#VALUE!"},{"$error":"#VALUE!"},{"$error":"#VALUE!"},{"$error":"#VALUE!"},{"$error":"#VALUE!"},{"$error":"#VALUE!"},{"$error":"#VALUE!"},{"$error":"#VALUE!"},{"$error":"#VALUE!"},{"$error":"#VALUE!"},{"$error":"#VALUE!"},{"$error":"#VALUE!"},{"$error":"#VALUE!"},{"$error":"#VALUE!"},{"$error":"#VALUE!"},{"$error":"#VALUE!"},{"$error":"#VALUE!"},{"$error":"#VALUE!"},{"$error":"#VALUE!"},{"$error":"#VALUE!"},{"$error":"#VALUE!"},{"$error":"#VALUE!"},{"$error":"#VALUE!"},{"$error":"#VALUE!"},{"$error":"#VALUE!"},{"$error":"#VALUE!"},{"$error":"#VALUE!"},{"$error":"#VALUE!"},7,0,{"$error":"#VALUE!"},{"$error":"#VALUE!"},{"$error":"#VALUE!"},{"$error":"#VALUE!"},{"$error":"#VALUE!"},{"$error":"#VALUE!"},{"$error":"#VALUE!"},{"$error":"#VALUE!"},{"$error":"#VALUE!"},{"$error":"#VALUE!"},{"$error":"#VALUE!"},{"$error":"#VALUE!"},{"$error":"#VALUE!"},{"$error":"#VALUE!"},{"$error":"#VALUE!"},{"$error":"#VALUE!"},{"$error":"#VALUE!"},{"$error":"#VALUE!"},{"$error":"#VALUE!"},{"$error":"#VALUE!"},{"$error":"#VALUE!"},{"$error":"#VALUE!"},{"$error":"#VALUE!"},{"$error":"#VALUE!"},{"$error":"#VALUE!"},{"$error":"#VALUE!"},{"$error":"#VALUE!"},{"$error":"#VALUE!"},{"$error":"#VALUE!"},{"$error":"#VALUE!"},{"$error":"#VALUE!"},{"$error":"#VALUE!"},{"$error":"#VALUE!"},7,0,{"$error":"#VALUE!"},{"$error":"#VALUE!"},{"$error":"#VALUE!"},{"$error":"#VALUE!"},{"$error":"#VALUE!"},{"$error":"#VALUE!"},{"$error":"#VALUE!"},{"$error":"#VALUE!"},{"$error":"#VALUE!"},{"$error":"#VALUE!"},{"$error":"#VALUE!"},{"$error":"#VALUE!"},{"$error":"#VALUE!"},{"$error":"#VALUE!"},{"$error":"#VALUE!"},{"$error":"#VALUE!"},{"$error":"#VALUE!"},{"$error":"#VALUE!"},{"$error":"#VALUE!"},{"$error":"#VALUE!"},{"$error":"#VALUE!"},{"$error":"#VALUE!"},{"$error":"#VALUE!"},{"$error":"#VALUE!"},{"$error":"#VALUE!"},{"$error":"#VALUE!"},{"$error":"#VALUE!"},{"$error":"#VALUE!"},{"$error":"#VALUE!"},{"$error":"#VALUE!"},{"$error":"#VALUE!"},{"$error":"#VALUE!"},{"$error":"#VALUE!"}]
[null,null,null,null,null,null,null,null,null,null,null,null,null,null,null,null,null,null,null,null,null,null,null,8,null,null,null,null,null,null,null,null,null,"N/A",null,false,null,null,null,null,8,null,null,null,null,null,null,null,null,null,null,null,"OK","OK","OK","OK",100,100,100,100,100,100,100,null,8,null,null,1,null,null,null,null,null,null,null,null,null,null,1,null,null,null,null,null,null,null,null,null,null,1,null,null,null,null,null,null,null,null,null,null,1,null,null,null,null,null,null,null,null,null,null,1,null,null,null,null,null,null,null,null,null,null,1,null,null,null,null,null,null,null,null,null,8,{"$error":"#VALUE!"},{"$error":"#VALUE!"},{"$error":"#VALUE!"},{"$error":"#VALUE!"},{"$error":"#VALUE!"},{"$error":"#VALUE!"},{"$error":"#VALUE!"},{"$error":"#VALUE!"},{"$error":"#VALUE!"},{"$error":"#VALUE!"},{"$error":"#VALUE!"},{"$error":"#VALUE!"},{"$error":"#VALUE!"},{"$error":"#VALUE!"},{"$error":"#VALUE!"},{"$error":"#VALUE!"},{"$error":"#VALUE!"},{"$error":"#VALUE!"},null,8,0,{"$error":"#VALUE!"},{"$error":"#VALUE!"},{"$error":"#VALUE!"},{"$error":"#VALUE!"},{"$error":"#VALUE!"},{"$error":"#VALUE!"},{"$error":"#VALUE!"},{"$error":"#VALUE!"},{"$error":"#VALUE!"},{"$error":"#VALUE!"},{"$error":"#VALUE!"},{"$error":"#VALUE!"},{"$error":"#VALUE!"},{"$error":"#VALUE!"},{"$error":"#VALUE!"},{"$error":"#VALUE!"},{"$error":"#VALUE!"},{"$error":"#VALUE!"},{"$error":"#VALUE!"},{"$error":"#VALUE!"},{"$error":"#VALUE!"},{"$error":"#VALUE!"},{"$error":"#VALUE!"},{"$error":"#VALUE!"},{"$error":"#VALUE!"},{"$error":"#VALUE!"},{"$error":"#VALUE!"},{"$error":"#VALUE!"},{"$error":"#VALUE!"},{"$error":"#VALUE!"},{"$error":"#VALUE!"},{"$error":"#VALUE!"},{"$error":"#VALUE!"},8,0,{"$error":"#VALUE!"},{"$error":"#VALUE!"},{"$error":"#VALUE!"},{"$error":"#VALUE!"},{"$error":"#VALUE!"},{"$error":"#VALUE!"},{"$error":"#VALUE!"},{"$error":"#VALUE!"},{"$error":"#VALUE!"},{"$error":"#VALUE!"},{"$error":"#VALUE!"},{"$error":"#VALUE!"},{"$error":"#VALUE!"},{"$error":"#VALUE!"},{"$error":"#VALUE!"},{"$error":"#VALUE!"},{"$error":"#VALUE!"},{"$error":"#VALUE!"},{"$error":"#VALUE!"},{"$error":"#VALUE!"},{"$error":"#VALUE!"},{"$error":"#VALUE!"},{"$error":"#VALUE!"},{"$error":"#VALUE!"},{"$error":"#VALUE!"},{"$error":"#VALUE!"},{"$error":"#VALUE!"},{"$error":"#VALUE!"},{"$error":"#VALUE!"},{"$error":"#VALUE!"},{"$error":"#VALUE!"},{"$error":"#VALUE!"},{"$error":"#VALUE!"},8,0,{"$error":"#VALUE!"},{"$error":"#VALUE!"},{"$error":"#VALUE!"},{"$error":"#VALUE!"},{"$error":"#VALUE!"},{"$error":"#VALUE!"},{"$error":"#VALUE!"},{"$error":"#VALUE!"},{"$error":"#VALUE!"},{"$error":"#VALUE!"},{"$error":"#VALUE!"},{"$error":"#VALUE!"},{"$error":"#VALUE!"},{"$error":"#VALUE!"},{"$error":"#VALUE!"},{"$error":"#VALUE!"},{"$error":"#VALUE!"},{"$error":"#VALUE!"},{"$error":"#VALUE!"},{"$error":"#VALUE!"},{"$error":"#VALUE!"},{"$error":"#VALUE!"},{"$error":"#VALUE!"},{"$error":"#VALUE!"},{"$error":"#VALUE!"},{"$error":"#VALUE!"},{"$error":"#VALUE!"},{"$error":"#VALUE!"},{"$error":"#VALUE!"},{"$error":"#VALUE!"},{"$error":"#VALUE!"},{"$error":"#VALUE!"},{"$error":"#VALUE!"},8,0,{"$error":"#VALUE!"},{"$error":"#VALUE!"},{"$error":"#VALUE!"},{"$error":"#VALUE!"},{"$error":"#VALUE!"},{"$error":"#VALUE!"},{"$error":"#VALUE!"},{"$error":"#VALUE!"},{"$error":"#VALUE!"},{"$error":"#VALUE!"},{"$error":"#VALUE!"},{"$error":"#VALUE!"},{"$error":"#VALUE!"},{"$error":"#VALUE!"},{"$error":"#VALUE!"},{"$error":"#VALUE!"},{"$error":"#VALUE!"},{"$error":"#VALUE!"},{"$error":"#VALUE!"},{"$error":"#VALUE!"},{"$error":"#VALUE!"},{"$error":"#VALUE!"},{"$error":"#VALUE!"},{"$error":"#VALUE!"},{"$error":"#VALUE!"},{"$error":"#VALUE!"},{"$error":"#VALUE!"},{"$error":"#VALUE!"},{"$error":"#VALUE!"},{"$error":"#VALUE!"},{"$error":"#VALUE!"},{"$error":"#VALUE!"},{"$error":"#VALUE!"},8,0,{"$error":"#VALUE!"},{"$error":"#VALUE!"},{"$error":"#VALUE!"},{"$error":"#VALUE!"},{"$error":"#VALUE!"},{"$error":"#VALUE!"},{"$error":"#VALUE!"},{"$error":"#VALUE!"},{"$error":"#VALUE!"},{"$error":"#VALUE!"},{"$error":"#VALUE!"},{"$error":"#VALUE!"},{"$error":"#VALUE!"},{"$error":"#VALUE!"},{"$error":"#VALUE!"},{"$error":"#VALUE!"},{"$error":"#VALUE!"},{"$error":"#VALUE!"},{"$error":"#VALUE!"},{"$error":"#VALUE!"},{"$error":"#VALUE!"},{"$error":"#VALUE!"},{"$error":"#VALUE!"},{"$error":"#VALUE!"},{"$error":"#VALUE!"},{"$error":"#VALUE!"},{"$error":"#VALUE!"},{"$error":"#VALUE!"},{"$error":"#VALUE!"},{"$error":"#VALUE!"},{"$error":"#VALUE!"},{"$error":"#VALUE!"},{"$error":"#VALUE!"},8,0,{"$error":"#VALUE!"},{"$error":"#VALUE!"},{"$error":"#VALUE!"},{"$error":"#VALUE!"},{"$error":"#VALUE!"},{"$error":"#VALUE!"},{"$error":"#VALUE!"},{"$error":"#VALUE!"},{"$error":"#VALUE!"},{"$error":"#VALUE!"},{"$error":"#VALUE!"},{"$error":"#VALUE!"},{"$error":"#VALUE!"},{"$error":"#VALUE!"},{"$error":"#VALUE!"},{"$error":"#VALUE!"},{"$error":"#VALUE!"},{"$error":"#VALUE!"},{"$error":"#VALUE!"},{"$error":"#VALUE!"},{"$error":"#VALUE!"},{"$error":"#VALUE!"},{"$error":"#VALUE!"},{"$error":"#VALUE!"},{"$error":"#VALUE!"},{"$error":"#VALUE!"},{"$error":"#VALUE!"},{"$error":"#VALUE!"},{"$error":"#VALUE!"},{"$error":"#VALUE!"},{"$error":"#VALUE!"},{"$error":"#VALUE!"},{"$error":"#VALUE!"}]
[null,null,null,null,null,null,null,null,null,null,null,null,null,null,null,null,null,null,null,null,null,null,null,9,null,null,null,null,null,null,null,null,null,"N/A",null,false,null,null,null,null,9,null,null,null,null,null,null,null,null,null,null,null,"OK","OK","OK","OK",100,100,100,{"$f":"(CU135*POWER(10,0)+CV135*POWER(10,1)+CW135*POWER(10,2)+CX135*POWER(10,3)+CY135*POWER(10,4)+CZ135*POWER(10,5)+DA135*POWER(10,6)+DB135*POWER(10,7)+DC135*POWER(10,8)+DD135*POWER(10,9)+DE135*POWER(10,10))","v":100},{"$f":"(DF135*POWER(10,0)+DG135*POWER(10,1)+DH135*POWER(10,2)+DI135*POWER(10,3)+DJ135*POWER(10,4)+DK135*POWER(10,5)+DL135*POWER(10,6)+DM135*POWER(10,7)+DN135*POWER(10,8)+DO135*POWER(10,9)+DP135*POWER(10,10))","v":100},100,100,null,9,null,null,1,null,null,null,null,null,null,null,null,null,null,1,null,null,null,null,null,null,null,null,null,null,1,null,null,null,null,null,null,null,null,null,null,1,null,null,null,null,null,null,null,null,null,null,1,null,null,null,null,null,null,null,null,null,null,1,null,null,null,null,null,null,null,null,null,9,{"$error":"#VALUE!"},{"$error":"#VALUE!"},{"$error":"#VALUE!"},{"$error":"#VALUE!"},{"$error":"#VALUE!"},{"$error":"#VALUE!"},{"$error":"#VALUE!"},{"$error":"#VALUE!"},{"$error":"#VALUE!"},{"$error":"#VALUE!"},{"$error":"#VALUE!"},{"$error":"#VALUE!"},{"$error":"#VALUE!"},{"$error":"#VALUE!"},{"$error":"#VALUE!"},{"$error":"#VALUE!"},{"$error":"#VALUE!"},{"$error":"#VALUE!"},null,9,0,{"$error":"#VALUE!"},{"$error":"#VALUE!"},{"$error":"#VALUE!"},{"$error":"#VALUE!"},{"$error":"#VALUE!"},{"$error":"#VALUE!"},{"$error":"#VALUE!"},{"$error":"#VALUE!"},{"$error":"#VALUE!"},{"$error":"#VALUE!"},{"$error":"#VALUE!"},{"$error":"#VALUE!"},{"$error":"#VALUE!"},{"$error":"#VALUE!"},{"$error":"#VALUE!"},{"$error":"#VALUE!"},{"$error":"#VALUE!"},{"$error":"#VALUE!"},{"$error":"#VALUE!"},{"$error":"#VALUE!"},{"$error":"#VALUE!"},{"$error":"#VALUE!"},{"$error":"#VALUE!"},{"$error":"#VALUE!"},{"$error":"#VALUE!"},{"$error":"#VALUE!"},{"$error":"#VALUE!"},{"$error":"#VALUE!"},{"$error":"#VALUE!"},{"$error":"#VALUE!"},{"$error":"#VALUE!"},{"$error":"#VALUE!"},{"$error":"#VALUE!"},9,0,{"$error":"#VALUE!"},{"$error":"#VALUE!"},{"$error":"#VALUE!"},{"$error":"#VALUE!"},{"$error":"#VALUE!"},{"$error":"#VALUE!"},{"$error":"#VALUE!"},{"$error":"#VALUE!"},{"$error":"#VALUE!"},{"$error":"#VALUE!"},{"$error":"#VALUE!"},{"$error":"#VALUE!"},{"$error":"#VALUE!"},{"$error":"#VALUE!"},{"$error":"#VALUE!"},{"$error":"#VALUE!"},{"$error":"#VALUE!"},{"$error":"#VALUE!"},{"$error":"#VALUE!"},{"$error":"#VALUE!"},{"$error":"#VALUE!"},{"$error":"#VALUE!"},{"$error":"#VALUE!"},{"$error":"#VALUE!"},{"$error":"#VALUE!"},{"$error":"#VALUE!"},{"$error":"#VALUE!"},{"$error":"#VALUE!"},{"$error":"#VALUE!"},{"$error":"#VALUE!"},{"$error":"#VALUE!"},{"$error":"#VALUE!"},{"$error":"#VALUE!"},9,0,{"$error":"#VALUE!"},{"$error":"#VALUE!"},{"$error":"#VALUE!"},{"$error":"#VALUE!"},{"$error":"#VALUE!"},{"$error":"#VALUE!"},{"$error":"#VALUE!"},{"$error":"#VALUE!"},{"$error":"#VALUE!"},{"$error":"#VALUE!"},{"$error":"#VALUE!"},{"$error":"#VALUE!"},{"$error":"#VALUE!"},{"$error":"#VALUE!"},{"$error":"#VALUE!"},{"$error":"#VALUE!"},{"$error":"#VALUE!"},{"$error":"#VALUE!"},{"$error":"#VALUE!"},{"$error":"#VALUE!"},{"$error":"#VALUE!"},{"$error":"#VALUE!"},{"$error":"#VALUE!"},{"$error":"#VALUE!"},{"$error":"#VALUE!"},{"$error":"#VALUE!"},{"$error":"#VALUE!"},{"$error":"#VALUE!"},{"$error":"#VALUE!"},{"$error":"#VALUE!"},{"$error":"#VALUE!"},{"$error":"#VALUE!"},{"$error":"#VALUE!"},9,0,{"$error":"#VALUE!"},{"$error":"#VALUE!"},{"$error":"#VALUE!"},{"$error":"#VALUE!"},{"$error":"#VALUE!"},{"$error":"#VALUE!"},{"$error":"#VALUE!"},{"$error":"#VALUE!"},{"$error":"#VALUE!"},{"$error":"#VALUE!"},{"$error":"#VALUE!"},{"$error":"#VALUE!"},{"$error":"#VALUE!"},{"$error":"#VALUE!"},{"$error":"#VALUE!"},{"$error":"#VALUE!"},{"$error":"#VALUE!"},{"$error":"#VALUE!"},{"$error":"#VALUE!"},{"$error":"#VALUE!"},{"$error":"#VALUE!"},{"$error":"#VALUE!"},{"$error":"#VALUE!"},{"$error":"#VALUE!"},{"$error":"#VALUE!"},{"$error":"#VALUE!"},{"$error":"#VALUE!"},{"$error":"#VALUE!"},{"$error":"#VALUE!"},{"$error":"#VALUE!"},{"$error":"#VALUE!"},{"$error":"#VALUE!"},{"$error":"#VALUE!"},9,0,{"$error":"#VALUE!"},{"$error":"#VALUE!"},{"$error":"#VALUE!"},{"$error":"#VALUE!"},{"$error":"#VALUE!"},{"$error":"#VALUE!"},{"$error":"#VALUE!"},{"$error":"#VALUE!"},{"$error":"#VALUE!"},{"$error":"#VALUE!"},{"$error":"#VALUE!"},{"$error":"#VALUE!"},{"$error":"#VALUE!"},{"$error":"#VALUE!"},{"$error":"#VALUE!"},{"$error":"#VALUE!"},{"$error":"#VALUE!"},{"$error":"#VALUE!"},{"$error":"#VALUE!"},{"$error":"#VALUE!"},{"$error":"#VALUE!"},{"$error":"#VALUE!"},{"$error":"#VALUE!"},{"$error":"#VALUE!"},{"$error":"#VALUE!"},{"$error":"#VALUE!"},{"$error":"#VALUE!"},{"$error":"#VALUE!"},{"$error":"#VALUE!"},{"$error":"#VALUE!"},{"$error":"#VALUE!"},{"$error":"#VALUE!"},{"$error":"#VALUE!"},9,0,{"$error":"#VALUE!"},{"$error":"#VALUE!"},{"$error":"#VALUE!"},{"$error":"#VALUE!"},{"$error":"#VALUE!"},{"$error":"#VALUE!"},{"$error":"#VALUE!"},{"$error":"#VALUE!"},{"$error":"#VALUE!"},{"$error":"#VALUE!"},{"$error":"#VALUE!"},{"$error":"#VALUE!"},{"$error":"#VALUE!"},{"$error":"#VALUE!"},{"$error":"#VALUE!"},{"$error":"#VALUE!"},{"$error":"#VALUE!"},{"$error":"#VALUE!"},{"$error":"#VALUE!"},{"$error":"#VALUE!"},{"$error":"#VALUE!"},{"$error":"#VALUE!"},{"$error":"#VALUE!"},{"$error":"#VALUE!"},{"$error":"#VALUE!"},{"$error":"#VALUE!"},{"$error":"#VALUE!"},{"$error":"#VALUE!"},{"$error":"#VALUE!"},{"$error":"#VALUE!"},{"$error":"#VALUE!"},{"$error":"#VALUE!"},{"$error":"#VALUE!"}]
[null,null,null,null,null,null,null,null,null,null,null,null,null,null,null,null,null,null,null,null,null,null,null,"Total",{"$f":"SUM(Y129:Y135)","v":0},{"$f":"SUM(Z129:Z135)","v":0},0,0,0,0,null,null,null,"N/A",null,false,null,null,null,null,"Total",null,null,null,null,null,null,null,null,null,null,null,null,null,null,null,null,null,null,null,null,null,null,null,"Total",null,null,null,null,null,null,null,null,null,null,null,null,null,null,null,null,null,null,null,null,null,null,null,null,null,null,null,null,null,null,null,null,null,null,null,null,null,null,null,null,null,null,null,null,null,null,null,null,null,null,null,null,null,null,null,null,null,null,null,null,null,null,null,null,null,null,null,"Total",{"$f":"SUM(ED129:ED135)","v":{"$error":"#VALUE!"}},{"$f":"SUM(EE129:EE135)","v":{"$error":"#VALUE!"}},{"$f":"SUM(EF129:EF135)","v":{"$error":"#VALUE!"}},{"$f":"SUM(EG129:EG135)","v":{"$error":"#VALUE!"}},{"$f":"SUM(EH129:EH135)","v":{"$error":"#VALUE!"}},{"$f":"SUM(EI129:EI135)","v":{"$error":"#VALUE!"}},{"$error":"#VALUE!"},{"$error":"#VALUE!"},{"$error":"#VALUE!"},{"$error":"#VALUE!"},{"$error":"#VALUE!"},{"$error":"#VALUE!"},{"$error":"#VALUE!"},{"$error":"#VALUE!"},{"$error":"#VALUE!"},{"$error":"#VALUE!"},{"$error":"#VALUE!"},{"$error":"#VALUE!"},null,"Total",{"$f":"SUM(EX129:EX135)","v":0},{"$f":"SUM(EY129:EY135)","v":{"$error":"#VALUE!"}},{"$f":"SUM(EZ129:EZ135)","v":{"$error":"#VALUE!"}},{"$error":"#VALUE!"},{"$error":"#VALUE!"},{"$f":"SUM(FC129:FC135)","v":{"$error":"#VALUE!"}},{"$f":"SUM(FD129:FD135)","v":{"$error":"#VALUE!"}},{"$error":"#VALUE!"},{"$error":"#VALUE!"},{"$error":"#VALUE!"},{"$error":"#VALUE!"},{"$error":"#VALUE!"},{"$error":"#VALUE!"},{"$error":"#VALUE!"},{"$error":"#VALUE!"},{"$error":"#VALUE!"},{"$f":"SUM(FN129:FN135)","v":{"$error":"#VALUE!"}},{"$f":"SUM(FO129:FO135)","v":{"$error":"#VALUE!"}},{"$f":"SUM(FP129:FP135)","v":{"$error":"#VALUE!"}},{"$f":"SUM(FQ129:FQ135)","v":{"$error":"#VALUE!"}},{"$error":"#VALUE!"},{"$error":"#VALUE!"},{"$error":"#VALUE!"},{"$error":"#VALUE!"},{"$error":"#VALUE!"},{"$error":"#VALUE!"},{"$error":"#VALUE!"},{"$error":"#VALUE!"},{"$error":"#VALUE!"},{"$error":"#VALUE!"},{"$error":"#VALUE!"},{"$f":"SUM(GC129:GC135)","v":{"$error":"#VALUE!"}},{"$f":"SUM(GD129:GD135)","v":{"$error":"#VALUE!"}},{"$error":"#VALUE!"},"Total",{"$f":"SUM(GG129:GG135)","v":0},{"$f":"SUM(GH129:GH135)","v":{"$error":"#VALUE!"}},{"$f":"SUM(GI129:GI135)","v":{"$error":"#VALUE!"}},{"$error":"#VALUE!"},{"$error":"#VALUE!"},{"$f":"SUM(GL129:GL135)","v":{"$error":"#VALUE!"}},{"$f":"SUM(GM129:GM135)","v":{"$error":"#VALUE!"}},{"$f":"SUM(GN129:GN135)","v":{"$error":"#VALUE!"}},{"$error":"#VALUE!"},{"$error":"#VALUE!"},{"$error":"#VALUE!"},{"$error":"#VALUE!"},{"$error":"#VALUE!"},{"$error":"#VALUE!"},{"$error":"#VALUE!"},{"$error":"#VALUE!"},{"$f":"SUM(GW129:GW135)","v":{"$error":"#VALUE!"}},{"$f":"SUM(GX129:GX135)","v":{"$error":"#VALUE!"}},{"$f":"SUM(GY129:GY135)","v":{"$error":"#VALUE!"}},{"$f":"SUM(GZ129:GZ135)","v":{"$error":"#VALUE!"}},{"$error":"#VALUE!"},{"$error":"#VALUE!"},{"$error":"#VALUE!"},{"$error":"#VALUE!"},{"$error":"#VALUE!"},{"$error":"#VALUE!"},{"$error":"#VALUE!"},{"$error":"#VALUE!"},{"$error":"#VALUE!"},{"$error":"#VALUE!"},{"$error":"#VALUE!"},{"$f":"SUM(HL129:HL135)","v":{"$error":"#VALUE!"}},{"$f":"SUM(HM129:HM135)","v":{"$error":"#VALUE!"}},{"$error":"#VALUE!"},"Total",{"$f":"SUM(HP129:HP135)","v":0},{"$f":"SUM(HQ129:HQ135)","v":{"$error":"#VALUE!"}},{"$f":"SUM(HR129:HR135)","v":{"$error":"#VALUE!"}},{"$error":"#VALUE!"},{"$error":"#VALUE!"},{"$f":"SUM(HU129:HU135)","v":{"$error":"#VALUE!"}},{"$f":"SUM(HV129:HV135)","v":{"$error":"#VALUE!"}},{"$error":"#VALUE!"},{"$error":"#VALUE!"},{"$error":"#VALUE!"},{"$error":"#VALUE!"},{"$error":"#VALUE!"},{"$error":"#VALUE!"},{"$error":"#VALUE!"},{"$error":"#VALUE!"},{"$error":"#VALUE!"},{"$f":"SUM(IF129:IF135)","v":{"$error":"#VALUE!"}},{"$f":"SUM(IG129:IG135)","v":{"$error":"#VALUE!"}},{"$f":"SUM(IH129:IH135)","v":{"$error":"#VALUE!"}},{"$f":"SUM(II129:II135)","v":{"$error":"#VALUE!"}},{"$error":"#VALUE!"},{"$error":"#VALUE!"},{"$error":"#VALUE!"},{"$error":"#VALUE!"},{"$error":"#VALUE!"},{"$error":"#VALUE!"},{"$error":"#VALUE!"},{"$error":"#VALUE!"},{"$error":"#VALUE!"},{"$error":"#VALUE!"},{"$error":"#VALUE!"},{"$f":"SUM(IU129:IU135)","v":{"$error":"#VALUE!"}},{"$f":"SUM(IV129:IV135)","v":{"$error":"#VALUE!"}},{"$error":"#VALUE!"},"Total",{"$f":"SUM(IY129:IY135)","v":0},{"$f":"SUM(IZ129:IZ135)","v":{"$error":"#VALUE!"}},{"$f":"SUM(JA129:JA135)","v":{"$error":"#VALUE!"}},{"$error":"#VALUE!"},{"$error":"#VALUE!"},{"$f":"SUM(JD129:JD135)","v":{"$error":"#VALUE!"}},{"$f":"SUM(JE129:JE135)","v":{"$error":"#VALUE!"}},{"$error":"#VALUE!"},{"$error":"#VALUE!"},{"$error":"#VALUE!"},{"$error":"#VALUE!"},{"$error":"#VALUE!"},{"$error":"#VALUE!"},{"$error":"#VALUE!"},{"$error":"#VALUE!"},{"$error":"#VALUE!"},{"$f":"SUM(JO129:JO135)","v":{"$error":"#VALUE!"}},{"$f":"SUM(JP129:JP135)","v":{"$error":"#VALUE!"}},{"$f":"SUM(JQ129:JQ135)","v":{"$error":"#VALUE!"}},{"$f":"SUM(JR129:JR135)","v":{"$error":"#VALUE!"}},{"$error":"#VALUE!"},{"$error":"#VALUE!"},{"$error":"#VALUE!"},{"$error":"#VALUE!"},{"$error":"#VALUE!"},{"$error":"#VALUE!"},{"$error":"#VALUE!"},{"$error":"#VALUE!"},{"$error":"#VALUE!"},{"$error":"#VALUE!"},{"$error":"#VALUE!"},{"$f":"SUM(KD129:KD135)","v":{"$error":"#VALUE!"}},{"$f":"SUM(KE129:KE135)","v":{"$error":"#VALUE!"}},{"$error":"#VALUE!"},"Total",{"$f":"SUM(KH129:KH135)","v":0},{"$f":"SUM(KI129:KI135)","v":{"$error":"#VALUE!"}},{"$f":"SUM(KJ129:KJ135)","v":{"$error":"#VALUE!"}},{"$error":"#VALUE!"},{"$error":"#VALUE!"},{"$f":"SUM(KM129:KM135)","v":{"$error":"#VALUE!"}},{"$f":"SUM(KN129:KN135)","v":{"$error":"#VALUE!"}},{"$error":"#VALUE!"},{"$error":"#VALUE!"},{"$error":"#VALUE!"},{"$error":"#VALUE!"},{"$error":"#VALUE!"},{"$error":"#VALUE!"},{"$error":"#VALUE!"},{"$error":"#VALUE!"},{"$error":"#VALUE!"},{"$f":"SUM(KX129:KX135)","v":{"$error":"#VALUE!"}},{"$f":"SUM(KY129:KY135)","v":{"$error":"#VALUE!"}},{"$f":"SUM(KZ129:KZ135)","v":{"$error":"#VALUE!"}},{"$f":"SUM(LA129:LA135)","v":{"$error":"#VALUE!"}},{"$error":"#VALUE!"},{"$error":"#VALUE!"},{"$error":"#VALUE!"},{"$error":"#VALUE!"},{"$error":"#VALUE!"},{"$error":"#VALUE!"},{"$error":"#VALUE!"},{"$error":"#VALUE!"},{"$error":"#VALUE!"},{"$error":"#VALUE!"},{"$error":"#VALUE!"},{"$f":"SUM(LM129:LM135)","v":{"$error":"#VALUE!"}},{"$f":"SUM(LN129:LN135)","v":{"$error":"#VALUE!"}},{"$error":"#VALUE!"},"Total",{"$f":"SUM(LQ129:LQ135)","v":0},{"$f":"SUM(LR129:LR135)","v":{"$error":"#VALUE!"}},{"$f":"SUM(LS129:LS135)","v":{"$error":"#VALUE!"}},{"$error":"#VALUE!"},{"$error":"#VALUE!"},{"$f":"SUM(LV129:LV135)","v":{"$error":"#VALUE!"}},{"$f":"SUM(LW129:LW135)","v":{"$error":"#VALUE!"}},{"$error":"#VALUE!"},{"$error":"#VALUE!"},{"$error":"#VALUE!"},{"$error":"#VALUE!"},{"$error":"#VALUE!"},{"$error":"#VALUE!"},{"$error":"#VALUE!"},{"$error":"#VALUE!"},{"$f":"SUM(MF129:MF135)","v":{"$error":"#VALUE!"}},{"$f":"SUM(MG129:MG135)","v":{"$error":"#VALUE!"}},{"$f":"SUM(MH129:MH135)","v":{"$error":"#VALUE!"}},{"$f":"SUM(MI129:MI135)","v":{"$error":"#VALUE!"}},{"$f":"SUM(MJ129:MJ135)","v":{"$error":"#VALUE!"}},{"$error":"#VALUE!"},{"$error":"#VALUE!"},{"$error":"#VALUE!"},{"$error":"#VALUE!"},{"$error":"#VALUE!"},{"$error":"#VALUE!"},{"$error":"#VALUE!"},{"$error":"#VALUE!"},{"$error":"#VALUE!"},{"$error":"#VALUE!"},{"$error":"#VALUE!"},{"$f":"SUM(MV129:MV135)","v":{"$error":"#VALUE!"}},{"$f":"SUM(MW129:MW135)","v":{"$error":"#VALUE!"}},{"$error":"#VALUE!"}]
[null,{"$f":"B129+1","v":14},{"$f":"'Regional Project List Sheet'!F18","v":0},{"$f":"IF('Regional Project List Sheet'!$G18=\"New\",1,\"\")","v":""},{"$f":"IF('Regional Project List Sheet'!$G18=\"Funded Old\",1,\"\")","v":""},{"$f":"IF('Regional Project List Sheet'!$G18=\"Unfunded Old\",1,\"\")","v":""},{"$f":"'Regional Project List Sheet'!H18","v":0},{"$f":"'Regional Project List Sheet'!I18","v":0},{"$f":"'Regional Project List Sheet'!L18","v":0},{"$f":"'Regional Project List Sheet'!M18","v":0},{"$f":"'Regional Project List Sheet'!N18","v":0},{"$f":"'Regional Project List Sheet'!O18","v":0},{"$f":"'Regional Project List Sheet'!P18","v":0},{"$f":"IF('Regional Project List Sheet'!$Q18=\"N/A\",\"N/A\",IF($Y140<>0,5,IF($Z140<>0,4,IF($AA140<>0,3,IF($AB140<>0,2,1)))))","v":1},{"$f":"VLOOKUP($C137,'[2]Ranking|Priority'!$B$5:$O$68,12,FALSE)","v":{"$error":"#N/A"}},{"$f":"VLOOKUP($C137,'[2]Ranking|Priority'!$B$5:$O$68,13,FALSE)","v":{"$error":"#N/A"}},{"$f":"VLOOKUP($C137,'[2]Ranking|Priority'!$B$5:$O$68,14,FALSE)","v":{"$error":"#N/A"}},{"$f":"'Regional Project List Sheet'!T18","v":0},{"$f":"'Regional Project List Sheet'!U18","v":0},{"$f":"'Regional Project List Sheet'!V18","v":0},{"$f":"'Regional Project List Sheet'!W18","v":0},{"$f":"'Regional Project List Sheet'!X18","v":0},{"$f":"'Regional Project List Sheet'!Y18","v":"Choose from Project List in cell I2"},0,null,null,null,null,null,null,null,{"$f":"'Regional Project List Sheet'!AJ18","v":0},{"$f":"IF(OR('Regional Project List Sheet'!$AA18<>'Regional Project List Sheet'!$A$40,'Regional Project List Sheet'!$AD18<>'Regional Project List Sheet'!$A$40,'Regional Project List Sheet'!$AG18<>'Regional Project List Sheet'!$A$40),_xlfn.CONCAT(IF(ISNUMBER('Regional Project List Sheet'!$AA18),'Regional Project List Sheet'!$A$36,\"\"),\" \",IF(ISNUMBER('Regional Project List Sheet'!$AD18),'Regional Project List Sheet'!$A$37,\"\"),\" \",IF(ISNUMBER('Regional Project List Sheet'!$AG18),'Regional Project List Sheet'!$A$38,\"\")),\"N/A\")","v":"N/A"},"N/A",{"$f":"IF(OR('Regional Project List Sheet'!AC18<>'Regional Project List Sheet'!$A$40,'Regional Project List Sheet'!AF18<>'Regional Project List Sheet'!$A$40,'Regional Project List Sheet'!AI18<>'Regional Project List Sheet'!$A$40),\n\nIF(LEN(_xlfn.CONCAT(IF('Regional Project List Sheet'!AC18=\"Yes\",'Regional Project List Sheet'!$A$36,\"\"),\" \",\n\nIF('Regional Project List Sheet'!AF18=\"Yes\",'Regional Project List Sheet'!$A$37,\"\"),\" \",\n\nIF('Regional Project List Sheet'!AI18=\"Yes\",'Regional Project List Sheet'!$A$38,\"\")))<3,\"No\",\n\n_xlfn.CONCAT(IF('Regional Project List Sheet'!AC18=\"Yes\",'Regional Project List Sheet'!$A$36,\"\"),\" \",\n\nIF('Regional Project List Sheet'!AF18=\"Yes\",'Regional Project List Sheet'!$A$37,\"\"),\" \",\n\nIF('Regional Project List Sheet'!AI18=\"Yes\",'Regional Project List Sheet'!$A$38,\"\"))))","v":false},false,{"$f":"'Regional Project List Sheet'!AK18","v":0},null,{"$f":"'Regional Project List Sheet'!AL18","v":0},null,0,null,null,null,null,null,null,null,null,null,null,1,{"$f":"IF(AND(BB137=\"OK\",BC137=\"OK\",BD137=\"OK\"),\"OK\",\"ERR!\")","v":"OK"},{"$f":"IF(AND(Y137>0,SUM(BN137:BX137)<1),\"ERR!\",IF(AND(Z137>0,SUM(BY137:CI137)<1),\"ERR!\",IF(AND(AA137>0,SUM(CJ137:CT137)<1),\"ERR\",IF(AND(AB137>0,SUM(CU137:DE137)<1),\"ERR\",IF(AND(AC137>0,SUM(DF137:DP137)<1),\"ERR\",IF(AND(AD137>0,SUM(DQ137:EA137)<1),\"ERR\",\"OK\"))))))","v":"OK"},{"$f":"IF(OR(SUM(BN137:BX137)<>1,SUM(BY137:CI137)<>1,SUM(CJ137:CT137)<>1,SUM(CU137:DE137)<>1,SUM(DF137:DP137)<>1,SUM(DQ137:EA137)<>1),\"ERR!\",\"OK\")","v":"OK"},{"$f":"IF(AND(OR(BE137=BK137,BE137=0),OR(BF137=BK137,BF137=0),OR(BG137=BK137,BG137=0),OR(BH137=BK137,BH137=0),OR(BI137=BK137,BI137=0),OR(BJ137=BK137,BJ137=0)),\"OK\",\"ERR!\")","v":"OK"},{"$f":"(BN137*POWER(10,0)+BO137*POWER(10,1)+BP137*POWER(10,2)+BQ137*POWER(10,3)+BR137*POWER(10,4)+BS137*POWER(10,5)+BT137*POWER(10,6)+BU137*POWER(10,7)+BV137*POWER(10,8)+BW137*POWER(10,9)+BX137*POWER(10,10))","v":100},{"$f":"(BY137*POWER(10,0)+BZ137*POWER(10,1)+CA137*POWER(10,2)+CB137*POWER(10,3)+CC137*POWER(10,4)+CD137*POWER(10,5)+CE137*POWER(10,6)+CF137*POWER(10,7)+CG137*POWER(10,8)+CH137*POWER(10,9)+CI137*POWER(10,10))","v":100},{"$f":"(CJ137*POWER(10,0)+CK137*POWER(10,1)+CL137*POWER(10,2)+CM137*POWER(10,3)+CN137*POWER(10,4)+CO137*POWER(10,5)+CP137*POWER(10,6)+CQ137*POWER(10,7)+CR137*POWER(10,8)+CS137*POWER(10,9)+CT137*POWER(10,10))","v":100},{"$f":"(CU137*POWER(10,0)+CV137*POWER(10,1)+CW137*POWER(10,2)+CX137*POWER(10,3)+CY137*POWER(10,4)+CZ137*POWER(10,5)+DA137*POWER(10,6)+DB137*POWER(10,7)+DC137*POWER(10,8)+DD137*POWER(10,9)+DE137*POWER(10,10))","v":100},{"$f":"(DF137*POWER(10,0)+DG137*POWER(10,1)+DH137*POWER(10,2)+DI137*POWER(10,3)+DJ137*POWER(10,4)+DK137*POWER(10,5)+DL137*POWER(10,6)+DM137*POWER(10,7)+DN137*POWER(10,8)+DO137*POWER(10,9)+DP137*POWER(10,10))","v":100},{"$f":"(DQ137*POWER(10,0)+DR137*POWER(10,1)+DS137*POWER(10,2)+DT137*POWER(10,3)+DU137*POWER(10,4)+DV137*POWER(10,5)+DW137*POWER(10,6)+DX137*POWER(10,7)+DY137*POWER(10,8)+DZ137*POWER(10,9)+EA137*POWER(10,10))","v":100},{"$f":"MAX(BE137:BJ137)","v":100},null,0,null,null,1,null,null,null,null,null,null,null,null,null,null,1,null,null,null,null,null,null,null,null,null,null,1,null,null,null,null,null,null,null,null,null,null,1,null,null,null,null,null,null,null,null,null,null,1,null,null,null,null,null,null,null,null,null,null,1,null,null,null,null,null,null,null,null,null,0,{"$f":"($Y137*D$137)/1000","v":{"$error":"#VALUE!"}},{"$error":"#VALUE!"},{"$error":"#VALUE!"},{"$f":"($Z137*D$137)/1000","v":{"$error":"#VALUE!"}},{"$error":"#VALUE!"},{"$error":"#VALUE!"},{"$f":"($AA137*D$137)/1000","v":{"$error":"#VALUE!"}},{"$error":"#VALUE!"},{"$error":"#VALUE!"},{"$f":"($AB137*D$137)/1000","v":{"$error":"#VALUE!"}},{"$error":"#VALUE!"},{"$error":"#VALUE!"},{"$f":"($AC137*D$137)/1000","v":{"$error":"#VALUE!"}},{"$error":"#VALUE!"},{"$error":"#VALUE!"},{"$f":"($AD137*D$137)/1000","v":{"$error":"#VALUE!"}},{"$error":"#VALUE!"},{"$error":"#VALUE!"},null,0,{"$f":"$AZ$137*$Y137","v":0},{"$f":"($AZ$137*$BN137*D$137*$Y137)/1000","v":{"$error":"#VALUE!"}},{"$error":"#VALUE!"},{"$error":"#VALUE!"},{"$f":"($AZ$137*$BO137*D$137*$Y137)/1000","v":{"$error":"#VALUE!"}},{"$error":"#VALUE!"},{"$error":"#VALUE!"},{"$f":"($AZ$137*$BP137*D$137*$Y137)/1000","v":{"$error":"#VALUE!"}},{"$error":"#VALUE!"},{"$error":"#VALUE!"},{"$f":"($AZ$137*$BQ137*D$137*$Y137)/1000","v":{"$error":"#VALUE!"}},{"$error":"#VALUE!"},{"$error":"#VALUE!"},{"$f":"($AZ$137*$BR137*D$137*$Y137)/1000","v":{"$error":"#VALUE!"}},{"$error":"#VALUE!"},{"$error":"#VALUE!"},{"$f":"($AZ$137*$BS137*D$137*$Y137)/1000","v":{"$error":"#VALUE!"}},{"$error":"#VALUE!"},{"$error":"#VALUE!"},{"$f":"($AZ$137*$BT137*D$137*$Y137)/1000","v":{"$error":"#VALUE!"}},{"$error":"#VALUE!"},{"$error":"#VALUE!"},{"$f":"($AZ$137*$BU137*D$137*$Y137)/1000","v":{"$error":"#VALUE!"}},{"$error":"#VALUE!"},{"$error":"#VALUE!"},{"$f":"($AZ$137*$BV137*D$137*$Y137)/1000","v":{"$error":"#VALUE!"}},{"$error":"#VALUE!"},{"$error":"#VALUE!"},{"$f":"($AZ$137*$BW137*D$137*$Y137)/1000","v":{"$error":"#VALUE!"}},{"$error":"#VALUE!"},{"$error":"#VALUE!"},{"$f":"($AZ$137*$BX137*D$137*$Y137)/1000","v":{"$error":"#VALUE!"}},{"$error":"#VALUE!"},{"$error":"#VALUE!"},0,{"$f":"$AZ$137*$Z137","v":0},{"$f":"($AZ$137*$BY137*D$137*$Z137)/1000","v":{"$error":"#VALUE!"}},{"$error":"#VALUE!"},{"$error":"#VALUE!"},{"$f":"($AZ$137*$BZ137*D$137*$Z137)/1000","v":{"$error":"#VALUE!"}},{"$error":"#VALUE!"},{"$error":"#VALUE!"},{"$f":"($AZ$137*$CA137*D$137*$Z137)/1000","v":{"$error":"#VALUE!"}},{"$error":"#VALUE!"},{"$error":"#VALUE!"},{"$f":"($AZ$137*$CB137*D$137*$Z137)/1000","v":{"$error":"#VALUE!"}},{"$error":"#VALUE!"},{"$error":"#VALUE!"},{"$f":"($AZ$137*$CD137*D$137*$Z137)/1000","v":{"$error":"#VALUE!"}},{"$error":"#VALUE!"},{"$error":"#VALUE!"},{"$f":"($AZ$137*$CD137*D$137*$Z137)/1000","v":{"$error":"#VALUE!"}},{"$error":"#VALUE!"},{"$error":"#VALUE!"},{"$f":"($AZ$137*$CE137*D$137*$Z137)/1000","v":{"$error":"#VALUE!"}},{"$error":"#VALUE!"},{"$error":"#VALUE!"},{"$f":"($AZ$137*$CF137*D$137*$Z137)/1000","v":{"$error":"#VALUE!"}},{"$error":"#VALUE!"},{"$error":"#VALUE!"},{"$f":"($AZ$137*$CG137*D$137*$Z137)/1000","v":{"$error":"#VALUE!"}},{"$error":"#VALUE!"},{"$error":"#VALUE!"},{"$f":"($AZ$137*$CH137*D$137*$Z137)/1000","v":{"$error":"#VALUE!"}},{"$error":"#VALUE!"},{"$error":"#VALUE!"},{"$f":"($AZ$137*$CI137*D$137*$Z137)/1000","v":{"$error":"#VALUE!"}},{"$error":"#VALUE!"},{"$error":"#VALUE!"},0,{"$f":"$AZ$137*$AA137","v":0},{"$f":"($AZ$137*$CJ137*D$137*$AA137)/1000","v":{"$error":"#VALUE!"}},{"$error":"#VALUE!"},{"$error":"#VALUE!"},{"$f":"($AZ$137*$CK137*D$137*$AA137)/1000","v":{"$error":"#VALUE!"}},{"$error":"#VALUE!"},{"$error":"#VALUE!"},{"$f":"($AZ$137*$CL137*D$137*$AA137)/1000","v":{"$error":"#VALUE!"}},{"$error":"#VALUE!"},{"$error":"#VALUE!"},{"$f":"($AZ$137*$CM137*D$137*$AA137)/1000","v":{"$error":"#VALUE!"}},{"$error":"#VALUE!"},{"$error":"#VALUE!"},{"$f":"($AZ$137*$CN137*D$137*$AA137)/1000","v":{"$error":"#VALUE!"}},{"$error":"#VALUE!"},{"$error":"#VALUE!"},{"$f":"($AZ$137*$CO137*D$137*$AA137)/1000","v":{"$error":"#VALUE!"}},{"$error":"#VALUE!"},{"$error":"#VALUE!"},{"$f":"($AZ$137*$CP137*D$137*$AA137)/1000","v":{"$error":"#VALUE!"}},{"$error":"#VALUE!"},{"$error":"#VALUE!"},{"$f":"($AZ$137*$CQ137*D$137*$AA137)/1000","v":{"$error":"#VALUE!"}},{"$error":"#VALUE!"},{"$error":"#VALUE!"},{"$f":"($AZ$137*$CR137*D$137*$AA137)/1000","v":{"$error":"#VALUE!"}},{"$error":"#VALUE!"},{"$error":"#VALUE!"},{"$f":"($AZ$137*$CS137*D$137*$AA137)/1000","v":{"$error":"#VALUE!"}},{"$error":"#VALUE!"},{"$error":"#VALUE!"},{"$f":"($AZ$137*$CT137*D$137*$AA137)/1000","v":{"$error":"#VALUE!"}},{"$error":"#VALUE!"},{"$error":"#VALUE!"},0,{"$f":"$AZ$137*$AB137","v":0},{"$f":"($AZ$137*$CU137*D$137*$AB137)/1000","v":{"$error":"#VALUE!"}},{"$error":"#VALUE!"},{"$error":"#VALUE!"},{"$f":"($AZ$137*$CV137*D$137*$AB137)/1000","v":{"$error":"#VALUE!"}},{"$error":"#VALUE!"},{"$error":"#VALUE!"},{"$f":"($AZ$137*$CW137*D$137*$AB137)/1000","v":{"$error":"#VALUE!"}},{"$error":"#VALUE!"},{"$error":"#VALUE!"},{"$f":"($AZ$137*$CX137*D$137*$AB137)/1000","v":{"$error":"#VALUE!"}},{"$error":"#VALUE!"},{"$error":"#VALUE!"},{"$f":"($AZ$137*$CY137*D$137*$AB137)/1000","v":{"$error":"#VALUE!"}},{"$error":"#VALUE!"},{"$error":"#VALUE!"},{"$f":"($AZ$137*$CZ137*D$137*$AB137)/1000","v":{"$error":"#VALUE!"}},{"$error":"#VALUE!"},{"$error":"#VALUE!"},{"$f":"($AZ$137*$DA137*D$137*$AB137)/1000","v":{"$error":"#VALUE!"}},{"$error":"#VALUE!"},{"$error":"#VALUE!"},{"$f":"($AZ$137*$DB137*D$137*$AB137)/1000","v":{"$error":"#VALUE!"}},{"$error":"#VALUE!"},{"$error":"#VALUE!"},{"$f":"($AZ$137*$DC137*D$137*$AB137)/1000","v":{"$error":"#VALUE!"}},{"$error":"#VALUE!"},{"$error":"#VALUE!"},{"$f":"($AZ$137*$DD137*D$137*$AB137)/1000","v":{"$error":"#VALUE!"}},{"$error":"#VALUE!"},{"$error":"#VALUE!"},{"$f":"($AZ$137*$DE137*D$137*$AB137)/1000","v":{"$error":"#VALUE!"}},{"$error":"#VALUE!"},{"$error":"#VALUE!"},0,{"$f":"$AZ$137*$AC137","v":0},{"$f":"($AZ$137*$DF137*D$137*$AC137)/1000","v":{"$error":"#VALUE!"}},{"$error":"#VALUE!"},{"$error":"#VALUE!"},{"$f":"($AZ$137*$DG137*D$137*$AC137)/1000","v":{"$error":"#VALUE!"}},{"$error":"#VALUE!"},{"$error":"#VALUE!"},{"$f":"($AZ$137*$DH137*D$137*$AC137)/1000","v":{"$error":"#VALUE!"}},{"$error":"#VALUE!"},{"$error":"#VALUE!"},{"$f":"($AZ$137*$DI137*D$137*$AC137)/1000","v":{"$error":"#VALUE!"}},{"$error":"#VALUE!"},{"$error":"#VALUE!"},{"$f":"($AZ$137*$DJ137*D$137*$AC137)/1000","v":{"$error":"#VALUE!"}},{"$error":"#VALUE!"},{"$error":"#VALUE!"},{"$f":"($AZ$137*$DK137*D$137*$AC137)/1000","v":{"$error":"#VALUE!"}},{"$error":"#VALUE!"},{"$error":"#VALUE!"},{"$f":"($AZ$137*$DL137*D$137*$AC137)/1000","v":{"$error":"#VALUE!"}},{"$error":"#VALUE!"},{"$error":"#VALUE!"},{"$f":"($AZ$137*$DM137*D$137*$AC137)/1000","v":{"$error":"#VALUE!"}},{"$error":"#VALUE!"},{"$error":"#VALUE!"},{"$f":"($AZ$137*$DN137*D$137*$AC137)/1000","v":{"$error":"#VALUE!"}},{"$error":"#VALUE!"},{"$error":"#VALUE!"},{"$f":"($AZ$137*$DO137*D$137*$AC137)/1000","v":{"$error":"#VALUE!"}},{"$error":"#VALUE!"},{"$error":"#VALUE!"},{"$f":"($AZ$137*$DP137*D$137*$AC137)/1000","v":{"$error":"#VALUE!"}},{"$error":"#VALUE!"},{"$error":"#VALUE!"},0,{"$f":"$AZ$137*$AD137","v":0},{"$f":"($AZ$137*$DQ137*D$137*$AD137)/1000","v":{"$error":"#VALUE!"}},{"$error":"#VALUE!"},{"$error":"#VALUE!"},{"$f":"($AZ$137*$DR137*D$137*$AD137)/1000","v":{"$error":"#VALUE!"}},{"$error":"#VALUE!"},{"$error":"#VALUE!"},{"$f":"($AZ$137*$DS137*D$137*$AD137)/1000","v":{"$error":"#VALUE!"}},{"$error":"#VALUE!"},{"$error":"#VALUE!"},{"$f":"($AZ$137*$DT137*D$137*$AD137)/1000","v":{"$error":"#VALUE!"}},{"$error":"#VALUE!"},{"$error":"#VALUE!"},{"$f":"($AZ$137*$DU137*D$137*$AD137)/1000","v":{"$error":"#VALUE!"}},{"$error":"#VALUE!"},{"$error":"#VALUE!"},{"$f":"($AZ$137*$DV137*D$137*$AD137)/1000","v":{"$error":"#VALUE!"}},{"$error":"#VALUE!"},{"$error":"#VALUE!"},{"$f":"($AZ$137*$DW137*D$137*$AD137)/1000","v":{"$error":"#VALUE!"}},{"$error":"#VALUE!"},{"$error":"#VALUE!"},{"$f":"($AZ$137*$DX137*D$137*$AD137)/1000","v":{"$error":"#VALUE!"}},{"$error":"#VALUE!"},{"$error":"#VALUE!"},{"$f":"($AZ$137*$DY137*D$137*$AD137)/1000","v":{"$error":"#VALUE!"}},{"$error":"#VALUE!"},{"$error":"#VALUE!"},{"$f":"($AZ$137*$DZ137*D$137*$AD137)/1000","v":{"$error":"#VALUE!"}},{"$error":"#VALUE!"},{"$error":"#VALUE!"},{"$f":"($AZ$137*$EA137*D$137*$AD137)/1000","v":{"$error":"#VALUE!"}},{"$error":"#VALUE!"},{"$error":"#VALUE!"}]
[null,null,null,null,null,null,null,null,null,null,null,null,null,null,null,null,null,null,null,null,null,null,null,2,null,null,null,null,null,null,null,null,null,"N/A",null,false,null,null,null,null,2,null,null,null,null,null,null,null,null,null,null,null,{"$f":"IF(AND(BB138=\"OK\",BC138=\"OK\",BD138=\"OK\"),\"OK\",\"ERR!\")","v":"OK"},"OK",{"$f":"IF(OR(SUM(BN138:BX138)<>1,SUM(BY138:CI138)<>1,SUM(CJ138:CT138)<>1,SUM(CU138:DE138)<>1,SUM(DF138:DP138)<>1,SUM(DQ138:EA138)<>1),\"ERR!\",\"OK\")","v":"OK"},{"$f":"IF(AND(OR(BE138=BK138,BE138=0),OR(BF138=BK138,BF138=0),OR(BG138=BK138,BG138=0),OR(BH138=BK138,BH138=0),OR(BI138=BK138,BI138=0),OR(BJ138=BK138,BJ138=0)),\"OK\",\"ERR!\")","v":"OK"},{"$f":"(BN138*POWER(10,0)+BO138*POWER(10,1)+BP138*POWER(10,2)+BQ138*POWER(10,3)+BR138*POWER(10,4)+BS138*POWER(10,5)+BT138*POWER(10,6)+BU138*POWER(10,7)+BV138*POWER(10,8)+BW138*POWER(10,9)+BX138*POWER(10,10))","v":100},{"$f":"(BY138*POWER(10,0)+BZ138*POWER(10,1)+CA138*POWER(10,2)+CB138*POWER(10,3)+CC138*POWER(10,4)+CD138*POWER(10,5)+CE138*POWER(10,6)+CF138*POWER(10,7)+CG138*POWER(10,8)+CH138*POWER(10,9)+CI138*POWER(10,10))","v":100},{"$f":"(CJ138*POWER(10,0)+CK138*POWER(10,1)+CL138*POWER(10,2)+CM138*POWER(10,3)+CN138*POWER(10,4)+CO138*POWER(10,5)+CP138*POWER(10,6)+CQ138*POWER(10,7)+CR138*POWER(10,8)+CS138*POWER(10,9)+CT138*POWER(10,10))","v":100},{"$f":"(CU138*POWER(10,0)+CV138*POWER(10,1)+CW138*POWER(10,2)+CX138*POWER(10,3)+CY138*POWER(10,4)+CZ138*POWER(10,5)+DA138*POWER(10,6)+DB138*POWER(10,7)+DC138*POWER(10,8)+DD138*POWER(10,9)+DE138*POWER(10,10))","v":100},{"$f":"(DF138*POWER(10,0)+DG138*POWER(10,1)+DH138*POWER(10,2)+DI138*POWER(10,3)+DJ138*POWER(10,4)+DK138*POWER(10,5)+DL138*POWER(10,6)+DM138*POWER(10,7)+DN138*POWER(10,8)+DO138*POWER(10,9)+DP138*POWER(10,10))","v":100},{"$f":"(DQ138*POWER(10,0)+DR138*POWER(10,1)+DS138*POWER(10,2)+DT138*POWER(10,3)+DU138*POWER(10,4)+DV138*POWER(10,5)+DW138*POWER(10,6)+DX138*POWER(10,7)+DY138*POWER(10,8)+DZ138*POWER(10,9)+EA138*POWER(10,10))","v":100},{"$f":"MAX(BE138:BJ138)","v":100},null,2,null,null,1,null,null,null,null,null,null,null,null,null,null,1,null,null,null,null,null,null,null,null,null,null,1,null,null,null,null,null,null,null,null,null,null,1,null,null,null,null,null,null,null,null,null,null,1,null,null,null,null,null,null,null,null,null,null,1,null,null,null,null,null,null,null,null,null,2,{"$error":"#VALUE!"},{"$error":"#VALUE!"},{"$error":"#VALUE!"},{"$error":"#VALUE!"},{"$error":"#VALUE!"},{"$error":"#VALUE!"},{"$error":"#VALUE!"},{"$error":"#VALUE!"},{"$error":"#VALUE!"},{"$error":"#VALUE!"},{"$error":"#VALUE!"},{"$error":"#VALUE!"},{"$error":"#VALUE!"},{"$error":"#VALUE!"},{"$error":"#VALUE!"},{"$error":"#VALUE!"},{"$error":"#VALUE!"},{"$error":"#VALUE!"},null,2,0,{"$error":"#VALUE!"},{"$error":"#VALUE!"},{"$error":"#VALUE!"},{"$error":"#VALUE!"},{"$error":"#VALUE!"},{"$error":"#VALUE!"},{"$error":"#VALUE!"},{"$error":"#VALUE!"},{"$error":"#VALUE!"},{"$error":"#VALUE!"},{"$error":"#VALUE!"},{"$error":"#VALUE!"},{"$error":"#VALUE!"},{"$error":"#VALUE!"},{"$error":"#VALUE!"},{"$error":"#VALUE!"},{"$error":"#VALUE!"},{"$error":"#VALUE!"},{"$error":"#VALUE!"},{"$error":"#VALUE!"},{"$error":"#VALUE!"},{"$error":"#VALUE!"},{"$error":"#VALUE!"},{"$error":"#VALUE!"},{"$error":"#VALUE!"},{"$error":"#VALUE!"},{"$error":"#VALUE!"},{"$error":"#VALUE!"},{"$error":"#VALUE!"},{"$error":"#VALUE!"},{"$error":"#VALUE!"},{"$error":"#VALUE!"},{"$error":"#VALUE!"},2,0,{"$error":"#VALUE!"},{"$error":"#VALUE!"},{"$error":"#VALUE!"},{"$error":"#VALUE!"},{"$error":"#VALUE!"},{"$error":"#VALUE!"},{"$error":"#VALUE!"},{"$error":"#VALUE!"},{"$error":"#VALUE!"},{"$error":"#VALUE!"},{"$error":"#VALUE!"},{"$error":"#VALUE!"},{"$error":"#VALUE!"},{"$error":"#VALUE!"},{"$error":"#VALUE!"},{"$error":"#VALUE!"},{"$error":"#VALUE!"},{"$error":"#VALUE!"},{"$error":"#VALUE!"},{"$error":"#VALUE!"},{"$error":"#VALUE!"},{"$error":"#VALUE!"},{"$error":"#VALUE!"},{"$error":"#VALUE!"},{"$error":"#VALUE!"},{"$error":"#VALUE!"},{"$error":"#VALUE!"},{"$error":"#VALUE!"},{"$error":"#VALUE!"},{"$error":"#VALUE!"},{"$error":"#VALUE!"},{"$error":"#VALUE!"},{"$error":"#VALUE!"},2,0,{"$error":"#VALUE!"},{"$error":"#VALUE!"},{"$error":"#VALUE!"},{"$error":"#VALUE!"},{"$error":"#VALUE!"},{"$error":"#VALUE!"},{"$error":"#VALUE!"},{"$error":"#VALUE!"},{"$error":"#VALUE!"},{"$error":"#VALUE!"},{"$error":"#VALUE!"},{"$error":"#VALUE!"},{"$error":"#VALUE!"},{"$error":"#VALUE!"},{"$error":"#VALUE!"},{"$error":"#VALUE!"},{"$error":"#VALUE!"},{"$error":"#VALUE!"},{"$error":"#VALUE!"},{"$error":"#VALUE!"},{"$error":"#VALUE!"},{"$error":"#VALUE!"},{"$error":"#VALUE!"},{"$error":"#VALUE!"},{"$error":"#VALUE!"},{"$error":"#VALUE!"},{"$error":"#VALUE!"},{"$error":"#VALUE!"},{"$error":"#VALUE!"},{"$error":"#VALUE!"},{"$error":"#VALUE!"},{"$error":"#VALUE!"},{"$error":"#VALUE!"},2,0,{"$error":"#VALUE!"},{"$error":"#VALUE!"},{"$error":"#VALUE!"},{"$error":"#VALUE!"},{"$error":"#VALUE!"},{"$error":"#VALUE!"},{"$error":"#VALUE!"},{"$error":"#VALUE!"},{"$error":"#VALUE!"},{"$error":"#VALUE!"},{"$error":"#VALUE!"},{"$error":"#VALUE!"},{"$error":"#VALUE!"},{"$error":"#VALUE!"},{"$error":"#VALUE!"},{"$error":"#VALUE!"},{"$error":"#VALUE!"},{"$error":"#VALUE!"},{"$error":"#VALUE!"},{"$error":"#VALUE!"},{"$error":"#VALUE!"},{"$error":"#VALUE!"},{"$error":"#VALUE!"},{"$error":"#VALUE!"},{"$error":"#VALUE!"},{"$error":"#VALUE!"},{"$error":"#VALUE!"},{"$error":"#VALUE!"},{"$error":"#VALUE!"},{"$error":"#VALUE!"},{"$error":"#VALUE!"},{"$error":"#VALUE!"},{"$error":"#VALUE!"},2,0,{"$error":"#VALUE!"},{"$error":"#VALUE!"},{"$error":"#VALUE!"},{"$error":"#VALUE!"},{"$error":"#VALUE!"},{"$error":"#VALUE!"},{"$error":"#VALUE!"},{"$error":"#VALUE!"},{"$error":"#VALUE!"},{"$error":"#VALUE!"},{"$error":"#VALUE!"},{"$error":"#VALUE!"},{"$error":"#VALUE!"},{"$error":"#VALUE!"},{"$error":"#VALUE!"},{"$error":"#VALUE!"},{"$error":"#VALUE!"},{"$error":"#VALUE!"},{"$error":"#VALUE!"},{"$error":"#VALUE!"},{"$error":"#VALUE!"},{"$error":"#VALUE!"},{"$error":"#VALUE!"},{"$error":"#VALUE!"},{"$error":"#VALUE!"},{"$error":"#VALUE!"},{"$error":"#VALUE!"},{"$error":"#VALUE!"},{"$error":"#VALUE!"},{"$error":"#VALUE!"},{"$error":"#VALUE!"},{"$error":"#VALUE!"},{"$error":"#VALUE!"},2,0,{"$error":"#VALUE!"},{"$error":"#VALUE!"},{"$error":"#VALUE!"},{"$error":"#VALUE!"},{"$error":"#VALUE!"},{"$error":"#VALUE!"},{"$error":"#VALUE!"},{"$error":"#VALUE!"},{"$error":"#VALUE!"},{"$error":"#VALUE!"},{"$error":"#VALUE!"},{"$error":"#VALUE!"},{"$error":"#VALUE!"},{"$error":"#VALUE!"},{"$error":"#VALUE!"},{"$error":"#VALUE!"},{"$error":"#VALUE!"},{"$error":"#VALUE!"},{"$error":"#VALUE!"},{"$error":"#VALUE!"},{"$error":"#VALUE!"},{"$error":"#VALUE!"},{"$error":"#VALUE!"},{"$error":"#VALUE!"},{"$error":"#VALUE!"},{"$error":"#VALUE!"},{"$error":"#VALUE!"},{"$error":"#VALUE!"},{"$error":"#VALUE!"},{"$error":"#VALUE!"},{"$error":"#VALUE!"},{"$error":"#VALUE!"},{"$error":"#VALUE!"}]
[null,null,null,null,null,null,null,null,null,null,null,null,null,null,null,null,null,null,null,null,null,null,null,3,null,null,null,null,null,null,null,null,null,"N/A",null,false,null,null,null,null,3,null,null,null,null,null,null,null,null,null,null,null,{"$f":"IF(AND(BB139=\"OK\",BC139=\"OK\",BD139=\"OK\"),\"OK\",\"ERR!\")","v":"OK"},"OK",{"$f":"IF(OR(SUM(BN139:BX139)<>1,SUM(BY139:CI139)<>1,SUM(CJ139:CT139)<>1,SUM(CU139:DE139)<>1,SUM(DF139:DP139)<>1,SUM(DQ139:EA139)<>1),\"ERR!\",\"OK\")","v":"OK"},{"$f":"IF(AND(OR(BE139=BK139,BE139=0),OR(BF139=BK139,BF139=0),OR(BG139=BK139,BG139=0),OR(BH139=BK139,BH139=0),OR(BI139=BK139,BI139=0),OR(BJ139=BK139,BJ139=0)),\"OK\",\"ERR!\")","v":"OK"},100,100,100,100,100,100,{"$f":"MAX(BE139:BJ139)","v":100},null,3,null,null,1,null,null,null,null,null,null,null,null,null,null,1,null,null,null,null,null,null,null,null,null,null,1,null,null,null,null,null,null,null,null,null,null,1,null,null,null,null,null,null,null,null,null,null,1,null,null,null,null,null,null,null,null,null,null,1,null,null,null,null,null,null,null,null,null,3,{"$error":"#VALUE!"},{"$error":"#VALUE!"},{"$error":"#VALUE!"},{"$error":"#VALUE!"},{"$error":"#VALUE!"},{"$error":"#VALUE!"},{"$error":"#VALUE!"},{"$error":"#VALUE!"},{"$error":"#VALUE!"},{"$error":"#VALUE!"},{"$error":"#VALUE!"},{"$error":"#VALUE!"},{"$error":"#VALUE!"},{"$error":"#VALUE!"},{"$error":"#VALUE!"},{"$error":"#VALUE!"},{"$error":"#VALUE!"},{"$error":"#VALUE!"},null,3,0,{"$error":"#VALUE!"},{"$error":"#VALUE!"},{"$error":"#VALUE!"},{"$error":"#VALUE!"},{"$error":"#VALUE!"},{"$error":"#VALUE!"},{"$error":"#VALUE!"},{"$error":"#VALUE!"},{"$error":"#VALUE!"},{"$error":"#VALUE!"},{"$error":"#VALUE!"},{"$error":"#VALUE!"},{"$error":"#VALUE!"},{"$error":"#VALUE!"},{"$error":"#VALUE!"},{"$error":"#VALUE!"},{"$error":"#VALUE!"},{"$error":"#VALUE!"},{"$error":"#VALUE!"},{"$error":"#VALUE!"},{"$error":"#VALUE!"},{"$error":"#VALUE!"},{"$error":"#VALUE!"},{"$error":"#VALUE!"},{"$error":"#VALUE!"},{"$error":"#VALUE!"},{"$error":"#VALUE!"},{"$error":"#VALUE!"},{"$error":"#VALUE!"},{"$error":"#VALUE!"},{"$error":"#VALUE!"},{"$error":"#VALUE!"},{"$error":"#VALUE!"},3,0,{"$error":"#VALUE!"},{"$error":"#VALUE!"},{"$error":"#VALUE!"},{"$error":"#VALUE!"},{"$error":"#VALUE!"},{"$error":"#VALUE!"},{"$error":"#VALUE!"},{"$error":"#VALUE!"},{"$error":"#VALUE!"},{"$error":"#VALUE!"},{"$error":"#VALUE!"},{"$error":"#VALUE!"},{"$error":"#VALUE!"},{"$error":"#VALUE!"},{"$error":"#VALUE!"},{"$error":"#VALUE!"},{"$error":"#VALUE!"},{"$error":"#VALUE!"},{"$error":"#VALUE!"},{"$error":"#VALUE!"},{"$error":"#VALUE!"},{"$error":"#VALUE!"},{"$error":"#VALUE!"},{"$error":"#VALUE!"},{"$error":"#VALUE!"},{"$error":"#VALUE!"},{"$error":"#VALUE!"},{"$error":"#VALUE!"},{"$error":"#VALUE!"},{"$error":"#VALUE!"},{"$error":"#VALUE!"},{"$error":"#VALUE!"},{"$error":"#VALUE!"},3,0,{"$error":"#VALUE!"},{"$error":"#VALUE!"},{"$error":"#VALUE!"},{"$error":"#VALUE!"},{"$error":"#VALUE!"},{"$error":"#VALUE!"},{"$error":"#VALUE!"},{"$error":"#VALUE!"},{"$error":"#VALUE!"},{"$error":"#VALUE!"},{"$error":"#VALUE!"},{"$error":"#VALUE!"},{"$error":"#VALUE!"},{"$error":"#VALUE!"},{"$error":"#VALUE!"},{"$error":"#VALUE!"},{"$error":"#VALUE!"},{"$error":"#VALUE!"},{"$error":"#VALUE!"},{"$error":"#VALUE!"},{"$error":"#VALUE!"},{"$error":"#VALUE!"},{"$error":"#VALUE!"},{"$error":"#VALUE!"},{"$error":"#VALUE!"},{"$error":"#VALUE!"},{"$error":"#VALUE!"},{"$error":"#VALUE!"},{"$error":"#VALUE!"},{"$error":"#VALUE!"},{"$error":"#VALUE!"},{"$error":"#VALUE!"},{"$error":"#VALUE!"},3,0,{"$error":"#VALUE!"},{"$error":"#VALUE!"},{"$error":"#VALUE!"},{"$error":"#VALUE!"},{"$error":"#VALUE!"},{"$error":"#VALUE!"},{"$error":"#VALUE!"},{"$error":"#VALUE!"},{"$error":"#VALUE!"},{"$error":"#VALUE!"},{"$error":"#VALUE!"},{"$error":"#VALUE!"},{"$error":"#VALUE!"},{"$error":"#VALUE!"},{"$error":"#VALUE!"},{"$error":"#VALUE!"},{"$error":"#VALUE!"},{"$error":"#VALUE!"},{"$error":"#VALUE!"},{"$error":"#VALUE!"},{"$error":"#VALUE!"},{"$error":"#VALUE!"},{"$error":"#VALUE!"},{"$error":"#VALUE!"},{"$error":"#VALUE!"},{"$error":"#VALUE!"},{"$error":"#VALUE!"},{"$error":"#VALUE!"},{"$error":"#VALUE!"},{"$error":"#VALUE!"},{"$error":"#VALUE!"},{"$error":"#VALUE!"},{"$error":"#VALUE!"},3,0,{"$error":"#VALUE!"},{"$error":"#VALUE!"},{"$error":"#VALUE!"},{"$error":"#VALUE!"},{"$error":"#VALUE!"},{"$error":"#VALUE!"},{"$error":"#VALUE!"},{"$error":"#VALUE!"},{"$error":"#VALUE!"},{"$error":"#VALUE!"},{"$error":"#VALUE!"},{"$error":"#VALUE!"},{"$error":"#VALUE!"},{"$error":"#VALUE!"},{"$error":"#VALUE!"},{"$error":"#VALUE!"},{"$error":"#VALUE!"},{"$error":"#VALUE!"},{"$error":"#VALUE!"},{"$error":"#VALUE!"},{"$error":"#VALUE!"},{"$error":"#VALUE!"},{"$error":"#VALUE!"},{"$error":"#VALUE!"},{"$error":"#VALUE!"},{"$error":"#VALUE!"},{"$error":"#VALUE!"},{"$error":"#VALUE!"},{"$error":"#VALUE!"},{"$error":"#VALUE!"},{"$error":"#VALUE!"},{"$error":"#VALUE!"},{"$error":"#VALUE!"},3,0,{"$error":"#VALUE!"},{"$error":"#VALUE!"},{"$error":"#VALUE!"},{"$error":"#VALUE!"},{"$error":"#VALUE!"},{"$error":"#VALUE!"},{"$error":"#VALUE!"},{"$error":"#VALUE!"},{"$error":"#VALUE!"},{"$error":"#VALUE!"},{"$error":"#VALUE!"},{"$error":"#VALUE!"},{"$error":"#VALUE!"},{"$error":"#VALUE!"},{"$error":"#VALUE!"},{"$error":"#VALUE!"},{"$error":"#VALUE!"},{"$error":"#VALUE!"},{"$error":"#VALUE!"},{"$error":"#VALUE!"},{"$error":"#VALUE!"},{"$error":"#VALUE!"},{"$error":"#VALUE!"},{"$error":"#VALUE!"},{"$error":"#VALUE!"},{"$error":"#VALUE!"},{"$error":"#VALUE!"},{"$error":"#VALUE!"},{"$error":"#VALUE!"},{"$error":"#VALUE!"},{"$error":"#VALUE!"},{"$error":"#VALUE!"},{"$error":"#VALUE!"}]
[null,null,null,null,null,null,null,null,null,null,null,null,null,null,null,null,null,null,null,null,null,null,null,4,null,null,null,null,null,null,null,null,null,"N/A",null,false,null,null,null,null,4,null,null,null,null,null,null,null,null,null,null,null,{"$f":"IF(AND(BB140=\"OK\",BC140=\"OK\",BD140=\"OK\"),\"OK\",\"ERR!\")","v":"OK"},"OK","OK",{"$f":"IF(AND(OR(BE140=BK140,BE140=0),OR(BF140=BK140,BF140=0),OR(BG140=BK140,BG140=0),OR(BH140=BK140,BH140=0),OR(BI140=BK140,BI140=0),OR(BJ140=BK140,BJ140=0)),\"OK\",\"ERR!\")","v":"OK"},100,100,100,100,100,100,100,null,4,null,null,1,null,null,null,null,null,null,null,null,null,null,1,null,null,null,null,null,null,null,null,null,null,1,null,null,null,null,null,null,null,null,null,null,1,null,null,null,null,null,null,null,null,null,null,1,null,null,null,null,null,null,null,null,null,null,1,null,null,null,null,null,null,null,null,null,4,{"$error":"#VALUE!"},{"$error":"#VALUE!"},{"$error":"#VALUE!"},{"$error":"#VALUE!"},{"$error":"#VALUE!"},{"$error":"#VALUE!"},{"$error":"#VALUE!"},{"$error":"#VALUE!"},{"$error":"#VALUE!"},{"$error":"#VALUE!"},{"$error":"#VALUE!"},{"$error":"#VALUE!"},{"$error":"#VALUE!"},{"$error":"#VALUE!"},{"$error":"#VALUE!"},{"$error":"#VALUE!"},{"$error":"#VALUE!"},{"$error":"#VALUE!"},null,4,0,{"$error":"#VALUE!"},{"$error":"#VALUE!"},{"$error":"#VALUE!"},{"$error":"#VALUE!"},{"$error":"#VALUE!"},{"$error":"#VALUE!"},{"$error":"#VALUE!"},{"$error":"#VALUE!"},{"$error":"#VALUE!"},{"$error":"#VALUE!"},{"$error":"#VALUE!"},{"$error":"#VALUE!"},{"$error":"#VALUE!"},{"$error":"#VALUE!"},{"$error":"#VALUE!"},{"$error":"#VALUE!"},{"$error":"#VALUE!"},{"$error":"#VALUE!"},{"$error":"#VALUE!"},{"$error":"#VALUE!"},{"$error":"#VALUE!"},{"$error":"#VALUE!"},{"$error":"#VALUE!"},{"$error":"#VALUE!"},{"$error":"#VALUE!"},{"$error":"#VALUE!"},{"$error":"#VALUE!"},{"$error":"#VALUE!"},{"$error":"#VALUE!"},{"$error":"#VALUE!"},{"$error":"#VALUE!"},{"$error":"#VALUE!"},{"$error":"#VALUE!"},4,0,{"$error":"#VALUE!"},{"$error":"#VALUE!"},{"$error":"#VALUE!"},{"$error":"#VALUE!"},{"$error":"#VALUE!"},{"$error":"#VALUE!"},{"$error":"#VALUE!"},{"$error":"#VALUE!"},{"$error":"#VALUE!"},{"$error":"#VALUE!"},{"$error":"#VALUE!"},{"$error":"#VALUE!"},{"$error":"#VALUE!"},{"$error":"#VALUE!"},{"$error":"#VALUE!"},{"$error":"#VALUE!"},{"$error":"#VALUE!"},{"$error":"#VALUE!"},{"$error":"#VALUE!"},{"$error":"#VALUE!"},{"$error":"#VALUE!"},{"$error":"#VALUE!"},{"$error":"#VALUE!"},{"$error":"#VALUE!"},{"$error":"#VALUE!"},{"$error":"#VALUE!"},{"$error":"#VALUE!"},{"$error":"#VALUE!"},{"$error":"#VALUE!"},{"$error":"#VALUE!"},{"$error":"#VALUE!"},{"$error":"#VALUE!"},{"$error":"#VALUE!"},4,0,{"$error":"#VALUE!"},{"$error":"#VALUE!"},{"$error":"#VALUE!"},{"$error":"#VALUE!"},{"$error":"#VALUE!"},{"$error":"#VALUE!"},{"$error":"#VALUE!"},{"$error":"#VALUE!"},{"$error":"#VALUE!"},{"$error":"#VALUE!"},{"$error":"#VALUE!"},{"$error":"#VALUE!"},{"$error":"#VALUE!"},{"$error":"#VALUE!"},{"$error":"#VALUE!"},{"$error":"#VALUE!"},{"$error":"#VALUE!"},{"$error":"#VALUE!"},{"$error":"#VALUE!"},{"$error":"#VALUE!"},{"$error":"#VALUE!"},{"$error":"#VALUE!"},{"$error":"#VALUE!"},{"$error":"#VALUE!"},{"$error":"#VALUE!"},{"$error":"#VALUE!"},{"$error":"#VALUE!"},{"$error":"#VALUE!"},{"$error":"#VALUE!"},{"$error":"#VALUE!"},{"$error":"#VALUE!"},{"$error":"#VALUE!"},{"$error":"#VALUE!"},4,0,{"$error":"#VALUE!"},{"$error":"#VALUE!"},{"$error":"#VALUE!"},{"$error":"#VALUE!"},{"$error":"#VALUE!"},{"$error":"#VALUE!"},{"$error":"#VALUE!"},{"$error":"#VALUE!"},{"$error":"#VALUE!"},{"$error":"#VALUE!"},{"$error":"#VALUE!"},{"$error":"#VALUE!"},{"$error":"#VALUE!"},{"$error":"#VALUE!"},{"$error":"#VALUE!"},{"$error":"#VALUE!"},{"$error":"#VALUE!"},{"$error":"#VALUE!"},{"$error":"#VALUE!"},{"$error":"#VALUE!"},{"$error":"#VALUE!"},{"$error":"#VALUE!"},{"$error":"#VALUE!"},{"$error":"#VALUE!"},{"$error":"#VALUE!"},{"$error":"#VALUE!"},{"$error":"#VALUE!"},{"$error":"#VALUE!"},{"$error":"#VALUE!"},{"$error":"#VALUE!"},{"$error":"#VALUE!"},{"$error":"#VALUE!"},{"$error":"#VALUE!"},4,0,{"$error":"#VALUE!"},{"$error":"#VALUE!"},{"$error":"#VALUE!"},{"$error":"#VALUE!"},{"$error":"#VALUE!"},{"$error":"#VALUE!"},{"$error":"#VALUE!"},{"$error":"#VALUE!"},{"$error":"#VALUE!"},{"$error":"#VALUE!"},{"$error":"#VALUE!"},{"$error":"#VALUE!"},{"$error":"#VALUE!"},{"$error":"#VALUE!"},{"$error":"#VALUE!"},{"$error":"#VALUE!"},{"$error":"#VALUE!"},{"$error":"#VALUE!"},{"$error":"#VALUE!"},{"$error":"#VALUE!"},{"$error":"#VALUE!"},{"$error":"#VALUE!"},{"$error":"#VALUE!"},{"$error":"#VALUE!"},{"$error":"#VALUE!"},{"$error":"#VALUE!"},{"$error":"#VALUE!"},{"$error":"#VALUE!"},{"$error":"#VALUE!"},{"$error":"#VALUE!"},{"$error":"#VALUE!"},{"$error":"#VALUE!"},{"$error":"#VALUE!"},4,0,{"$error":"#VALUE!"},{"$error":"#VALUE!"},{"$error":"#VALUE!"},{"$error":"#VALUE!"},{"$error":"#VALUE!"},{"$error":"#VALUE!"},{"$error":"#VALUE!"},{"$error":"#VALUE!"},{"$error":"#VALUE!"},{"$error":"#VALUE!"},{"$error":"#VALUE!"},{"$error":"#VALUE!"},{"$error":"#VALUE!"},{"$error":"#VALUE!"},{"$error":"#VALUE!"},{"$error":"#VALUE!"},{"$error":"#VALUE!"},{"$error":"#VALUE!"},{"$error":"#VALUE!"},{"$error":"#VALUE!"},{"$error":"#VALUE!"},{"$error":"#VALUE!"},{"$error":"#VALUE!"},{"$error":"#VALUE!"},{"$error":"#VALUE!"},{"$error":"#VALUE!"},{"$error":"#VALUE!"},{"$error":"#VALUE!"},{"$error":"#VALUE!"},{"$error":"#VALUE!"},{"$error":"#VALUE!"},{"$error":"#VALUE!"},{"$error":"#VALUE!"}]
[null,null,null,null,null,null,null,null,null,null,null,null,null,null,null,null,null,null,null,null,null,null,null,7,null,null,null,null,null,null,null,null,null,"N/A",null,false,null,null,null,null,7,null,null,null,null,null,null,null,null,null,null,null,{"$f":"IF(AND(BB141=\"OK\",BC141=\"OK\",BD141=\"OK\"),\"OK\",\"ERR!\")","v":"OK"},"OK","OK","OK",100,100,100,100,100,100,100,null,7,null,null,1,null,null,null,null,null,null,null,null,null,null,1,null,null,null,null,null,null,null,null,null,null,1,null,null,null,null,null,null,null,null,null,null,1,null,null,null,null,null,null,null,null,null,null,1,null,null,null,null,null,null,null,null,null,null,1,null,null,null,null,null,null,null,null,null,7,{"$error":"#VALUE!"},{"$error":"#VALUE!"},{"$error":"#VALUE!"},{"$error":"#VALUE!"},{"$error":"#VALUE!"},{"$error":"#VALUE!"},{"$error":"#VALUE!"},{"$error":"#VALUE!"},{"$error":"#VALUE!"},{"$error":"#VALUE!"},{"$error":"#VALUE!"},{"$error":"#VALUE!"},{"$error":"#VALUE!"},{"$error":"#VALUE!"},{"$error":"#VALUE!"},{"$error":"#VALUE!"},{"$error":"#VALUE!"},{"$error":"#VALUE!"},null,7,0,{"$error":"#VALUE!"},{"$error":"#VALUE!"},{"$error":"#VALUE!"},{"$error":"#VALUE!"},{"$error":"#VALUE!"},{"$error":"#VALUE!"},{"$error":"#VALUE!"},{"$error":"#VALUE!"},{"$error":"#VALUE!"},{"$error":"#VALUE!"},{"$error":"#VALUE!"},{"$error":"#VALUE!"},{"$error":"#VALUE!"},{"$error":"#VALUE!"},{"$error":"#VALUE!"},{"$error":"#VALUE!"},{"$error":"#VALUE!"},{"$error":"#VALUE!"},{"$error":"#VALUE!"},{"$error":"#VALUE!"},{"$error":"#VALUE!"},{"$error":"#VALUE!"},{"$error":"#VALUE!"},{"$error":"#VALUE!"},{"$error":"#VALUE!"},{"$error":"#VALUE!"},{"$error":"#VALUE!"},{"$error":"#VALUE!"},{"$error":"#VALUE!"},{"$error":"#VALUE!"},{"$error":"#VALUE!"},{"$error":"#VALUE!"},{"$error":"#VALUE!"},7,0,{"$error":"#VALUE!"},{"$error":"#VALUE!"},{"$error":"#VALUE!"},{"$error":"#VALUE!"},{"$error":"#VALUE!"},{"$error":"#VALUE!"},{"$error":"#VALUE!"},{"$error":"#VALUE!"},{"$error":"#VALUE!"},{"$error":"#VALUE!"},{"$error":"#VALUE!"},{"$error":"#VALUE!"},{"$error":"#VALUE!"},{"$error":"#VALUE!"},{"$error":"#VALUE!"},{"$error":"#VALUE!"},{"$error":"#VALUE!"},{"$error":"#VALUE!"},{"$error":"#VALUE!"},{"$error":"#VALUE!"},{"$error":"#VALUE!"},{"$error":"#VALUE!"},{"$error":"#VALUE!"},{"$error":"#VALUE!"},{"$error":"#VALUE!"},{"$error":"#VALUE!"},{"$error":"#VALUE!"},{"$error":"#VALUE!"},{"$error":"#VALUE!"},{"$error":"#VALUE!"},{"$error":"#VALUE!"},{"$error":"#VALUE!"},{"$error":"#VALUE!"},7,0,{"$error":"#VALUE!"},{"$error":"#VALUE!"},{"$error":"#VALUE!"},{"$error":"#VALUE!"},{"$error":"#VALUE!"},{"$error":"#VALUE!"},{"$error":"#VALUE!"},{"$error":"#VALUE!"},{"$error":"#VALUE!"},{"$error":"#VALUE!"},{"$error":"#VALUE!"},{"$error":"#VALUE!"},{"$error":"#VALUE!"},{"$error":"#VALUE!"},{"$error":"#VALUE!"},{"$error":"#VALUE!"},{"$error":"#VALUE!"},{"$error":"#VALUE!"},{"$error":"#VALUE!"},{"$error":"#VALUE!"},{"$error":"#VALUE!"},{"$error":"#VALUE!"},{"$error":"#VALUE!"},{"$error":"#VALUE!"},{"$error":"#VALUE!"},{"$error":"#VALUE!"},{"$error":"#VALUE!"},{"$error":"#VALUE!"},{"$error":"#VALUE!"},{"$error":"#VALUE!"},{"$error":"#VALUE!"},{"$error":"#VALUE!"},{"$error":"#VALUE!"},7,0,{"$error":"#VALUE!"},{"$error":"#VALUE!"},{"$error":"#VALUE!"},{"$error":"#VALUE!"},{"$error":"#VALUE!"},{"$error":"#VALUE!"},{"$error":"#VALUE!"},{"$error":"#VALUE!"},{"$error":"#VALUE!"},{"$error":"#VALUE!"},{"$error":"#VALUE!"},{"$error":"#VALUE!"},{"$error":"#VALUE!"},{"$error":"#VALUE!"},{"$error":"#VALUE!"},{"$error":"#VALUE!"},{"$error":"#VALUE!"},{"$error":"#VALUE!"},{"$error":"#VALUE!"},{"$error":"#VALUE!"},{"$error":"#VALUE!"},{"$error":"#VALUE!"},{"$error":"#VALUE!"},{"$error":"#VALUE!"},{"$error":"#VALUE!"},{"$error":"#VALUE!"},{"$error":"#VALUE!"},{"$error":"#VALUE!"},{"$error":"#VALUE!"},{"$error":"#VALUE!"},{"$error":"#VALUE!"},{"$error":"#VALUE!"},{"$error":"#VALUE!"},7,0,{"$error":"#VALUE!"},{"$error":"#VALUE!"},{"$error":"#VALUE!"},{"$error":"#VALUE!"},{"$error":"#VALUE!"},{"$error":"#VALUE!"},{"$error":"#VALUE!"},{"$error":"#VALUE!"},{"$error":"#VALUE!"},{"$error":"#VALUE!"},{"$error":"#VALUE!"},{"$error":"#VALUE!"},{"$error":"#VALUE!"},{"$error":"#VALUE!"},{"$error":"#VALUE!"},{"$error":"#VALUE!"},{"$error":"#VALUE!"},{"$error":"#VALUE!"},{"$error":"#VALUE!"},{"$error":"#VALUE!"},{"$error":"#VALUE!"},{"$error":"#VALUE!"},{"$error":"#VALUE!"},{"$error":"#VALUE!"},{"$error":"#VALUE!"},{"$error":"#VALUE!"},{"$error":"#VALUE!"},{"$error":"#VALUE!"},{"$error":"#VALUE!"},{"$error":"#VALUE!"},{"$error":"#VALUE!"},{"$error":"#VALUE!"},{"$error":"#VALUE!"},7,0,{"$error":"#VALUE!"},{"$error":"#VALUE!"},{"$error":"#VALUE!"},{"$error":"#VALUE!"},{"$error":"#VALUE!"},{"$error":"#VALUE!"},{"$error":"#VALUE!"},{"$error":"#VALUE!"},{"$error":"#VALUE!"},{"$error":"#VALUE!"},{"$error":"#VALUE!"},{"$error":"#VALUE!"},{"$error":"#VALUE!"},{"$error":"#VALUE!"},{"$error":"#VALUE!"},{"$error":"#VALUE!"},{"$error":"#VALUE!"},{"$error":"#VALUE!"},{"$error":"#VALUE!"},{"$error":"#VALUE!"},{"$error":"#VALUE!"},{"$error":"#VALUE!"},{"$error":"#VALUE!"},{"$error":"#VALUE!"},{"$error":"#VALUE!"},{"$error":"#VALUE!"},{"$error":"#VALUE!"},{"$error":"#VALUE!"},{"$error":"#VALUE!"},{"$error":"#VALUE!"},{"$error":"#VALUE!"},{"$error":"#VALUE!"},{"$error":"#VALUE!"}]
[null,null,null,null,null,null,null,null,null,null,null,null,null,null,null,null,null,null,null,null,null,null,null,8,null,null,null,null,null,null,null,null,null,"N/A",null,false,null,null,null,null,8,null,null,null,null,null,null,null,null,null,null,null,"OK","OK","OK","OK",100,100,100,100,100,100,100,null,8,null,null,1,null,null,null,null,null,null,null,null,null,null,1,null,null,null,null,null,null,null,null,null,null,1,null,null,null,null,null,null,null,null,null,null,1,null,null,null,null,null,null,null,null,null,null,1,null,null,null,null,null,null,null,null,null,null,1,null,null,null,null,null,null,null,null,null,8,{"$error":"#VALUE!"},{"$error":"#VALUE!"},{"$error":"#VALUE!"},{"$error":"#VALUE!"},{"$error":"#VALUE!"},{"$error":"#VALUE!"},{"$error":"#VALUE!"},{"$error":"#VALUE!"},{"$error":"#VALUE!"},{"$error":"#VALUE!"},{"$error":"#VALUE!"},{"$error":"#VALUE!"},{"$error":"#VALUE!"},{"$error":"#VALUE!"},{"$error":"#VALUE!"},{"$error":"#VALUE!"},{"$error":"#VALUE!"},{"$error":"#VALUE!"},null,8,0,{"$error":"#VALUE!"},{"$error":"#VALUE!"},{"$error":"#VALUE!"},{"$error":"#VALUE!"},{"$error":"#VALUE!"},{"$error":"#VALUE!"},{"$error":"#VALUE!"},{"$error":"#VALUE!"},{"$error":"#VALUE!"},{"$error":"#VALUE!"},{"$error":"#VALUE!"},{"$error":"#VALUE!"},{"$error":"#VALUE!"},{"$error":"#VALUE!"},{"$error":"#VALUE!"},{"$error":"#VALUE!"},{"$error":"#VALUE!"},{"$error":"#VALUE!"},{"$error":"#VALUE!"},{"$error":"#VALUE!"},{"$error":"#VALUE!"},{"$error":"#VALUE!"},{"$error":"#VALUE!"},{"$error":"#VALUE!"},{"$error":"#VALUE!"},{"$error":"#VALUE!"},{"$error":"#VALUE!"},{"$error":"#VALUE!"},{"$error":"#VALUE!"},{"$error":"#VALUE!"},{"$error":"#VALUE!"},{"$error":"#VALUE!"},{"$error":"#VALUE!"},8,0,{"$error":"#VALUE!"},{"$error":"#VALUE!"},{"$error":"#VALUE!"},{"$error":"#VALUE!"},{"$error":"#VALUE!"},{"$error":"#VALUE!"},{"$error":"#VALUE!"},{"$error":"#VALUE!"},{"$error":"#VALUE!"},{"$error":"#VALUE!"},{"$error":"#VALUE!"},{"$error":"#VALUE!"},{"$error":"#VALUE!"},{"$error":"#VALUE!"},{"$error":"#VALUE!"},{"$error":"#VALUE!"},{"$error":"#VALUE!"},{"$error":"#VALUE!"},{"$error":"#VALUE!"},{"$error":"#VALUE!"},{"$error":"#VALUE!"},{"$error":"#VALUE!"},{"$error":"#VALUE!"},{"$error":"#VALUE!"},{"$error":"#VALUE!"},{"$error":"#VALUE!"},{"$error":"#VALUE!"},{"$error":"#VALUE!"},{"$error":"#VALUE!"},{"$error":"#VALUE!"},{"$error":"#VALUE!"},{"$error":"#VALUE!"},{"$error":"#VALUE!"},8,0,{"$error":"#VALUE!"},{"$error":"#VALUE!"},{"$error":"#VALUE!"},{"$error":"#VALUE!"},{"$error":"#VALUE!"},{"$error":"#VALUE!"},{"$error":"#VALUE!"},{"$error":"#VALUE!"},{"$error":"#VALUE!"},{"$error":"#VALUE!"},{"$error":"#VALUE!"},{"$error":"#VALUE!"},{"$error":"#VALUE!"},{"$error":"#VALUE!"},{"$error":"#VALUE!"},{"$error":"#VALUE!"},{"$error":"#VALUE!"},{"$error":"#VALUE!"},{"$error":"#VALUE!"},{"$error":"#VALUE!"},{"$error":"#VALUE!"},{"$error":"#VALUE!"},{"$error":"#VALUE!"},{"$error":"#VALUE!"},{"$error":"#VALUE!"},{"$error":"#VALUE!"},{"$error":"#VALUE!"},{"$error":"#VALUE!"},{"$error":"#VALUE!"},{"$error":"#VALUE!"},{"$error":"#VALUE!"},{"$error":"#VALUE!"},{"$error":"#VALUE!"},8,0,{"$error":"#VALUE!"},{"$error":"#VALUE!"},{"$error":"#VALUE!"},{"$error":"#VALUE!"},{"$error":"#VALUE!"},{"$error":"#VALUE!"},{"$error":"#VALUE!"},{"$error":"#VALUE!"},{"$error":"#VALUE!"},{"$error":"#VALUE!"},{"$error":"#VALUE!"},{"$error":"#VALUE!"},{"$error":"#VALUE!"},{"$error":"#VALUE!"},{"$error":"#VALUE!"},{"$error":"#VALUE!"},{"$error":"#VALUE!"},{"$error":"#VALUE!"},{"$error":"#VALUE!"},{"$error":"#VALUE!"},{"$error":"#VALUE!"},{"$error":"#VALUE!"},{"$error":"#VALUE!"},{"$error":"#VALUE!"},{"$error":"#VALUE!"},{"$error":"#VALUE!"},{"$error":"#VALUE!"},{"$error":"#VALUE!"},{"$error":"#VALUE!"},{"$error":"#VALUE!"},{"$error":"#VALUE!"},{"$error":"#VALUE!"},{"$error":"#VALUE!"},8,0,{"$error":"#VALUE!"},{"$error":"#VALUE!"},{"$error":"#VALUE!"},{"$error":"#VALUE!"},{"$error":"#VALUE!"},{"$error":"#VALUE!"},{"$error":"#VALUE!"},{"$error":"#VALUE!"},{"$error":"#VALUE!"},{"$error":"#VALUE!"},{"$error":"#VALUE!"},{"$error":"#VALUE!"},{"$error":"#VALUE!"},{"$error":"#VALUE!"},{"$error":"#VALUE!"},{"$error":"#VALUE!"},{"$error":"#VALUE!"},{"$error":"#VALUE!"},{"$error":"#VALUE!"},{"$error":"#VALUE!"},{"$error":"#VALUE!"},{"$error":"#VALUE!"},{"$error":"#VALUE!"},{"$error":"#VALUE!"},{"$error":"#VALUE!"},{"$error":"#VALUE!"},{"$error":"#VALUE!"},{"$error":"#VALUE!"},{"$error":"#VALUE!"},{"$error":"#VALUE!"},{"$error":"#VALUE!"},{"$error":"#VALUE!"},{"$error":"#VALUE!"},8,0,{"$error":"#VALUE!"},{"$error":"#VALUE!"},{"$error":"#VALUE!"},{"$error":"#VALUE!"},{"$error":"#VALUE!"},{"$error":"#VALUE!"},{"$error":"#VALUE!"},{"$error":"#VALUE!"},{"$error":"#VALUE!"},{"$error":"#VALUE!"},{"$error":"#VALUE!"},{"$error":"#VALUE!"},{"$error":"#VALUE!"},{"$error":"#VALUE!"},{"$error":"#VALUE!"},{"$error":"#VALUE!"},{"$error":"#VALUE!"},{"$error":"#VALUE!"},{"$error":"#VALUE!"},{"$error":"#VALUE!"},{"$error":"#VALUE!"},{"$error":"#VALUE!"},{"$error":"#VALUE!"},{"$error":"#VALUE!"},{"$error":"#VALUE!"},{"$error":"#VALUE!"},{"$error":"#VALUE!"},{"$error":"#VALUE!"},{"$error":"#VALUE!"},{"$error":"#VALUE!"},{"$error":"#VALUE!"},{"$error":"#VALUE!"},{"$error":"#VALUE!"}]
[null,null,null,null,null,null,null,null,null,null,null,null,null,null,null,null,null,null,null,null,null,null,null,9,null,null,null,null,null,null,null,null,null,"N/A",null,false,null,null,null,null,9,null,null,null,null,null,null,null,null,null,null,null,"OK","OK","OK","OK",100,100,100,{"$f":"(CU143*POWER(10,0)+CV143*POWER(10,1)+CW143*POWER(10,2)+CX143*POWER(10,3)+CY143*POWER(10,4)+CZ143*POWER(10,5)+DA143*POWER(10,6)+DB143*POWER(10,7)+DC143*POWER(10,8)+DD143*POWER(10,9)+DE143*POWER(10,10))","v":100},{"$f":"(DF143*POWER(10,0)+DG143*POWER(10,1)+DH143*POWER(10,2)+DI143*POWER(10,3)+DJ143*POWER(10,4)+DK143*POWER(10,5)+DL143*POWER(10,6)+DM143*POWER(10,7)+DN143*POWER(10,8)+DO143*POWER(10,9)+DP143*POWER(10,10))","v":100},100,100,null,9,null,null,1,null,null,null,null,null,null,null,null,null,null,1,null,null,null,null,null,null,null,null,null,null,1,null,null,null,null,null,null,null,null,null,null,1,null,null,null,null,null,null,null,null,null,null,1,null,null,null,null,null,null,null,null,null,null,1,null,null,null,null,null,null,null,null,null,9,{"$error":"#VALUE!"},{"$error":"#VALUE!"},{"$error":"#VALUE!"},{"$error":"#VALUE!"},{"$error":"#VALUE!"},{"$error":"#VALUE!"},{"$error":"#VALUE!"},{"$error":"#VALUE!"},{"$error":"#VALUE!"},{"$error":"#VALUE!"},{"$error":"#VALUE!"},{"$error":"#VALUE!"},{"$error":"#VALUE!"},{"$error":"#VALUE!"},{"$error":"#VALUE!"},{"$error":"#VALUE!"},{"$error":"#VALUE!"},{"$error":"#VALUE!"},null,9,0,{"$error":"#VALUE!"},{"$error":"#VALUE!"},{"$error":"#VALUE!"},{"$error":"#VALUE!"},{"$error":"#VALUE!"},{"$error":"#VALUE!"},{"$error":"#VALUE!"},{"$error":"#VALUE!"},{"$error":"#VALUE!"},{"$error":"#VALUE!"},{"$error":"#VALUE!"},{"$error":"#VALUE!"},{"$error":"#VALUE!"},{"$error":"#VALUE!"},{"$error":"#VALUE!"},{"$error":"#VALUE!"},{"$error":"#VALUE!"},{"$error":"#VALUE!"},{"$error":"#VALUE!"},{"$error":"#VALUE!"},{"$error":"#VALUE!"},{"$error":"#VALUE!"},{"$error":"#VALUE!"},{"$error":"#VALUE!"},{"$error":"#VALUE!"},{"$error":"#VALUE!"},{"$error":"#VALUE!"},{"$error":"#VALUE!"},{"$error":"#VALUE!"},{"$error":"#VALUE!"},{"$error":"#VALUE!"},{"$error":"#VALUE!"},{"$error":"#VALUE!"},9,0,{"$error":"#VALUE!"},{"$error":"#VALUE!"},{"$error":"#VALUE!"},{"$error":"#VALUE!"},{"$error":"#VALUE!"},{"$error":"#VALUE!"},{"$error":"#VALUE!"},{"$error":"#VALUE!"},{"$error":"#VALUE!"},{"$error":"#VALUE!"},{"$error":"#VALUE!"},{"$error":"#VALUE!"},{"$error":"#VALUE!"},{"$error":"#VALUE!"},{"$error":"#VALUE!"},{"$error":"#VALUE!"},{"$error":"#VALUE!"},{"$error":"#VALUE!"},{"$error":"#VALUE!"},{"$error":"#VALUE!"},{"$error":"#VALUE!"},{"$error":"#VALUE!"},{"$error":"#VALUE!"},{"$error":"#VALUE!"},{"$error":"#VALUE!"},{"$error":"#VALUE!"},{"$error":"#VALUE!"},{"$error":"#VALUE!"},{"$error":"#VALUE!"},{"$error":"#VALUE!"},{"$error":"#VALUE!"},{"$error":"#VALUE!"},{"$error":"#VALUE!"},9,0,{"$error":"#VALUE!"},{"$error":"#VALUE!"},{"$error":"#VALUE!"},{"$error":"#VALUE!"},{"$error":"#VALUE!"},{"$error":"#VALUE!"},{"$error":"#VALUE!"},{"$error":"#VALUE!"},{"$error":"#VALUE!"},{"$error":"#VALUE!"},{"$error":"#VALUE!"},{"$error":"#VALUE!"},{"$error":"#VALUE!"},{"$error":"#VALUE!"},{"$error":"#VALUE!"},{"$error":"#VALUE!"},{"$error":"#VALUE!"},{"$error":"#VALUE!"},{"$error":"#VALUE!"},{"$error":"#VALUE!"},{"$error":"#VALUE!"},{"$error":"#VALUE!"},{"$error":"#VALUE!"},{"$error":"#VALUE!"},{"$error":"#VALUE!"},{"$error":"#VALUE!"},{"$error":"#VALUE!"},{"$error":"#VALUE!"},{"$error":"#VALUE!"},{"$error":"#VALUE!"},{"$error":"#VALUE!"},{"$error":"#VALUE!"},{"$error":"#VALUE!"},9,0,{"$error":"#VALUE!"},{"$error":"#VALUE!"},{"$error":"#VALUE!"},{"$error":"#VALUE!"},{"$error":"#VALUE!"},{"$error":"#VALUE!"},{"$error":"#VALUE!"},{"$error":"#VALUE!"},{"$error":"#VALUE!"},{"$error":"#VALUE!"},{"$error":"#VALUE!"},{"$error":"#VALUE!"},{"$error":"#VALUE!"},{"$error":"#VALUE!"},{"$error":"#VALUE!"},{"$error":"#VALUE!"},{"$error":"#VALUE!"},{"$error":"#VALUE!"},{"$error":"#VALUE!"},{"$error":"#VALUE!"},{"$error":"#VALUE!"},{"$error":"#VALUE!"},{"$error":"#VALUE!"},{"$error":"#VALUE!"},{"$error":"#VALUE!"},{"$error":"#VALUE!"},{"$error":"#VALUE!"},{"$error":"#VALUE!"},{"$error":"#VALUE!"},{"$error":"#VALUE!"},{"$error":"#VALUE!"},{"$error":"#VALUE!"},{"$error":"#VALUE!"},9,0,{"$error":"#VALUE!"},{"$error":"#VALUE!"},{"$error":"#VALUE!"},{"$error":"#VALUE!"},{"$error":"#VALUE!"},{"$error":"#VALUE!"},{"$error":"#VALUE!"},{"$error":"#VALUE!"},{"$error":"#VALUE!"},{"$error":"#VALUE!"},{"$error":"#VALUE!"},{"$error":"#VALUE!"},{"$error":"#VALUE!"},{"$error":"#VALUE!"},{"$error":"#VALUE!"},{"$error":"#VALUE!"},{"$error":"#VALUE!"},{"$error":"#VALUE!"},{"$error":"#VALUE!"},{"$error":"#VALUE!"},{"$error":"#VALUE!"},{"$error":"#VALUE!"},{"$error":"#VALUE!"},{"$error":"#VALUE!"},{"$error":"#VALUE!"},{"$error":"#VALUE!"},{"$error":"#VALUE!"},{"$error":"#VALUE!"},{"$error":"#VALUE!"},{"$error":"#VALUE!"},{"$error":"#VALUE!"},{"$error":"#VALUE!"},{"$error":"#VALUE!"},9,0,{"$error":"#VALUE!"},{"$error":"#VALUE!"},{"$error":"#VALUE!"},{"$error":"#VALUE!"},{"$error":"#VALUE!"},{"$error":"#VALUE!"},{"$error":"#VALUE!"},{"$error":"#VALUE!"},{"$error":"#VALUE!"},{"$error":"#VALUE!"},{"$error":"#VALUE!"},{"$error":"#VALUE!"},{"$error":"#VALUE!"},{"$error":"#VALUE!"},{"$error":"#VALUE!"},{"$error":"#VALUE!"},{"$error":"#VALUE!"},{"$error":"#VALUE!"},{"$error":"#VALUE!"},{"$error":"#VALUE!"},{"$error":"#VALUE!"},{"$error":"#VALUE!"},{"$error":"#VALUE!"},{"$error":"#VALUE!"},{"$error":"#VALUE!"},{"$error":"#VALUE!"},{"$error":"#VALUE!"},{"$error":"#VALUE!"},{"$error":"#VALUE!"},{"$error":"#VALUE!"},{"$error":"#VALUE!"},{"$error":"#VALUE!"},{"$error":"#VALUE!"}]
[null,null,null,null,null,null,null,null,null,null,null,null,null,null,null,null,null,null,null,null,null,null,null,"Total",{"$f":"SUM(Y137:Y143)","v":0},{"$f":"SUM(Z137:Z143)","v":0},0,0,0,0,null,null,null,"N/A",null,false,null,null,null,null,"Total",null,null,null,null,null,null,null,null,null,null,null,null,null,null,null,null,null,null,null,null,null,null,null,"Total",null,null,null,null,null,null,null,null,null,null,null,null,null,null,null,null,null,null,null,null,null,null,null,null,null,null,null,null,null,null,null,null,null,null,null,null,null,null,null,null,null,null,null,null,null,null,null,null,null,null,null,null,null,null,null,null,null,null,null,null,null,null,null,null,null,null,null,"Total",{"$f":"SUM(ED137:ED143)","v":{"$error":"#VALUE!"}},{"$f":"SUM(EE137:EE143)","v":{"$error":"#VALUE!"}},{"$f":"SUM(EF137:EF143)","v":{"$error":"#VALUE!"}},{"$f":"SUM(EG137:EG143)","v":{"$error":"#VALUE!"}},{"$f":"SUM(EH137:EH143)","v":{"$error":"#VALUE!"}},{"$f":"SUM(EI137:EI143)","v":{"$error":"#VALUE!"}},{"$error":"#VALUE!"},{"$error":"#VALUE!"},{"$error":"#VALUE!"},{"$error":"#VALUE!"},{"$error":"#VALUE!"},{"$error":"#VALUE!"},{"$error":"#VALUE!"},{"$error":"#VALUE!"},{"$error":"#VALUE!"},{"$error":"#VALUE!"},{"$error":"#VALUE!"},{"$error":"#VALUE!"},null,"Total",{"$f":"SUM(EX137:EX143)","v":0},{"$f":"SUM(EY137:EY143)","v":{"$error":"#VALUE!"}},{"$f":"SUM(EZ137:EZ143)","v":{"$error":"#VALUE!"}},{"$error":"#VALUE!"},{"$error":"#VALUE!"},{"$f":"SUM(FC137:FC143)","v":{"$error":"#VALUE!"}},{"$f":"SUM(FD137:FD143)","v":{"$error":"#VALUE!"}},{"$error":"#VALUE!"},{"$error":"#VALUE!"},{"$error":"#VALUE!"},{"$error":"#VALUE!"},{"$error":"#VALUE!"},{"$error":"#VALUE!"},{"$error":"#VALUE!"},{"$error":"#VALUE!"},{"$error":"#VALUE!"},{"$f":"SUM(FN137:FN143)","v":{"$error":"#VALUE!"}},{"$f":"SUM(FO137:FO143)","v":{"$error":"#VALUE!"}},{"$f":"SUM(FP137:FP143)","v":{"$error":"#VALUE!"}},{"$f":"SUM(FQ137:FQ143)","v":{"$error":"#VALUE!"}},{"$error":"#VALUE!"},{"$error":"#VALUE!"},{"$error":"#VALUE!"},{"$error":"#VALUE!"},{"$error":"#VALUE!"},{"$error":"#VALUE!"},{"$error":"#VALUE!"},{"$error":"#VALUE!"},{"$error":"#VALUE!"},{"$error":"#VALUE!"},{"$error":"#VALUE!"},{"$f":"SUM(GC137:GC143)","v":{"$error":"#VALUE!"}},{"$f":"SUM(GD137:GD143)","v":{"$error":"#VALUE!"}},{"$error":"#VALUE!"},"Total",{"$f":"SUM(GG137:GG143)","v":0},{"$f":"SUM(GH137:GH143)","v":{"$error":"#VALUE!"}},{"$f":"SUM(GI137:GI143)","v":{"$error":"#VALUE!"}},{"$error":"#VALUE!"},{"$error":"#VALUE!"},{"$f":"SUM(GL137:GL143)","v":{"$error":"#VALUE!"}},{"$f":"SUM(GM137:GM143)","v":{"$error":"#VALUE!"}},{"$f":"SUM(GN137:GN143)","v":{"$error":"#VALUE!"}},{"$error":"#VALUE!"},{"$error":"#VALUE!"},{"$error":"#VALUE!"},{"$error":"#VALUE!"},{"$error":"#VALUE!"},{"$error":"#VALUE!"},{"$error":"#VALUE!"},{"$error":"#VALUE!"},{"$f":"SUM(GW137:GW143)","v":{"$error":"#VALUE!"}},{"$f":"SUM(GX137:GX143)","v":{"$error":"#VALUE!"}},{"$f":"SUM(GY137:GY143)","v":{"$error":"#VALUE!"}},{"$f":"SUM(GZ137:GZ143)","v":{"$error":"#VALUE!"}},{"$error":"#VALUE!"},{"$error":"#VALUE!"},{"$error":"#VALUE!"},{"$error":"#VALUE!"},{"$error":"#VALUE!"},{"$error":"#VALUE!"},{"$error":"#VALUE!"},{"$error":"#VALUE!"},{"$error":"#VALUE!"},{"$error":"#VALUE!"},{"$error":"#VALUE!"},{"$f":"SUM(HL137:HL143)","v":{"$error":"#VALUE!"}},{"$f":"SUM(HM137:HM143)","v":{"$error":"#VALUE!"}},{"$error":"#VALUE!"},"Total",{"$f":"SUM(HP137:HP143)","v":0},{"$f":"SUM(HQ137:HQ143)","v":{"$error":"#VALUE!"}},{"$f":"SUM(HR137:HR143)","v":{"$error":"#VALUE!"}},{"$error":"#VALUE!"},{"$error":"#VALUE!"},{"$f":"SUM(HU137:HU143)","v":{"$error":"#VALUE!"}},{"$f":"SUM(HV137:HV143)","v":{"$error":"#VALUE!"}},{"$error":"#VALUE!"},{"$error":"#VALUE!"},{"$error":"#VALUE!"},{"$error":"#VALUE!"},{"$error":"#VALUE!"},{"$error":"#VALUE!"},{"$error":"#VALUE!"},{"$error":"#VALUE!"},{"$error":"#VALUE!"},{"$f":"SUM(IF137:IF143)","v":{"$error":"#VALUE!"}},{"$f":"SUM(IG137:IG143)","v":{"$error":"#VALUE!"}},{"$f":"SUM(IH137:IH143)","v":{"$error":"#VALUE!"}},{"$f":"SUM(II137:II143)","v":{"$error":"#VALUE!"}},{"$error":"#VALUE!"},{"$error":"#VALUE!"},{"$error":"#VALUE!"},{"$error":"#VALUE!"},{"$error":"#VALUE!"},{"$error":"#VALUE!"},{"$error":"#VALUE!"},{"$error":"#VALUE!"},{"$error":"#VALUE!"},{"$error":"#VALUE!"},{"$error":"#VALUE!"},{"$f":"SUM(IU137:IU143)","v":{"$error":"#VALUE!"}},{"$f":"SUM(IV137:IV143)","v":{"$error":"#VALUE!"}},{"$error":"#VALUE!"},"Total",{"$f":"SUM(IY137:IY143)","v":0},{"$f":"SUM(IZ137:IZ143)","v":{"$error":"#VALUE!"}},{"$f":"SUM(JA137:JA143)","v":{"$error":"#VALUE!"}},{"$error":"#VALUE!"},{"$error":"#VALUE!"},{"$f":"SUM(JD137:JD143)","v":{"$error":"#VALUE!"}},{"$f":"SUM(JE137:JE143)","v":{"$error":"#VALUE!"}},{"$error":"#VALUE!"},{"$error":"#VALUE!"},{"$error":"#VALUE!"},{"$error":"#VALUE!"},{"$error":"#VALUE!"},{"$error":"#VALUE!"},{"$error":"#VALUE!"},{"$error":"#VALUE!"},{"$error":"#VALUE!"},{"$f":"SUM(JO137:JO143)","v":{"$error":"#VALUE!"}},{"$f":"SUM(JP137:JP143)","v":{"$error":"#VALUE!"}},{"$f":"SUM(JQ137:JQ143)","v":{"$error":"#VALUE!"}},{"$f":"SUM(JR137:JR143)","v":{"$error":"#VALUE!"}},{"$error":"#VALUE!"},{"$error":"#VALUE!"},{"$error":"#VALUE!"},{"$error":"#VALUE!"},{"$error":"#VALUE!"},{"$error":"#VALUE!"},{"$error":"#VALUE!"},{"$error":"#VALUE!"},{"$error":"#VALUE!"},{"$error":"#VALUE!"},{"$error":"#VALUE!"},{"$f":"SUM(KD137:KD143)","v":{"$error":"#VALUE!"}},{"$f":"SUM(KE137:KE143)","v":{"$error":"#VALUE!"}},{"$error":"#VALUE!"},"Total",{"$f":"SUM(KH137:KH143)","v":0},{"$f":"SUM(KI137:KI143)","v":{"$error":"#VALUE!"}},{"$f":"SUM(KJ137:KJ143)","v":{"$error":"#VALUE!"}},{"$error":"#VALUE!"},{"$error":"#VALUE!"},{"$f":"SUM(KM137:KM143)","v":{"$error":"#VALUE!"}},{"$f":"SUM(KN137:KN143)","v":{"$error":"#VALUE!"}},{"$error":"#VALUE!"},{"$error":"#VALUE!"},{"$error":"#VALUE!"},{"$error":"#VALUE!"},{"$error":"#VALUE!"},{"$error":"#VALUE!"},{"$error":"#VALUE!"},{"$error":"#VALUE!"},{"$error":"#VALUE!"},{"$f":"SUM(KX137:KX143)","v":{"$error":"#VALUE!"}},{"$f":"SUM(KY137:KY143)","v":{"$error":"#VALUE!"}},{"$f":"SUM(KZ137:KZ143)","v":{"$error":"#VALUE!"}},{"$f":"SUM(LA137:LA143)","v":{"$error":"#VALUE!"}},{"$error":"#VALUE!"},{"$error":"#VALUE!"},{"$error":"#VALUE!"},{"$error":"#VALUE!"},{"$error":"#VALUE!"},{"$error":"#VALUE!"},{"$error":"#VALUE!"},{"$error":"#VALUE!"},{"$error":"#VALUE!"},{"$error":"#VALUE!"},{"$error":"#VALUE!"},{"$f":"SUM(LM137:LM143)","v":{"$error":"#VALUE!"}},{"$f":"SUM(LN137:LN143)","v":{"$error":"#VALUE!"}},{"$error":"#VALUE!"},"Total",{"$f":"SUM(LQ137:LQ143)","v":0},{"$f":"SUM(LR137:LR143)","v":{"$error":"#VALUE!"}},{"$f":"SUM(LS137:LS143)","v":{"$error":"#VALUE!"}},{"$error":"#VALUE!"},{"$error":"#VALUE!"},{"$f":"SUM(LV137:LV143)","v":{"$error":"#VALUE!"}},{"$f":"SUM(LW137:LW143)","v":{"$error":"#VALUE!"}},{"$error":"#VALUE!"},{"$error":"#VALUE!"},{"$error":"#VALUE!"},{"$error":"#VALUE!"},{"$error":"#VALUE!"},{"$error":"#VALUE!"},{"$error":"#VALUE!"},{"$error":"#VALUE!"},{"$f":"SUM(MF137:MF143)","v":{"$error":"#VALUE!"}},{"$f":"SUM(MG137:MG143)","v":{"$error":"#VALUE!"}},{"$f":"SUM(MH137:MH143)","v":{"$error":"#VALUE!"}},{"$f":"SUM(MI137:MI143)","v":{"$error":"#VALUE!"}},{"$f":"SUM(MJ137:MJ143)","v":{"$error":"#VALUE!"}},{"$error":"#VALUE!"},{"$error":"#VALUE!"},{"$error":"#VALUE!"},{"$error":"#VALUE!"},{"$error":"#VALUE!"},{"$error":"#VALUE!"},{"$error":"#VALUE!"},{"$error":"#VALUE!"},{"$error":"#VALUE!"},{"$error":"#VALUE!"},{"$error":"#VALUE!"},{"$f":"SUM(MV137:MV143)","v":{"$error":"#VALUE!"}},{"$f":"SUM(MW137:MW143)","v":{"$error":"#VALUE!"}},{"$error":"#VALUE!"}]
[null,15,{"$f":"'Regional Project List Sheet'!F19","v":0},{"$f":"IF('Regional Project List Sheet'!$G19=\"New\",1,\"\")","v":""},{"$f":"IF('Regional Project List Sheet'!$G19=\"Funded Old\",1,\"\")","v":""},{"$f":"IF('Regional Project List Sheet'!$G19=\"Unfunded Old\",1,\"\")","v":""},{"$f":"'Regional Project List Sheet'!H19","v":0},{"$f":"'Regional Project List Sheet'!I19","v":0},{"$f":"'Regional Project List Sheet'!L19","v":0},{"$f":"'Regional Project List Sheet'!M19","v":0},{"$f":"'Regional Project List Sheet'!N19","v":0},{"$f":"'Regional Project List Sheet'!O19","v":0},{"$f":"'Regional Project List Sheet'!P19","v":0},{"$f":"IF('Regional Project List Sheet'!$Q19=\"N/A\",\"N/A\",IF($Y148<>0,5,IF($Z148<>0,4,IF($AA148<>0,3,IF($AB148<>0,2,1)))))","v":1},{"$f":"VLOOKUP($C145,'[2]Ranking|Priority'!$B$5:$O$68,12,FALSE)","v":{"$error":"#N/A"}},{"$f":"VLOOKUP($C145,'[2]Ranking|Priority'!$B$5:$O$68,13,FALSE)","v":{"$error":"#N/A"}},{"$f":"VLOOKUP($C145,'[2]Ranking|Priority'!$B$5:$O$68,14,FALSE)","v":{"$error":"#N/A"}},{"$f":"'Regional Project List Sheet'!T19","v":0},{"$f":"'Regional Project List Sheet'!U19","v":0},{"$f":"'Regional Project List Sheet'!V19","v":0},{"$f":"'Regional Project List Sheet'!W19","v":0},{"$f":"'Regional Project List Sheet'!X19","v":0},{"$f":"'Regional Project List Sheet'!Y19","v":"Choose from Project List in cell I2"},0,null,null,null,null,null,null,null,{"$f":"'Regional Project List Sheet'!AJ19","v":0},{"$f":"IF(OR('Regional Project List Sheet'!$AA19<>'Regional Project List Sheet'!$A$40,'Regional Project List Sheet'!$AD19<>'Regional Project List Sheet'!$A$40,'Regional Project List Sheet'!$AG19<>'Regional Project List Sheet'!$A$40),_xlfn.CONCAT(IF(ISNUMBER('Regional Project List Sheet'!$AA19),'Regional Project List Sheet'!$A$36,\"\"),\" \",IF(ISNUMBER('Regional Project List Sheet'!$AD19),'Regional Project List Sheet'!$A$37,\"\"),\" \",IF(ISNUMBER('Regional Project List Sheet'!$AG19),'Regional Project List Sheet'!$A$38,\"\")),\"N/A\")","v":"N/A"},"N/A",{"$f":"IF(OR('Regional Project List Sheet'!AC19<>'Regional Project List Sheet'!$A$40,'Regional Project List Sheet'!AF19<>'Regional Project List Sheet'!$A$40,'Regional Project List Sheet'!AI19<>'Regional Project List Sheet'!$A$40),\n\nIF(LEN(_xlfn.CONCAT(IF('Regional Project List Sheet'!AC19=\"Yes\",'Regional Project List Sheet'!$A$36,\"\"),\" \",\n\nIF('Regional Project List Sheet'!AF19=\"Yes\",'Regional Project List Sheet'!$A$37,\"\"),\" \",\n\nIF('Regional Project List Sheet'!AI19=\"Yes\",'Regional Project List Sheet'!$A$38,\"\")))<3,\"No\",\n\n_xlfn.CONCAT(IF('Regional Project List Sheet'!AC19=\"Yes\",'Regional Project List Sheet'!$A$36,\"\"),\" \",\n\nIF('Regional Project List Sheet'!AF19=\"Yes\",'Regional Project List Sheet'!$A$37,\"\"),\" \",\n\nIF('Regional Project List Sheet'!AI19=\"Yes\",'Regional Project List Sheet'!$A$38,\"\"))))","v":false},false,{"$f":"'Regional Project List Sheet'!AK19","v":0},null,{"$f":"'Regional Project List Sheet'!AL19","v":0},null,0,null,null,null,null,null,null,null,null,null,null,1,{"$f":"IF(AND(BB145=\"OK\",BC145=\"OK\",BD145=\"OK\"),\"OK\",\"ERR!\")","v":"OK"},{"$f":"IF(AND(Y145>0,SUM(BN145:BX145)<1),\"ERR!\",IF(AND(Z145>0,SUM(BY145:CI145)<1),\"ERR!\",IF(AND(AA145>0,SUM(CJ145:CT145)<1),\"ERR\",IF(AND(AB145>0,SUM(CU145:DE145)<1),\"ERR\",IF(AND(AC145>0,SUM(DF145:DP145)<1),\"ERR\",IF(AND(AD145>0,SUM(DQ145:EA145)<1),\"ERR\",\"OK\"))))))","v":"OK"},{"$f":"IF(OR(SUM(BN145:BX145)<>1,SUM(BY145:CI145)<>1,SUM(CJ145:CT145)<>1,SUM(CU145:DE145)<>1,SUM(DF145:DP145)<>1,SUM(DQ145:EA145)<>1),\"ERR!\",\"OK\")","v":"OK"},{"$f":"IF(AND(OR(BE145=BK145,BE145=0),OR(BF145=BK145,BF145=0),OR(BG145=BK145,BG145=0),OR(BH145=BK145,BH145=0),OR(BI145=BK145,BI145=0),OR(BJ145=BK145,BJ145=0)),\"OK\",\"ERR!\")","v":"OK"},{"$f":"(BN145*POWER(10,0)+BO145*POWER(10,1)+BP145*POWER(10,2)+BQ145*POWER(10,3)+BR145*POWER(10,4)+BS145*POWER(10,5)+BT145*POWER(10,6)+BU145*POWER(10,7)+BV145*POWER(10,8)+BW145*POWER(10,9)+BX145*POWER(10,10))","v":100},{"$f":"(BY145*POWER(10,0)+BZ145*POWER(10,1)+CA145*POWER(10,2)+CB145*POWER(10,3)+CC145*POWER(10,4)+CD145*POWER(10,5)+CE145*POWER(10,6)+CF145*POWER(10,7)+CG145*POWER(10,8)+CH145*POWER(10,9)+CI145*POWER(10,10))","v":100},{"$f":"(CJ145*POWER(10,0)+CK145*POWER(10,1)+CL145*POWER(10,2)+CM145*POWER(10,3)+CN145*POWER(10,4)+CO145*POWER(10,5)+CP145*POWER(10,6)+CQ145*POWER(10,7)+CR145*POWER(10,8)+CS145*POWER(10,9)+CT145*POWER(10,10))","v":100},{"$f":"(CU145*POWER(10,0)+CV145*POWER(10,1)+CW145*POWER(10,2)+CX145*POWER(10,3)+CY145*POWER(10,4)+CZ145*POWER(10,5)+DA145*POWER(10,6)+DB145*POWER(10,7)+DC145*POWER(10,8)+DD145*POWER(10,9)+DE145*POWER(10,10))","v":100},{"$f":"(DF145*POWER(10,0)+DG145*POWER(10,1)+DH145*POWER(10,2)+DI145*POWER(10,3)+DJ145*POWER(10,4)+DK145*POWER(10,5)+DL145*POWER(10,6)+DM145*POWER(10,7)+DN145*POWER(10,8)+DO145*POWER(10,9)+DP145*POWER(10,10))","v":100},{"$f":"(DQ145*POWER(10,0)+DR145*POWER(10,1)+DS145*POWER(10,2)+DT145*POWER(10,3)+DU145*POWER(10,4)+DV145*POWER(10,5)+DW145*POWER(10,6)+DX145*POWER(10,7)+DY145*POWER(10,8)+DZ145*POWER(10,9)+EA145*POWER(10,10))","v":100},{"$f":"MAX(BE145:BJ145)","v":100},null,0,null,null,1,null,null,null,null,null,null,null,null,null,null,1,null,null,null,null,null,null,null,null,null,null,1,null,null,null,null,null,null,null,null,null,null,1,null,null,null,null,null,null,null,null,null,null,1,null,null,null,null,null,null,null,null,null,null,1,null,null,null,null,null,null,null,null,null,0,{"$f":"($Y145*D$145)/1000","v":{"$error":"#VALUE!"}},{"$error":"#VALUE!"},{"$error":"#VALUE!"},{"$f":"($Z145*D$145)/1000","v":{"$error":"#VALUE!"}},{"$error":"#VALUE!"},{"$error":"#VALUE!"},{"$f":"($AA145*D$145)/1000","v":{"$error":"#VALUE!"}},{"$error":"#VALUE!"},{"$error":"#VALUE!"},{"$f":"($AB145*D$145)/1000","v":{"$error":"#VALUE!"}},{"$error":"#VALUE!"},{"$error":"#VALUE!"},{"$f":"($AC145*D$145)/1000","v":{"$error":"#VALUE!"}},{"$error":"#VALUE!"},{"$error":"#VALUE!"},{"$f":"($AD145*D$145)/1000","v":{"$error":"#VALUE!"}},{"$error":"#VALUE!"},{"$error":"#VALUE!"},null,0,{"$f":"$AZ$145*$Y145","v":0},{"$f":"($AZ$145*$BN145*D$145*$Y145)/1000","v":{"$error":"#VALUE!"}},{"$error":"#VALUE!"},{"$error":"#VALUE!"},{"$f":"($AZ$145*$BO145*D$145*$Y145)/1000","v":{"$error":"#VALUE!"}},{"$error":"#VALUE!"},{"$error":"#VALUE!"},{"$f":"($AZ$145*$BP145*D$145*$Y145)/1000","v":{"$error":"#VALUE!"}},{"$error":"#VALUE!"},{"$error":"#VALUE!"},{"$f":"($AZ$145*$BQ145*D$145*$Y145)/1000","v":{"$error":"#VALUE!"}},{"$error":"#VALUE!"},{"$error":"#VALUE!"},{"$f":"($AZ$145*$BR145*D$145*$Y145)/1000","v":{"$error":"#VALUE!"}},{"$error":"#VALUE!"},{"$error":"#VALUE!"},{"$f":"($AZ$145*$BS145*D$145*$Y145)/1000","v":{"$error":"#VALUE!"}},{"$error":"#VALUE!"},{"$error":"#VALUE!"},{"$f":"($AZ$145*$BT145*D$145*$Y145)/1000","v":{"$error":"#VALUE!"}},{"$error":"#VALUE!"},{"$error":"#VALUE!"},{"$f":"($AZ$145*$BU145*D$145*$Y145)/1000","v":{"$error":"#VALUE!"}},{"$error":"#VALUE!"},{"$error":"#VALUE!"},{"$f":"($AZ$145*$BV145*D$145*$Y145)/1000","v":{"$error":"#VALUE!"}},{"$error":"#VALUE!"},{"$error":"#VALUE!"},{"$f":"($AZ$145*$BW145*D$145*$Y145)/1000","v":{"$error":"#VALUE!"}},{"$error":"#VALUE!"},{"$error":"#VALUE!"},{"$f":"($AZ$145*$BX145*D$145*$Y145)/1000","v":{"$error":"#VALUE!"}},{"$error":"#VALUE!"},{"$error":"#VALUE!"},0,{"$f":"$AZ$145*$Z145","v":0},{"$f":"($AZ$145*$BY145*D$145*$Z145)/1000","v":{"$error":"#VALUE!"}},{"$error":"#VALUE!"},{"$error":"#VALUE!"},{"$f":"($AZ$145*$BZ145*D$145*$Z145)/1000","v":{"$error":"#VALUE!"}},{"$error":"#VALUE!"},{"$error":"#VALUE!"},{"$f":"($AZ$145*$CA145*D$145*$Z145)/1000","v":{"$error":"#VALUE!"}},{"$error":"#VALUE!"},{"$error":"#VALUE!"},{"$f":"($AZ$145*$CB145*D$145*$Z145)/1000","v":{"$error":"#VALUE!"}},{"$error":"#VALUE!"},{"$error":"#VALUE!"},{"$f":"($AZ$145*$CD145*D$145*$Z145)/1000","v":{"$error":"#VALUE!"}},{"$error":"#VALUE!"},{"$error":"#VALUE!"},{"$f":"($AZ$145*$CD145*D$145*$Z145)/1000","v":{"$error":"#VALUE!"}},{"$error":"#VALUE!"},{"$error":"#VALUE!"},{"$f":"($AZ$145*$CE145*D$145*$Z145)/1000","v":{"$error":"#VALUE!"}},{"$error":"#VALUE!"},{"$error":"#VALUE!"},{"$f":"($AZ$145*$CF145*D$145*$Z145)/1000","v":{"$error":"#VALUE!"}},{"$error":"#VALUE!"},{"$error":"#VALUE!"},{"$f":"($AZ$145*$CG145*D$145*$Z145)/1000","v":{"$error":"#VALUE!"}},{"$error":"#VALUE!"},{"$error":"#VALUE!"},{"$f":"($AZ$145*$CH145*D$145*$Z145)/1000","v":{"$error":"#VALUE!"}},{"$error":"#VALUE!"},{"$error":"#VALUE!"},{"$f":"($AZ$145*$CI145*D$145*$Z145)/1000","v":{"$error":"#VALUE!"}},{"$error":"#VALUE!"},{"$error":"#VALUE!"},0,{"$f":"$AZ$145*$AA145","v":0},{"$f":"($AZ$145*$CJ145*D$145*$AA145)/1000","v":{"$error":"#VALUE!"}},{"$error":"#VALUE!"},{"$error":"#VALUE!"},{"$f":"($AZ$145*$CK145*D$145*$AA145)/1000","v":{"$error":"#VALUE!"}},{"$error":"#VALUE!"},{"$error":"#VALUE!"},{"$f":"($AZ$145*$CL145*D$145*$AA145)/1000","v":{"$error":"#VALUE!"}},{"$error":"#VALUE!"},{"$error":"#VALUE!"},{"$f":"($AZ$145*$CM145*D$145*$AA145)/1000","v":{"$error":"#VALUE!"}},{"$error":"#VALUE!"},{"$error":"#VALUE!"},{"$f":"($AZ$145*$CN145*D$145*$AA145)/1000","v":{"$error":"#VALUE!"}},{"$error":"#VALUE!"},{"$error":"#VALUE!"},{"$f":"($AZ$145*$CO145*D$145*$AA145)/1000","v":{"$error":"#VALUE!"}},{"$error":"#VALUE!"},{"$error":"#VALUE!"},{"$f":"($AZ$145*$CP145*D$145*$AA145)/1000","v":{"$error":"#VALUE!"}},{"$error":"#VALUE!"},{"$error":"#VALUE!"},{"$f":"($AZ$145*$CQ145*D$145*$AA145)/1000","v":{"$error":"#VALUE!"}},{"$error":"#VALUE!"},{"$error":"#VALUE!"},{"$f":"($AZ$145*$CR145*D$145*$AA145)/1000","v":{"$error":"#VALUE!"}},{"$error":"#VALUE!"},{"$error":"#VALUE!"},{"$f":"($AZ$145*$CS145*D$145*$AA145)/1000","v":{"$error":"#VALUE!"}},{"$error":"#VALUE!"},{"$error":"#VALUE!"},{"$f":"($AZ$145*$CT145*D$145*$AA145)/1000","v":{"$error":"#VALUE!"}},{"$error":"#VALUE!"},{"$error":"#VALUE!"},0,{"$f":"$AZ$145*$AB145","v":0},{"$f":"($AZ$145*$CU145*D$145*$AB145)/1000","v":{"$error":"#VALUE!"}},{"$error":"#VALUE!"},{"$error":"#VALUE!"},{"$f":"($AZ$145*$CV145*D$145*$AB145)/1000","v":{"$error":"#VALUE!"}},{"$error":"#VALUE!"},{"$error":"#VALUE!"},{"$f":"($AZ$145*$CW145*D$145*$AB145)/1000","v":{"$error":"#VALUE!"}},{"$error":"#VALUE!"},{"$error":"#VALUE!"},{"$f":"($AZ$145*$CX145*D$145*$AB145)/1000","v":{"$error":"#VALUE!"}},{"$error":"#VALUE!"},{"$error":"#VALUE!"},{"$f":"($AZ$145*$CY145*D$145*$AB145)/1000","v":{"$error":"#VALUE!"}},{"$error":"#VALUE!"},{"$error":"#VALUE!"},{"$f":"($AZ$145*$CZ145*D$145*$AB145)/1000","v":{"$error":"#VALUE!"}},{"$error":"#VALUE!"},{"$error":"#VALUE!"},{"$f":"($AZ$145*$DA145*D$145*$AB145)/1000","v":{"$error":"#VALUE!"}},{"$error":"#VALUE!"},{"$error":"#VALUE!"},{"$f":"($AZ$145*$DB145*D$145*$AB145)/1000","v":{"$error":"#VALUE!"}},{"$error":"#VALUE!"},{"$error":"#VALUE!"},{"$f":"($AZ$145*$DC145*D$145*$AB145)/1000","v":{"$error":"#VALUE!"}},{"$error":"#VALUE!"},{"$error":"#VALUE!"},{"$f":"($AZ$145*$DD145*D$145*$AB145)/1000","v":{"$error":"#VALUE!"}},{"$error":"#VALUE!"},{"$error":"#VALUE!"},{"$f":"($AZ$145*$DE145*D$145*$AB145)/1000","v":{"$error":"#VALUE!"}},{"$error":"#VALUE!"},{"$error":"#VALUE!"},0,{"$f":"$AZ$145*$AC145","v":0},{"$f":"($AZ$145*$DF145*D$145*$AC145)/1000","v":{"$error":"#VALUE!"}},{"$error":"#VALUE!"},{"$error":"#VALUE!"},{"$f":"($AZ$145*$DG145*D$145*$AC145)/1000","v":{"$error":"#VALUE!"}},{"$error":"#VALUE!"},{"$error":"#VALUE!"},{"$f":"($AZ$145*$DH145*D$145*$AC145)/1000","v":{"$error":"#VALUE!"}},{"$error":"#VALUE!"},{"$error":"#VALUE!"},{"$f":"($AZ$145*$DI145*D$145*$AC145)/1000","v":{"$error":"#VALUE!"}},{"$error":"#VALUE!"},{"$error":"#VALUE!"},{"$f":"($AZ$145*$DJ145*D$145*$AC145)/1000","v":{"$error":"#VALUE!"}},{"$error":"#VALUE!"},{"$error":"#VALUE!"},{"$f":"($AZ$145*$DK145*D$145*$AC145)/1000","v":{"$error":"#VALUE!"}},{"$error":"#VALUE!"},{"$error":"#VALUE!"},{"$f":"($AZ$145*$DL145*D$145*$AC145)/1000","v":{"$error":"#VALUE!"}},{"$error":"#VALUE!"},{"$error":"#VALUE!"},{"$f":"($AZ$145*$DM145*D$145*$AC145)/1000","v":{"$error":"#VALUE!"}},{"$error":"#VALUE!"},{"$error":"#VALUE!"},{"$f":"($AZ$145*$DN145*D$145*$AC145)/1000","v":{"$error":"#VALUE!"}},{"$error":"#VALUE!"},{"$error":"#VALUE!"},{"$f":"($AZ$145*$DO145*D$145*$AC145)/1000","v":{"$error":"#VALUE!"}},{"$error":"#VALUE!"},{"$error":"#VALUE!"},{"$f":"($AZ$145*$DP145*D$145*$AC145)/1000","v":{"$error":"#VALUE!"}},{"$error":"#VALUE!"},{"$error":"#VALUE!"},0,{"$f":"$AZ$145*$AD145","v":0},{"$f":"($AZ$145*$DQ145*D$145*$AD145)/1000","v":{"$error":"#VALUE!"}},{"$error":"#VALUE!"},{"$error":"#VALUE!"},{"$f":"($AZ$145*$DR145*D$145*$AD145)/1000","v":{"$error":"#VALUE!"}},{"$error":"#VALUE!"},{"$error":"#VALUE!"},{"$f":"($AZ$145*$DS145*D$145*$AD145)/1000","v":{"$error":"#VALUE!"}},{"$error":"#VALUE!"},{"$error":"#VALUE!"},{"$f":"($AZ$145*$DT145*D$145*$AD145)/1000","v":{"$error":"#VALUE!"}},{"$error":"#VALUE!"},{"$error":"#VALUE!"},{"$f":"($AZ$145*$DU145*D$145*$AD145)/1000","v":{"$error":"#VALUE!"}},{"$error":"#VALUE!"},{"$error":"#VALUE!"},{"$f":"($AZ$145*$DV145*D$145*$AD145)/1000","v":{"$error":"#VALUE!"}},{"$error":"#VALUE!"},{"$error":"#VALUE!"},{"$f":"($AZ$145*$DW145*D$145*$AD145)/1000","v":{"$error":"#VALUE!"}},{"$error":"#VALUE!"},{"$error":"#VALUE!"},{"$f":"($AZ$145*$DX145*D$145*$AD145)/1000","v":{"$error":"#VALUE!"}},{"$error":"#VALUE!"},{"$error":"#VALUE!"},{"$f":"($AZ$145*$DY145*D$145*$AD145)/1000","v":{"$error":"#VALUE!"}},{"$error":"#VALUE!"},{"$error":"#VALUE!"},{"$f":"($AZ$145*$DZ145*D$145*$AD145)/1000","v":{"$error":"#VALUE!"}},{"$error":"#VALUE!"},{"$error":"#VALUE!"},{"$f":"($AZ$145*$EA145*D$145*$AD145)/1000","v":{"$error":"#VALUE!"}},{"$error":"#VALUE!"},{"$error":"#VALUE!"}]
[null,null,null,null,null,null,null,null,null,null,null,null,null,null,null,null,null,null,null,null,null,null,null,2,null,null,null,null,null,null,null,null,null,"N/A",null,false,null,null,null,null,2,null,null,null,null,null,null,null,null,null,null,null,{"$f":"IF(AND(BB146=\"OK\",BC146=\"OK\",BD146=\"OK\"),\"OK\",\"ERR!\")","v":"OK"},"OK",{"$f":"IF(OR(SUM(BN146:BX146)<>1,SUM(BY146:CI146)<>1,SUM(CJ146:CT146)<>1,SUM(CU146:DE146)<>1,SUM(DF146:DP146)<>1,SUM(DQ146:EA146)<>1),\"ERR!\",\"OK\")","v":"OK"},{"$f":"IF(AND(OR(BE146=BK146,BE146=0),OR(BF146=BK146,BF146=0),OR(BG146=BK146,BG146=0),OR(BH146=BK146,BH146=0),OR(BI146=BK146,BI146=0),OR(BJ146=BK146,BJ146=0)),\"OK\",\"ERR!\")","v":"OK"},{"$f":"(BN146*POWER(10,0)+BO146*POWER(10,1)+BP146*POWER(10,2)+BQ146*POWER(10,3)+BR146*POWER(10,4)+BS146*POWER(10,5)+BT146*POWER(10,6)+BU146*POWER(10,7)+BV146*POWER(10,8)+BW146*POWER(10,9)+BX146*POWER(10,10))","v":100},{"$f":"(BY146*POWER(10,0)+BZ146*POWER(10,1)+CA146*POWER(10,2)+CB146*POWER(10,3)+CC146*POWER(10,4)+CD146*POWER(10,5)+CE146*POWER(10,6)+CF146*POWER(10,7)+CG146*POWER(10,8)+CH146*POWER(10,9)+CI146*POWER(10,10))","v":100},{"$f":"(CJ146*POWER(10,0)+CK146*POWER(10,1)+CL146*POWER(10,2)+CM146*POWER(10,3)+CN146*POWER(10,4)+CO146*POWER(10,5)+CP146*POWER(10,6)+CQ146*POWER(10,7)+CR146*POWER(10,8)+CS146*POWER(10,9)+CT146*POWER(10,10))","v":100},{"$f":"(CU146*POWER(10,0)+CV146*POWER(10,1)+CW146*POWER(10,2)+CX146*POWER(10,3)+CY146*POWER(10,4)+CZ146*POWER(10,5)+DA146*POWER(10,6)+DB146*POWER(10,7)+DC146*POWER(10,8)+DD146*POWER(10,9)+DE146*POWER(10,10))","v":100},{"$f":"(DF146*POWER(10,0)+DG146*POWER(10,1)+DH146*POWER(10,2)+DI146*POWER(10,3)+DJ146*POWER(10,4)+DK146*POWER(10,5)+DL146*POWER(10,6)+DM146*POWER(10,7)+DN146*POWER(10,8)+DO146*POWER(10,9)+DP146*POWER(10,10))","v":100},{"$f":"(DQ146*POWER(10,0)+DR146*POWER(10,1)+DS146*POWER(10,2)+DT146*POWER(10,3)+DU146*POWER(10,4)+DV146*POWER(10,5)+DW146*POWER(10,6)+DX146*POWER(10,7)+DY146*POWER(10,8)+DZ146*POWER(10,9)+EA146*POWER(10,10))","v":100},{"$f":"MAX(BE146:BJ146)","v":100},null,2,null,null,1,null,null,null,null,null,null,null,null,null,null,1,null,null,null,null,null,null,null,null,null,null,1,null,null,null,null,null,null,null,null,null,null,1,null,null,null,null,null,null,null,null,null,null,1,null,null,null,null,null,null,null,null,null,null,1,null,null,null,null,null,null,null,null,null,2,{"$error":"#VALUE!"},{"$error":"#VALUE!"},{"$error":"#VALUE!"},{"$error":"#VALUE!"},{"$error":"#VALUE!"},{"$error":"#VALUE!"},{"$error":"#VALUE!"},{"$error":"#VALUE!"},{"$error":"#VALUE!"},{"$error":"#VALUE!"},{"$error":"#VALUE!"},{"$error":"#VALUE!"},{"$error":"#VALUE!"},{"$error":"#VALUE!"},{"$error":"#VALUE!"},{"$error":"#VALUE!"},{"$error":"#VALUE!"},{"$error":"#VALUE!"},null,2,0,{"$error":"#VALUE!"},{"$error":"#VALUE!"},{"$error":"#VALUE!"},{"$error":"#VALUE!"},{"$error":"#VALUE!"},{"$error":"#VALUE!"},{"$error":"#VALUE!"},{"$error":"#VALUE!"},{"$error":"#VALUE!"},{"$error":"#VALUE!"},{"$error":"#VALUE!"},{"$error":"#VALUE!"},{"$error":"#VALUE!"},{"$error":"#VALUE!"},{"$error":"#VALUE!"},{"$error":"#VALUE!"},{"$error":"#VALUE!"},{"$error":"#VALUE!"},{"$error":"#VALUE!"},{"$error":"#VALUE!"},{"$error":"#VALUE!"},{"$error":"#VALUE!"},{"$error":"#VALUE!"},{"$error":"#VALUE!"},{"$error":"#VALUE!"},{"$error":"#VALUE!"},{"$error":"#VALUE!"},{"$error":"#VALUE!"},{"$error":"#VALUE!"},{"$error":"#VALUE!"},{"$error":"#VALUE!"},{"$error":"#VALUE!"},{"$error":"#VALUE!"},2,0,{"$error":"#VALUE!"},{"$error":"#VALUE!"},{"$error":"#VALUE!"},{"$error":"#VALUE!"},{"$error":"#VALUE!"},{"$error":"#VALUE!"},{"$error":"#VALUE!"},{"$error":"#VALUE!"},{"$error":"#VALUE!"},{"$error":"#VALUE!"},{"$error":"#VALUE!"},{"$error":"#VALUE!"},{"$error":"#VALUE!"},{"$error":"#VALUE!"},{"$error":"#VALUE!"},{"$error":"#VALUE!"},{"$error":"#VALUE!"},{"$error":"#VALUE!"},{"$error":"#VALUE!"},{"$error":"#VALUE!"},{"$error":"#VALUE!"},{"$error":"#VALUE!"},{"$error":"#VALUE!"},{"$error":"#VALUE!"},{"$error":"#VALUE!"},{"$error":"#VALUE!"},{"$error":"#VALUE!"},{"$error":"#VALUE!"},{"$error":"#VALUE!"},{"$error":"#VALUE!"},{"$error":"#VALUE!"},{"$error":"#VALUE!"},{"$error":"#VALUE!"},2,0,{"$error":"#VALUE!"},{"$error":"#VALUE!"},{"$error":"#VALUE!"},{"$error":"#VALUE!"},{"$error":"#VALUE!"},{"$error":"#VALUE!"},{"$error":"#VALUE!"},{"$error":"#VALUE!"},{"$error":"#VALUE!"},{"$error":"#VALUE!"},{"$error":"#VALUE!"},{"$error":"#VALUE!"},{"$error":"#VALUE!"},{"$error":"#VALUE!"},{"$error":"#VALUE!"},{"$error":"#VALUE!"},{"$error":"#VALUE!"},{"$error":"#VALUE!"},{"$error":"#VALUE!"},{"$error":"#VALUE!"},{"$error":"#VALUE!"},{"$error":"#VALUE!"},{"$error":"#VALUE!"},{"$error":"#VALUE!"},{"$error":"#VALUE!"},{"$error":"#VALUE!"},{"$error":"#VALUE!"},{"$error":"#VALUE!"},{"$error":"#VALUE!"},{"$error":"#VALUE!"},{"$error":"#VALUE!"},{"$error":"#VALUE!"},{"$error":"#VALUE!"},2,0,{"$error":"#VALUE!"},{"$error":"#VALUE!"},{"$error":"#VALUE!"},{"$error":"#VALUE!"},{"$error":"#VALUE!"},{"$error":"#VALUE!"},{"$error":"#VALUE!"},{"$error":"#VALUE!"},{"$error":"#VALUE!"},{"$error":"#VALUE!"},{"$error":"#VALUE!"},{"$error":"#VALUE!"},{"$error":"#VALUE!"},{"$error":"#VALUE!"},{"$error":"#VALUE!"},{"$error":"#VALUE!"},{"$error":"#VALUE!"},{"$error":"#VALUE!"},{"$error":"#VALUE!"},{"$error":"#VALUE!"},{"$error":"#VALUE!"},{"$error":"#VALUE!"},{"$error":"#VALUE!"},{"$error":"#VALUE!"},{"$error":"#VALUE!"},{"$error":"#VALUE!"},{"$error":"#VALUE!"},{"$error":"#VALUE!"},{"$error":"#VALUE!"},{"$error":"#VALUE!"},{"$error":"#VALUE!"},{"$error":"#VALUE!"},{"$error":"#VALUE!"},2,0,{"$error":"#VALUE!"},{"$error":"#VALUE!"},{"$error":"#VALUE!"},{"$error":"#VALUE!"},{"$error":"#VALUE!"},{"$error":"#VALUE!"},{"$error":"#VALUE!"},{"$error":"#VALUE!"},{"$error":"#VALUE!"},{"$error":"#VALUE!"},{"$error":"#VALUE!"},{"$error":"#VALUE!"},{"$error":"#VALUE!"},{"$error":"#VALUE!"},{"$error":"#VALUE!"},{"$error":"#VALUE!"},{"$error":"#VALUE!"},{"$error":"#VALUE!"},{"$error":"#VALUE!"},{"$error":"#VALUE!"},{"$error":"#VALUE!"},{"$error":"#VALUE!"},{"$error":"#VALUE!"},{"$error":"#VALUE!"},{"$error":"#VALUE!"},{"$error":"#VALUE!"},{"$error":"#VALUE!"},{"$error":"#VALUE!"},{"$error":"#VALUE!"},{"$error":"#VALUE!"},{"$error":"#VALUE!"},{"$error":"#VALUE!"},{"$error":"#VALUE!"},2,0,{"$error":"#VALUE!"},{"$error":"#VALUE!"},{"$error":"#VALUE!"},{"$error":"#VALUE!"},{"$error":"#VALUE!"},{"$error":"#VALUE!"},{"$error":"#VALUE!"},{"$error":"#VALUE!"},{"$error":"#VALUE!"},{"$error":"#VALUE!"},{"$error":"#VALUE!"},{"$error":"#VALUE!"},{"$error":"#VALUE!"},{"$error":"#VALUE!"},{"$error":"#VALUE!"},{"$error":"#VALUE!"},{"$error":"#VALUE!"},{"$error":"#VALUE!"},{"$error":"#VALUE!"},{"$error":"#VALUE!"},{"$error":"#VALUE!"},{"$error":"#VALUE!"},{"$error":"#VALUE!"},{"$error":"#VALUE!"},{"$error":"#VALUE!"},{"$error":"#VALUE!"},{"$error":"#VALUE!"},{"$error":"#VALUE!"},{"$error":"#VALUE!"},{"$error":"#VALUE!"},{"$error":"#VALUE!"},{"$error":"#VALUE!"},{"$error":"#VALUE!"}]
[null,null,null,null,null,null,null,null,null,null,null,null,null,null,null,null,null,null,null,null,null,null,null,3,null,null,null,null,null,null,null,null,null,"N/A",null,false,null,null,null,null,3,null,null,null,null,null,null,null,null,null,null,null,{"$f":"IF(AND(BB147=\"OK\",BC147=\"OK\",BD147=\"OK\"),\"OK\",\"ERR!\")","v":"OK"},"OK",{"$f":"IF(OR(SUM(BN147:BX147)<>1,SUM(BY147:CI147)<>1,SUM(CJ147:CT147)<>1,SUM(CU147:DE147)<>1,SUM(DF147:DP147)<>1,SUM(DQ147:EA147)<>1),\"ERR!\",\"OK\")","v":"OK"},{"$f":"IF(AND(OR(BE147=BK147,BE147=0),OR(BF147=BK147,BF147=0),OR(BG147=BK147,BG147=0),OR(BH147=BK147,BH147=0),OR(BI147=BK147,BI147=0),OR(BJ147=BK147,BJ147=0)),\"OK\",\"ERR!\")","v":"OK"},100,100,100,100,100,100,{"$f":"MAX(BE147:BJ147)","v":100},null,3,null,null,1,null,null,null,null,null,null,null,null,null,null,1,null,null,null,null,null,null,null,null,null,null,1,null,null,null,null,null,null,null,null,null,null,1,null,null,null,null,null,null,null,null,null,null,1,null,null,null,null,null,null,null,null,null,null,1,null,null,null,null,null,null,null,null,null,3,{"$error":"#VALUE!"},{"$error":"#VALUE!"},{"$error":"#VALUE!"},{"$error":"#VALUE!"},{"$error":"#VALUE!"},{"$error":"#VALUE!"},{"$error":"#VALUE!"},{"$error":"#VALUE!"},{"$error":"#VALUE!"},{"$error":"#VALUE!"},{"$error":"#VALUE!"},{"$error":"#VALUE!"},{"$error":"#VALUE!"},{"$error":"#VALUE!"},{"$error":"#VALUE!"},{"$error":"#VALUE!"},{"$error":"#VALUE!"},{"$error":"#VALUE!"},null,3,0,{"$error":"#VALUE!"},{"$error":"#VALUE!"},{"$error":"#VALUE!"},{"$error":"#VALUE!"},{"$error":"#VALUE!"},{"$error":"#VALUE!"},{"$error":"#VALUE!"},{"$error":"#VALUE!"},{"$error":"#VALUE!"},{"$error":"#VALUE!"},{"$error":"#VALUE!"},{"$error":"#VALUE!"},{"$error":"#VALUE!"},{"$error":"#VALUE!"},{"$error":"#VALUE!"},{"$error":"#VALUE!"},{"$error":"#VALUE!"},{"$error":"#VALUE!"},{"$error":"#VALUE!"},{"$error":"#VALUE!"},{"$error":"#VALUE!"},{"$error":"#VALUE!"},{"$error":"#VALUE!"},{"$error":"#VALUE!"},{"$error":"#VALUE!"},{"$error":"#VALUE!"},{"$error":"#VALUE!"},{"$error":"#VALUE!"},{"$error":"#VALUE!"},{"$error":"#VALUE!"},{"$error":"#VALUE!"},{"$error":"#VALUE!"},{"$error":"#VALUE!"},3,0,{"$error":"#VALUE!"},{"$error":"#VALUE!"},{"$error":"#VALUE!"},{"$error":"#VALUE!"},{"$error":"#VALUE!"},{"$error":"#VALUE!"},{"$error":"#VALUE!"},{"$error":"#VALUE!"},{"$error":"#VALUE!"},{"$error":"#VALUE!"},{"$error":"#VALUE!"},{"$error":"#VALUE!"},{"$error":"#VALUE!"},{"$error":"#VALUE!"},{"$error":"#VALUE!"},{"$error":"#VALUE!"},{"$error":"#VALUE!"},{"$error":"#VALUE!"},{"$error":"#VALUE!"},{"$error":"#VALUE!"},{"$error":"#VALUE!"},{"$error":"#VALUE!"},{"$error":"#VALUE!"},{"$error":"#VALUE!"},{"$error":"#VALUE!"},{"$error":"#VALUE!"},{"$error":"#VALUE!"},{"$error":"#VALUE!"},{"$error":"#VALUE!"},{"$error":"#VALUE!"},{"$error":"#VALUE!"},{"$error":"#VALUE!"},{"$error":"#VALUE!"},3,0,{"$error":"#VALUE!"},{"$error":"#VALUE!"},{"$error":"#VALUE!"},{"$error":"#VALUE!"},{"$error":"#VALUE!"},{"$error":"#VALUE!"},{"$error":"#VALUE!"},{"$error":"#VALUE!"},{"$error":"#VALUE!"},{"$error":"#VALUE!"},{"$error":"#VALUE!"},{"$error":"#VALUE!"},{"$error":"#VALUE!"},{"$error":"#VALUE!"},{"$error":"#VALUE!"},{"$error":"#VALUE!"},{"$error":"#VALUE!"},{"$error":"#VALUE!"},{"$error":"#VALUE!"},{"$error":"#VALUE!"},{"$error":"#VALUE!"},{"$error":"#VALUE!"},{"$error":"#VALUE!"},{"$error":"#VALUE!"},{"$error":"#VALUE!"},{"$error":"#VALUE!"},{"$error":"#VALUE!"},{"$error":"#VALUE!"},{"$error":"#VALUE!"},{"$error":"#VALUE!"},{"$error":"#VALUE!"},{"$error":"#VALUE!"},{"$error":"#VALUE!"},3,0,{"$error":"#VALUE!"},{"$error":"#VALUE!"},{"$error":"#VALUE!"},{"$error":"#VALUE!"},{"$error":"#VALUE!"},{"$error":"#VALUE!"},{"$error":"#VALUE!"},{"$error":"#VALUE!"},{"$error":"#VALUE!"},{"$error":"#VALUE!"},{"$error":"#VALUE!"},{"$error":"#VALUE!"},{"$error":"#VALUE!"},{"$error":"#VALUE!"},{"$error":"#VALUE!"},{"$error":"#VALUE!"},{"$error":"#VALUE!"},{"$error":"#VALUE!"},{"$error":"#VALUE!"},{"$error":"#VALUE!"},{"$error":"#VALUE!"},{"$error":"#VALUE!"},{"$error":"#VALUE!"},{"$error":"#VALUE!"},{"$error":"#VALUE!"},{"$error":"#VALUE!"},{"$error":"#VALUE!"},{"$error":"#VALUE!"},{"$error":"#VALUE!"},{"$error":"#VALUE!"},{"$error":"#VALUE!"},{"$error":"#VALUE!"},{"$error":"#VALUE!"},3,0,{"$error":"#VALUE!"},{"$error":"#VALUE!"},{"$error":"#VALUE!"},{"$error":"#VALUE!"},{"$error":"#VALUE!"},{"$error":"#VALUE!"},{"$error":"#VALUE!"},{"$error":"#VALUE!"},{"$error":"#VALUE!"},{"$error":"#VALUE!"},{"$error":"#VALUE!"},{"$error":"#VALUE!"},{"$error":"#VALUE!"},{"$error":"#VALUE!"},{"$error":"#VALUE!"},{"$error":"#VALUE!"},{"$error":"#VALUE!"},{"$error":"#VALUE!"},{"$error":"#VALUE!"},{"$error":"#VALUE!"},{"$error":"#VALUE!"},{"$error":"#VALUE!"},{"$error":"#VALUE!"},{"$error":"#VALUE!"},{"$error":"#VALUE!"},{"$error":"#VALUE!"},{"$error":"#VALUE!"},{"$error":"#VALUE!"},{"$error":"#VALUE!"},{"$error":"#VALUE!"},{"$error":"#VALUE!"},{"$error":"#VALUE!"},{"$error":"#VALUE!"},3,0,{"$error":"#VALUE!"},{"$error":"#VALUE!"},{"$error":"#VALUE!"},{"$error":"#VALUE!"},{"$error":"#VALUE!"},{"$error":"#VALUE!"},{"$error":"#VALUE!"},{"$error":"#VALUE!"},{"$error":"#VALUE!"},{"$error":"#VALUE!"},{"$error":"#VALUE!"},{"$error":"#VALUE!"},{"$error":"#VALUE!"},{"$error":"#VALUE!"},{"$error":"#VALUE!"},{"$error":"#VALUE!"},{"$error":"#VALUE!"},{"$error":"#VALUE!"},{"$error":"#VALUE!"},{"$error":"#VALUE!"},{"$error":"#VALUE!"},{"$error":"#VALUE!"},{"$error":"#VALUE!"},{"$error":"#VALUE!"},{"$error":"#VALUE!"},{"$error":"#VALUE!"},{"$error":"#VALUE!"},{"$error":"#VALUE!"},{"$error":"#VALUE!"},{"$error":"#VALUE!"},{"$error":"#VALUE!"},{"$error":"#VALUE!"},{"$error":"#VALUE!"}]
[null,null,null,null,null,null,null,null,null,null,null,null,null,null,null,null,null,null,null,null,null,null,null,4,null,null,null,null,null,null,null,null,null,"N/A",null,false,null,null,null,null,4,null,null,null,null,null,null,null,null,null,null,null,{"$f":"IF(AND(BB148=\"OK\",BC148=\"OK\",BD148=\"OK\"),\"OK\",\"ERR!\")","v":"OK"},"OK","OK",{"$f":"IF(AND(OR(BE148=BK148,BE148=0),OR(BF148=BK148,BF148=0),OR(BG148=BK148,BG148=0),OR(BH148=BK148,BH148=0),OR(BI148=BK148,BI148=0),OR(BJ148=BK148,BJ148=0)),\"OK\",\"ERR!\")","v":"OK"},100,100,100,100,100,100,100,null,4,null,null,1,null,null,null,null,null,null,null,null,null,null,1,null,null,null,null,null,null,null,null,null,null,1,null,null,null,null,null,null,null,null,null,null,1,null,null,null,null,null,null,null,null,null,null,1,null,null,null,null,null,null,null,null,null,null,1,null,null,null,null,null,null,null,null,null,4,{"$error":"#VALUE!"},{"$error":"#VALUE!"},{"$error":"#VALUE!"},{"$error":"#VALUE!"},{"$error":"#VALUE!"},{"$error":"#VALUE!"},{"$error":"#VALUE!"},{"$error":"#VALUE!"},{"$error":"#VALUE!"},{"$error":"#VALUE!"},{"$error":"#VALUE!"},{"$error":"#VALUE!"},{"$error":"#VALUE!"},{"$error":"#VALUE!"},{"$error":"#VALUE!"},{"$error":"#VALUE!"},{"$error":"#VALUE!"},{"$error":"#VALUE!"},null,4,0,{"$error":"#VALUE!"},{"$error":"#VALUE!"},{"$error":"#VALUE!"},{"$error":"#VALUE!"},{"$error":"#VALUE!"},{"$error":"#VALUE!"},{"$error":"#VALUE!"},{"$error":"#VALUE!"},{"$error":"#VALUE!"},{"$error":"#VALUE!"},{"$error":"#VALUE!"},{"$error":"#VALUE!"},{"$error":"#VALUE!"},{"$error":"#VALUE!"},{"$error":"#VALUE!"},{"$error":"#VALUE!"},{"$error":"#VALUE!"},{"$error":"#VALUE!"},{"$error":"#VALUE!"},{"$error":"#VALUE!"},{"$error":"#VALUE!"},{"$error":"#VALUE!"},{"$error":"#VALUE!"},{"$error":"#VALUE!"},{"$error":"#VALUE!"},{"$error":"#VALUE!"},{"$error":"#VALUE!"},{"$error":"#VALUE!"},{"$error":"#VALUE!"},{"$error":"#VALUE!"},{"$error":"#VALUE!"},{"$error":"#VALUE!"},{"$error":"#VALUE!"},4,0,{"$error":"#VALUE!"},{"$error":"#VALUE!"},{"$error":"#VALUE!"},{"$error":"#VALUE!"},{"$error":"#VALUE!"},{"$error":"#VALUE!"},{"$error":"#VALUE!"},{"$error":"#VALUE!"},{"$error":"#VALUE!"},{"$error":"#VALUE!"},{"$error":"#VALUE!"},{"$error":"#VALUE!"},{"$error":"#VALUE!"},{"$error":"#VALUE!"},{"$error":"#VALUE!"},{"$error":"#VALUE!"},{"$error":"#VALUE!"},{"$error":"#VALUE!"},{"$error":"#VALUE!"},{"$error":"#VALUE!"},{"$error":"#VALUE!"},{"$error":"#VALUE!"},{"$error":"#VALUE!"},{"$error":"#VALUE!"},{"$error":"#VALUE!"},{"$error":"#VALUE!"},{"$error":"#VALUE!"},{"$error":"#VALUE!"},{"$error":"#VALUE!"},{"$error":"#VALUE!"},{"$error":"#VALUE!"},{"$error":"#VALUE!"},{"$error":"#VALUE!"},4,0,{"$error":"#VALUE!"},{"$error":"#VALUE!"},{"$error":"#VALUE!"},{"$error":"#VALUE!"},{"$error":"#VALUE!"},{"$error":"#VALUE!"},{"$error":"#VALUE!"},{"$error":"#VALUE!"},{"$error":"#VALUE!"},{"$error":"#VALUE!"},{"$error":"#VALUE!"},{"$error":"#VALUE!"},{"$error":"#VALUE!"},{"$error":"#VALUE!"},{"$error":"#VALUE!"},{"$error":"#VALUE!"},{"$error":"#VALUE!"},{"$error":"#VALUE!"},{"$error":"#VALUE!"},{"$error":"#VALUE!"},{"$error":"#VALUE!"},{"$error":"#VALUE!"},{"$error":"#VALUE!"},{"$error":"#VALUE!"},{"$error":"#VALUE!"},{"$error":"#VALUE!"},{"$error":"#VALUE!"},{"$error":"#VALUE!"},{"$error":"#VALUE!"},{"$error":"#VALUE!"},{"$error":"#VALUE!"},{"$error":"#VALUE!"},{"$error":"#VALUE!"},4,0,{"$error":"#VALUE!"},{"$error":"#VALUE!"},{"$error":"#VALUE!"},{"$error":"#VALUE!"},{"$error":"#VALUE!"},{"$error":"#VALUE!"},{"$error":"#VALUE!"},{"$error":"#VALUE!"},{"$error":"#VALUE!"},{"$error":"#VALUE!"},{"$error":"#VALUE!"},{"$error":"#VALUE!"},{"$error":"#VALUE!"},{"$error":"#VALUE!"},{"$error":"#VALUE!"},{"$error":"#VALUE!"},{"$error":"#VALUE!"},{"$error":"#VALUE!"},{"$error":"#VALUE!"},{"$error":"#VALUE!"},{"$error":"#VALUE!"},{"$error":"#VALUE!"},{"$error":"#VALUE!"},{"$error":"#VALUE!"},{"$error":"#VALUE!"},{"$error":"#VALUE!"},{"$error":"#VALUE!"},{"$error":"#VALUE!"},{"$error":"#VALUE!"},{"$error":"#VALUE!"},{"$error":"#VALUE!"},{"$error":"#VALUE!"},{"$error":"#VALUE!"},4,0,{"$error":"#VALUE!"},{"$error":"#VALUE!"},{"$error":"#VALUE!"},{"$error":"#VALUE!"},{"$error":"#VALUE!"},{"$error":"#VALUE!"},{"$error":"#VALUE!"},{"$error":"#VALUE!"},{"$error":"#VALUE!"},{"$error":"#VALUE!"},{"$error":"#VALUE!"},{"$error":"#VALUE!"},{"$error":"#VALUE!"},{"$error":"#VALUE!"},{"$error":"#VALUE!"},{"$error":"#VALUE!"},{"$error":"#VALUE!"},{"$error":"#VALUE!"},{"$error":"#VALUE!"},{"$error":"#VALUE!"},{"$error":"#VALUE!"},{"$error":"#VALUE!"},{"$error":"#VALUE!"},{"$error":"#VALUE!"},{"$error":"#VALUE!"},{"$error":"#VALUE!"},{"$error":"#VALUE!"},{"$error":"#VALUE!"},{"$error":"#VALUE!"},{"$error":"#VALUE!"},{"$error":"#VALUE!"},{"$error":"#VALUE!"},{"$error":"#VALUE!"},4,0,{"$error":"#VALUE!"},{"$error":"#VALUE!"},{"$error":"#VALUE!"},{"$error":"#VALUE!"},{"$error":"#VALUE!"},{"$error":"#VALUE!"},{"$error":"#VALUE!"},{"$error":"#VALUE!"},{"$error":"#VALUE!"},{"$error":"#VALUE!"},{"$error":"#VALUE!"},{"$error":"#VALUE!"},{"$error":"#VALUE!"},{"$error":"#VALUE!"},{"$error":"#VALUE!"},{"$error":"#VALUE!"},{"$error":"#VALUE!"},{"$error":"#VALUE!"},{"$error":"#VALUE!"},{"$error":"#VALUE!"},{"$error":"#VALUE!"},{"$error":"#VALUE!"},{"$error":"#VALUE!"},{"$error":"#VALUE!"},{"$error":"#VALUE!"},{"$error":"#VALUE!"},{"$error":"#VALUE!"},{"$error":"#VALUE!"},{"$error":"#VALUE!"},{"$error":"#VALUE!"},{"$error":"#VALUE!"},{"$error":"#VALUE!"},{"$error":"#VALUE!"}]
[null,null,null,null,null,null,null,null,null,null,null,null,null,null,null,null,null,null,null,null,null,null,null,7,null,null,null,null,null,null,null,null,null,"N/A",null,false,null,null,null,null,7,null,null,null,null,null,null,null,null,null,null,null,{"$f":"IF(AND(BB149=\"OK\",BC149=\"OK\",BD149=\"OK\"),\"OK\",\"ERR!\")","v":"OK"},"OK","OK","OK",100,100,100,100,100,100,100,null,7,null,null,1,null,null,null,null,null,null,null,null,null,null,1,null,null,null,null,null,null,null,null,null,null,1,null,null,null,null,null,null,null,null,null,null,1,null,null,null,null,null,null,null,null,null,null,1,null,null,null,null,null,null,null,null,null,null,1,null,null,null,null,null,null,null,null,null,7,{"$error":"#VALUE!"},{"$error":"#VALUE!"},{"$error":"#VALUE!"},{"$error":"#VALUE!"},{"$error":"#VALUE!"},{"$error":"#VALUE!"},{"$error":"#VALUE!"},{"$error":"#VALUE!"},{"$error":"#VALUE!"},{"$error":"#VALUE!"},{"$error":"#VALUE!"},{"$error":"#VALUE!"},{"$error":"#VALUE!"},{"$error":"#VALUE!"},{"$error":"#VALUE!"},{"$error":"#VALUE!"},{"$error":"#VALUE!"},{"$error":"#VALUE!"},null,7,0,{"$error":"#VALUE!"},{"$error":"#VALUE!"},{"$error":"#VALUE!"},{"$error":"#VALUE!"},{"$error":"#VALUE!"},{"$error":"#VALUE!"},{"$error":"#VALUE!"},{"$error":"#VALUE!"},{"$error":"#VALUE!"},{"$error":"#VALUE!"},{"$error":"#VALUE!"},{"$error":"#VALUE!"},{"$error":"#VALUE!"},{"$error":"#VALUE!"},{"$error":"#VALUE!"},{"$error":"#VALUE!"},{"$error":"#VALUE!"},{"$error":"#VALUE!"},{"$error":"#VALUE!"},{"$error":"#VALUE!"},{"$error":"#VALUE!"},{"$error":"#VALUE!"},{"$error":"#VALUE!"},{"$error":"#VALUE!"},{"$error":"#VALUE!"},{"$error":"#VALUE!"},{"$error":"#VALUE!"},{"$error":"#VALUE!"},{"$error":"#VALUE!"},{"$error":"#VALUE!"},{"$error":"#VALUE!"},{"$error":"#VALUE!"},{"$error":"#VALUE!"},7,0,{"$error":"#VALUE!"},{"$error":"#VALUE!"},{"$error":"#VALUE!"},{"$error":"#VALUE!"},{"$error":"#VALUE!"},{"$error":"#VALUE!"},{"$error":"#VALUE!"},{"$error":"#VALUE!"},{"$error":"#VALUE!"},{"$error":"#VALUE!"},{"$error":"#VALUE!"},{"$error":"#VALUE!"},{"$error":"#VALUE!"},{"$error":"#VALUE!"},{"$error":"#VALUE!"},{"$error":"#VALUE!"},{"$error":"#VALUE!"},{"$error":"#VALUE!"},{"$error":"#VALUE!"},{"$error":"#VALUE!"},{"$error":"#VALUE!"},{"$error":"#VALUE!"},{"$error":"#VALUE!"},{"$error":"#VALUE!"},{"$error":"#VALUE!"},{"$error":"#VALUE!"},{"$error":"#VALUE!"},{"$error":"#VALUE!"},{"$error":"#VALUE!"},{"$error":"#VALUE!"},{"$error":"#VALUE!"},{"$error":"#VALUE!"},{"$error":"#VALUE!"},7,0,{"$error":"#VALUE!"},{"$error":"#VALUE!"},{"$error":"#VALUE!"},{"$error":"#VALUE!"},{"$error":"#VALUE!"},{"$error":"#VALUE!"},{"$error":"#VALUE!"},{"$error":"#VALUE!"},{"$error":"#VALUE!"},{"$error":"#VALUE!"},{"$error":"#VALUE!"},{"$error":"#VALUE!"},{"$error":"#VALUE!"},{"$error":"#VALUE!"},{"$error":"#VALUE!"},{"$error":"#VALUE!"},{"$error":"#VALUE!"},{"$error":"#VALUE!"},{"$error":"#VALUE!"},{"$error":"#VALUE!"},{"$error":"#VALUE!"},{"$error":"#VALUE!"},{"$error":"#VALUE!"},{"$error":"#VALUE!"},{"$error":"#VALUE!"},{"$error":"#VALUE!"},{"$error":"#VALUE!"},{"$error":"#VALUE!"},{"$error":"#VALUE!"},{"$error":"#VALUE!"},{"$error":"#VALUE!"},{"$error":"#VALUE!"},{"$error":"#VALUE!"},7,0,{"$error":"#VALUE!"},{"$error":"#VALUE!"},{"$error":"#VALUE!"},{"$error":"#VALUE!"},{"$error":"#VALUE!"},{"$error":"#VALUE!"},{"$error":"#VALUE!"},{"$error":"#VALUE!"},{"$error":"#VALUE!"},{"$error":"#VALUE!"},{"$error":"#VALUE!"},{"$error":"#VALUE!"},{"$error":"#VALUE!"},{"$error":"#VALUE!"},{"$error":"#VALUE!"},{"$error":"#VALUE!"},{"$error":"#VALUE!"},{"$error":"#VALUE!"},{"$error":"#VALUE!"},{"$error":"#VALUE!"},{"$error":"#VALUE!"},{"$error":"#VALUE!"},{"$error":"#VALUE!"},{"$error":"#VALUE!"},{"$error":"#VALUE!"},{"$error":"#VALUE!"},{"$error":"#VALUE!"},{"$error":"#VALUE!"},{"$error":"#VALUE!"},{"$error":"#VALUE!"},{"$error":"#VALUE!"},{"$error":"#VALUE!"},{"$error":"#VALUE!"},7,0,{"$error":"#VALUE!"},{"$error":"#VALUE!"},{"$error":"#VALUE!"},{"$error":"#VALUE!"},{"$error":"#VALUE!"},{"$error":"#VALUE!"},{"$error":"#VALUE!"},{"$error":"#VALUE!"},{"$error":"#VALUE!"},{"$error":"#VALUE!"},{"$error":"#VALUE!"},{"$error":"#VALUE!"},{"$error":"#VALUE!"},{"$error":"#VALUE!"},{"$error":"#VALUE!"},{"$error":"#VALUE!"},{"$error":"#VALUE!"},{"$error":"#VALUE!"},{"$error":"#VALUE!"},{"$error":"#VALUE!"},{"$error":"#VALUE!"},{"$error":"#VALUE!"},{"$error":"#VALUE!"},{"$error":"#VALUE!"},{"$error":"#VALUE!"},{"$error":"#VALUE!"},{"$error":"#VALUE!"},{"$error":"#VALUE!"},{"$error":"#VALUE!"},{"$error":"#VALUE!"},{"$error":"#VALUE!"},{"$error":"#VALUE!"},{"$error":"#VALUE!"},7,0,{"$error":"#VALUE!"},{"$error":"#VALUE!"},{"$error":"#VALUE!"},{"$error":"#VALUE!"},{"$error":"#VALUE!"},{"$error":"#VALUE!"},{"$error":"#VALUE!"},{"$error":"#VALUE!"},{"$error":"#VALUE!"},{"$error":"#VALUE!"},{"$error":"#VALUE!"},{"$error":"#VALUE!"},{"$error":"#VALUE!"},{"$error":"#VALUE!"},{"$error":"#VALUE!"},{"$error":"#VALUE!"},{"$error":"#VALUE!"},{"$error":"#VALUE!"},{"$error":"#VALUE!"},{"$error":"#VALUE!"},{"$error":"#VALUE!"},{"$error":"#VALUE!"},{"$error":"#VALUE!"},{"$error":"#VALUE!"},{"$error":"#VALUE!"},{"$error":"#VALUE!"},{"$error":"#VALUE!"},{"$error":"#VALUE!"},{"$error":"#VALUE!"},{"$error":"#VALUE!"},{"$error":"#VALUE!"},{"$error":"#VALUE!"},{"$error":"#VALUE!"}]
[null,null,null,null,null,null,null,null,null,null,null,null,null,null,null,null,null,null,null,null,null,null,null,8,null,null,null,null,null,null,null,null,null,"N/A",null,false,null,null,null,null,8,null,null,null,null,null,null,null,null,null,null,null,"OK","OK","OK","OK",100,100,100,100,100,100,100,null,8,null,null,1,null,null,null,null,null,null,null,null,null,null,1,null,null,null,null,null,null,null,null,null,null,1,null,null,null,null,null,null,null,null,null,null,1,null,null,null,null,null,null,null,null,null,null,1,null,null,null,null,null,null,null,null,null,null,1,null,null,null,null,null,null,null,null,null,8,{"$error":"#VALUE!"},{"$error":"#VALUE!"},{"$error":"#VALUE!"},{"$error":"#VALUE!"},{"$error":"#VALUE!"},{"$error":"#VALUE!"},{"$error":"#VALUE!"},{"$error":"#VALUE!"},{"$error":"#VALUE!"},{"$error":"#VALUE!"},{"$error":"#VALUE!"},{"$error":"#VALUE!"},{"$error":"#VALUE!"},{"$error":"#VALUE!"},{"$error":"#VALUE!"},{"$error":"#VALUE!"},{"$error":"#VALUE!"},{"$error":"#VALUE!"},null,8,0,{"$error":"#VALUE!"},{"$error":"#VALUE!"},{"$error":"#VALUE!"},{"$error":"#VALUE!"},{"$error":"#VALUE!"},{"$error":"#VALUE!"},{"$error":"#VALUE!"},{"$error":"#VALUE!"},{"$error":"#VALUE!"},{"$error":"#VALUE!"},{"$error":"#VALUE!"},{"$error":"#VALUE!"},{"$error":"#VALUE!"},{"$error":"#VALUE!"},{"$error":"#VALUE!"},{"$error":"#VALUE!"},{"$error":"#VALUE!"},{"$error":"#VALUE!"},{"$error":"#VALUE!"},{"$error":"#VALUE!"},{"$error":"#VALUE!"},{"$error":"#VALUE!"},{"$error":"#VALUE!"},{"$error":"#VALUE!"},{"$error":"#VALUE!"},{"$error":"#VALUE!"},{"$error":"#VALUE!"},{"$error":"#VALUE!"},{"$error":"#VALUE!"},{"$error":"#VALUE!"},{"$error":"#VALUE!"},{"$error":"#VALUE!"},{"$error":"#VALUE!"},8,0,{"$error":"#VALUE!"},{"$error":"#VALUE!"},{"$error":"#VALUE!"},{"$error":"#VALUE!"},{"$error":"#VALUE!"},{"$error":"#VALUE!"},{"$error":"#VALUE!"},{"$error":"#VALUE!"},{"$error":"#VALUE!"},{"$error":"#VALUE!"},{"$error":"#VALUE!"},{"$error":"#VALUE!"},{"$error":"#VALUE!"},{"$error":"#VALUE!"},{"$error":"#VALUE!"},{"$error":"#VALUE!"},{"$error":"#VALUE!"},{"$error":"#VALUE!"},{"$error":"#VALUE!"},{"$error":"#VALUE!"},{"$error":"#VALUE!"},{"$error":"#VALUE!"},{"$error":"#VALUE!"},{"$error":"#VALUE!"},{"$error":"#VALUE!"},{"$error":"#VALUE!"},{"$error":"#VALUE!"},{"$error":"#VALUE!"},{"$error":"#VALUE!"},{"$error":"#VALUE!"},{"$error":"#VALUE!"},{"$error":"#VALUE!"},{"$error":"#VALUE!"},8,0,{"$error":"#VALUE!"},{"$error":"#VALUE!"},{"$error":"#VALUE!"},{"$error":"#VALUE!"},{"$error":"#VALUE!"},{"$error":"#VALUE!"},{"$error":"#VALUE!"},{"$error":"#VALUE!"},{"$error":"#VALUE!"},{"$error":"#VALUE!"},{"$error":"#VALUE!"},{"$error":"#VALUE!"},{"$error":"#VALUE!"},{"$error":"#VALUE!"},{"$error":"#VALUE!"},{"$error":"#VALUE!"},{"$error":"#VALUE!"},{"$error":"#VALUE!"},{"$error":"#VALUE!"},{"$error":"#VALUE!"},{"$error":"#VALUE!"},{"$error":"#VALUE!"},{"$error":"#VALUE!"},{"$error":"#VALUE!"},{"$error":"#VALUE!"},{"$error":"#VALUE!"},{"$error":"#VALUE!"},{"$error":"#VALUE!"},{"$error":"#VALUE!"},{"$error":"#VALUE!"},{"$error":"#VALUE!"},{"$error":"#VALUE!"},{"$error":"#VALUE!"},8,0,{"$error":"#VALUE!"},{"$error":"#VALUE!"},{"$error":"#VALUE!"},{"$error":"#VALUE!"},{"$error":"#VALUE!"},{"$error":"#VALUE!"},{"$error":"#VALUE!"},{"$error":"#VALUE!"},{"$error":"#VALUE!"},{"$error":"#VALUE!"},{"$error":"#VALUE!"},{"$error":"#VALUE!"},{"$error":"#VALUE!"},{"$error":"#VALUE!"},{"$error":"#VALUE!"},{"$error":"#VALUE!"},{"$error":"#VALUE!"},{"$error":"#VALUE!"},{"$error":"#VALUE!"},{"$error":"#VALUE!"},{"$error":"#VALUE!"},{"$error":"#VALUE!"},{"$error":"#VALUE!"},{"$error":"#VALUE!"},{"$error":"#VALUE!"},{"$error":"#VALUE!"},{"$error":"#VALUE!"},{"$error":"#VALUE!"},{"$error":"#VALUE!"},{"$error":"#VALUE!"},{"$error":"#VALUE!"},{"$error":"#VALUE!"},{"$error":"#VALUE!"},8,0,{"$error":"#VALUE!"},{"$error":"#VALUE!"},{"$error":"#VALUE!"},{"$error":"#VALUE!"},{"$error":"#VALUE!"},{"$error":"#VALUE!"},{"$error":"#VALUE!"},{"$error":"#VALUE!"},{"$error":"#VALUE!"},{"$error":"#VALUE!"},{"$error":"#VALUE!"},{"$error":"#VALUE!"},{"$error":"#VALUE!"},{"$error":"#VALUE!"},{"$error":"#VALUE!"},{"$error":"#VALUE!"},{"$error":"#VALUE!"},{"$error":"#VALUE!"},{"$error":"#VALUE!"},{"$error":"#VALUE!"},{"$error":"#VALUE!"},{"$error":"#VALUE!"},{"$error":"#VALUE!"},{"$error":"#VALUE!"},{"$error":"#VALUE!"},{"$error":"#VALUE!"},{"$error":"#VALUE!"},{"$error":"#VALUE!"},{"$error":"#VALUE!"},{"$error":"#VALUE!"},{"$error":"#VALUE!"},{"$error":"#VALUE!"},{"$error":"#VALUE!"},8,0,{"$error":"#VALUE!"},{"$error":"#VALUE!"},{"$error":"#VALUE!"},{"$error":"#VALUE!"},{"$error":"#VALUE!"},{"$error":"#VALUE!"},{"$error":"#VALUE!"},{"$error":"#VALUE!"},{"$error":"#VALUE!"},{"$error":"#VALUE!"},{"$error":"#VALUE!"},{"$error":"#VALUE!"},{"$error":"#VALUE!"},{"$error":"#VALUE!"},{"$error":"#VALUE!"},{"$error":"#VALUE!"},{"$error":"#VALUE!"},{"$error":"#VALUE!"},{"$error":"#VALUE!"},{"$error":"#VALUE!"},{"$error":"#VALUE!"},{"$error":"#VALUE!"},{"$error":"#VALUE!"},{"$error":"#VALUE!"},{"$error":"#VALUE!"},{"$error":"#VALUE!"},{"$error":"#VALUE!"},{"$error":"#VALUE!"},{"$error":"#VALUE!"},{"$error":"#VALUE!"},{"$error":"#VALUE!"},{"$error":"#VALUE!"},{"$error":"#VALUE!"}]
[null,null,null,null,null,null,null,null,null,null,null,null,null,null,null,null,null,null,null,null,null,null,null,9,null,null,null,null,null,null,null,null,null,"N/A",null,false,null,null,null,null,9,null,null,null,null,null,null,null,null,null,null,null,"OK","OK","OK","OK",100,100,100,{"$f":"(CU151*POWER(10,0)+CV151*POWER(10,1)+CW151*POWER(10,2)+CX151*POWER(10,3)+CY151*POWER(10,4)+CZ151*POWER(10,5)+DA151*POWER(10,6)+DB151*POWER(10,7)+DC151*POWER(10,8)+DD151*POWER(10,9)+DE151*POWER(10,10))","v":100},{"$f":"(DF151*POWER(10,0)+DG151*POWER(10,1)+DH151*POWER(10,2)+DI151*POWER(10,3)+DJ151*POWER(10,4)+DK151*POWER(10,5)+DL151*POWER(10,6)+DM151*POWER(10,7)+DN151*POWER(10,8)+DO151*POWER(10,9)+DP151*POWER(10,10))","v":100},100,100,null,9,null,null,1,null,null,null,null,null,null,null,null,null,null,1,null,null,null,null,null,null,null,null,null,null,1,null,null,null,null,null,null,null,null,null,null,1,null,null,null,null,null,null,null,null,null,null,1,null,null,null,null,null,null,null,null,null,null,1,null,null,null,null,null,null,null,null,null,9,{"$error":"#VALUE!"},{"$error":"#VALUE!"},{"$error":"#VALUE!"},{"$error":"#VALUE!"},{"$error":"#VALUE!"},{"$error":"#VALUE!"},{"$error":"#VALUE!"},{"$error":"#VALUE!"},{"$error":"#VALUE!"},{"$error":"#VALUE!"},{"$error":"#VALUE!"},{"$error":"#VALUE!"},{"$error":"#VALUE!"},{"$error":"#VALUE!"},{"$error":"#VALUE!"},{"$error":"#VALUE!"},{"$error":"#VALUE!"},{"$error":"#VALUE!"},null,9,0,{"$error":"#VALUE!"},{"$error":"#VALUE!"},{"$error":"#VALUE!"},{"$error":"#VALUE!"},{"$error":"#VALUE!"},{"$error":"#VALUE!"},{"$error":"#VALUE!"},{"$error":"#VALUE!"},{"$error":"#VALUE!"},{"$error":"#VALUE!"},{"$error":"#VALUE!"},{"$error":"#VALUE!"},{"$error":"#VALUE!"},{"$error":"#VALUE!"},{"$error":"#VALUE!"},{"$error":"#VALUE!"},{"$error":"#VALUE!"},{"$error":"#VALUE!"},{"$error":"#VALUE!"},{"$error":"#VALUE!"},{"$error":"#VALUE!"},{"$error":"#VALUE!"},{"$error":"#VALUE!"},{"$error":"#VALUE!"},{"$error":"#VALUE!"},{"$error":"#VALUE!"},{"$error":"#VALUE!"},{"$error":"#VALUE!"},{"$error":"#VALUE!"},{"$error":"#VALUE!"},{"$error":"#VALUE!"},{"$error":"#VALUE!"},{"$error":"#VALUE!"},9,0,{"$error":"#VALUE!"},{"$error":"#VALUE!"},{"$error":"#VALUE!"},{"$error":"#VALUE!"},{"$error":"#VALUE!"},{"$error":"#VALUE!"},{"$error":"#VALUE!"},{"$error":"#VALUE!"},{"$error":"#VALUE!"},{"$error":"#VALUE!"},{"$error":"#VALUE!"},{"$error":"#VALUE!"},{"$error":"#VALUE!"},{"$error":"#VALUE!"},{"$error":"#VALUE!"},{"$error":"#VALUE!"},{"$error":"#VALUE!"},{"$error":"#VALUE!"},{"$error":"#VALUE!"},{"$error":"#VALUE!"},{"$error":"#VALUE!"},{"$error":"#VALUE!"},{"$error":"#VALUE!"},{"$error":"#VALUE!"},{"$error":"#VALUE!"},{"$error":"#VALUE!"},{"$error":"#VALUE!"},{"$error":"#VALUE!"},{"$error":"#VALUE!"},{"$error":"#VALUE!"},{"$error":"#VALUE!"},{"$error":"#VALUE!"},{"$error":"#VALUE!"},9,0,{"$error":"#VALUE!"},{"$error":"#VALUE!"},{"$error":"#VALUE!"},{"$error":"#VALUE!"},{"$error":"#VALUE!"},{"$error":"#VALUE!"},{"$error":"#VALUE!"},{"$error":"#VALUE!"},{"$error":"#VALUE!"},{"$error":"#VALUE!"},{"$error":"#VALUE!"},{"$error":"#VALUE!"},{"$error":"#VALUE!"},{"$error":"#VALUE!"},{"$error":"#VALUE!"},{"$error":"#VALUE!"},{"$error":"#VALUE!"},{"$error":"#VALUE!"},{"$error":"#VALUE!"},{"$error":"#VALUE!"},{"$error":"#VALUE!"},{"$error":"#VALUE!"},{"$error":"#VALUE!"},{"$error":"#VALUE!"},{"$error":"#VALUE!"},{"$error":"#VALUE!"},{"$error":"#VALUE!"},{"$error":"#VALUE!"},{"$error":"#VALUE!"},{"$error":"#VALUE!"},{"$error":"#VALUE!"},{"$error":"#VALUE!"},{"$error":"#VALUE!"},9,0,{"$error":"#VALUE!"},{"$error":"#VALUE!"},{"$error":"#VALUE!"},{"$error":"#VALUE!"},{"$error":"#VALUE!"},{"$error":"#VALUE!"},{"$error":"#VALUE!"},{"$error":"#VALUE!"},{"$error":"#VALUE!"},{"$error":"#VALUE!"},{"$error":"#VALUE!"},{"$error":"#VALUE!"},{"$error":"#VALUE!"},{"$error":"#VALUE!"},{"$error":"#VALUE!"},{"$error":"#VALUE!"},{"$error":"#VALUE!"},{"$error":"#VALUE!"},{"$error":"#VALUE!"},{"$error":"#VALUE!"},{"$error":"#VALUE!"},{"$error":"#VALUE!"},{"$error":"#VALUE!"},{"$error":"#VALUE!"},{"$error":"#VALUE!"},{"$error":"#VALUE!"},{"$error":"#VALUE!"},{"$error":"#VALUE!"},{"$error":"#VALUE!"},{"$error":"#VALUE!"},{"$error":"#VALUE!"},{"$error":"#VALUE!"},{"$error":"#VALUE!"},9,0,{"$error":"#VALUE!"},{"$error":"#VALUE!"},{"$error":"#VALUE!"},{"$error":"#VALUE!"},{"$error":"#VALUE!"},{"$error":"#VALUE!"},{"$error":"#VALUE!"},{"$error":"#VALUE!"},{"$error":"#VALUE!"},{"$error":"#VALUE!"},{"$error":"#VALUE!"},{"$error":"#VALUE!"},{"$error":"#VALUE!"},{"$error":"#VALUE!"},{"$error":"#VALUE!"},{"$error":"#VALUE!"},{"$error":"#VALUE!"},{"$error":"#VALUE!"},{"$error":"#VALUE!"},{"$error":"#VALUE!"},{"$error":"#VALUE!"},{"$error":"#VALUE!"},{"$error":"#VALUE!"},{"$error":"#VALUE!"},{"$error":"#VALUE!"},{"$error":"#VALUE!"},{"$error":"#VALUE!"},{"$error":"#VALUE!"},{"$error":"#VALUE!"},{"$error":"#VALUE!"},{"$error":"#VALUE!"},{"$error":"#VALUE!"},{"$error":"#VALUE!"},9,0,{"$error":"#VALUE!"},{"$error":"#VALUE!"},{"$error":"#VALUE!"},{"$error":"#VALUE!"},{"$error":"#VALUE!"},{"$error":"#VALUE!"},{"$error":"#VALUE!"},{"$error":"#VALUE!"},{"$error":"#VALUE!"},{"$error":"#VALUE!"},{"$error":"#VALUE!"},{"$error":"#VALUE!"},{"$error":"#VALUE!"},{"$error":"#VALUE!"},{"$error":"#VALUE!"},{"$error":"#VALUE!"},{"$error":"#VALUE!"},{"$error":"#VALUE!"},{"$error":"#VALUE!"},{"$error":"#VALUE!"},{"$error":"#VALUE!"},{"$error":"#VALUE!"},{"$error":"#VALUE!"},{"$error":"#VALUE!"},{"$error":"#VALUE!"},{"$error":"#VALUE!"},{"$error":"#VALUE!"},{"$error":"#VALUE!"},{"$error":"#VALUE!"},{"$error":"#VALUE!"},{"$error":"#VALUE!"},{"$error":"#VALUE!"},{"$error":"#VALUE!"}]
[null,null,null,null,null,null,null,null,null,null,null,null,null,null,null,null,null,null,null,null,null,null,null,"Total",{"$f":"SUM(Y145:Y151)","v":0},{"$f":"SUM(Z145:Z151)","v":0},0,0,0,0,null,null,null,"N/A",null,false,null,null,null,null,"Total",null,null,null,null,null,null,null,null,null,null,null,null,null,null,null,null,null,null,null,null,null,null,null,"Total",null,null,null,null,null,null,null,null,null,null,null,null,null,null,null,null,null,null,null,null,null,null,null,null,null,null,null,null,null,null,null,null,null,null,null,null,null,null,null,null,null,null,null,null,null,null,null,null,null,null,null,null,null,null,null,null,null,null,null,null,null,null,null,null,null,null,null,"Total",{"$f":"SUM(ED145:ED151)","v":{"$error":"#VALUE!"}},{"$f":"SUM(EE145:EE151)","v":{"$error":"#VALUE!"}},{"$f":"SUM(EF145:EF151)","v":{"$error":"#VALUE!"}},{"$f":"SUM(EG145:EG151)","v":{"$error":"#VALUE!"}},{"$f":"SUM(EH145:EH151)","v":{"$error":"#VALUE!"}},{"$f":"SUM(EI145:EI151)","v":{"$error":"#VALUE!"}},{"$error":"#VALUE!"},{"$error":"#VALUE!"},{"$error":"#VALUE!"},{"$error":"#VALUE!"},{"$error":"#VALUE!"},{"$error":"#VALUE!"},{"$error":"#VALUE!"},{"$error":"#VALUE!"},{"$error":"#VALUE!"},{"$error":"#VALUE!"},{"$error":"#VALUE!"},{"$error":"#VALUE!"},null,"Total",{"$f":"SUM(EX145:EX151)","v":0},{"$f":"SUM(EY145:EY151)","v":{"$error":"#VALUE!"}},{"$f":"SUM(EZ145:EZ151)","v":{"$error":"#VALUE!"}},{"$error":"#VALUE!"},{"$error":"#VALUE!"},{"$f":"SUM(FC145:FC151)","v":{"$error":"#VALUE!"}},{"$f":"SUM(FD145:FD151)","v":{"$error":"#VALUE!"}},{"$error":"#VALUE!"},{"$error":"#VALUE!"},{"$error":"#VALUE!"},{"$error":"#VALUE!"},{"$error":"#VALUE!"},{"$error":"#VALUE!"},{"$error":"#VALUE!"},{"$error":"#VALUE!"},{"$error":"#VALUE!"},{"$f":"SUM(FN145:FN151)","v":{"$error":"#VALUE!"}},{"$f":"SUM(FO145:FO151)","v":{"$error":"#VALUE!"}},{"$f":"SUM(FP145:FP151)","v":{"$error":"#VALUE!"}},{"$f":"SUM(FQ145:FQ151)","v":{"$error":"#VALUE!"}},{"$error":"#VALUE!"},{"$error":"#VALUE!"},{"$error":"#VALUE!"},{"$error":"#VALUE!"},{"$error":"#VALUE!"},{"$error":"#VALUE!"},{"$error":"#VALUE!"},{"$error":"#VALUE!"},{"$error":"#VALUE!"},{"$error":"#VALUE!"},{"$error":"#VALUE!"},{"$f":"SUM(GC145:GC151)","v":{"$error":"#VALUE!"}},{"$f":"SUM(GD145:GD151)","v":{"$error":"#VALUE!"}},{"$error":"#VALUE!"},"Total",{"$f":"SUM(GG145:GG151)","v":0},{"$f":"SUM(GH145:GH151)","v":{"$error":"#VALUE!"}},{"$f":"SUM(GI145:GI151)","v":{"$error":"#VALUE!"}},{"$error":"#VALUE!"},{"$error":"#VALUE!"},{"$f":"SUM(GL145:GL151)","v":{"$error":"#VALUE!"}},{"$f":"SUM(GM145:GM151)","v":{"$error":"#VALUE!"}},{"$f":"SUM(GN145:GN151)","v":{"$error":"#VALUE!"}},{"$error":"#VALUE!"},{"$error":"#VALUE!"},{"$error":"#VALUE!"},{"$error":"#VALUE!"},{"$error":"#VALUE!"},{"$error":"#VALUE!"},{"$error":"#VALUE!"},{"$error":"#VALUE!"},{"$f":"SUM(GW145:GW151)","v":{"$error":"#VALUE!"}},{"$f":"SUM(GX145:GX151)","v":{"$error":"#VALUE!"}},{"$f":"SUM(GY145:GY151)","v":{"$error":"#VALUE!"}},{"$f":"SUM(GZ145:GZ151)","v":{"$error":"#VALUE!"}},{"$error":"#VALUE!"},{"$error":"#VALUE!"},{"$error":"#VALUE!"},{"$error":"#VALUE!"},{"$error":"#VALUE!"},{"$error":"#VALUE!"},{"$error":"#VALUE!"},{"$error":"#VALUE!"},{"$error":"#VALUE!"},{"$error":"#VALUE!"},{"$error":"#VALUE!"},{"$f":"SUM(HL145:HL151)","v":{"$error":"#VALUE!"}},{"$f":"SUM(HM145:HM151)","v":{"$error":"#VALUE!"}},{"$error":"#VALUE!"},"Total",{"$f":"SUM(HP145:HP151)","v":0},{"$f":"SUM(HQ145:HQ151)","v":{"$error":"#VALUE!"}},{"$f":"SUM(HR145:HR151)","v":{"$error":"#VALUE!"}},{"$error":"#VALUE!"},{"$error":"#VALUE!"},{"$f":"SUM(HU145:HU151)","v":{"$error":"#VALUE!"}},{"$f":"SUM(HV145:HV151)","v":{"$error":"#VALUE!"}},{"$error":"#VALUE!"},{"$error":"#VALUE!"},{"$error":"#VALUE!"},{"$error":"#VALUE!"},{"$error":"#VALUE!"},{"$error":"#VALUE!"},{"$error":"#VALUE!"},{"$error":"#VALUE!"},{"$error":"#VALUE!"},{"$f":"SUM(IF145:IF151)","v":{"$error":"#VALUE!"}},{"$f":"SUM(IG145:IG151)","v":{"$error":"#VALUE!"}},{"$f":"SUM(IH145:IH151)","v":{"$error":"#VALUE!"}},{"$f":"SUM(II145:II151)","v":{"$error":"#VALUE!"}},{"$error":"#VALUE!"},{"$error":"#VALUE!"},{"$error":"#VALUE!"},{"$error":"#VALUE!"},{"$error":"#VALUE!"},{"$error":"#VALUE!"},{"$error":"#VALUE!"},{"$error":"#VALUE!"},{"$error":"#VALUE!"},{"$error":"#VALUE!"},{"$error":"#VALUE!"},{"$f":"SUM(IU145:IU151)","v":{"$error":"#VALUE!"}},{"$f":"SUM(IV145:IV151)","v":{"$error":"#VALUE!"}},{"$error":"#VALUE!"},"Total",{"$f":"SUM(IY145:IY151)","v":0},{"$f":"SUM(IZ145:IZ151)","v":{"$error":"#VALUE!"}},{"$f":"SUM(JA145:JA151)","v":{"$error":"#VALUE!"}},{"$error":"#VALUE!"},{"$error":"#VALUE!"},{"$f":"SUM(JD145:JD151)","v":{"$error":"#VALUE!"}},{"$f":"SUM(JE145:JE151)","v":{"$error":"#VALUE!"}},{"$error":"#VALUE!"},{"$error":"#VALUE!"},{"$error":"#VALUE!"},{"$error":"#VALUE!"},{"$error":"#VALUE!"},{"$error":"#VALUE!"},{"$error":"#VALUE!"},{"$error":"#VALUE!"},{"$error":"#VALUE!"},{"$f":"SUM(JO145:JO151)","v":{"$error":"#VALUE!"}},{"$f":"SUM(JP145:JP151)","v":{"$error":"#VALUE!"}},{"$f":"SUM(JQ145:JQ151)","v":{"$error":"#VALUE!"}},{"$f":"SUM(JR145:JR151)","v":{"$error":"#VALUE!"}},{"$error":"#VALUE!"},{"$error":"#VALUE!"},{"$error":"#VALUE!"},{"$error":"#VALUE!"},{"$error":"#VALUE!"},{"$error":"#VALUE!"},{"$error":"#VALUE!"},{"$error":"#VALUE!"},{"$error":"#VALUE!"},{"$error":"#VALUE!"},{"$error":"#VALUE!"},{"$f":"SUM(KD145:KD151)","v":{"$error":"#VALUE!"}},{"$f":"SUM(KE145:KE151)","v":{"$error":"#VALUE!"}},{"$error":"#VALUE!"},"Total",{"$f":"SUM(KH145:KH151)","v":0},{"$f":"SUM(KI145:KI151)","v":{"$error":"#VALUE!"}},{"$f":"SUM(KJ145:KJ151)","v":{"$error":"#VALUE!"}},{"$error":"#VALUE!"},{"$error":"#VALUE!"},{"$f":"SUM(KM145:KM151)","v":{"$error":"#VALUE!"}},{"$f":"SUM(KN145:KN151)","v":{"$error":"#VALUE!"}},{"$error":"#VALUE!"},{"$error":"#VALUE!"},{"$error":"#VALUE!"},{"$error":"#VALUE!"},{"$error":"#VALUE!"},{"$error":"#VALUE!"},{"$error":"#VALUE!"},{"$error":"#VALUE!"},{"$error":"#VALUE!"},{"$f":"SUM(KX145:KX151)","v":{"$error":"#VALUE!"}},{"$f":"SUM(KY145:KY151)","v":{"$error":"#VALUE!"}},{"$f":"SUM(KZ145:KZ151)","v":{"$error":"#VALUE!"}},{"$f":"SUM(LA145:LA151)","v":{"$error":"#VALUE!"}},{"$error":"#VALUE!"},{"$error":"#VALUE!"},{"$error":"#VALUE!"},{"$error":"#VALUE!"},{"$error":"#VALUE!"},{"$error":"#VALUE!"},{"$error":"#VALUE!"},{"$error":"#VALUE!"},{"$error":"#VALUE!"},{"$error":"#VALUE!"},{"$error":"#VALUE!"},{"$f":"SUM(LM145:LM151)","v":{"$error":"#VALUE!"}},{"$f":"SUM(LN145:LN151)","v":{"$error":"#VALUE!"}},{"$error":"#VALUE!"},"Total",{"$f":"SUM(LQ145:LQ151)","v":0},{"$f":"SUM(LR145:LR151)","v":{"$error":"#VALUE!"}},{"$f":"SUM(LS145:LS151)","v":{"$error":"#VALUE!"}},{"$error":"#VALUE!"},{"$error":"#VALUE!"},{"$f":"SUM(LV145:LV151)","v":{"$error":"#VALUE!"}},{"$f":"SUM(LW145:LW151)","v":{"$error":"#VALUE!"}},{"$error":"#VALUE!"},{"$error":"#VALUE!"},{"$error":"#VALUE!"},{"$error":"#VALUE!"},{"$error":"#VALUE!"},{"$error":"#VALUE!"},{"$error":"#VALUE!"},{"$error":"#VALUE!"},{"$f":"SUM(MF145:MF151)","v":{"$error":"#VALUE!"}},{"$f":"SUM(MG145:MG151)","v":{"$error":"#VALUE!"}},{"$f":"SUM(MH145:MH151)","v":{"$error":"#VALUE!"}},{"$f":"SUM(MI145:MI151)","v":{"$error":"#VALUE!"}},{"$f":"SUM(MJ145:MJ151)","v":{"$error":"#VALUE!"}},{"$error":"#VALUE!"},{"$error":"#VALUE!"},{"$error":"#VALUE!"},{"$error":"#VALUE!"},{"$error":"#VALUE!"},{"$error":"#VALUE!"},{"$error":"#VALUE!"},{"$error":"#VALUE!"},{"$error":"#VALUE!"},{"$error":"#VALUE!"},{"$error":"#VALUE!"},{"$f":"SUM(MV145:MV151)","v":{"$error":"#VALUE!"}},{"$f":"SUM(MW145:MW151)","v":{"$error":"#VALUE!"}},{"$error":"#VALUE!"}]
[null,16,{"$f":"'Regional Project List Sheet'!F20","v":0},{"$f":"IF('Regional Project List Sheet'!$G20=\"New\",1,\"\")","v":""},{"$f":"IF('Regional Project List Sheet'!$G20=\"Funded Old\",1,\"\")","v":""},{"$f":"IF('Regional Project List Sheet'!$G20=\"Unfunded Old\",1,\"\")","v":""},{"$f":"'Regional Project List Sheet'!H20","v":0},{"$f":"'Regional Project List Sheet'!I20","v":0},{"$f":"'Regional Project List Sheet'!L20","v":0},{"$f":"'Regional Project List Sheet'!M20","v":0},{"$f":"'Regional Project List Sheet'!N20","v":0},{"$f":"'Regional Project List Sheet'!O20","v":0},{"$f":"'Regional Project List Sheet'!P20","v":0},{"$f":"IF('Regional Project List Sheet'!$Q20=\"N/A\",\"N/A\",IF($Y156<>0,5,IF($Z156<>0,4,IF($AA156<>0,3,IF($AB156<>0,2,1)))))","v":1},{"$f":"VLOOKUP($C153,'[2]Ranking|Priority'!$B$5:$O$40,12,FALSE)","v":{"$error":"#N/A"}},{"$f":"VLOOKUP($C153,'[2]Ranking|Priority'!$B$5:$O$68,13,FALSE)","v":{"$error":"#N/A"}},{"$f":"VLOOKUP($C153,'[2]Ranking|Priority'!$B$5:$O$68,14,FALSE)","v":{"$error":"#N/A"}},{"$f":"'Regional Project List Sheet'!T20","v":0},{"$f":"'Regional Project List Sheet'!U20","v":0},{"$f":"'Regional Project List Sheet'!V20","v":0},{"$f":"'Regional Project List Sheet'!W20","v":0},{"$f":"'Regional Project List Sheet'!X20","v":0},{"$f":"'Regional Project List Sheet'!Y20","v":"Choose from Project List in cell I2"},0,null,null,null,null,null,null,null,{"$f":"'Regional Project List Sheet'!AJ20","v":0},{"$f":"IF(OR('Regional Project List Sheet'!$AA20<>'Regional Project List Sheet'!$A$40,'Regional Project List Sheet'!$AD20<>'Regional Project List Sheet'!$A$40,'Regional Project List Sheet'!$AG20<>'Regional Project List Sheet'!$A$40),_xlfn.CONCAT(IF(ISNUMBER('Regional Project List Sheet'!$AA20),'Regional Project List Sheet'!$A$36,\"\"),\" \",IF(ISNUMBER('Regional Project List Sheet'!$AD20),'Regional Project List Sheet'!$A$37,\"\"),\" \",IF(ISNUMBER('Regional Project List Sheet'!$AG20),'Regional Project List Sheet'!$A$38,\"\")),\"N/A\")","v":"N/A"},"N/A",{"$f":"IF(OR('Regional Project List Sheet'!AC20<>'Regional Project List Sheet'!$A$40,'Regional Project List Sheet'!AF20<>'Regional Project List Sheet'!$A$40,'Regional Project List Sheet'!AI20<>'Regional Project List Sheet'!$A$40),\n\nIF(LEN(_xlfn.CONCAT(IF('Regional Project List Sheet'!AC20=\"Yes\",'Regional Project List Sheet'!$A$36,\"\"),\" \",\n\nIF('Regional Project List Sheet'!AF20=\"Yes\",'Regional Project List Sheet'!$A$37,\"\"),\" \",\n\nIF('Regional Project List Sheet'!AI20=\"Yes\",'Regional Project List Sheet'!$A$38,\"\")))<3,\"No\",\n\n_xlfn.CONCAT(IF('Regional Project List Sheet'!AC20=\"Yes\",'Regional Project List Sheet'!$A$36,\"\"),\" \",\n\nIF('Regional Project List Sheet'!AF20=\"Yes\",'Regional Project List Sheet'!$A$37,\"\"),\" \",\n\nIF('Regional Project List Sheet'!AI20=\"Yes\",'Regional Project List Sheet'!$A$38,\"\"))))","v":false},false,{"$f":"'Regional Project List Sheet'!AK20","v":0},null,{"$f":"'Regional Project List Sheet'!AL20","v":0},null,0,null,null,null,null,null,null,null,null,null,null,1,{"$f":"IF(AND(BB153=\"OK\",BC153=\"OK\",BD153=\"OK\"),\"OK\",\"ERR!\")","v":"OK"},{"$f":"IF(AND(Y153>0,SUM(BN153:BX153)<1),\"ERR!\",IF(AND(Z153>0,SUM(BY153:CI153)<1),\"ERR!\",IF(AND(AA153>0,SUM(CJ153:CT153)<1),\"ERR\",IF(AND(AB153>0,SUM(CU153:DE153)<1),\"ERR\",IF(AND(AC153>0,SUM(DF153:DP153)<1),\"ERR\",IF(AND(AD153>0,SUM(DQ153:EA153)<1),\"ERR\",\"OK\"))))))","v":"OK"},{"$f":"IF(OR(SUM(BN153:BX153)<>1,SUM(BY153:CI153)<>1,SUM(CJ153:CT153)<>1,SUM(CU153:DE153)<>1,SUM(DF153:DP153)<>1,SUM(DQ153:EA153)<>1),\"ERR!\",\"OK\")","v":"OK"},{"$f":"IF(AND(OR(BE153=BK153,BE153=0),OR(BF153=BK153,BF153=0),OR(BG153=BK153,BG153=0),OR(BH153=BK153,BH153=0),OR(BI153=BK153,BI153=0),OR(BJ153=BK153,BJ153=0)),\"OK\",\"ERR!\")","v":"OK"},{"$f":"(BN153*POWER(10,0)+BO153*POWER(10,1)+BP153*POWER(10,2)+BQ153*POWER(10,3)+BR153*POWER(10,4)+BS153*POWER(10,5)+BT153*POWER(10,6)+BU153*POWER(10,7)+BV153*POWER(10,8)+BW153*POWER(10,9)+BX153*POWER(10,10))","v":1000000},{"$f":"(BY153*POWER(10,0)+BZ153*POWER(10,1)+CA153*POWER(10,2)+CB153*POWER(10,3)+CC153*POWER(10,4)+CD153*POWER(10,5)+CE153*POWER(10,6)+CF153*POWER(10,7)+CG153*POWER(10,8)+CH153*POWER(10,9)+CI153*POWER(10,10))","v":1000000},{"$f":"(CJ153*POWER(10,0)+CK153*POWER(10,1)+CL153*POWER(10,2)+CM153*POWER(10,3)+CN153*POWER(10,4)+CO153*POWER(10,5)+CP153*POWER(10,6)+CQ153*POWER(10,7)+CR153*POWER(10,8)+CS153*POWER(10,9)+CT153*POWER(10,10))","v":1000000},{"$f":"(CU153*POWER(10,0)+CV153*POWER(10,1)+CW153*POWER(10,2)+CX153*POWER(10,3)+CY153*POWER(10,4)+CZ153*POWER(10,5)+DA153*POWER(10,6)+DB153*POWER(10,7)+DC153*POWER(10,8)+DD153*POWER(10,9)+DE153*POWER(10,10))","v":1000000},{"$f":"(DF153*POWER(10,0)+DG153*POWER(10,1)+DH153*POWER(10,2)+DI153*POWER(10,3)+DJ153*POWER(10,4)+DK153*POWER(10,5)+DL153*POWER(10,6)+DM153*POWER(10,7)+DN153*POWER(10,8)+DO153*POWER(10,9)+DP153*POWER(10,10))","v":1000000},{"$f":"(DQ153*POWER(10,0)+DR153*POWER(10,1)+DS153*POWER(10,2)+DT153*POWER(10,3)+DU153*POWER(10,4)+DV153*POWER(10,5)+DW153*POWER(10,6)+DX153*POWER(10,7)+DY153*POWER(10,8)+DZ153*POWER(10,9)+EA153*POWER(10,10))","v":1000000},{"$f":"MAX(BE153:BJ153)","v":1000000},null,0,null,null,null,null,null,null,1,null,null,null,null,null,null,null,null,null,null,1,null,null,null,null,null,null,null,null,null,null,1,null,null,null,null,null,null,null,null,null,null,1,null,null,null,null,null,null,null,null,null,null,1,null,null,null,null,null,null,null,null,null,null,1,null,null,null,null,null,0,{"$f":"($Y153*D$153)/1000","v":{"$error":"#VALUE!"}},{"$error":"#VALUE!"},{"$error":"#VALUE!"},{"$f":"($Z153*D$153)/1000","v":{"$error":"#VALUE!"}},{"$error":"#VALUE!"},{"$error":"#VALUE!"},{"$f":"($AA153*D$153)/1000","v":{"$error":"#VALUE!"}},{"$error":"#VALUE!"},{"$error":"#VALUE!"},{"$f":"($AB153*D$153)/1000","v":{"$error":"#VALUE!"}},{"$error":"#VALUE!"},{"$error":"#VALUE!"},{"$f":"($AC153*D$153)/1000","v":{"$error":"#VALUE!"}},{"$error":"#VALUE!"},{"$error":"#VALUE!"},{"$f":"($AD153*D$153)/1000","v":{"$error":"#VALUE!"}},{"$error":"#VALUE!"},{"$error":"#VALUE!"},null,0,{"$f":"$AZ$153*$Y153","v":0},{"$f":"($AZ$153*$BN153*D$153*$Y153)/1000","v":{"$error":"#VALUE!"}},{"$error":"#VALUE!"},{"$error":"#VALUE!"},{"$f":"($AZ$153*$BO153*D$153*$Y153)/1000","v":{"$error":"#VALUE!"}},{"$error":"#VALUE!"},{"$error":"#VALUE!"},{"$f":"($AZ$153*$BP153*D$153*$Y153)/1000","v":{"$error":"#VALUE!"}},{"$error":"#VALUE!"},{"$error":"#VALUE!"},{"$f":"($AZ$153*$BQ153*D$153*$Y153)/1000","v":{"$error":"#VALUE!"}},{"$error":"#VALUE!"},{"$error":"#VALUE!"},{"$f":"($AZ$153*$BR153*D$153*$Y153)/1000","v":{"$error":"#VALUE!"}},{"$error":"#VALUE!"},{"$error":"#VALUE!"},{"$f":"($AZ$153*$BS153*D$153*$Y153)/1000","v":{"$error":"#VALUE!"}},{"$error":"#VALUE!"},{"$error":"#VALUE!"},{"$f":"($AZ$153*$BT153*D$153*$Y153)/1000","v":{"$error":"#VALUE!"}},{"$error":"#VALUE!"},{"$error":"#VALUE!"},{"$f":"($AZ$153*$BU153*D$153*$Y153)/1000","v":{"$error":"#VALUE!"}},{"$error":"#VALUE!"},{"$error":"#VALUE!"},{"$f":"($AZ$153*$BV153*D$153*$Y153)/1000","v":{"$error":"#VALUE!"}},{"$error":"#VALUE!"},{"$error":"#VALUE!"},{"$f":"($AZ$153*$BW153*D$153*$Y153)/1000","v":{"$error":"#VALUE!"}},{"$error":"#VALUE!"},{"$error":"#VALUE!"},{"$f":"($AZ$153*$BX153*D$153*$Y153)/1000","v":{"$error":"#VALUE!"}},{"$error":"#VALUE!"},{"$error":"#VALUE!"},0,{"$f":"$AZ$153*$Z153","v":0},{"$f":"($AZ$153*$BY153*D$153*$Z153)/1000","v":{"$error":"#VALUE!"}},{"$error":"#VALUE!"},{"$error":"#VALUE!"},{"$f":"($AZ$153*$BZ153*D$153*$Z153)/1000","v":{"$error":"#VALUE!"}},{"$error":"#VALUE!"},{"$error":"#VALUE!"},{"$f":"($AZ$153*$CA153*D$153*$Z153)/1000","v":{"$error":"#VALUE!"}},{"$error":"#VALUE!"},{"$error":"#VALUE!"},{"$f":"($AZ$153*$CB153*D$153*$Z153)/1000","v":{"$error":"#VALUE!"}},{"$error":"#VALUE!"},{"$error":"#VALUE!"},{"$f":"($AZ$153*$CD153*D$153*$Z153)/1000","v":{"$error":"#VALUE!"}},{"$error":"#VALUE!"},{"$error":"#VALUE!"},{"$f":"($AZ$153*$CD153*D$153*$Z153)/1000","v":{"$error":"#VALUE!"}},{"$error":"#VALUE!"},{"$error":"#VALUE!"},{"$f":"($AZ$153*$CE153*D$153*$Z153)/1000","v":{"$error":"#VALUE!"}},{"$error":"#VALUE!"},{"$error":"#VALUE!"},{"$f":"($AZ$153*$CF153*D$153*$Z153)/1000","v":{"$error":"#VALUE!"}},{"$error":"#VALUE!"},{"$error":"#VALUE!"},{"$f":"($AZ$153*$CG153*D$153*$Z153)/1000","v":{"$error":"#VALUE!"}},{"$error":"#VALUE!"},{"$error":"#VALUE!"},{"$f":"($AZ$153*$CH153*D$153*$Z153)/1000","v":{"$error":"#VALUE!"}},{"$error":"#VALUE!"},{"$error":"#VALUE!"},{"$f":"($AZ$153*$CI153*D$153*$Z153)/1000","v":{"$error":"#VALUE!"}},{"$error":"#VALUE!"},{"$error":"#VALUE!"},0,{"$f":"$AZ$153*$AA153","v":0},{"$f":"($AZ$153*$CJ153*D$153*$AA153)/1000","v":{"$error":"#VALUE!"}},{"$error":"#VALUE!"},{"$error":"#VALUE!"},{"$f":"($AZ$153*$CK153*D$153*$AA153)/1000","v":{"$error":"#VALUE!"}},{"$error":"#VALUE!"},{"$error":"#VALUE!"},{"$f":"($AZ$153*$CL153*D$153*$AA153)/1000","v":{"$error":"#VALUE!"}},{"$error":"#VALUE!"},{"$error":"#VALUE!"},{"$f":"($AZ$153*$CM153*D$153*$AA153)/1000","v":{"$error":"#VALUE!"}},{"$error":"#VALUE!"},{"$error":"#VALUE!"},{"$f":"($AZ$153*$CN153*D$153*$AA153)/1000","v":{"$error":"#VALUE!"}},{"$error":"#VALUE!"},{"$error":"#VALUE!"},{"$f":"($AZ$153*$CO153*D$153*$AA153)/1000","v":{"$error":"#VALUE!"}},{"$error":"#VALUE!"},{"$error":"#VALUE!"},{"$f":"($AZ$153*$CP153*D$153*$AA153)/1000","v":{"$error":"#VALUE!"}},{"$error":"#VALUE!"},{"$error":"#VALUE!"},{"$f":"($AZ$153*$CQ153*D$153*$AA153)/1000","v":{"$error":"#VALUE!"}},{"$error":"#VALUE!"},{"$error":"#VALUE!"},{"$f":"($AZ$153*$CR153*D$153*$AA153)/1000","v":{"$error":"#VALUE!"}},{"$error":"#VALUE!"},{"$error":"#VALUE!"},{"$f":"($AZ$153*$CS153*D$153*$AA153)/1000","v":{"$error":"#VALUE!"}},{"$error":"#VALUE!"},{"$error":"#VALUE!"},{"$f":"($AZ$153*$CT153*D$153*$AA153)/1000","v":{"$error":"#VALUE!"}},{"$error":"#VALUE!"},{"$error":"#VALUE!"},0,{"$f":"$AZ$153*$AB153","v":0},{"$f":"($AZ$153*$CU153*D$153*$AB153)/1000","v":{"$error":"#VALUE!"}},{"$error":"#VALUE!"},{"$error":"#VALUE!"},{"$f":"($AZ$153*$CV153*D$153*$AB153)/1000","v":{"$error":"#VALUE!"}},{"$error":"#VALUE!"},{"$error":"#VALUE!"},{"$f":"($AZ$153*$CW153*D$153*$AB153)/1000","v":{"$error":"#VALUE!"}},{"$error":"#VALUE!"},{"$error":"#VALUE!"},{"$f":"($AZ$153*$CX153*D$153*$AB153)/1000","v":{"$error":"#VALUE!"}},{"$error":"#VALUE!"},{"$error":"#VALUE!"},{"$f":"($AZ$153*$CY153*D$153*$AB153)/1000","v":{"$error":"#VALUE!"}},{"$error":"#VALUE!"},{"$error":"#VALUE!"},{"$f":"($AZ$153*$CZ153*D$153*$AB153)/1000","v":{"$error":"#VALUE!"}},{"$error":"#VALUE!"},{"$error":"#VALUE!"},{"$f":"($AZ$153*$DA153*D$153*$AB153)/1000","v":{"$error":"#VALUE!"}},{"$error":"#VALUE!"},{"$error":"#VALUE!"},{"$f":"($AZ$153*$DB153*D$153*$AB153)/1000","v":{"$error":"#VALUE!"}},{"$error":"#VALUE!"},{"$error":"#VALUE!"},{"$f":"($AZ$153*$DC153*D$153*$AB153)/1000","v":{"$error":"#VALUE!"}},{"$error":"#VALUE!"},{"$error":"#VALUE!"},{"$f":"($AZ$153*$DD153*D$153*$AB153)/1000","v":{"$error":"#VALUE!"}},{"$error":"#VALUE!"},{"$error":"#VALUE!"},{"$f":"($AZ$153*$DE153*D$153*$AB153)/1000","v":{"$error":"#VALUE!"}},{"$error":"#VALUE!"},{"$error":"#VALUE!"},0,{"$f":"$AZ$153*$AC153","v":0},{"$f":"($AZ$153*$DF153*D$153*$AC153)/1000","v":{"$error":"#VALUE!"}},{"$error":"#VALUE!"},{"$error":"#VALUE!"},{"$f":"($AZ$153*$DG153*D$153*$AC153)/1000","v":{"$error":"#VALUE!"}},{"$error":"#VALUE!"},{"$error":"#VALUE!"},{"$f":"($AZ$153*$DH153*D$153*$AC153)/1000","v":{"$error":"#VALUE!"}},{"$error":"#VALUE!"},{"$error":"#VALUE!"},{"$f":"($AZ$153*$DI153*D$153*$AC153)/1000","v":{"$error":"#VALUE!"}},{"$error":"#VALUE!"},{"$error":"#VALUE!"},{"$f":"($AZ$153*$DJ153*D$153*$AC153)/1000","v":{"$error":"#VALUE!"}},{"$error":"#VALUE!"},{"$error":"#VALUE!"},{"$f":"($AZ$153*$DK153*D$153*$AC153)/1000","v":{"$error":"#VALUE!"}},{"$error":"#VALUE!"},{"$error":"#VALUE!"},{"$f":"($AZ$153*$DL153*D$153*$AC153)/1000","v":{"$error":"#VALUE!"}},{"$error":"#VALUE!"},{"$error":"#VALUE!"},{"$f":"($AZ$153*$DM153*D$153*$AC153)/1000","v":{"$error":"#VALUE!"}},{"$error":"#VALUE!"},{"$error":"#VALUE!"},{"$f":"($AZ$153*$DN153*D$153*$AC153)/1000","v":{"$error":"#VALUE!"}},{"$error":"#VALUE!"},{"$error":"#VALUE!"},{"$f":"($AZ$153*$DO153*D$153*$AC153)/1000","v":{"$error":"#VALUE!"}},{"$error":"#VALUE!"},{"$error":"#VALUE!"},{"$f":"($AZ$153*$DP153*D$153*$AC153)/1000","v":{"$error":"#VALUE!"}},{"$error":"#VALUE!"},{"$error":"#VALUE!"},0,{"$f":"$AZ$153*$AD153","v":0},{"$f":"($AZ$153*$DQ153*D$153*$AD153)/1000","v":{"$error":"#VALUE!"}},{"$error":"#VALUE!"},{"$error":"#VALUE!"},{"$f":"($AZ$153*$DR153*D$153*$AD153)/1000","v":{"$error":"#VALUE!"}},{"$error":"#VALUE!"},{"$error":"#VALUE!"},{"$f":"($AZ$153*$DS153*D$153*$AD153)/1000","v":{"$error":"#VALUE!"}},{"$error":"#VALUE!"},{"$error":"#VALUE!"},{"$f":"($AZ$153*$DT153*D$153*$AD153)/1000","v":{"$error":"#VALUE!"}},{"$error":"#VALUE!"},{"$error":"#VALUE!"},{"$f":"($AZ$153*$DU153*D$153*$AD153)/1000","v":{"$error":"#VALUE!"}},{"$error":"#VALUE!"},{"$error":"#VALUE!"},{"$f":"($AZ$153*$DV153*D$153*$AD153)/1000","v":{"$error":"#VALUE!"}},{"$error":"#VALUE!"},{"$error":"#VALUE!"},{"$f":"($AZ$153*$DW153*D$153*$AD153)/1000","v":{"$error":"#VALUE!"}},{"$error":"#VALUE!"},{"$error":"#VALUE!"},{"$f":"($AZ$153*$DX153*D$153*$AD153)/1000","v":{"$error":"#VALUE!"}},{"$error":"#VALUE!"},{"$error":"#VALUE!"},{"$f":"($AZ$153*$DY153*D$153*$AD153)/1000","v":{"$error":"#VALUE!"}},{"$error":"#VALUE!"},{"$error":"#VALUE!"},{"$f":"($AZ$153*$DZ153*D$153*$AD153)/1000","v":{"$error":"#VALUE!"}},{"$error":"#VALUE!"},{"$error":"#VALUE!"},{"$f":"($AZ$153*$EA153*D$153*$AD153)/1000","v":{"$error":"#VALUE!"}},{"$error":"#VALUE!"},{"$error":"#VALUE!"}]
[null,null,null,null,null,null,null,null,null,null,null,null,null,null,null,null,null,null,null,null,null,null,null,2,null,null,null,null,null,null,null,null,null,"N/A",null,false,null,null,null,null,2,null,null,null,null,null,null,null,null,null,null,null,{"$f":"IF(AND(BB154=\"OK\",BC154=\"OK\",BD154=\"OK\"),\"OK\",\"ERR!\")","v":"OK"},"OK",{"$f":"IF(OR(SUM(BN154:BX154)<>1,SUM(BY154:CI154)<>1,SUM(CJ154:CT154)<>1,SUM(CU154:DE154)<>1,SUM(DF154:DP154)<>1,SUM(DQ154:EA154)<>1),\"ERR!\",\"OK\")","v":"OK"},{"$f":"IF(AND(OR(BE154=BK154,BE154=0),OR(BF154=BK154,BF154=0),OR(BG154=BK154,BG154=0),OR(BH154=BK154,BH154=0),OR(BI154=BK154,BI154=0),OR(BJ154=BK154,BJ154=0)),\"OK\",\"ERR!\")","v":"OK"},{"$f":"(BN154*POWER(10,0)+BO154*POWER(10,1)+BP154*POWER(10,2)+BQ154*POWER(10,3)+BR154*POWER(10,4)+BS154*POWER(10,5)+BT154*POWER(10,6)+BU154*POWER(10,7)+BV154*POWER(10,8)+BW154*POWER(10,9)+BX154*POWER(10,10))","v":1000000},{"$f":"(BY154*POWER(10,0)+BZ154*POWER(10,1)+CA154*POWER(10,2)+CB154*POWER(10,3)+CC154*POWER(10,4)+CD154*POWER(10,5)+CE154*POWER(10,6)+CF154*POWER(10,7)+CG154*POWER(10,8)+CH154*POWER(10,9)+CI154*POWER(10,10))","v":1000000},{"$f":"(CJ154*POWER(10,0)+CK154*POWER(10,1)+CL154*POWER(10,2)+CM154*POWER(10,3)+CN154*POWER(10,4)+CO154*POWER(10,5)+CP154*POWER(10,6)+CQ154*POWER(10,7)+CR154*POWER(10,8)+CS154*POWER(10,9)+CT154*POWER(10,10))","v":1000000},{"$f":"(CU154*POWER(10,0)+CV154*POWER(10,1)+CW154*POWER(10,2)+CX154*POWER(10,3)+CY154*POWER(10,4)+CZ154*POWER(10,5)+DA154*POWER(10,6)+DB154*POWER(10,7)+DC154*POWER(10,8)+DD154*POWER(10,9)+DE154*POWER(10,10))","v":1000000},{"$f":"(DF154*POWER(10,0)+DG154*POWER(10,1)+DH154*POWER(10,2)+DI154*POWER(10,3)+DJ154*POWER(10,4)+DK154*POWER(10,5)+DL154*POWER(10,6)+DM154*POWER(10,7)+DN154*POWER(10,8)+DO154*POWER(10,9)+DP154*POWER(10,10))","v":1000000},{"$f":"(DQ154*POWER(10,0)+DR154*POWER(10,1)+DS154*POWER(10,2)+DT154*POWER(10,3)+DU154*POWER(10,4)+DV154*POWER(10,5)+DW154*POWER(10,6)+DX154*POWER(10,7)+DY154*POWER(10,8)+DZ154*POWER(10,9)+EA154*POWER(10,10))","v":1000000},{"$f":"MAX(BE154:BJ154)","v":1000000},null,2,null,null,null,null,null,null,1,null,null,null,null,null,null,null,null,null,null,1,null,null,null,null,null,null,null,null,null,null,1,null,null,null,null,null,null,null,null,null,null,1,null,null,null,null,null,null,null,null,null,null,1,null,null,null,null,null,null,null,null,null,null,1,null,null,null,null,null,2,{"$error":"#VALUE!"},{"$error":"#VALUE!"},{"$error":"#VALUE!"},{"$error":"#VALUE!"},{"$error":"#VALUE!"},{"$error":"#VALUE!"},{"$error":"#VALUE!"},{"$error":"#VALUE!"},{"$error":"#VALUE!"},{"$error":"#VALUE!"},{"$error":"#VALUE!"},{"$error":"#VALUE!"},{"$error":"#VALUE!"},{"$error":"#VALUE!"},{"$error":"#VALUE!"},{"$error":"#VALUE!"},{"$error":"#VALUE!"},{"$error":"#VALUE!"},null,2,0,{"$error":"#VALUE!"},{"$error":"#VALUE!"},{"$error":"#VALUE!"},{"$error":"#VALUE!"},{"$error":"#VALUE!"},{"$error":"#VALUE!"},{"$error":"#VALUE!"},{"$error":"#VALUE!"},{"$error":"#VALUE!"},{"$error":"#VALUE!"},{"$error":"#VALUE!"},{"$error":"#VALUE!"},{"$error":"#VALUE!"},{"$error":"#VALUE!"},{"$error":"#VALUE!"},{"$error":"#VALUE!"},{"$error":"#VALUE!"},{"$error":"#VALUE!"},{"$error":"#VALUE!"},{"$error":"#VALUE!"},{"$error":"#VALUE!"},{"$error":"#VALUE!"},{"$error":"#VALUE!"},{"$error":"#VALUE!"},{"$error":"#VALUE!"},{"$error":"#VALUE!"},{"$error":"#VALUE!"},{"$error":"#VALUE!"},{"$error":"#VALUE!"},{"$error":"#VALUE!"},{"$error":"#VALUE!"},{"$error":"#VALUE!"},{"$error":"#VALUE!"},2,0,{"$error":"#VALUE!"},{"$error":"#VALUE!"},{"$error":"#VALUE!"},{"$error":"#VALUE!"},{"$error":"#VALUE!"},{"$error":"#VALUE!"},{"$error":"#VALUE!"},{"$error":"#VALUE!"},{"$error":"#VALUE!"},{"$error":"#VALUE!"},{"$error":"#VALUE!"},{"$error":"#VALUE!"},{"$error":"#VALUE!"},{"$error":"#VALUE!"},{"$error":"#VALUE!"},{"$error":"#VALUE!"},{"$error":"#VALUE!"},{"$error":"#VALUE!"},{"$error":"#VALUE!"},{"$error":"#VALUE!"},{"$error":"#VALUE!"},{"$error":"#VALUE!"},{"$error":"#VALUE!"},{"$error":"#VALUE!"},{"$error":"#VALUE!"},{"$error":"#VALUE!"},{"$error":"#VALUE!"},{"$error":"#VALUE!"},{"$error":"#VALUE!"},{"$error":"#VALUE!"},{"$error":"#VALUE!"},{"$error":"#VALUE!"},{"$error":"#VALUE!"},2,0,{"$error":"#VALUE!"},{"$error":"#VALUE!"},{"$error":"#VALUE!"},{"$error":"#VALUE!"},{"$error":"#VALUE!"},{"$error":"#VALUE!"},{"$error":"#VALUE!"},{"$error":"#VALUE!"},{"$error":"#VALUE!"},{"$error":"#VALUE!"},{"$error":"#VALUE!"},{"$error":"#VALUE!"},{"$error":"#VALUE!"},{"$error":"#VALUE!"},{"$error":"#VALUE!"},{"$error":"#VALUE!"},{"$error":"#VALUE!"},{"$error":"#VALUE!"},{"$error":"#VALUE!"},{"$error":"#VALUE!"},{"$error":"#VALUE!"},{"$error":"#VALUE!"},{"$error":"#VALUE!"},{"$error":"#VALUE!"},{"$error":"#VALUE!"},{"$error":"#VALUE!"},{"$error":"#VALUE!"},{"$error":"#VALUE!"},{"$error":"#VALUE!"},{"$error":"#VALUE!"},{"$error":"#VALUE!"},{"$error":"#VALUE!"},{"$error":"#VALUE!"},2,0,{"$error":"#VALUE!"},{"$error":"#VALUE!"},{"$error":"#VALUE!"},{"$error":"#VALUE!"},{"$error":"#VALUE!"},{"$error":"#VALUE!"},{"$error":"#VALUE!"},{"$error":"#VALUE!"},{"$error":"#VALUE!"},{"$error":"#VALUE!"},{"$error":"#VALUE!"},{"$error":"#VALUE!"},{"$error":"#VALUE!"},{"$error":"#VALUE!"},{"$error":"#VALUE!"},{"$error":"#VALUE!"},{"$error":"#VALUE!"},{"$error":"#VALUE!"},{"$error":"#VALUE!"},{"$error":"#VALUE!"},{"$error":"#VALUE!"},{"$error":"#VALUE!"},{"$error":"#VALUE!"},{"$error":"#VALUE!"},{"$error":"#VALUE!"},{"$error":"#VALUE!"},{"$error":"#VALUE!"},{"$error":"#VALUE!"},{"$error":"#VALUE!"},{"$error":"#VALUE!"},{"$error":"#VALUE!"},{"$error":"#VALUE!"},{"$error":"#VALUE!"},2,0,{"$error":"#VALUE!"},{"$error":"#VALUE!"},{"$error":"#VALUE!"},{"$error":"#VALUE!"},{"$error":"#VALUE!"},{"$error":"#VALUE!"},{"$error":"#VALUE!"},{"$error":"#VALUE!"},{"$error":"#VALUE!"},{"$error":"#VALUE!"},{"$error":"#VALUE!"},{"$error":"#VALUE!"},{"$error":"#VALUE!"},{"$error":"#VALUE!"},{"$error":"#VALUE!"},{"$error":"#VALUE!"},{"$error":"#VALUE!"},{"$error":"#VALUE!"},{"$error":"#VALUE!"},{"$error":"#VALUE!"},{"$error":"#VALUE!"},{"$error":"#VALUE!"},{"$error":"#VALUE!"},{"$error":"#VALUE!"},{"$error":"#VALUE!"},{"$error":"#VALUE!"},{"$error":"#VALUE!"},{"$error":"#VALUE!"},{"$error":"#VALUE!"},{"$error":"#VALUE!"},{"$error":"#VALUE!"},{"$error":"#VALUE!"},{"$error":"#VALUE!"},2,0,{"$error":"#VALUE!"},{"$error":"#VALUE!"},{"$error":"#VALUE!"},{"$error":"#VALUE!"},{"$error":"#VALUE!"},{"$error":"#VALUE!"},{"$error":"#VALUE!"},{"$error":"#VALUE!"},{"$error":"#VALUE!"},{"$error":"#VALUE!"},{"$error":"#VALUE!"},{"$error":"#VALUE!"},{"$error":"#VALUE!"},{"$error":"#VALUE!"},{"$error":"#VALUE!"},{"$error":"#VALUE!"},{"$error":"#VALUE!"},{"$error":"#VALUE!"},{"$error":"#VALUE!"},{"$error":"#VALUE!"},{"$error":"#VALUE!"},{"$error":"#VALUE!"},{"$error":"#VALUE!"},{"$error":"#VALUE!"},{"$error":"#VALUE!"},{"$error":"#VALUE!"},{"$error":"#VALUE!"},{"$error":"#VALUE!"},{"$error":"#VALUE!"},{"$error":"#VALUE!"},{"$error":"#VALUE!"},{"$error":"#VALUE!"},{"$error":"#VALUE!"}]
[null,null,null,null,null,null,null,null,null,null,null,null,null,null,null,null,null,null,null,null,null,null,null,3,null,null,null,null,null,null,null,null,null,"N/A",null,false,null,null,null,null,3,null,null,null,null,null,null,null,null,null,null,null,{"$f":"IF(AND(BB155=\"OK\",BC155=\"OK\",BD155=\"OK\"),\"OK\",\"ERR!\")","v":"OK"},"OK",{"$f":"IF(OR(SUM(BN155:BX155)<>1,SUM(BY155:CI155)<>1,SUM(CJ155:CT155)<>1,SUM(CU155:DE155)<>1,SUM(DF155:DP155)<>1,SUM(DQ155:EA155)<>1),\"ERR!\",\"OK\")","v":"OK"},{"$f":"IF(AND(OR(BE155=BK155,BE155=0),OR(BF155=BK155,BF155=0),OR(BG155=BK155,BG155=0),OR(BH155=BK155,BH155=0),OR(BI155=BK155,BI155=0),OR(BJ155=BK155,BJ155=0)),\"OK\",\"ERR!\")","v":"OK"},1000000,1000000,1000000,1000000,1000000,1000000,{"$f":"MAX(BE155:BJ155)","v":1000000},null,3,null,null,null,null,null,null,1,null,null,null,null,null,null,null,null,null,null,1,null,null,null,null,null,null,null,null,null,null,1,null,null,null,null,null,null,null,null,null,null,1,null,null,null,null,null,null,null,null,null,null,1,null,null,null,null,null,null,null,null,null,null,1,null,null,null,null,null,3,{"$error":"#VALUE!"},{"$error":"#VALUE!"},{"$error":"#VALUE!"},{"$error":"#VALUE!"},{"$error":"#VALUE!"},{"$error":"#VALUE!"},{"$error":"#VALUE!"},{"$error":"#VALUE!"},{"$error":"#VALUE!"},{"$error":"#VALUE!"},{"$error":"#VALUE!"},{"$error":"#VALUE!"},{"$error":"#VALUE!"},{"$error":"#VALUE!"},{"$error":"#VALUE!"},{"$error":"#VALUE!"},{"$error":"#VALUE!"},{"$error":"#VALUE!"},null,3,0,{"$error":"#VALUE!"},{"$error":"#VALUE!"},{"$error":"#VALUE!"},{"$error":"#VALUE!"},{"$error":"#VALUE!"},{"$error":"#VALUE!"},{"$error":"#VALUE!"},{"$error":"#VALUE!"},{"$error":"#VALUE!"},{"$error":"#VALUE!"},{"$error":"#VALUE!"},{"$error":"#VALUE!"},{"$error":"#VALUE!"},{"$error":"#VALUE!"},{"$error":"#VALUE!"},{"$error":"#VALUE!"},{"$error":"#VALUE!"},{"$error":"#VALUE!"},{"$error":"#VALUE!"},{"$error":"#VALUE!"},{"$error":"#VALUE!"},{"$error":"#VALUE!"},{"$error":"#VALUE!"},{"$error":"#VALUE!"},{"$error":"#VALUE!"},{"$error":"#VALUE!"},{"$error":"#VALUE!"},{"$error":"#VALUE!"},{"$error":"#VALUE!"},{"$error":"#VALUE!"},{"$error":"#VALUE!"},{"$error":"#VALUE!"},{"$error":"#VALUE!"},3,0,{"$error":"#VALUE!"},{"$error":"#VALUE!"},{"$error":"#VALUE!"},{"$error":"#VALUE!"},{"$error":"#VALUE!"},{"$error":"#VALUE!"},{"$error":"#VALUE!"},{"$error":"#VALUE!"},{"$error":"#VALUE!"},{"$error":"#VALUE!"},{"$error":"#VALUE!"},{"$error":"#VALUE!"},{"$error":"#VALUE!"},{"$error":"#VALUE!"},{"$error":"#VALUE!"},{"$error":"#VALUE!"},{"$error":"#VALUE!"},{"$error":"#VALUE!"},{"$error":"#VALUE!"},{"$error":"#VALUE!"},{"$error":"#VALUE!"},{"$error":"#VALUE!"},{"$error":"#VALUE!"},{"$error":"#VALUE!"},{"$error":"#VALUE!"},{"$error":"#VALUE!"},{"$error":"#VALUE!"},{"$error":"#VALUE!"},{"$error":"#VALUE!"},{"$error":"#VALUE!"},{"$error":"#VALUE!"},{"$error":"#VALUE!"},{"$error":"#VALUE!"},3,0,{"$error":"#VALUE!"},{"$error":"#VALUE!"},{"$error":"#VALUE!"},{"$error":"#VALUE!"},{"$error":"#VALUE!"},{"$error":"#VALUE!"},{"$error":"#VALUE!"},{"$error":"#VALUE!"},{"$error":"#VALUE!"},{"$error":"#VALUE!"},{"$error":"#VALUE!"},{"$error":"#VALUE!"},{"$error":"#VALUE!"},{"$error":"#VALUE!"},{"$error":"#VALUE!"},{"$error":"#VALUE!"},{"$error":"#VALUE!"},{"$error":"#VALUE!"},{"$error":"#VALUE!"},{"$error":"#VALUE!"},{"$error":"#VALUE!"},{"$error":"#VALUE!"},{"$error":"#VALUE!"},{"$error":"#VALUE!"},{"$error":"#VALUE!"},{"$error":"#VALUE!"},{"$error":"#VALUE!"},{"$error":"#VALUE!"},{"$error":"#VALUE!"},{"$error":"#VALUE!"},{"$error":"#VALUE!"},{"$error":"#VALUE!"},{"$error":"#VALUE!"},3,0,{"$error":"#VALUE!"},{"$error":"#VALUE!"},{"$error":"#VALUE!"},{"$error":"#VALUE!"},{"$error":"#VALUE!"},{"$error":"#VALUE!"},{"$error":"#VALUE!"},{"$error":"#VALUE!"},{"$error":"#VALUE!"},{"$error":"#VALUE!"},{"$error":"#VALUE!"},{"$error":"#VALUE!"},{"$error":"#VALUE!"},{"$error":"#VALUE!"},{"$error":"#VALUE!"},{"$error":"#VALUE!"},{"$error":"#VALUE!"},{"$error":"#VALUE!"},{"$error":"#VALUE!"},{"$error":"#VALUE!"},{"$error":"#VALUE!"},{"$error":"#VALUE!"},{"$error":"#VALUE!"},{"$error":"#VALUE!"},{"$error":"#VALUE!"},{"$error":"#VALUE!"},{"$error":"#VALUE!"},{"$error":"#VALUE!"},{"$error":"#VALUE!"},{"$error":"#VALUE!"},{"$error":"#VALUE!"},{"$error":"#VALUE!"},{"$error":"#VALUE!"},3,0,{"$error":"#VALUE!"},{"$error":"#VALUE!"},{"$error":"#VALUE!"},{"$error":"#VALUE!"},{"$error":"#VALUE!"},{"$error":"#VALUE!"},{"$error":"#VALUE!"},{"$error":"#VALUE!"},{"$error":"#VALUE!"},{"$error":"#VALUE!"},{"$error":"#VALUE!"},{"$error":"#VALUE!"},{"$error":"#VALUE!"},{"$error":"#VALUE!"},{"$error":"#VALUE!"},{"$error":"#VALUE!"},{"$error":"#VALUE!"},{"$error":"#VALUE!"},{"$error":"#VALUE!"},{"$error":"#VALUE!"},{"$error":"#VALUE!"},{"$error":"#VALUE!"},{"$error":"#VALUE!"},{"$error":"#VALUE!"},{"$error":"#VALUE!"},{"$error":"#VALUE!"},{"$error":"#VALUE!"},{"$error":"#VALUE!"},{"$error":"#VALUE!"},{"$error":"#VALUE!"},{"$error":"#VALUE!"},{"$error":"#VALUE!"},{"$error":"#VALUE!"},3,0,{"$error":"#VALUE!"},{"$error":"#VALUE!"},{"$error":"#VALUE!"},{"$error":"#VALUE!"},{"$error":"#VALUE!"},{"$error":"#VALUE!"},{"$error":"#VALUE!"},{"$error":"#VALUE!"},{"$error":"#VALUE!"},{"$error":"#VALUE!"},{"$error":"#VALUE!"},{"$error":"#VALUE!"},{"$error":"#VALUE!"},{"$error":"#VALUE!"},{"$error":"#VALUE!"},{"$error":"#VALUE!"},{"$error":"#VALUE!"},{"$error":"#VALUE!"},{"$error":"#VALUE!"},{"$error":"#VALUE!"},{"$error":"#VALUE!"},{"$error":"#VALUE!"},{"$error":"#VALUE!"},{"$error":"#VALUE!"},{"$error":"#VALUE!"},{"$error":"#VALUE!"},{"$error":"#VALUE!"},{"$error":"#VALUE!"},{"$error":"#VALUE!"},{"$error":"#VALUE!"},{"$error":"#VALUE!"},{"$error":"#VALUE!"},{"$error":"#VALUE!"}]
[null,null,null,null,null,null,null,null,null,null,null,null,null,null,null,null,null,null,null,null,null,null,null,4,null,null,null,null,null,null,null,null,null,"N/A",null,false,null,null,null,null,4,null,null,null,null,null,null,null,null,null,null,null,{"$f":"IF(AND(BB156=\"OK\",BC156=\"OK\",BD156=\"OK\"),\"OK\",\"ERR!\")","v":"OK"},"OK","OK",{"$f":"IF(AND(OR(BE156=BK156,BE156=0),OR(BF156=BK156,BF156=0),OR(BG156=BK156,BG156=0),OR(BH156=BK156,BH156=0),OR(BI156=BK156,BI156=0),OR(BJ156=BK156,BJ156=0)),\"OK\",\"ERR!\")","v":"OK"},1000000,1000000,1000000,1000000,1000000,1000000,1000000,null,4,null,null,null,null,null,null,1,null,null,null,null,null,null,null,null,null,null,1,null,null,null,null,null,null,null,null,null,null,1,null,null,null,null,null,null,null,null,null,null,1,null,null,null,null,null,null,null,null,null,null,1,null,null,null,null,null,null,null,null,null,null,1,null,null,null,null,null,4,{"$error":"#VALUE!"},{"$error":"#VALUE!"},{"$error":"#VALUE!"},{"$error":"#VALUE!"},{"$error":"#VALUE!"},{"$error":"#VALUE!"},{"$error":"#VALUE!"},{"$error":"#VALUE!"},{"$error":"#VALUE!"},{"$error":"#VALUE!"},{"$error":"#VALUE!"},{"$error":"#VALUE!"},{"$error":"#VALUE!"},{"$error":"#VALUE!"},{"$error":"#VALUE!"},{"$error":"#VALUE!"},{"$error":"#VALUE!"},{"$error":"#VALUE!"},null,4,0,{"$error":"#VALUE!"},{"$error":"#VALUE!"},{"$error":"#VALUE!"},{"$error":"#VALUE!"},{"$error":"#VALUE!"},{"$error":"#VALUE!"},{"$error":"#VALUE!"},{"$error":"#VALUE!"},{"$error":"#VALUE!"},{"$error":"#VALUE!"},{"$error":"#VALUE!"},{"$error":"#VALUE!"},{"$error":"#VALUE!"},{"$error":"#VALUE!"},{"$error":"#VALUE!"},{"$error":"#VALUE!"},{"$error":"#VALUE!"},{"$error":"#VALUE!"},{"$error":"#VALUE!"},{"$error":"#VALUE!"},{"$error":"#VALUE!"},{"$error":"#VALUE!"},{"$error":"#VALUE!"},{"$error":"#VALUE!"},{"$error":"#VALUE!"},{"$error":"#VALUE!"},{"$error":"#VALUE!"},{"$error":"#VALUE!"},{"$error":"#VALUE!"},{"$error":"#VALUE!"},{"$error":"#VALUE!"},{"$error":"#VALUE!"},{"$error":"#VALUE!"},4,0,{"$error":"#VALUE!"},{"$error":"#VALUE!"},{"$error":"#VALUE!"},{"$error":"#VALUE!"},{"$error":"#VALUE!"},{"$error":"#VALUE!"},{"$error":"#VALUE!"},{"$error":"#VALUE!"},{"$error":"#VALUE!"},{"$error":"#VALUE!"},{"$error":"#VALUE!"},{"$error":"#VALUE!"},{"$error":"#VALUE!"},{"$error":"#VALUE!"},{"$error":"#VALUE!"},{"$error":"#VALUE!"},{"$error":"#VALUE!"},{"$error":"#VALUE!"},{"$error":"#VALUE!"},{"$error":"#VALUE!"},{"$error":"#VALUE!"},{"$error":"#VALUE!"},{"$error":"#VALUE!"},{"$error":"#VALUE!"},{"$error":"#VALUE!"},{"$error":"#VALUE!"},{"$error":"#VALUE!"},{"$error":"#VALUE!"},{"$error":"#VALUE!"},{"$error":"#VALUE!"},{"$error":"#VALUE!"},{"$error":"#VALUE!"},{"$error":"#VALUE!"},4,0,{"$error":"#VALUE!"},{"$error":"#VALUE!"},{"$error":"#VALUE!"},{"$error":"#VALUE!"},{"$error":"#VALUE!"},{"$error":"#VALUE!"},{"$error":"#VALUE!"},{"$error":"#VALUE!"},{"$error":"#VALUE!"},{"$error":"#VALUE!"},{"$error":"#VALUE!"},{"$error":"#VALUE!"},{"$error":"#VALUE!"},{"$error":"#VALUE!"},{"$error":"#VALUE!"},{"$error":"#VALUE!"},{"$error":"#VALUE!"},{"$error":"#VALUE!"},{"$error":"#VALUE!"},{"$error":"#VALUE!"},{"$error":"#VALUE!"},{"$error":"#VALUE!"},{"$error":"#VALUE!"},{"$error":"#VALUE!"},{"$error":"#VALUE!"},{"$error":"#VALUE!"},{"$error":"#VALUE!"},{"$error":"#VALUE!"},{"$error":"#VALUE!"},{"$error":"#VALUE!"},{"$error":"#VALUE!"},{"$error":"#VALUE!"},{"$error":"#VALUE!"},4,0,{"$error":"#VALUE!"},{"$error":"#VALUE!"},{"$error":"#VALUE!"},{"$error":"#VALUE!"},{"$error":"#VALUE!"},{"$error":"#VALUE!"},{"$error":"#VALUE!"},{"$error":"#VALUE!"},{"$error":"#VALUE!"},{"$error":"#VALUE!"},{"$error":"#VALUE!"},{"$error":"#VALUE!"},{"$error":"#VALUE!"},{"$error":"#VALUE!"},{"$error":"#VALUE!"},{"$error":"#VALUE!"},{"$error":"#VALUE!"},{"$error":"#VALUE!"},{"$error":"#VALUE!"},{"$error":"#VALUE!"},{"$error":"#VALUE!"},{"$error":"#VALUE!"},{"$error":"#VALUE!"},{"$error":"#VALUE!"},{"$error":"#VALUE!"},{"$error":"#VALUE!"},{"$error":"#VALUE!"},{"$error":"#VALUE!"},{"$error":"#VALUE!"},{"$error":"#VALUE!"},{"$error":"#VALUE!"},{"$error":"#VALUE!"},{"$error":"#VALUE!"},4,0,{"$error":"#VALUE!"},{"$error":"#VALUE!"},{"$error":"#VALUE!"},{"$error":"#VALUE!"},{"$error":"#VALUE!"},{"$error":"#VALUE!"},{"$error":"#VALUE!"},{"$error":"#VALUE!"},{"$error":"#VALUE!"},{"$error":"#VALUE!"},{"$error":"#VALUE!"},{"$error":"#VALUE!"},{"$error":"#VALUE!"},{"$error":"#VALUE!"},{"$error":"#VALUE!"},{"$error":"#VALUE!"},{"$error":"#VALUE!"},{"$error":"#VALUE!"},{"$error":"#VALUE!"},{"$error":"#VALUE!"},{"$error":"#VALUE!"},{"$error":"#VALUE!"},{"$error":"#VALUE!"},{"$error":"#VALUE!"},{"$error":"#VALUE!"},{"$error":"#VALUE!"},{"$error":"#VALUE!"},{"$error":"#VALUE!"},{"$error":"#VALUE!"},{"$error":"#VALUE!"},{"$error":"#VALUE!"},{"$error":"#VALUE!"},{"$error":"#VALUE!"},4,0,{"$error":"#VALUE!"},{"$error":"#VALUE!"},{"$error":"#VALUE!"},{"$error":"#VALUE!"},{"$error":"#VALUE!"},{"$error":"#VALUE!"},{"$error":"#VALUE!"},{"$error":"#VALUE!"},{"$error":"#VALUE!"},{"$error":"#VALUE!"},{"$error":"#VALUE!"},{"$error":"#VALUE!"},{"$error":"#VALUE!"},{"$error":"#VALUE!"},{"$error":"#VALUE!"},{"$error":"#VALUE!"},{"$error":"#VALUE!"},{"$error":"#VALUE!"},{"$error":"#VALUE!"},{"$error":"#VALUE!"},{"$error":"#VALUE!"},{"$error":"#VALUE!"},{"$error":"#VALUE!"},{"$error":"#VALUE!"},{"$error":"#VALUE!"},{"$error":"#VALUE!"},{"$error":"#VALUE!"},{"$error":"#VALUE!"},{"$error":"#VALUE!"},{"$error":"#VALUE!"},{"$error":"#VALUE!"},{"$error":"#VALUE!"},{"$error":"#VALUE!"}]
[null,null,null,null,null,null,null,null,null,null,null,null,null,null,null,null,null,null,null,null,null,null,null,7,null,null,null,null,null,null,null,null,null,"N/A",null,false,null,null,null,null,7,null,null,null,null,null,null,null,null,null,null,null,{"$f":"IF(AND(BB157=\"OK\",BC157=\"OK\",BD157=\"OK\"),\"OK\",\"ERR!\")","v":"OK"},"OK","OK","OK",1000000,1000000,1000000,1000000,1000000,1000000,1000000,null,7,null,null,null,null,null,null,1,null,null,null,null,null,null,null,null,null,null,1,null,null,null,null,null,null,null,null,null,null,1,null,null,null,null,null,null,null,null,null,null,1,null,null,null,null,null,null,null,null,null,null,1,null,null,null,null,null,null,null,null,null,null,1,null,null,null,null,null,7,{"$error":"#VALUE!"},{"$error":"#VALUE!"},{"$error":"#VALUE!"},{"$error":"#VALUE!"},{"$error":"#VALUE!"},{"$error":"#VALUE!"},{"$error":"#VALUE!"},{"$error":"#VALUE!"},{"$error":"#VALUE!"},{"$error":"#VALUE!"},{"$error":"#VALUE!"},{"$error":"#VALUE!"},{"$error":"#VALUE!"},{"$error":"#VALUE!"},{"$error":"#VALUE!"},{"$error":"#VALUE!"},{"$error":"#VALUE!"},{"$error":"#VALUE!"},null,7,0,{"$error":"#VALUE!"},{"$error":"#VALUE!"},{"$error":"#VALUE!"},{"$error":"#VALUE!"},{"$error":"#VALUE!"},{"$error":"#VALUE!"},{"$error":"#VALUE!"},{"$error":"#VALUE!"},{"$error":"#VALUE!"},{"$error":"#VALUE!"},{"$error":"#VALUE!"},{"$error":"#VALUE!"},{"$error":"#VALUE!"},{"$error":"#VALUE!"},{"$error":"#VALUE!"},{"$error":"#VALUE!"},{"$error":"#VALUE!"},{"$error":"#VALUE!"},{"$error":"#VALUE!"},{"$error":"#VALUE!"},{"$error":"#VALUE!"},{"$error":"#VALUE!"},{"$error":"#VALUE!"},{"$error":"#VALUE!"},{"$error":"#VALUE!"},{"$error":"#VALUE!"},{"$error":"#VALUE!"},{"$error":"#VALUE!"},{"$error":"#VALUE!"},{"$error":"#VALUE!"},{"$error":"#VALUE!"},{"$error":"#VALUE!"},{"$error":"#VALUE!"},7,0,{"$error":"#VALUE!"},{"$error":"#VALUE!"},{"$error":"#VALUE!"},{"$error":"#VALUE!"},{"$error":"#VALUE!"},{"$error":"#VALUE!"},{"$error":"#VALUE!"},{"$error":"#VALUE!"},{"$error":"#VALUE!"},{"$error":"#VALUE!"},{"$error":"#VALUE!"},{"$error":"#VALUE!"},{"$error":"#VALUE!"},{"$error":"#VALUE!"},{"$error":"#VALUE!"},{"$error":"#VALUE!"},{"$error":"#VALUE!"},{"$error":"#VALUE!"},{"$error":"#VALUE!"},{"$error":"#VALUE!"},{"$error":"#VALUE!"},{"$error":"#VALUE!"},{"$error":"#VALUE!"},{"$error":"#VALUE!"},{"$error":"#VALUE!"},{"$error":"#VALUE!"},{"$error":"#VALUE!"},{"$error":"#VALUE!"},{"$error":"#VALUE!"},{"$error":"#VALUE!"},{"$error":"#VALUE!"},{"$error":"#VALUE!"},{"$error":"#VALUE!"},7,0,{"$error":"#VALUE!"},{"$error":"#VALUE!"},{"$error":"#VALUE!"},{"$error":"#VALUE!"},{"$error":"#VALUE!"},{"$error":"#VALUE!"},{"$error":"#VALUE!"},{"$error":"#VALUE!"},{"$error":"#VALUE!"},{"$error":"#VALUE!"},{"$error":"#VALUE!"},{"$error":"#VALUE!"},{"$error":"#VALUE!"},{"$error":"#VALUE!"},{"$error":"#VALUE!"},{"$error":"#VALUE!"},{"$error":"#VALUE!"},{"$error":"#VALUE!"},{"$error":"#VALUE!"},{"$error":"#VALUE!"},{"$error":"#VALUE!"},{"$error":"#VALUE!"},{"$error":"#VALUE!"},{"$error":"#VALUE!"},{"$error":"#VALUE!"},{"$error":"#VALUE!"},{"$error":"#VALUE!"},{"$error":"#VALUE!"},{"$error":"#VALUE!"},{"$error":"#VALUE!"},{"$error":"#VALUE!"},{"$error":"#VALUE!"},{"$error":"#VALUE!"},7,0,{"$error":"#VALUE!"},{"$error":"#VALUE!"},{"$error":"#VALUE!"},{"$error":"#VALUE!"},{"$error":"#VALUE!"},{"$error":"#VALUE!"},{"$error":"#VALUE!"},{"$error":"#VALUE!"},{"$error":"#VALUE!"},{"$error":"#VALUE!"},{"$error":"#VALUE!"},{"$error":"#VALUE!"},{"$error":"#VALUE!"},{"$error":"#VALUE!"},{"$error":"#VALUE!"},{"$error":"#VALUE!"},{"$error":"#VALUE!"},{"$error":"#VALUE!"},{"$error":"#VALUE!"},{"$error":"#VALUE!"},{"$error":"#VALUE!"},{"$error":"#VALUE!"},{"$error":"#VALUE!"},{"$error":"#VALUE!"},{"$error":"#VALUE!"},{"$error":"#VALUE!"},{"$error":"#VALUE!"},{"$error":"#VALUE!"},{"$error":"#VALUE!"},{"$error":"#VALUE!"},{"$error":"#VALUE!"},{"$error":"#VALUE!"},{"$error":"#VALUE!"},7,0,{"$error":"#VALUE!"},{"$error":"#VALUE!"},{"$error":"#VALUE!"},{"$error":"#VALUE!"},{"$error":"#VALUE!"},{"$error":"#VALUE!"},{"$error":"#VALUE!"},{"$error":"#VALUE!"},{"$error":"#VALUE!"},{"$error":"#VALUE!"},{"$error":"#VALUE!"},{"$error":"#VALUE!"},{"$error":"#VALUE!"},{"$error":"#VALUE!"},{"$error":"#VALUE!"},{"$error":"#VALUE!"},{"$error":"#VALUE!"},{"$error":"#VALUE!"},{"$error":"#VALUE!"},{"$error":"#VALUE!"},{"$error":"#VALUE!"},{"$error":"#VALUE!"},{"$error":"#VALUE!"},{"$error":"#VALUE!"},{"$error":"#VALUE!"},{"$error":"#VALUE!"},{"$error":"#VALUE!"},{"$error":"#VALUE!"},{"$error":"#VALUE!"},{"$error":"#VALUE!"},{"$error":"#VALUE!"},{"$error":"#VALUE!"},{"$error":"#VALUE!"},7,0,{"$error":"#VALUE!"},{"$error":"#VALUE!"},{"$error":"#VALUE!"},{"$error":"#VALUE!"},{"$error":"#VALUE!"},{"$error":"#VALUE!"},{"$error":"#VALUE!"},{"$error":"#VALUE!"},{"$error":"#VALUE!"},{"$error":"#VALUE!"},{"$error":"#VALUE!"},{"$error":"#VALUE!"},{"$error":"#VALUE!"},{"$error":"#VALUE!"},{"$error":"#VALUE!"},{"$error":"#VALUE!"},{"$error":"#VALUE!"},{"$error":"#VALUE!"},{"$error":"#VALUE!"},{"$error":"#VALUE!"},{"$error":"#VALUE!"},{"$error":"#VALUE!"},{"$error":"#VALUE!"},{"$error":"#VALUE!"},{"$error":"#VALUE!"},{"$error":"#VALUE!"},{"$error":"#VALUE!"},{"$error":"#VALUE!"},{"$error":"#VALUE!"},{"$error":"#VALUE!"},{"$error":"#VALUE!"},{"$error":"#VALUE!"},{"$error":"#VALUE!"}]
[null,null,null,null,null,null,null,null,null,null,null,null,null,null,null,null,null,null,null,null,null,null,null,8,null,null,null,null,null,null,null,null,null,"N/A",null,false,null,null,null,null,8,null,null,null,null,null,null,null,null,null,null,null,"OK","OK","OK","OK",1000000,1000000,1000000,1000000,1000000,1000000,1000000,null,8,null,null,null,null,null,null,1,null,null,null,null,null,null,null,null,null,null,1,null,null,null,null,null,null,null,null,null,null,1,null,null,null,null,null,null,null,null,null,null,1,null,null,null,null,null,null,null,null,null,null,1,null,null,null,null,null,null,null,null,null,null,1,null,null,null,null,null,8,{"$error":"#VALUE!"},{"$error":"#VALUE!"},{"$error":"#VALUE!"},{"$error":"#VALUE!"},{"$error":"#VALUE!"},{"$error":"#VALUE!"},{"$error":"#VALUE!"},{"$error":"#VALUE!"},{"$error":"#VALUE!"},{"$error":"#VALUE!"},{"$error":"#VALUE!"},{"$error":"#VALUE!"},{"$error":"#VALUE!"},{"$error":"#VALUE!"},{"$error":"#VALUE!"},{"$error":"#VALUE!"},{"$error":"#VALUE!"},{"$error":"#VALUE!"},null,8,0,{"$error":"#VALUE!"},{"$error":"#VALUE!"},{"$error":"#VALUE!"},{"$error":"#VALUE!"},{"$error":"#VALUE!"},{"$error":"#VALUE!"},{"$error":"#VALUE!"},{"$error":"#VALUE!"},{"$error":"#VALUE!"},{"$error":"#VALUE!"},{"$error":"#VALUE!"},{"$error":"#VALUE!"},{"$error":"#VALUE!"},{"$error":"#VALUE!"},{"$error":"#VALUE!"},{"$error":"#VALUE!"},{"$error":"#VALUE!"},{"$error":"#VALUE!"},{"$error":"#VALUE!"},{"$error":"#VALUE!"},{"$error":"#VALUE!"},{"$error":"#VALUE!"},{"$error":"#VALUE!"},{"$error":"#VALUE!"},{"$error":"#VALUE!"},{"$error":"#VALUE!"},{"$error":"#VALUE!"},{"$error":"#VALUE!"},{"$error":"#VALUE!"},{"$error":"#VALUE!"},{"$error":"#VALUE!"},{"$error":"#VALUE!"},{"$error":"#VALUE!"},8,0,{"$error":"#VALUE!"},{"$error":"#VALUE!"},{"$error":"#VALUE!"},{"$error":"#VALUE!"},{"$error":"#VALUE!"},{"$error":"#VALUE!"},{"$error":"#VALUE!"},{"$error":"#VALUE!"},{"$error":"#VALUE!"},{"$error":"#VALUE!"},{"$error":"#VALUE!"},{"$error":"#VALUE!"},{"$error":"#VALUE!"},{"$error":"#VALUE!"},{"$error":"#VALUE!"},{"$error":"#VALUE!"},{"$error":"#VALUE!"},{"$error":"#VALUE!"},{"$error":"#VALUE!"},{"$error":"#VALUE!"},{"$error":"#VALUE!"},{"$error":"#VALUE!"},{"$error":"#VALUE!"},{"$error":"#VALUE!"},{"$error":"#VALUE!"},{"$error":"#VALUE!"},{"$error":"#VALUE!"},{"$error":"#VALUE!"},{"$error":"#VALUE!"},{"$error":"#VALUE!"},{"$error":"#VALUE!"},{"$error":"#VALUE!"},{"$error":"#VALUE!"},8,0,{"$error":"#VALUE!"},{"$error":"#VALUE!"},{"$error":"#VALUE!"},{"$error":"#VALUE!"},{"$error":"#VALUE!"},{"$error":"#VALUE!"},{"$error":"#VALUE!"},{"$error":"#VALUE!"},{"$error":"#VALUE!"},{"$error":"#VALUE!"},{"$error":"#VALUE!"},{"$error":"#VALUE!"},{"$error":"#VALUE!"},{"$error":"#VALUE!"},{"$error":"#VALUE!"},{"$error":"#VALUE!"},{"$error":"#VALUE!"},{"$error":"#VALUE!"},{"$error":"#VALUE!"},{"$error":"#VALUE!"},{"$error":"#VALUE!"},{"$error":"#VALUE!"},{"$error":"#VALUE!"},{"$error":"#VALUE!"},{"$error":"#VALUE!"},{"$error":"#VALUE!"},{"$error":"#VALUE!"},{"$error":"#VALUE!"},{"$error":"#VALUE!"},{"$error":"#VALUE!"},{"$error":"#VALUE!"},{"$error":"#VALUE!"},{"$error":"#VALUE!"},8,0,{"$error":"#VALUE!"},{"$error":"#VALUE!"},{"$error":"#VALUE!"},{"$error":"#VALUE!"},{"$error":"#VALUE!"},{"$error":"#VALUE!"},{"$error":"#VALUE!"},{"$error":"#VALUE!"},{"$error":"#VALUE!"},{"$error":"#VALUE!"},{"$error":"#VALUE!"},{"$error":"#VALUE!"},{"$error":"#VALUE!"},{"$error":"#VALUE!"},{"$error":"#VALUE!"},{"$error":"#VALUE!"},{"$error":"#VALUE!"},{"$error":"#VALUE!"},{"$error":"#VALUE!"},{"$error":"#VALUE!"},{"$error":"#VALUE!"},{"$error":"#VALUE!"},{"$error":"#VALUE!"},{"$error":"#VALUE!"},{"$error":"#VALUE!"},{"$error":"#VALUE!"},{"$error":"#VALUE!"},{"$error":"#VALUE!"},{"$error":"#VALUE!"},{"$error":"#VALUE!"},{"$error":"#VALUE!"},{"$error":"#VALUE!"},{"$error":"#VALUE!"},8,0,{"$error":"#VALUE!"},{"$error":"#VALUE!"},{"$error":"#VALUE!"},{"$error":"#VALUE!"},{"$error":"#VALUE!"},{"$error":"#VALUE!"},{"$error":"#VALUE!"},{"$error":"#VALUE!"},{"$error":"#VALUE!"},{"$error":"#VALUE!"},{"$error":"#VALUE!"},{"$error":"#VALUE!"},{"$error":"#VALUE!"},{"$error":"#VALUE!"},{"$error":"#VALUE!"},{"$error":"#VALUE!"},{"$error":"#VALUE!"},{"$error":"#VALUE!"},{"$error":"#VALUE!"},{"$error":"#VALUE!"},{"$error":"#VALUE!"},{"$error":"#VALUE!"},{"$error":"#VALUE!"},{"$error":"#VALUE!"},{"$error":"#VALUE!"},{"$error":"#VALUE!"},{"$error":"#VALUE!"},{"$error":"#VALUE!"},{"$error":"#VALUE!"},{"$error":"#VALUE!"},{"$error":"#VALUE!"},{"$error":"#VALUE!"},{"$error":"#VALUE!"},8,0,{"$error":"#VALUE!"},{"$error":"#VALUE!"},{"$error":"#VALUE!"},{"$error":"#VALUE!"},{"$error":"#VALUE!"},{"$error":"#VALUE!"},{"$error":"#VALUE!"},{"$error":"#VALUE!"},{"$error":"#VALUE!"},{"$error":"#VALUE!"},{"$error":"#VALUE!"},{"$error":"#VALUE!"},{"$error":"#VALUE!"},{"$error":"#VALUE!"},{"$error":"#VALUE!"},{"$error":"#VALUE!"},{"$error":"#VALUE!"},{"$error":"#VALUE!"},{"$error":"#VALUE!"},{"$error":"#VALUE!"},{"$error":"#VALUE!"},{"$error":"#VALUE!"},{"$error":"#VALUE!"},{"$error":"#VALUE!"},{"$error":"#VALUE!"},{"$error":"#VALUE!"},{"$error":"#VALUE!"},{"$error":"#VALUE!"},{"$error":"#VALUE!"},{"$error":"#VALUE!"},{"$error":"#VALUE!"},{"$error":"#VALUE!"},{"$error":"#VALUE!"}]
[null,null,null,null,null,null,null,null,null,null,null,null,null,null,null,null,null,null,null,null,null,null,null,9,null,null,null,null,null,null,null,null,null,"N/A",null,false,null,null,null,null,9,null,null,null,null,null,null,null,null,null,null,null,"OK","OK","OK","OK",1000000,1000000,1000000,{"$f":"(CU159*POWER(10,0)+CV159*POWER(10,1)+CW159*POWER(10,2)+CX159*POWER(10,3)+CY159*POWER(10,4)+CZ159*POWER(10,5)+DA159*POWER(10,6)+DB159*POWER(10,7)+DC159*POWER(10,8)+DD159*POWER(10,9)+DE159*POWER(10,10))","v":1000000},{"$f":"(DF159*POWER(10,0)+DG159*POWER(10,1)+DH159*POWER(10,2)+DI159*POWER(10,3)+DJ159*POWER(10,4)+DK159*POWER(10,5)+DL159*POWER(10,6)+DM159*POWER(10,7)+DN159*POWER(10,8)+DO159*POWER(10,9)+DP159*POWER(10,10))","v":1000000},1000000,1000000,null,9,null,null,null,null,null,null,1,null,null,null,null,null,null,null,null,null,null,1,null,null,null,null,null,null,null,null,null,null,1,null,null,null,null,null,null,null,null,null,null,1,null,null,null,null,null,null,null,null,null,null,1,null,null,null,null,null,null,null,null,null,null,1,null,null,null,null,null,9,{"$error":"#VALUE!"},{"$error":"#VALUE!"},{"$error":"#VALUE!"},{"$error":"#VALUE!"},{"$error":"#VALUE!"},{"$error":"#VALUE!"},{"$error":"#VALUE!"},{"$error":"#VALUE!"},{"$error":"#VALUE!"},{"$error":"#VALUE!"},{"$error":"#VALUE!"},{"$error":"#VALUE!"},{"$error":"#VALUE!"},{"$error":"#VALUE!"},{"$error":"#VALUE!"},{"$error":"#VALUE!"},{"$error":"#VALUE!"},{"$error":"#VALUE!"},null,9,0,{"$error":"#VALUE!"},{"$error":"#VALUE!"},{"$error":"#VALUE!"},{"$error":"#VALUE!"},{"$error":"#VALUE!"},{"$error":"#VALUE!"},{"$error":"#VALUE!"},{"$error":"#VALUE!"},{"$error":"#VALUE!"},{"$error":"#VALUE!"},{"$error":"#VALUE!"},{"$error":"#VALUE!"},{"$error":"#VALUE!"},{"$error":"#VALUE!"},{"$error":"#VALUE!"},{"$error":"#VALUE!"},{"$error":"#VALUE!"},{"$error":"#VALUE!"},{"$error":"#VALUE!"},{"$error":"#VALUE!"},{"$error":"#VALUE!"},{"$error":"#VALUE!"},{"$error":"#VALUE!"},{"$error":"#VALUE!"},{"$error":"#VALUE!"},{"$error":"#VALUE!"},{"$error":"#VALUE!"},{"$error":"#VALUE!"},{"$error":"#VALUE!"},{"$error":"#VALUE!"},{"$error":"#VALUE!"},{"$error":"#VALUE!"},{"$error":"#VALUE!"},9,0,{"$error":"#VALUE!"},{"$error":"#VALUE!"},{"$error":"#VALUE!"},{"$error":"#VALUE!"},{"$error":"#VALUE!"},{"$error":"#VALUE!"},{"$error":"#VALUE!"},{"$error":"#VALUE!"},{"$error":"#VALUE!"},{"$error":"#VALUE!"},{"$error":"#VALUE!"},{"$error":"#VALUE!"},{"$error":"#VALUE!"},{"$error":"#VALUE!"},{"$error":"#VALUE!"},{"$error":"#VALUE!"},{"$error":"#VALUE!"},{"$error":"#VALUE!"},{"$error":"#VALUE!"},{"$error":"#VALUE!"},{"$error":"#VALUE!"},{"$error":"#VALUE!"},{"$error":"#VALUE!"},{"$error":"#VALUE!"},{"$error":"#VALUE!"},{"$error":"#VALUE!"},{"$error":"#VALUE!"},{"$error":"#VALUE!"},{"$error":"#VALUE!"},{"$error":"#VALUE!"},{"$error":"#VALUE!"},{"$error":"#VALUE!"},{"$error":"#VALUE!"},9,0,{"$error":"#VALUE!"},{"$error":"#VALUE!"},{"$error":"#VALUE!"},{"$error":"#VALUE!"},{"$error":"#VALUE!"},{"$error":"#VALUE!"},{"$error":"#VALUE!"},{"$error":"#VALUE!"},{"$error":"#VALUE!"},{"$error":"#VALUE!"},{"$error":"#VALUE!"},{"$error":"#VALUE!"},{"$error":"#VALUE!"},{"$error":"#VALUE!"},{"$error":"#VALUE!"},{"$error":"#VALUE!"},{"$error":"#VALUE!"},{"$error":"#VALUE!"},{"$error":"#VALUE!"},{"$error":"#VALUE!"},{"$error":"#VALUE!"},{"$error":"#VALUE!"},{"$error":"#VALUE!"},{"$error":"#VALUE!"},{"$error":"#VALUE!"},{"$error":"#VALUE!"},{"$error":"#VALUE!"},{"$error":"#VALUE!"},{"$error":"#VALUE!"},{"$error":"#VALUE!"},{"$error":"#VALUE!"},{"$error":"#VALUE!"},{"$error":"#VALUE!"},9,0,{"$error":"#VALUE!"},{"$error":"#VALUE!"},{"$error":"#VALUE!"},{"$error":"#VALUE!"},{"$error":"#VALUE!"},{"$error":"#VALUE!"},{"$error":"#VALUE!"},{"$error":"#VALUE!"},{"$error":"#VALUE!"},{"$error":"#VALUE!"},{"$error":"#VALUE!"},{"$error":"#VALUE!"},{"$error":"#VALUE!"},{"$error":"#VALUE!"},{"$error":"#VALUE!"},{"$error":"#VALUE!"},{"$error":"#VALUE!"},{"$error":"#VALUE!"},{"$error":"#VALUE!"},{"$error":"#VALUE!"},{"$error":"#VALUE!"},{"$error":"#VALUE!"},{"$error":"#VALUE!"},{"$error":"#VALUE!"},{"$error":"#VALUE!"},{"$error":"#VALUE!"},{"$error":"#VALUE!"},{"$error":"#VALUE!"},{"$error":"#VALUE!"},{"$error":"#VALUE!"},{"$error":"#VALUE!"},{"$error":"#VALUE!"},{"$error":"#VALUE!"},9,0,{"$error":"#VALUE!"},{"$error":"#VALUE!"},{"$error":"#VALUE!"},{"$error":"#VALUE!"},{"$error":"#VALUE!"},{"$error":"#VALUE!"},{"$error":"#VALUE!"},{"$error":"#VALUE!"},{"$error":"#VALUE!"},{"$error":"#VALUE!"},{"$error":"#VALUE!"},{"$error":"#VALUE!"},{"$error":"#VALUE!"},{"$error":"#VALUE!"},{"$error":"#VALUE!"},{"$error":"#VALUE!"},{"$error":"#VALUE!"},{"$error":"#VALUE!"},{"$error":"#VALUE!"},{"$error":"#VALUE!"},{"$error":"#VALUE!"},{"$error":"#VALUE!"},{"$error":"#VALUE!"},{"$error":"#VALUE!"},{"$error":"#VALUE!"},{"$error":"#VALUE!"},{"$error":"#VALUE!"},{"$error":"#VALUE!"},{"$error":"#VALUE!"},{"$error":"#VALUE!"},{"$error":"#VALUE!"},{"$error":"#VALUE!"},{"$error":"#VALUE!"},9,0,{"$error":"#VALUE!"},{"$error":"#VALUE!"},{"$error":"#VALUE!"},{"$error":"#VALUE!"},{"$error":"#VALUE!"},{"$error":"#VALUE!"},{"$error":"#VALUE!"},{"$error":"#VALUE!"},{"$error":"#VALUE!"},{"$error":"#VALUE!"},{"$error":"#VALUE!"},{"$error":"#VALUE!"},{"$error":"#VALUE!"},{"$error":"#VALUE!"},{"$error":"#VALUE!"},{"$error":"#VALUE!"},{"$error":"#VALUE!"},{"$error":"#VALUE!"},{"$error":"#VALUE!"},{"$error":"#VALUE!"},{"$error":"#VALUE!"},{"$error":"#VALUE!"},{"$error":"#VALUE!"},{"$error":"#VALUE!"},{"$error":"#VALUE!"},{"$error":"#VALUE!"},{"$error":"#VALUE!"},{"$error":"#VALUE!"},{"$error":"#VALUE!"},{"$error":"#VALUE!"},{"$error":"#VALUE!"},{"$error":"#VALUE!"},{"$error":"#VALUE!"}]
[null,null,null,null,null,null,null,null,null,null,null,null,null,null,null,null,null,null,null,null,null,null,null,"Total",{"$f":"SUM(Y153:Y159)","v":0},{"$f":"SUM(Z153:Z159)","v":0},0,0,0,0,null,null,null,"N/A",null,false,null,null,null,null,"Total",null,null,null,null,null,null,null,null,null,null,null,null,null,null,null,null,null,null,null,null,null,null,null,"Total",null,null,null,null,null,null,null,null,null,null,null,null,null,null,null,null,null,null,null,null,null,null,null,null,null,null,null,null,null,null,null,null,null,null,null,null,null,null,null,null,null,null,null,null,null,null,null,null,null,null,null,null,null,null,null,null,null,null,null,null,null,null,null,null,null,null,null,"Total",{"$f":"SUM(ED153:ED159)","v":{"$error":"#VALUE!"}},{"$f":"SUM(EE153:EE159)","v":{"$error":"#VALUE!"}},{"$f":"SUM(EF153:EF159)","v":{"$error":"#VALUE!"}},{"$f":"SUM(EG153:EG159)","v":{"$error":"#VALUE!"}},{"$f":"SUM(EH153:EH159)","v":{"$error":"#VALUE!"}},{"$f":"SUM(EI153:EI159)","v":{"$error":"#VALUE!"}},{"$error":"#VALUE!"},{"$error":"#VALUE!"},{"$error":"#VALUE!"},{"$error":"#VALUE!"},{"$error":"#VALUE!"},{"$error":"#VALUE!"},{"$error":"#VALUE!"},{"$error":"#VALUE!"},{"$error":"#VALUE!"},{"$error":"#VALUE!"},{"$error":"#VALUE!"},{"$error":"#VALUE!"},null,"Total",{"$f":"SUM(EX153:EX159)","v":0},{"$f":"SUM(EY153:EY159)","v":{"$error":"#VALUE!"}},{"$f":"SUM(EZ153:EZ159)","v":{"$error":"#VALUE!"}},{"$error":"#VALUE!"},{"$error":"#VALUE!"},{"$f":"SUM(FC153:FC159)","v":{"$error":"#VALUE!"}},{"$f":"SUM(FD153:FD159)","v":{"$error":"#VALUE!"}},{"$error":"#VALUE!"},{"$error":"#VALUE!"},{"$error":"#VALUE!"},{"$error":"#VALUE!"},{"$error":"#VALUE!"},{"$error":"#VALUE!"},{"$error":"#VALUE!"},{"$error":"#VALUE!"},{"$error":"#VALUE!"},{"$f":"SUM(FN153:FN159)","v":{"$error":"#VALUE!"}},{"$f":"SUM(FO153:FO159)","v":{"$error":"#VALUE!"}},{"$f":"SUM(FP153:FP159)","v":{"$error":"#VALUE!"}},{"$f":"SUM(FQ153:FQ159)","v":{"$error":"#VALUE!"}},{"$error":"#VALUE!"},{"$error":"#VALUE!"},{"$error":"#VALUE!"},{"$error":"#VALUE!"},{"$error":"#VALUE!"},{"$error":"#VALUE!"},{"$error":"#VALUE!"},{"$error":"#VALUE!"},{"$error":"#VALUE!"},{"$error":"#VALUE!"},{"$error":"#VALUE!"},{"$f":"SUM(GC153:GC159)","v":{"$error":"#VALUE!"}},{"$f":"SUM(GD153:GD159)","v":{"$error":"#VALUE!"}},{"$error":"#VALUE!"},"Total",{"$f":"SUM(GG153:GG159)","v":0},{"$f":"SUM(GH153:GH159)","v":{"$error":"#VALUE!"}},{"$f":"SUM(GI153:GI159)","v":{"$error":"#VALUE!"}},{"$error":"#VALUE!"},{"$error":"#VALUE!"},{"$f":"SUM(GL153:GL159)","v":{"$error":"#VALUE!"}},{"$f":"SUM(GM153:GM159)","v":{"$error":"#VALUE!"}},{"$f":"SUM(GN153:GN159)","v":{"$error":"#VALUE!"}},{"$error":"#VALUE!"},{"$error":"#VALUE!"},{"$error":"#VALUE!"},{"$error":"#VALUE!"},{"$error":"#VALUE!"},{"$error":"#VALUE!"},{"$error":"#VALUE!"},{"$error":"#VALUE!"},{"$f":"SUM(GW153:GW159)","v":{"$error":"#VALUE!"}},{"$f":"SUM(GX153:GX159)","v":{"$error":"#VALUE!"}},{"$f":"SUM(GY153:GY159)","v":{"$error":"#VALUE!"}},{"$f":"SUM(GZ153:GZ159)","v":{"$error":"#VALUE!"}},{"$error":"#VALUE!"},{"$error":"#VALUE!"},{"$error":"#VALUE!"},{"$error":"#VALUE!"},{"$error":"#VALUE!"},{"$error":"#VALUE!"},{"$error":"#VALUE!"},{"$error":"#VALUE!"},{"$error":"#VALUE!"},{"$error":"#VALUE!"},{"$error":"#VALUE!"},{"$f":"SUM(HL153:HL159)","v":{"$error":"#VALUE!"}},{"$f":"SUM(HM153:HM159)","v":{"$error":"#VALUE!"}},{"$error":"#VALUE!"},"Total",{"$f":"SUM(HP153:HP159)","v":0},{"$f":"SUM(HQ153:HQ159)","v":{"$error":"#VALUE!"}},{"$f":"SUM(HR153:HR159)","v":{"$error":"#VALUE!"}},{"$error":"#VALUE!"},{"$error":"#VALUE!"},{"$f":"SUM(HU153:HU159)","v":{"$error":"#VALUE!"}},{"$f":"SUM(HV153:HV159)","v":{"$error":"#VALUE!"}},{"$error":"#VALUE!"},{"$error":"#VALUE!"},{"$error":"#VALUE!"},{"$error":"#VALUE!"},{"$error":"#VALUE!"},{"$error":"#VALUE!"},{"$error":"#VALUE!"},{"$error":"#VALUE!"},{"$error":"#VALUE!"},{"$f":"SUM(IF153:IF159)","v":{"$error":"#VALUE!"}},{"$f":"SUM(IG153:IG159)","v":{"$error":"#VALUE!"}},{"$f":"SUM(IH153:IH159)","v":{"$error":"#VALUE!"}},{"$f":"SUM(II153:II159)","v":{"$error":"#VALUE!"}},{"$error":"#VALUE!"},{"$error":"#VALUE!"},{"$error":"#VALUE!"},{"$error":"#VALUE!"},{"$error":"#VALUE!"},{"$error":"#VALUE!"},{"$error":"#VALUE!"},{"$error":"#VALUE!"},{"$error":"#VALUE!"},{"$error":"#VALUE!"},{"$error":"#VALUE!"},{"$f":"SUM(IU153:IU159)","v":{"$error":"#VALUE!"}},{"$f":"SUM(IV153:IV159)","v":{"$error":"#VALUE!"}},{"$error":"#VALUE!"},"Total",{"$f":"SUM(IY153:IY159)","v":0},{"$f":"SUM(IZ153:IZ159)","v":{"$error":"#VALUE!"}},{"$f":"SUM(JA153:JA159)","v":{"$error":"#VALUE!"}},{"$error":"#VALUE!"},{"$error":"#VALUE!"},{"$f":"SUM(JD153:JD159)","v":{"$error":"#VALUE!"}},{"$f":"SUM(JE153:JE159)","v":{"$error":"#VALUE!"}},{"$error":"#VALUE!"},{"$error":"#VALUE!"},{"$error":"#VALUE!"},{"$error":"#VALUE!"},{"$error":"#VALUE!"},{"$error":"#VALUE!"},{"$error":"#VALUE!"},{"$error":"#VALUE!"},{"$error":"#VALUE!"},{"$f":"SUM(JO153:JO159)","v":{"$error":"#VALUE!"}},{"$f":"SUM(JP153:JP159)","v":{"$error":"#VALUE!"}},{"$f":"SUM(JQ153:JQ159)","v":{"$error":"#VALUE!"}},{"$f":"SUM(JR153:JR159)","v":{"$error":"#VALUE!"}},{"$error":"#VALUE!"},{"$error":"#VALUE!"},{"$error":"#VALUE!"},{"$error":"#VALUE!"},{"$error":"#VALUE!"},{"$error":"#VALUE!"},{"$error":"#VALUE!"},{"$error":"#VALUE!"},{"$error":"#VALUE!"},{"$error":"#VALUE!"},{"$error":"#VALUE!"},{"$f":"SUM(KD153:KD159)","v":{"$error":"#VALUE!"}},{"$f":"SUM(KE153:KE159)","v":{"$error":"#VALUE!"}},{"$error":"#VALUE!"},"Total",{"$f":"SUM(KH153:KH159)","v":0},{"$f":"SUM(KI153:KI159)","v":{"$error":"#VALUE!"}},{"$f":"SUM(KJ153:KJ159)","v":{"$error":"#VALUE!"}},{"$error":"#VALUE!"},{"$error":"#VALUE!"},{"$f":"SUM(KM153:KM159)","v":{"$error":"#VALUE!"}},{"$f":"SUM(KN153:KN159)","v":{"$error":"#VALUE!"}},{"$error":"#VALUE!"},{"$error":"#VALUE!"},{"$error":"#VALUE!"},{"$error":"#VALUE!"},{"$error":"#VALUE!"},{"$error":"#VALUE!"},{"$error":"#VALUE!"},{"$error":"#VALUE!"},{"$error":"#VALUE!"},{"$f":"SUM(KX153:KX159)","v":{"$error":"#VALUE!"}},{"$f":"SUM(KY153:KY159)","v":{"$error":"#VALUE!"}},{"$f":"SUM(KZ153:KZ159)","v":{"$error":"#VALUE!"}},{"$f":"SUM(LA153:LA159)","v":{"$error":"#VALUE!"}},{"$error":"#VALUE!"},{"$error":"#VALUE!"},{"$error":"#VALUE!"},{"$error":"#VALUE!"},{"$error":"#VALUE!"},{"$error":"#VALUE!"},{"$error":"#VALUE!"},{"$error":"#VALUE!"},{"$error":"#VALUE!"},{"$error":"#VALUE!"},{"$error":"#VALUE!"},{"$f":"SUM(LM153:LM159)","v":{"$error":"#VALUE!"}},{"$f":"SUM(LN153:LN159)","v":{"$error":"#VALUE!"}},{"$error":"#VALUE!"},"Total",{"$f":"SUM(LQ153:LQ159)","v":0},{"$f":"SUM(LR153:LR159)","v":{"$error":"#VALUE!"}},{"$f":"SUM(LS153:LS159)","v":{"$error":"#VALUE!"}},{"$error":"#VALUE!"},{"$error":"#VALUE!"},{"$f":"SUM(LV153:LV159)","v":{"$error":"#VALUE!"}},{"$f":"SUM(LW153:LW159)","v":{"$error":"#VALUE!"}},{"$error":"#VALUE!"},{"$error":"#VALUE!"},{"$error":"#VALUE!"},{"$error":"#VALUE!"},{"$error":"#VALUE!"},{"$error":"#VALUE!"},{"$error":"#VALUE!"},{"$error":"#VALUE!"},{"$f":"SUM(MF153:MF159)","v":{"$error":"#VALUE!"}},{"$f":"SUM(MG153:MG159)","v":{"$error":"#VALUE!"}},{"$f":"SUM(MH153:MH159)","v":{"$error":"#VALUE!"}},{"$f":"SUM(MI153:MI159)","v":{"$error":"#VALUE!"}},{"$f":"SUM(MJ153:MJ159)","v":{"$error":"#VALUE!"}},{"$error":"#VALUE!"},{"$error":"#VALUE!"},{"$error":"#VALUE!"},{"$error":"#VALUE!"},{"$error":"#VALUE!"},{"$error":"#VALUE!"},{"$error":"#VALUE!"},{"$error":"#VALUE!"},{"$error":"#VALUE!"},{"$error":"#VALUE!"},{"$error":"#VALUE!"},{"$f":"SUM(MV153:MV159)","v":{"$error":"#VALUE!"}},{"$f":"SUM(MW153:MW159)","v":{"$error":"#VALUE!"}},{"$error":"#VALUE!"}]
[null,17,{"$f":"'Regional Project List Sheet'!F21","v":0},{"$f":"IF('Regional Project List Sheet'!$G21=\"New\",1,\"\")","v":""},{"$f":"IF('Regional Project List Sheet'!$G21=\"Funded Old\",1,\"\")","v":""},{"$f":"IF('Regional Project List Sheet'!$G21=\"Unfunded Old\",1,\"\")","v":""},{"$f":"'Regional Project List Sheet'!H21","v":0},{"$f":"'Regional Project List Sheet'!I21","v":0},{"$f":"'Regional Project List Sheet'!L21","v":0},{"$f":"'Regional Project List Sheet'!M21","v":0},{"$f":"'Regional Project List Sheet'!N21","v":0},{"$f":"'Regional Project List Sheet'!O21","v":0},{"$f":"'Regional Project List Sheet'!P21","v":0},{"$f":"IF('Regional Project List Sheet'!$Q21=\"N/A\",\"N/A\",IF($Y164<>0,5,IF($Z164<>0,4,IF($AA164<>0,3,IF($AB164<>0,2,1)))))","v":1},{"$f":"VLOOKUP($C161,'[2]Ranking|Priority'!$B$5:$O$68,12,FALSE)","v":{"$error":"#N/A"}},{"$f":"VLOOKUP($C161,'[2]Ranking|Priority'!$B$5:$O$68,13,FALSE)","v":{"$error":"#N/A"}},{"$f":"VLOOKUP($C161,'[2]Ranking|Priority'!$B$5:$O$68,14,FALSE)","v":{"$error":"#N/A"}},{"$f":"'Regional Project List Sheet'!T21","v":0},{"$f":"'Regional Project List Sheet'!U21","v":0},{"$f":"'Regional Project List Sheet'!V21","v":0},{"$f":"'Regional Project List Sheet'!W21","v":0},{"$f":"'Regional Project List Sheet'!X21","v":0},{"$f":"'Regional Project List Sheet'!Y21","v":"Choose from Project List in cell I2"},0,null,null,null,null,null,null,null,{"$f":"'Regional Project List Sheet'!AJ21","v":0},{"$f":"IF(OR('Regional Project List Sheet'!$AA21<>'Regional Project List Sheet'!$A$40,'Regional Project List Sheet'!$AD21<>'Regional Project List Sheet'!$A$40,'Regional Project List Sheet'!$AG21<>'Regional Project List Sheet'!$A$40),_xlfn.CONCAT(IF(ISNUMBER('Regional Project List Sheet'!$AA21),'Regional Project List Sheet'!$A$36,\"\"),\" \",IF(ISNUMBER('Regional Project List Sheet'!$AD21),'Regional Project List Sheet'!$A$37,\"\"),\" \",IF(ISNUMBER('Regional Project List Sheet'!$AG21),'Regional Project List Sheet'!$A$38,\"\")),\"N/A\")","v":"N/A"},"N/A",{"$f":"IF(OR('Regional Project List Sheet'!AC21<>'Regional Project List Sheet'!$A$40,'Regional Project List Sheet'!AF21<>'Regional Project List Sheet'!$A$40,'Regional Project List Sheet'!AI21<>'Regional Project List Sheet'!$A$40),\n\nIF(LEN(_xlfn.CONCAT(IF('Regional Project List Sheet'!AC21=\"Yes\",'Regional Project List Sheet'!$A$36,\"\"),\" \",\n\nIF('Regional Project List Sheet'!AF21=\"Yes\",'Regional Project List Sheet'!$A$37,\"\"),\" \",\n\nIF('Regional Project List Sheet'!AI21=\"Yes\",'Regional Project List Sheet'!$A$38,\"\")))<3,\"No\",\n\n_xlfn.CONCAT(IF('Regional Project List Sheet'!AC21=\"Yes\",'Regional Project List Sheet'!$A$36,\"\"),\" \",\n\nIF('Regional Project List Sheet'!AF21=\"Yes\",'Regional Project List Sheet'!$A$37,\"\"),\" \",\n\nIF('Regional Project List Sheet'!AI21=\"Yes\",'Regional Project List Sheet'!$A$38,\"\"))))","v":false},{"$f":"IF(X161=0,AI161,AJ160)","v":false},{"$f":"'Regional Project List Sheet'!AK21","v":0},null,{"$f":"'Regional Project List Sheet'!AL21","v":0},null,0,null,null,null,null,null,null,null,null,null,null,1,{"$f":"IF(AND(BB161=\"OK\",BC161=\"OK\",BD161=\"OK\"),\"OK\",\"ERR!\")","v":"OK"},{"$f":"IF(AND(Y161>0,SUM(BN161:BX161)<1),\"ERR!\",IF(AND(Z161>0,SUM(BY161:CI161)<1),\"ERR!\",IF(AND(AA161>0,SUM(CJ161:CT161)<1),\"ERR\",IF(AND(AB161>0,SUM(CU161:DE161)<1),\"ERR\",IF(AND(AC161>0,SUM(DF161:DP161)<1),\"ERR\",IF(AND(AD161>0,SUM(DQ161:EA161)<1),\"ERR\",\"OK\"))))))","v":"OK"},{"$f":"IF(OR(SUM(BN161:BX161)<>1,SUM(BY161:CI161)<>1,SUM(CJ161:CT161)<>1,SUM(CU161:DE161)<>1,SUM(DF161:DP161)<>1,SUM(DQ161:EA161)<>1),\"ERR!\",\"OK\")","v":"OK"},{"$f":"IF(AND(OR(BE161=BK161,BE161=0),OR(BF161=BK161,BF161=0),OR(BG161=BK161,BG161=0),OR(BH161=BK161,BH161=0),OR(BI161=BK161,BI161=0),OR(BJ161=BK161,BJ161=0)),\"OK\",\"ERR!\")","v":"OK"},{"$f":"(BN161*POWER(10,0)+BO161*POWER(10,1)+BP161*POWER(10,2)+BQ161*POWER(10,3)+BR161*POWER(10,4)+BS161*POWER(10,5)+BT161*POWER(10,6)+BU161*POWER(10,7)+BV161*POWER(10,8)+BW161*POWER(10,9)+BX161*POWER(10,10))","v":10},{"$f":"(BY161*POWER(10,0)+BZ161*POWER(10,1)+CA161*POWER(10,2)+CB161*POWER(10,3)+CC161*POWER(10,4)+CD161*POWER(10,5)+CE161*POWER(10,6)+CF161*POWER(10,7)+CG161*POWER(10,8)+CH161*POWER(10,9)+CI161*POWER(10,10))","v":10},{"$f":"(CJ161*POWER(10,0)+CK161*POWER(10,1)+CL161*POWER(10,2)+CM161*POWER(10,3)+CN161*POWER(10,4)+CO161*POWER(10,5)+CP161*POWER(10,6)+CQ161*POWER(10,7)+CR161*POWER(10,8)+CS161*POWER(10,9)+CT161*POWER(10,10))","v":10},{"$f":"(CU161*POWER(10,0)+CV161*POWER(10,1)+CW161*POWER(10,2)+CX161*POWER(10,3)+CY161*POWER(10,4)+CZ161*POWER(10,5)+DA161*POWER(10,6)+DB161*POWER(10,7)+DC161*POWER(10,8)+DD161*POWER(10,9)+DE161*POWER(10,10))","v":10},{"$f":"(DF161*POWER(10,0)+DG161*POWER(10,1)+DH161*POWER(10,2)+DI161*POWER(10,3)+DJ161*POWER(10,4)+DK161*POWER(10,5)+DL161*POWER(10,6)+DM161*POWER(10,7)+DN161*POWER(10,8)+DO161*POWER(10,9)+DP161*POWER(10,10))","v":10},{"$f":"(DQ161*POWER(10,0)+DR161*POWER(10,1)+DS161*POWER(10,2)+DT161*POWER(10,3)+DU161*POWER(10,4)+DV161*POWER(10,5)+DW161*POWER(10,6)+DX161*POWER(10,7)+DY161*POWER(10,8)+DZ161*POWER(10,9)+EA161*POWER(10,10))","v":10},{"$f":"MAX(BE161:BJ161)","v":10},null,0,null,1,null,null,null,null,null,null,null,null,null,null,1,null,null,null,null,null,null,null,null,null,null,1,null,null,null,null,null,null,null,null,null,null,1,null,null,null,null,null,null,null,null,null,null,1,null,null,null,null,null,null,null,null,null,null,1,null,null,null,null,null,null,null,null,null,null,0,{"$f":"($Y161*D$161)/1000","v":{"$error":"#VALUE!"}},{"$error":"#VALUE!"},{"$error":"#VALUE!"},{"$f":"($Z161*D$161)/1000","v":{"$error":"#VALUE!"}},{"$error":"#VALUE!"},{"$error":"#VALUE!"},{"$f":"($AA161*D$161)/1000","v":{"$error":"#VALUE!"}},{"$error":"#VALUE!"},{"$error":"#VALUE!"},{"$f":"($AB161*D$161)/1000","v":{"$error":"#VALUE!"}},{"$error":"#VALUE!"},{"$error":"#VALUE!"},{"$f":"($AC161*D$161)/1000","v":{"$error":"#VALUE!"}},{"$error":"#VALUE!"},{"$error":"#VALUE!"},{"$f":"($AD161*D$161)/1000","v":{"$error":"#VALUE!"}},{"$error":"#VALUE!"},{"$error":"#VALUE!"},null,0,{"$f":"$AZ$161*$Y161","v":0},{"$f":"($AZ$161*$BN161*D$161*$Y161)/1000","v":{"$error":"#VALUE!"}},{"$error":"#VALUE!"},{"$error":"#VALUE!"},{"$f":"($AZ$161*$BO161*D$161*$Y161)/1000","v":{"$error":"#VALUE!"}},{"$error":"#VALUE!"},{"$error":"#VALUE!"},{"$f":"($AZ$161*$BP161*D$161*$Y161)/1000","v":{"$error":"#VALUE!"}},{"$error":"#VALUE!"},{"$error":"#VALUE!"},{"$f":"($AZ$161*$BQ161*D$161*$Y161)/1000","v":{"$error":"#VALUE!"}},{"$error":"#VALUE!"},{"$error":"#VALUE!"},{"$f":"($AZ$161*$BR161*D$161*$Y161)/1000","v":{"$error":"#VALUE!"}},{"$error":"#VALUE!"},{"$error":"#VALUE!"},{"$f":"($AZ$161*$BS161*D$161*$Y161)/1000","v":{"$error":"#VALUE!"}},{"$error":"#VALUE!"},{"$error":"#VALUE!"},{"$f":"($AZ$161*$BT161*D$161*$Y161)/1000","v":{"$error":"#VALUE!"}},{"$error":"#VALUE!"},{"$error":"#VALUE!"},{"$f":"($AZ$161*$BU161*D$161*$Y161)/1000","v":{"$error":"#VALUE!"}},{"$error":"#VALUE!"},{"$error":"#VALUE!"},{"$f":"($AZ$161*$BV161*D$161*$Y161)/1000","v":{"$error":"#VALUE!"}},{"$error":"#VALUE!"},{"$error":"#VALUE!"},{"$f":"($AZ$161*$BW161*D$161*$Y161)/1000","v":{"$error":"#VALUE!"}},{"$error":"#VALUE!"},{"$error":"#VALUE!"},{"$f":"($AZ$161*$BX161*D$161*$Y161)/1000","v":{"$error":"#VALUE!"}},{"$error":"#VALUE!"},{"$error":"#VALUE!"},0,{"$f":"$AZ$161*$Z161","v":0},{"$f":"($AZ$161*$BY161*D$161*$Z161)/1000","v":{"$error":"#VALUE!"}},{"$error":"#VALUE!"},{"$error":"#VALUE!"},{"$f":"($AZ$161*$BZ161*D$161*$Z161)/1000","v":{"$error":"#VALUE!"}},{"$error":"#VALUE!"},{"$error":"#VALUE!"},{"$f":"($AZ$161*$CA161*D$161*$Z161)/1000","v":{"$error":"#VALUE!"}},{"$error":"#VALUE!"},{"$error":"#VALUE!"},{"$f":"($AZ$161*$CB161*D$161*$Z161)/1000","v":{"$error":"#VALUE!"}},{"$error":"#VALUE!"},{"$error":"#VALUE!"},{"$f":"($AZ$161*$CD161*D$161*$Z161)/1000","v":{"$error":"#VALUE!"}},{"$error":"#VALUE!"},{"$error":"#VALUE!"},{"$f":"($AZ$161*$CD161*D$161*$Z161)/1000","v":{"$error":"#VALUE!"}},{"$error":"#VALUE!"},{"$error":"#VALUE!"},{"$f":"($AZ$161*$CE161*D$161*$Z161)/1000","v":{"$error":"#VALUE!"}},{"$error":"#VALUE!"},{"$error":"#VALUE!"},{"$f":"($AZ$161*$CF161*D$161*$Z161)/1000","v":{"$error":"#VALUE!"}},{"$error":"#VALUE!"},{"$error":"#VALUE!"},{"$f":"($AZ$161*$CG161*D$161*$Z161)/1000","v":{"$error":"#VALUE!"}},{"$error":"#VALUE!"},{"$error":"#VALUE!"},{"$f":"($AZ$161*$CH161*D$161*$Z161)/1000","v":{"$error":"#VALUE!"}},{"$error":"#VALUE!"},{"$error":"#VALUE!"},{"$f":"($AZ$161*$CI161*D$161*$Z161)/1000","v":{"$error":"#VALUE!"}},{"$error":"#VALUE!"},{"$error":"#VALUE!"},0,{"$f":"$AZ$161*$AA161","v":0},{"$f":"($AZ$161*$CJ161*D$161*$AA161)/1000","v":{"$error":"#VALUE!"}},{"$error":"#VALUE!"},{"$error":"#VALUE!"},{"$f":"($AZ$161*$CK161*D$161*$AA161)/1000","v":{"$error":"#VALUE!"}},{"$error":"#VALUE!"},{"$error":"#VALUE!"},{"$f":"($AZ$161*$CL161*D$161*$AA161)/1000","v":{"$error":"#VALUE!"}},{"$error":"#VALUE!"},{"$error":"#VALUE!"},{"$f":"($AZ$161*$CM161*D$161*$AA161)/1000","v":{"$error":"#VALUE!"}},{"$error":"#VALUE!"},{"$error":"#VALUE!"},{"$f":"($AZ$161*$CN161*D$161*$AA161)/1000","v":{"$error":"#VALUE!"}},{"$error":"#VALUE!"},{"$error":"#VALUE!"},{"$f":"($AZ$161*$CO161*D$161*$AA161)/1000","v":{"$error":"#VALUE!"}},{"$error":"#VALUE!"},{"$error":"#VALUE!"},{"$f":"($AZ$161*$CP161*D$161*$AA161)/1000","v":{"$error":"#VALUE!"}},{"$error":"#VALUE!"},{"$error":"#VALUE!"},{"$f":"($AZ$161*$CQ161*D$161*$AA161)/1000","v":{"$error":"#VALUE!"}},{"$error":"#VALUE!"},{"$error":"#VALUE!"},{"$f":"($AZ$161*$CR161*D$161*$AA161)/1000","v":{"$error":"#VALUE!"}},{"$error":"#VALUE!"},{"$error":"#VALUE!"},{"$f":"($AZ$161*$CS161*D$161*$AA161)/1000","v":{"$error":"#VALUE!"}},{"$error":"#VALUE!"},{"$error":"#VALUE!"},{"$f":"($AZ$161*$CT161*D$161*$AA161)/1000","v":{"$error":"#VALUE!"}},{"$error":"#VALUE!"},{"$error":"#VALUE!"},0,{"$f":"$AZ$161*$AB161","v":0},{"$f":"($AZ$161*$CU161*D$161*$AB161)/1000","v":{"$error":"#VALUE!"}},{"$error":"#VALUE!"},{"$error":"#VALUE!"},{"$f":"($AZ$161*$CV161*D$161*$AB161)/1000","v":{"$error":"#VALUE!"}},{"$error":"#VALUE!"},{"$error":"#VALUE!"},{"$f":"($AZ$161*$CW161*D$161*$AB161)/1000","v":{"$error":"#VALUE!"}},{"$error":"#VALUE!"},{"$error":"#VALUE!"},{"$f":"($AZ$161*$CX161*D$161*$AB161)/1000","v":{"$error":"#VALUE!"}},{"$error":"#VALUE!"},{"$error":"#VALUE!"},{"$f":"($AZ$161*$CY161*D$161*$AB161)/1000","v":{"$error":"#VALUE!"}},{"$error":"#VALUE!"},{"$error":"#VALUE!"},{"$f":"($AZ$161*$CZ161*D$161*$AB161)/1000","v":{"$error":"#VALUE!"}},{"$error":"#VALUE!"},{"$error":"#VALUE!"},{"$f":"($AZ$161*$DA161*D$161*$AB161)/1000","v":{"$error":"#VALUE!"}},{"$error":"#VALUE!"},{"$error":"#VALUE!"},{"$f":"($AZ$161*$DB161*D$161*$AB161)/1000","v":{"$error":"#VALUE!"}},{"$error":"#VALUE!"},{"$error":"#VALUE!"},{"$f":"($AZ$161*$DC161*D$161*$AB161)/1000","v":{"$error":"#VALUE!"}},{"$error":"#VALUE!"},{"$error":"#VALUE!"},{"$f":"($AZ$161*$DD161*D$161*$AB161)/1000","v":{"$error":"#VALUE!"}},{"$error":"#VALUE!"},{"$error":"#VALUE!"},{"$f":"($AZ$161*$DE161*D$161*$AB161)/1000","v":{"$error":"#VALUE!"}},{"$error":"#VALUE!"},{"$error":"#VALUE!"},0,{"$f":"$AZ$161*$AC161","v":0},{"$f":"($AZ$161*$DF161*D$161*$AC161)/1000","v":{"$error":"#VALUE!"}},{"$error":"#VALUE!"},{"$error":"#VALUE!"},{"$f":"($AZ$161*$DG161*D$161*$AC161)/1000","v":{"$error":"#VALUE!"}},{"$error":"#VALUE!"},{"$error":"#VALUE!"},{"$f":"($AZ$161*$DH161*D$161*$AC161)/1000","v":{"$error":"#VALUE!"}},{"$error":"#VALUE!"},{"$error":"#VALUE!"},{"$f":"($AZ$161*$DI161*D$161*$AC161)/1000","v":{"$error":"#VALUE!"}},{"$error":"#VALUE!"},{"$error":"#VALUE!"},{"$f":"($AZ$161*$DJ161*D$161*$AC161)/1000","v":{"$error":"#VALUE!"}},{"$error":"#VALUE!"},{"$error":"#VALUE!"},{"$f":"($AZ$161*$DK161*D$161*$AC161)/1000","v":{"$error":"#VALUE!"}},{"$error":"#VALUE!"},{"$error":"#VALUE!"},{"$f":"($AZ$161*$DL161*D$161*$AC161)/1000","v":{"$error":"#VALUE!"}},{"$error":"#VALUE!"},{"$error":"#VALUE!"},{"$f":"($AZ$161*$DM161*D$161*$AC161)/1000","v":{"$error":"#VALUE!"}},{"$error":"#VALUE!"},{"$error":"#VALUE!"},{"$f":"($AZ$161*$DN161*D$161*$AC161)/1000","v":{"$error":"#VALUE!"}},{"$error":"#VALUE!"},{"$error":"#VALUE!"},{"$f":"($AZ$161*$DO161*D$161*$AC161)/1000","v":{"$error":"#VALUE!"}},{"$error":"#VALUE!"},{"$error":"#VALUE!"},{"$f":"($AZ$161*$DP161*D$161*$AC161)/1000","v":{"$error":"#VALUE!"}},{"$error":"#VALUE!"},{"$error":"#VALUE!"},0,{"$f":"$AZ$161*$AD161","v":0},{"$f":"($AZ$161*$DQ161*D$161*$AD161)/1000","v":{"$error":"#VALUE!"}},{"$error":"#VALUE!"},{"$error":"#VALUE!"},{"$f":"($AZ$161*$DR161*D$161*$AD161)/1000","v":{"$error":"#VALUE!"}},{"$error":"#VALUE!"},{"$error":"#VALUE!"},{"$f":"($AZ$161*$DS161*D$161*$AD161)/1000","v":{"$error":"#VALUE!"}},{"$error":"#VALUE!"},{"$error":"#VALUE!"},{"$f":"($AZ$161*$DT161*D$161*$AD161)/1000","v":{"$error":"#VALUE!"}},{"$error":"#VALUE!"},{"$error":"#VALUE!"},{"$f":"($AZ$161*$DU161*D$161*$AD161)/1000","v":{"$error":"#VALUE!"}},{"$error":"#VALUE!"},{"$error":"#VALUE!"},{"$f":"($AZ$161*$DV161*D$161*$AD161)/1000","v":{"$error":"#VALUE!"}},{"$error":"#VALUE!"},{"$error":"#VALUE!"},{"$f":"($AZ$161*$DW161*D$161*$AD161)/1000","v":{"$error":"#VALUE!"}},{"$error":"#VALUE!"},{"$error":"#VALUE!"},{"$f":"($AZ$161*$DX161*D$161*$AD161)/1000","v":{"$error":"#VALUE!"}},{"$error":"#VALUE!"},{"$error":"#VALUE!"},{"$f":"($AZ$161*$DY161*D$161*$AD161)/1000","v":{"$error":"#VALUE!"}},{"$error":"#VALUE!"},{"$error":"#VALUE!"},{"$f":"($AZ$161*$DZ161*D$161*$AD161)/1000","v":{"$error":"#VALUE!"}},{"$error":"#VALUE!"},{"$error":"#VALUE!"},{"$f":"($AZ$161*$EA161*D$161*$AD161)/1000","v":{"$error":"#VALUE!"}},{"$error":"#VALUE!"},{"$error":"#VALUE!"}]
[null,null,null,null,null,null,null,null,null,null,null,null,null,null,null,null,null,null,null,null,null,null,null,2,null,null,null,null,null,null,null,null,null,{"$f":"IF(X162=0,AG162,AH161)","v":"N/A"},null,false,null,null,null,null,2,null,null,null,null,null,null,null,null,null,null,null,{"$f":"IF(AND(BB162=\"OK\",BC162=\"OK\",BD162=\"OK\"),\"OK\",\"ERR!\")","v":"OK"},"OK",{"$f":"IF(OR(SUM(BN162:BX162)<>1,SUM(BY162:CI162)<>1,SUM(CJ162:CT162)<>1,SUM(CU162:DE162)<>1,SUM(DF162:DP162)<>1,SUM(DQ162:EA162)<>1),\"ERR!\",\"OK\")","v":"OK"},{"$f":"IF(AND(OR(BE162=BK162,BE162=0),OR(BF162=BK162,BF162=0),OR(BG162=BK162,BG162=0),OR(BH162=BK162,BH162=0),OR(BI162=BK162,BI162=0),OR(BJ162=BK162,BJ162=0)),\"OK\",\"ERR!\")","v":"OK"},{"$f":"(BN162*POWER(10,0)+BO162*POWER(10,1)+BP162*POWER(10,2)+BQ162*POWER(10,3)+BR162*POWER(10,4)+BS162*POWER(10,5)+BT162*POWER(10,6)+BU162*POWER(10,7)+BV162*POWER(10,8)+BW162*POWER(10,9)+BX162*POWER(10,10))","v":10},{"$f":"(BY162*POWER(10,0)+BZ162*POWER(10,1)+CA162*POWER(10,2)+CB162*POWER(10,3)+CC162*POWER(10,4)+CD162*POWER(10,5)+CE162*POWER(10,6)+CF162*POWER(10,7)+CG162*POWER(10,8)+CH162*POWER(10,9)+CI162*POWER(10,10))","v":10},{"$f":"(CJ162*POWER(10,0)+CK162*POWER(10,1)+CL162*POWER(10,2)+CM162*POWER(10,3)+CN162*POWER(10,4)+CO162*POWER(10,5)+CP162*POWER(10,6)+CQ162*POWER(10,7)+CR162*POWER(10,8)+CS162*POWER(10,9)+CT162*POWER(10,10))","v":10},{"$f":"(CU162*POWER(10,0)+CV162*POWER(10,1)+CW162*POWER(10,2)+CX162*POWER(10,3)+CY162*POWER(10,4)+CZ162*POWER(10,5)+DA162*POWER(10,6)+DB162*POWER(10,7)+DC162*POWER(10,8)+DD162*POWER(10,9)+DE162*POWER(10,10))","v":10},{"$f":"(DF162*POWER(10,0)+DG162*POWER(10,1)+DH162*POWER(10,2)+DI162*POWER(10,3)+DJ162*POWER(10,4)+DK162*POWER(10,5)+DL162*POWER(10,6)+DM162*POWER(10,7)+DN162*POWER(10,8)+DO162*POWER(10,9)+DP162*POWER(10,10))","v":10},{"$f":"(DQ162*POWER(10,0)+DR162*POWER(10,1)+DS162*POWER(10,2)+DT162*POWER(10,3)+DU162*POWER(10,4)+DV162*POWER(10,5)+DW162*POWER(10,6)+DX162*POWER(10,7)+DY162*POWER(10,8)+DZ162*POWER(10,9)+EA162*POWER(10,10))","v":10},{"$f":"MAX(BE162:BJ162)","v":10},null,2,null,1,null,null,null,null,null,null,null,null,null,null,1,null,null,null,null,null,null,null,null,null,null,1,null,null,null,null,null,null,null,null,null,null,1,null,null,null,null,null,null,null,null,null,null,1,null,null,null,null,null,null,null,null,null,null,1,null,null,null,null,null,null,null,null,null,null,2,{"$error":"#VALUE!"},{"$error":"#VALUE!"},{"$error":"#VALUE!"},{"$error":"#VALUE!"},{"$error":"#VALUE!"},{"$error":"#VALUE!"},{"$error":"#VALUE!"},{"$error":"#VALUE!"},{"$error":"#VALUE!"},{"$error":"#VALUE!"},{"$error":"#VALUE!"},{"$error":"#VALUE!"},{"$error":"#VALUE!"},{"$error":"#VALUE!"},{"$error":"#VALUE!"},{"$error":"#VALUE!"},{"$error":"#VALUE!"},{"$error":"#VALUE!"},null,2,0,{"$error":"#VALUE!"},{"$error":"#VALUE!"},{"$error":"#VALUE!"},{"$error":"#VALUE!"},{"$error":"#VALUE!"},{"$error":"#VALUE!"},{"$error":"#VALUE!"},{"$error":"#VALUE!"},{"$error":"#VALUE!"},{"$error":"#VALUE!"},{"$error":"#VALUE!"},{"$error":"#VALUE!"},{"$error":"#VALUE!"},{"$error":"#VALUE!"},{"$error":"#VALUE!"},{"$error":"#VALUE!"},{"$error":"#VALUE!"},{"$error":"#VALUE!"},{"$error":"#VALUE!"},{"$error":"#VALUE!"},{"$error":"#VALUE!"},{"$error":"#VALUE!"},{"$error":"#VALUE!"},{"$error":"#VALUE!"},{"$error":"#VALUE!"},{"$error":"#VALUE!"},{"$error":"#VALUE!"},{"$error":"#VALUE!"},{"$error":"#VALUE!"},{"$error":"#VALUE!"},{"$error":"#VALUE!"},{"$error":"#VALUE!"},{"$error":"#VALUE!"},2,0,{"$error":"#VALUE!"},{"$error":"#VALUE!"},{"$error":"#VALUE!"},{"$error":"#VALUE!"},{"$error":"#VALUE!"},{"$error":"#VALUE!"},{"$error":"#VALUE!"},{"$error":"#VALUE!"},{"$error":"#VALUE!"},{"$error":"#VALUE!"},{"$error":"#VALUE!"},{"$error":"#VALUE!"},{"$error":"#VALUE!"},{"$error":"#VALUE!"},{"$error":"#VALUE!"},{"$error":"#VALUE!"},{"$error":"#VALUE!"},{"$error":"#VALUE!"},{"$error":"#VALUE!"},{"$error":"#VALUE!"},{"$error":"#VALUE!"},{"$error":"#VALUE!"},{"$error":"#VALUE!"},{"$error":"#VALUE!"},{"$error":"#VALUE!"},{"$error":"#VALUE!"},{"$error":"#VALUE!"},{"$error":"#VALUE!"},{"$error":"#VALUE!"},{"$error":"#VALUE!"},{"$error":"#VALUE!"},{"$error":"#VALUE!"},{"$error":"#VALUE!"},2,0,{"$error":"#VALUE!"},{"$error":"#VALUE!"},{"$error":"#VALUE!"},{"$error":"#VALUE!"},{"$error":"#VALUE!"},{"$error":"#VALUE!"},{"$error":"#VALUE!"},{"$error":"#VALUE!"},{"$error":"#VALUE!"},{"$error":"#VALUE!"},{"$error":"#VALUE!"},{"$error":"#VALUE!"},{"$error":"#VALUE!"},{"$error":"#VALUE!"},{"$error":"#VALUE!"},{"$error":"#VALUE!"},{"$error":"#VALUE!"},{"$error":"#VALUE!"},{"$error":"#VALUE!"},{"$error":"#VALUE!"},{"$error":"#VALUE!"},{"$error":"#VALUE!"},{"$error":"#VALUE!"},{"$error":"#VALUE!"},{"$error":"#VALUE!"},{"$error":"#VALUE!"},{"$error":"#VALUE!"},{"$error":"#VALUE!"},{"$error":"#VALUE!"},{"$error":"#VALUE!"},{"$error":"#VALUE!"},{"$error":"#VALUE!"},{"$error":"#VALUE!"},2,0,{"$error":"#VALUE!"},{"$error":"#VALUE!"},{"$error":"#VALUE!"},{"$error":"#VALUE!"},{"$error":"#VALUE!"},{"$error":"#VALUE!"},{"$error":"#VALUE!"},{"$error":"#VALUE!"},{"$error":"#VALUE!"},{"$error":"#VALUE!"},{"$error":"#VALUE!"},{"$error":"#VALUE!"},{"$error":"#VALUE!"},{"$error":"#VALUE!"},{"$error":"#VALUE!"},{"$error":"#VALUE!"},{"$error":"#VALUE!"},{"$error":"#VALUE!"},{"$error":"#VALUE!"},{"$error":"#VALUE!"},{"$error":"#VALUE!"},{"$error":"#VALUE!"},{"$error":"#VALUE!"},{"$error":"#VALUE!"},{"$error":"#VALUE!"},{"$error":"#VALUE!"},{"$error":"#VALUE!"},{"$error":"#VALUE!"},{"$error":"#VALUE!"},{"$error":"#VALUE!"},{"$error":"#VALUE!"},{"$error":"#VALUE!"},{"$error":"#VALUE!"},2,0,{"$error":"#VALUE!"},{"$error":"#VALUE!"},{"$error":"#VALUE!"},{"$error":"#VALUE!"},{"$error":"#VALUE!"},{"$error":"#VALUE!"},{"$error":"#VALUE!"},{"$error":"#VALUE!"},{"$error":"#VALUE!"},{"$error":"#VALUE!"},{"$error":"#VALUE!"},{"$error":"#VALUE!"},{"$error":"#VALUE!"},{"$error":"#VALUE!"},{"$error":"#VALUE!"},{"$error":"#VALUE!"},{"$error":"#VALUE!"},{"$error":"#VALUE!"},{"$error":"#VALUE!"},{"$error":"#VALUE!"},{"$error":"#VALUE!"},{"$error":"#VALUE!"},{"$error":"#VALUE!"},{"$error":"#VALUE!"},{"$error":"#VALUE!"},{"$error":"#VALUE!"},{"$error":"#VALUE!"},{"$error":"#VALUE!"},{"$error":"#VALUE!"},{"$error":"#VALUE!"},{"$error":"#VALUE!"},{"$error":"#VALUE!"},{"$error":"#VALUE!"},2,0,{"$error":"#VALUE!"},{"$error":"#VALUE!"},{"$error":"#VALUE!"},{"$error":"#VALUE!"},{"$error":"#VALUE!"},{"$error":"#VALUE!"},{"$error":"#VALUE!"},{"$error":"#VALUE!"},{"$error":"#VALUE!"},{"$error":"#VALUE!"},{"$error":"#VALUE!"},{"$error":"#VALUE!"},{"$error":"#VALUE!"},{"$error":"#VALUE!"},{"$error":"#VALUE!"},{"$error":"#VALUE!"},{"$error":"#VALUE!"},{"$error":"#VALUE!"},{"$error":"#VALUE!"},{"$error":"#VALUE!"},{"$error":"#VALUE!"},{"$error":"#VALUE!"},{"$error":"#VALUE!"},{"$error":"#VALUE!"},{"$error":"#VALUE!"},{"$error":"#VALUE!"},{"$error":"#VALUE!"},{"$error":"#VALUE!"},{"$error":"#VALUE!"},{"$error":"#VALUE!"},{"$error":"#VALUE!"},{"$error":"#VALUE!"},{"$error":"#VALUE!"}]
[null,null,null,null,null,null,null,null,null,null,null,null,null,null,null,null,null,null,null,null,null,null,null,3,null,null,null,null,null,null,null,null,null,"N/A",null,false,null,null,null,null,3,null,null,null,null,null,null,null,null,null,null,null,{"$f":"IF(AND(BB163=\"OK\",BC163=\"OK\",BD163=\"OK\"),\"OK\",\"ERR!\")","v":"OK"},"OK",{"$f":"IF(OR(SUM(BN163:BX163)<>1,SUM(BY163:CI163)<>1,SUM(CJ163:CT163)<>1,SUM(CU163:DE163)<>1,SUM(DF163:DP163)<>1,SUM(DQ163:EA163)<>1),\"ERR!\",\"OK\")","v":"OK"},{"$f":"IF(AND(OR(BE163=BK163,BE163=0),OR(BF163=BK163,BF163=0),OR(BG163=BK163,BG163=0),OR(BH163=BK163,BH163=0),OR(BI163=BK163,BI163=0),OR(BJ163=BK163,BJ163=0)),\"OK\",\"ERR!\")","v":"OK"},10,10,10,10,10,10,{"$f":"MAX(BE163:BJ163)","v":10},null,3,null,1,null,null,null,null,null,null,null,null,null,null,1,null,null,null,null,null,null,null,null,null,null,1,null,null,null,null,null,null,null,null,null,null,1,null,null,null,null,null,null,null,null,null,null,1,null,null,null,null,null,null,null,null,null,null,1,null,null,null,null,null,null,null,null,null,null,3,{"$error":"#VALUE!"},{"$error":"#VALUE!"},{"$error":"#VALUE!"},{"$error":"#VALUE!"},{"$error":"#VALUE!"},{"$error":"#VALUE!"},{"$error":"#VALUE!"},{"$error":"#VALUE!"},{"$error":"#VALUE!"},{"$error":"#VALUE!"},{"$error":"#VALUE!"},{"$error":"#VALUE!"},{"$error":"#VALUE!"},{"$error":"#VALUE!"},{"$error":"#VALUE!"},{"$error":"#VALUE!"},{"$error":"#VALUE!"},{"$error":"#VALUE!"},null,3,0,{"$error":"#VALUE!"},{"$error":"#VALUE!"},{"$error":"#VALUE!"},{"$error":"#VALUE!"},{"$error":"#VALUE!"},{"$error":"#VALUE!"},{"$error":"#VALUE!"},{"$error":"#VALUE!"},{"$error":"#VALUE!"},{"$error":"#VALUE!"},{"$error":"#VALUE!"},{"$error":"#VALUE!"},{"$error":"#VALUE!"},{"$error":"#VALUE!"},{"$error":"#VALUE!"},{"$error":"#VALUE!"},{"$error":"#VALUE!"},{"$error":"#VALUE!"},{"$error":"#VALUE!"},{"$error":"#VALUE!"},{"$error":"#VALUE!"},{"$error":"#VALUE!"},{"$error":"#VALUE!"},{"$error":"#VALUE!"},{"$error":"#VALUE!"},{"$error":"#VALUE!"},{"$error":"#VALUE!"},{"$error":"#VALUE!"},{"$error":"#VALUE!"},{"$error":"#VALUE!"},{"$error":"#VALUE!"},{"$error":"#VALUE!"},{"$error":"#VALUE!"},3,0,{"$error":"#VALUE!"},{"$error":"#VALUE!"},{"$error":"#VALUE!"},{"$error":"#VALUE!"},{"$error":"#VALUE!"},{"$error":"#VALUE!"},{"$error":"#VALUE!"},{"$error":"#VALUE!"},{"$error":"#VALUE!"},{"$error":"#VALUE!"},{"$error":"#VALUE!"},{"$error":"#VALUE!"},{"$error":"#VALUE!"},{"$error":"#VALUE!"},{"$error":"#VALUE!"},{"$error":"#VALUE!"},{"$error":"#VALUE!"},{"$error":"#VALUE!"},{"$error":"#VALUE!"},{"$error":"#VALUE!"},{"$error":"#VALUE!"},{"$error":"#VALUE!"},{"$error":"#VALUE!"},{"$error":"#VALUE!"},{"$error":"#VALUE!"},{"$error":"#VALUE!"},{"$error":"#VALUE!"},{"$error":"#VALUE!"},{"$error":"#VALUE!"},{"$error":"#VALUE!"},{"$error":"#VALUE!"},{"$error":"#VALUE!"},{"$error":"#VALUE!"},3,0,{"$error":"#VALUE!"},{"$error":"#VALUE!"},{"$error":"#VALUE!"},{"$error":"#VALUE!"},{"$error":"#VALUE!"},{"$error":"#VALUE!"},{"$error":"#VALUE!"},{"$error":"#VALUE!"},{"$error":"#VALUE!"},{"$error":"#VALUE!"},{"$error":"#VALUE!"},{"$error":"#VALUE!"},{"$error":"#VALUE!"},{"$error":"#VALUE!"},{"$error":"#VALUE!"},{"$error":"#VALUE!"},{"$error":"#VALUE!"},{"$error":"#VALUE!"},{"$error":"#VALUE!"},{"$error":"#VALUE!"},{"$error":"#VALUE!"},{"$error":"#VALUE!"},{"$error":"#VALUE!"},{"$error":"#VALUE!"},{"$error":"#VALUE!"},{"$error":"#VALUE!"},{"$error":"#VALUE!"},{"$error":"#VALUE!"},{"$error":"#VALUE!"},{"$error":"#VALUE!"},{"$error":"#VALUE!"},{"$error":"#VALUE!"},{"$error":"#VALUE!"},3,0,{"$error":"#VALUE!"},{"$error":"#VALUE!"},{"$error":"#VALUE!"},{"$error":"#VALUE!"},{"$error":"#VALUE!"},{"$error":"#VALUE!"},{"$error":"#VALUE!"},{"$error":"#VALUE!"},{"$error":"#VALUE!"},{"$error":"#VALUE!"},{"$error":"#VALUE!"},{"$error":"#VALUE!"},{"$error":"#VALUE!"},{"$error":"#VALUE!"},{"$error":"#VALUE!"},{"$error":"#VALUE!"},{"$error":"#VALUE!"},{"$error":"#VALUE!"},{"$error":"#VALUE!"},{"$error":"#VALUE!"},{"$error":"#VALUE!"},{"$error":"#VALUE!"},{"$error":"#VALUE!"},{"$error":"#VALUE!"},{"$error":"#VALUE!"},{"$error":"#VALUE!"},{"$error":"#VALUE!"},{"$error":"#VALUE!"},{"$error":"#VALUE!"},{"$error":"#VALUE!"},{"$error":"#VALUE!"},{"$error":"#VALUE!"},{"$error":"#VALUE!"},3,0,{"$error":"#VALUE!"},{"$error":"#VALUE!"},{"$error":"#VALUE!"},{"$error":"#VALUE!"},{"$error":"#VALUE!"},{"$error":"#VALUE!"},{"$error":"#VALUE!"},{"$error":"#VALUE!"},{"$error":"#VALUE!"},{"$error":"#VALUE!"},{"$error":"#VALUE!"},{"$error":"#VALUE!"},{"$error":"#VALUE!"},{"$error":"#VALUE!"},{"$error":"#VALUE!"},{"$error":"#VALUE!"},{"$error":"#VALUE!"},{"$error":"#VALUE!"},{"$error":"#VALUE!"},{"$error":"#VALUE!"},{"$error":"#VALUE!"},{"$error":"#VALUE!"},{"$error":"#VALUE!"},{"$error":"#VALUE!"},{"$error":"#VALUE!"},{"$error":"#VALUE!"},{"$error":"#VALUE!"},{"$error":"#VALUE!"},{"$error":"#VALUE!"},{"$error":"#VALUE!"},{"$error":"#VALUE!"},{"$error":"#VALUE!"},{"$error":"#VALUE!"},3,0,{"$error":"#VALUE!"},{"$error":"#VALUE!"},{"$error":"#VALUE!"},{"$error":"#VALUE!"},{"$error":"#VALUE!"},{"$error":"#VALUE!"},{"$error":"#VALUE!"},{"$error":"#VALUE!"},{"$error":"#VALUE!"},{"$error":"#VALUE!"},{"$error":"#VALUE!"},{"$error":"#VALUE!"},{"$error":"#VALUE!"},{"$error":"#VALUE!"},{"$error":"#VALUE!"},{"$error":"#VALUE!"},{"$error":"#VALUE!"},{"$error":"#VALUE!"},{"$error":"#VALUE!"},{"$error":"#VALUE!"},{"$error":"#VALUE!"},{"$error":"#VALUE!"},{"$error":"#VALUE!"},{"$error":"#VALUE!"},{"$error":"#VALUE!"},{"$error":"#VALUE!"},{"$error":"#VALUE!"},{"$error":"#VALUE!"},{"$error":"#VALUE!"},{"$error":"#VALUE!"},{"$error":"#VALUE!"},{"$error":"#VALUE!"},{"$error":"#VALUE!"}]
[null,null,null,null,null,null,null,null,null,null,null,null,null,null,null,null,null,null,null,null,null,null,null,4,null,null,null,null,null,null,null,null,null,"N/A",null,false,null,null,null,null,4,null,null,null,null,null,null,null,null,null,null,null,{"$f":"IF(AND(BB164=\"OK\",BC164=\"OK\",BD164=\"OK\"),\"OK\",\"ERR!\")","v":"OK"},"OK","OK",{"$f":"IF(AND(OR(BE164=BK164,BE164=0),OR(BF164=BK164,BF164=0),OR(BG164=BK164,BG164=0),OR(BH164=BK164,BH164=0),OR(BI164=BK164,BI164=0),OR(BJ164=BK164,BJ164=0)),\"OK\",\"ERR!\")","v":"OK"},10,10,10,10,10,10,10,null,4,null,1,null,null,null,null,null,null,null,null,null,null,1,null,null,null,null,null,null,null,null,null,null,1,null,null,null,null,null,null,null,null,null,null,1,null,null,null,null,null,null,null,null,null,null,1,null,null,null,null,null,null,null,null,null,null,1,null,null,null,null,null,null,null,null,null,null,4,{"$error":"#VALUE!"},{"$error":"#VALUE!"},{"$error":"#VALUE!"},{"$error":"#VALUE!"},{"$error":"#VALUE!"},{"$error":"#VALUE!"},{"$error":"#VALUE!"},{"$error":"#VALUE!"},{"$error":"#VALUE!"},{"$error":"#VALUE!"},{"$error":"#VALUE!"},{"$error":"#VALUE!"},{"$error":"#VALUE!"},{"$error":"#VALUE!"},{"$error":"#VALUE!"},{"$error":"#VALUE!"},{"$error":"#VALUE!"},{"$error":"#VALUE!"},null,4,0,{"$error":"#VALUE!"},{"$error":"#VALUE!"},{"$error":"#VALUE!"},{"$error":"#VALUE!"},{"$error":"#VALUE!"},{"$error":"#VALUE!"},{"$error":"#VALUE!"},{"$error":"#VALUE!"},{"$error":"#VALUE!"},{"$error":"#VALUE!"},{"$error":"#VALUE!"},{"$error":"#VALUE!"},{"$error":"#VALUE!"},{"$error":"#VALUE!"},{"$error":"#VALUE!"},{"$error":"#VALUE!"},{"$error":"#VALUE!"},{"$error":"#VALUE!"},{"$error":"#VALUE!"},{"$error":"#VALUE!"},{"$error":"#VALUE!"},{"$error":"#VALUE!"},{"$error":"#VALUE!"},{"$error":"#VALUE!"},{"$error":"#VALUE!"},{"$error":"#VALUE!"},{"$error":"#VALUE!"},{"$error":"#VALUE!"},{"$error":"#VALUE!"},{"$error":"#VALUE!"},{"$error":"#VALUE!"},{"$error":"#VALUE!"},{"$error":"#VALUE!"},4,0,{"$error":"#VALUE!"},{"$error":"#VALUE!"},{"$error":"#VALUE!"},{"$error":"#VALUE!"},{"$error":"#VALUE!"},{"$error":"#VALUE!"},{"$error":"#VALUE!"},{"$error":"#VALUE!"},{"$error":"#VALUE!"},{"$error":"#VALUE!"},{"$error":"#VALUE!"},{"$error":"#VALUE!"},{"$error":"#VALUE!"},{"$error":"#VALUE!"},{"$error":"#VALUE!"},{"$error":"#VALUE!"},{"$error":"#VALUE!"},{"$error":"#VALUE!"},{"$error":"#VALUE!"},{"$error":"#VALUE!"},{"$error":"#VALUE!"},{"$error":"#VALUE!"},{"$error":"#VALUE!"},{"$error":"#VALUE!"},{"$error":"#VALUE!"},{"$error":"#VALUE!"},{"$error":"#VALUE!"},{"$error":"#VALUE!"},{"$error":"#VALUE!"},{"$error":"#VALUE!"},{"$error":"#VALUE!"},{"$error":"#VALUE!"},{"$error":"#VALUE!"},4,0,{"$error":"#VALUE!"},{"$error":"#VALUE!"},{"$error":"#VALUE!"},{"$error":"#VALUE!"},{"$error":"#VALUE!"},{"$error":"#VALUE!"},{"$error":"#VALUE!"},{"$error":"#VALUE!"},{"$error":"#VALUE!"},{"$error":"#VALUE!"},{"$error":"#VALUE!"},{"$error":"#VALUE!"},{"$error":"#VALUE!"},{"$error":"#VALUE!"},{"$error":"#VALUE!"},{"$error":"#VALUE!"},{"$error":"#VALUE!"},{"$error":"#VALUE!"},{"$error":"#VALUE!"},{"$error":"#VALUE!"},{"$error":"#VALUE!"},{"$error":"#VALUE!"},{"$error":"#VALUE!"},{"$error":"#VALUE!"},{"$error":"#VALUE!"},{"$error":"#VALUE!"},{"$error":"#VALUE!"},{"$error":"#VALUE!"},{"$error":"#VALUE!"},{"$error":"#VALUE!"},{"$error":"#VALUE!"},{"$error":"#VALUE!"},{"$error":"#VALUE!"},4,0,{"$error":"#VALUE!"},{"$error":"#VALUE!"},{"$error":"#VALUE!"},{"$error":"#VALUE!"},{"$error":"#VALUE!"},{"$error":"#VALUE!"},{"$error":"#VALUE!"},{"$error":"#VALUE!"},{"$error":"#VALUE!"},{"$error":"#VALUE!"},{"$error":"#VALUE!"},{"$error":"#VALUE!"},{"$error":"#VALUE!"},{"$error":"#VALUE!"},{"$error":"#VALUE!"},{"$error":"#VALUE!"},{"$error":"#VALUE!"},{"$error":"#VALUE!"},{"$error":"#VALUE!"},{"$error":"#VALUE!"},{"$error":"#VALUE!"},{"$error":"#VALUE!"},{"$error":"#VALUE!"},{"$error":"#VALUE!"},{"$error":"#VALUE!"},{"$error":"#VALUE!"},{"$error":"#VALUE!"},{"$error":"#VALUE!"},{"$error":"#VALUE!"},{"$error":"#VALUE!"},{"$error":"#VALUE!"},{"$error":"#VALUE!"},{"$error":"#VALUE!"},4,0,{"$error":"#VALUE!"},{"$error":"#VALUE!"},{"$error":"#VALUE!"},{"$error":"#VALUE!"},{"$error":"#VALUE!"},{"$error":"#VALUE!"},{"$error":"#VALUE!"},{"$error":"#VALUE!"},{"$error":"#VALUE!"},{"$error":"#VALUE!"},{"$error":"#VALUE!"},{"$error":"#VALUE!"},{"$error":"#VALUE!"},{"$error":"#VALUE!"},{"$error":"#VALUE!"},{"$error":"#VALUE!"},{"$error":"#VALUE!"},{"$error":"#VALUE!"},{"$error":"#VALUE!"},{"$error":"#VALUE!"},{"$error":"#VALUE!"},{"$error":"#VALUE!"},{"$error":"#VALUE!"},{"$error":"#VALUE!"},{"$error":"#VALUE!"},{"$error":"#VALUE!"},{"$error":"#VALUE!"},{"$error":"#VALUE!"},{"$error":"#VALUE!"},{"$error":"#VALUE!"},{"$error":"#VALUE!"},{"$error":"#VALUE!"},{"$error":"#VALUE!"},4,0,{"$error":"#VALUE!"},{"$error":"#VALUE!"},{"$error":"#VALUE!"},{"$error":"#VALUE!"},{"$error":"#VALUE!"},{"$error":"#VALUE!"},{"$error":"#VALUE!"},{"$error":"#VALUE!"},{"$error":"#VALUE!"},{"$error":"#VALUE!"},{"$error":"#VALUE!"},{"$error":"#VALUE!"},{"$error":"#VALUE!"},{"$error":"#VALUE!"},{"$error":"#VALUE!"},{"$error":"#VALUE!"},{"$error":"#VALUE!"},{"$error":"#VALUE!"},{"$error":"#VALUE!"},{"$error":"#VALUE!"},{"$error":"#VALUE!"},{"$error":"#VALUE!"},{"$error":"#VALUE!"},{"$error":"#VALUE!"},{"$error":"#VALUE!"},{"$error":"#VALUE!"},{"$error":"#VALUE!"},{"$error":"#VALUE!"},{"$error":"#VALUE!"},{"$error":"#VALUE!"},{"$error":"#VALUE!"},{"$error":"#VALUE!"},{"$error":"#VALUE!"}]
[null,null,null,null,null,null,null,null,null,null,null,null,null,null,null,null,null,null,null,null,null,null,null,7,null,null,null,null,null,null,null,null,null,"N/A",null,false,null,null,null,null,7,null,null,null,null,null,null,null,null,null,null,null,{"$f":"IF(AND(BB165=\"OK\",BC165=\"OK\",BD165=\"OK\"),\"OK\",\"ERR!\")","v":"OK"},"OK","OK","OK",10,10,10,10,10,10,10,null,7,null,1,null,null,null,null,null,null,null,null,null,null,1,null,null,null,null,null,null,null,null,null,null,1,null,null,null,null,null,null,null,null,null,null,1,null,null,null,null,null,null,null,null,null,null,1,null,null,null,null,null,null,null,null,null,null,1,null,null,null,null,null,null,null,null,null,null,7,{"$error":"#VALUE!"},{"$error":"#VALUE!"},{"$error":"#VALUE!"},{"$error":"#VALUE!"},{"$error":"#VALUE!"},{"$error":"#VALUE!"},{"$error":"#VALUE!"},{"$error":"#VALUE!"},{"$error":"#VALUE!"},{"$error":"#VALUE!"},{"$error":"#VALUE!"},{"$error":"#VALUE!"},{"$error":"#VALUE!"},{"$error":"#VALUE!"},{"$error":"#VALUE!"},{"$error":"#VALUE!"},{"$error":"#VALUE!"},{"$error":"#VALUE!"},null,7,0,{"$error":"#VALUE!"},{"$error":"#VALUE!"},{"$error":"#VALUE!"},{"$error":"#VALUE!"},{"$error":"#VALUE!"},{"$error":"#VALUE!"},{"$error":"#VALUE!"},{"$error":"#VALUE!"},{"$error":"#VALUE!"},{"$error":"#VALUE!"},{"$error":"#VALUE!"},{"$error":"#VALUE!"},{"$error":"#VALUE!"},{"$error":"#VALUE!"},{"$error":"#VALUE!"},{"$error":"#VALUE!"},{"$error":"#VALUE!"},{"$error":"#VALUE!"},{"$error":"#VALUE!"},{"$error":"#VALUE!"},{"$error":"#VALUE!"},{"$error":"#VALUE!"},{"$error":"#VALUE!"},{"$error":"#VALUE!"},{"$error":"#VALUE!"},{"$error":"#VALUE!"},{"$error":"#VALUE!"},{"$error":"#VALUE!"},{"$error":"#VALUE!"},{"$error":"#VALUE!"},{"$error":"#VALUE!"},{"$error":"#VALUE!"},{"$error":"#VALUE!"},7,0,{"$error":"#VALUE!"},{"$error":"#VALUE!"},{"$error":"#VALUE!"},{"$error":"#VALUE!"},{"$error":"#VALUE!"},{"$error":"#VALUE!"},{"$error":"#VALUE!"},{"$error":"#VALUE!"},{"$error":"#VALUE!"},{"$error":"#VALUE!"},{"$error":"#VALUE!"},{"$error":"#VALUE!"},{"$error":"#VALUE!"},{"$error":"#VALUE!"},{"$error":"#VALUE!"},{"$error":"#VALUE!"},{"$error":"#VALUE!"},{"$error":"#VALUE!"},{"$error":"#VALUE!"},{"$error":"#VALUE!"},{"$error":"#VALUE!"},{"$error":"#VALUE!"},{"$error":"#VALUE!"},{"$error":"#VALUE!"},{"$error":"#VALUE!"},{"$error":"#VALUE!"},{"$error":"#VALUE!"},{"$error":"#VALUE!"},{"$error":"#VALUE!"},{"$error":"#VALUE!"},{"$error":"#VALUE!"},{"$error":"#VALUE!"},{"$error":"#VALUE!"},7,0,{"$error":"#VALUE!"},{"$error":"#VALUE!"},{"$error":"#VALUE!"},{"$error":"#VALUE!"},{"$error":"#VALUE!"},{"$error":"#VALUE!"},{"$error":"#VALUE!"},{"$error":"#VALUE!"},{"$error":"#VALUE!"},{"$error":"#VALUE!"},{"$error":"#VALUE!"},{"$error":"#VALUE!"},{"$error":"#VALUE!"},{"$error":"#VALUE!"},{"$error":"#VALUE!"},{"$error":"#VALUE!"},{"$error":"#VALUE!"},{"$error":"#VALUE!"},{"$error":"#VALUE!"},{"$error":"#VALUE!"},{"$error":"#VALUE!"},{"$error":"#VALUE!"},{"$error":"#VALUE!"},{"$error":"#VALUE!"},{"$error":"#VALUE!"},{"$error":"#VALUE!"},{"$error":"#VALUE!"},{"$error":"#VALUE!"},{"$error":"#VALUE!"},{"$error":"#VALUE!"},{"$error":"#VALUE!"},{"$error":"#VALUE!"},{"$error":"#VALUE!"},7,0,{"$error":"#VALUE!"},{"$error":"#VALUE!"},{"$error":"#VALUE!"},{"$error":"#VALUE!"},{"$error":"#VALUE!"},{"$error":"#VALUE!"},{"$error":"#VALUE!"},{"$error":"#VALUE!"},{"$error":"#VALUE!"},{"$error":"#VALUE!"},{"$error":"#VALUE!"},{"$error":"#VALUE!"},{"$error":"#VALUE!"},{"$error":"#VALUE!"},{"$error":"#VALUE!"},{"$error":"#VALUE!"},{"$error":"#VALUE!"},{"$error":"#VALUE!"},{"$error":"#VALUE!"},{"$error":"#VALUE!"},{"$error":"#VALUE!"},{"$error":"#VALUE!"},{"$error":"#VALUE!"},{"$error":"#VALUE!"},{"$error":"#VALUE!"},{"$error":"#VALUE!"},{"$error":"#VALUE!"},{"$error":"#VALUE!"},{"$error":"#VALUE!"},{"$error":"#VALUE!"},{"$error":"#VALUE!"},{"$error":"#VALUE!"},{"$error":"#VALUE!"},7,0,{"$error":"#VALUE!"},{"$error":"#VALUE!"},{"$error":"#VALUE!"},{"$error":"#VALUE!"},{"$error":"#VALUE!"},{"$error":"#VALUE!"},{"$error":"#VALUE!"},{"$error":"#VALUE!"},{"$error":"#VALUE!"},{"$error":"#VALUE!"},{"$error":"#VALUE!"},{"$error":"#VALUE!"},{"$error":"#VALUE!"},{"$error":"#VALUE!"},{"$error":"#VALUE!"},{"$error":"#VALUE!"},{"$error":"#VALUE!"},{"$error":"#VALUE!"},{"$error":"#VALUE!"},{"$error":"#VALUE!"},{"$error":"#VALUE!"},{"$error":"#VALUE!"},{"$error":"#VALUE!"},{"$error":"#VALUE!"},{"$error":"#VALUE!"},{"$error":"#VALUE!"},{"$error":"#VALUE!"},{"$error":"#VALUE!"},{"$error":"#VALUE!"},{"$error":"#VALUE!"},{"$error":"#VALUE!"},{"$error":"#VALUE!"},{"$error":"#VALUE!"},7,0,{"$error":"#VALUE!"},{"$error":"#VALUE!"},{"$error":"#VALUE!"},{"$error":"#VALUE!"},{"$error":"#VALUE!"},{"$error":"#VALUE!"},{"$error":"#VALUE!"},{"$error":"#VALUE!"},{"$error":"#VALUE!"},{"$error":"#VALUE!"},{"$error":"#VALUE!"},{"$error":"#VALUE!"},{"$error":"#VALUE!"},{"$error":"#VALUE!"},{"$error":"#VALUE!"},{"$error":"#VALUE!"},{"$error":"#VALUE!"},{"$error":"#VALUE!"},{"$error":"#VALUE!"},{"$error":"#VALUE!"},{"$error":"#VALUE!"},{"$error":"#VALUE!"},{"$error":"#VALUE!"},{"$error":"#VALUE!"},{"$error":"#VALUE!"},{"$error":"#VALUE!"},{"$error":"#VALUE!"},{"$error":"#VALUE!"},{"$error":"#VALUE!"},{"$error":"#VALUE!"},{"$error":"#VALUE!"},{"$error":"#VALUE!"},{"$error":"#VALUE!"}]
[null,null,null,null,null,null,null,null,null,null,null,null,null,null,null,null,null,null,null,null,null,null,null,8,null,null,null,null,null,null,null,null,null,"N/A",null,false,null,null,null,null,8,null,null,null,null,null,null,null,null,null,null,null,"OK","OK","OK","OK",10,10,10,10,10,10,10,null,8,null,1,null,null,null,null,null,null,null,null,null,null,1,null,null,null,null,null,null,null,null,null,null,1,null,null,null,null,null,null,null,null,null,null,1,null,null,null,null,null,null,null,null,null,null,1,null,null,null,null,null,null,null,null,null,null,1,null,null,null,null,null,null,null,null,null,null,8,{"$error":"#VALUE!"},{"$error":"#VALUE!"},{"$error":"#VALUE!"},{"$error":"#VALUE!"},{"$error":"#VALUE!"},{"$error":"#VALUE!"},{"$error":"#VALUE!"},{"$error":"#VALUE!"},{"$error":"#VALUE!"},{"$error":"#VALUE!"},{"$error":"#VALUE!"},{"$error":"#VALUE!"},{"$error":"#VALUE!"},{"$error":"#VALUE!"},{"$error":"#VALUE!"},{"$error":"#VALUE!"},{"$error":"#VALUE!"},{"$error":"#VALUE!"},null,8,0,{"$error":"#VALUE!"},{"$error":"#VALUE!"},{"$error":"#VALUE!"},{"$error":"#VALUE!"},{"$error":"#VALUE!"},{"$error":"#VALUE!"},{"$error":"#VALUE!"},{"$error":"#VALUE!"},{"$error":"#VALUE!"},{"$error":"#VALUE!"},{"$error":"#VALUE!"},{"$error":"#VALUE!"},{"$error":"#VALUE!"},{"$error":"#VALUE!"},{"$error":"#VALUE!"},{"$error":"#VALUE!"},{"$error":"#VALUE!"},{"$error":"#VALUE!"},{"$error":"#VALUE!"},{"$error":"#VALUE!"},{"$error":"#VALUE!"},{"$error":"#VALUE!"},{"$error":"#VALUE!"},{"$error":"#VALUE!"},{"$error":"#VALUE!"},{"$error":"#VALUE!"},{"$error":"#VALUE!"},{"$error":"#VALUE!"},{"$error":"#VALUE!"},{"$error":"#VALUE!"},{"$error":"#VALUE!"},{"$error":"#VALUE!"},{"$error":"#VALUE!"},8,0,{"$error":"#VALUE!"},{"$error":"#VALUE!"},{"$error":"#VALUE!"},{"$error":"#VALUE!"},{"$error":"#VALUE!"},{"$error":"#VALUE!"},{"$error":"#VALUE!"},{"$error":"#VALUE!"},{"$error":"#VALUE!"},{"$error":"#VALUE!"},{"$error":"#VALUE!"},{"$error":"#VALUE!"},{"$error":"#VALUE!"},{"$error":"#VALUE!"},{"$error":"#VALUE!"},{"$error":"#VALUE!"},{"$error":"#VALUE!"},{"$error":"#VALUE!"},{"$error":"#VALUE!"},{"$error":"#VALUE!"},{"$error":"#VALUE!"},{"$error":"#VALUE!"},{"$error":"#VALUE!"},{"$error":"#VALUE!"},{"$error":"#VALUE!"},{"$error":"#VALUE!"},{"$error":"#VALUE!"},{"$error":"#VALUE!"},{"$error":"#VALUE!"},{"$error":"#VALUE!"},{"$error":"#VALUE!"},{"$error":"#VALUE!"},{"$error":"#VALUE!"},8,0,{"$error":"#VALUE!"},{"$error":"#VALUE!"},{"$error":"#VALUE!"},{"$error":"#VALUE!"},{"$error":"#VALUE!"},{"$error":"#VALUE!"},{"$error":"#VALUE!"},{"$error":"#VALUE!"},{"$error":"#VALUE!"},{"$error":"#VALUE!"},{"$error":"#VALUE!"},{"$error":"#VALUE!"},{"$error":"#VALUE!"},{"$error":"#VALUE!"},{"$error":"#VALUE!"},{"$error":"#VALUE!"},{"$error":"#VALUE!"},{"$error":"#VALUE!"},{"$error":"#VALUE!"},{"$error":"#VALUE!"},{"$error":"#VALUE!"},{"$error":"#VALUE!"},{"$error":"#VALUE!"},{"$error":"#VALUE!"},{"$error":"#VALUE!"},{"$error":"#VALUE!"},{"$error":"#VALUE!"},{"$error":"#VALUE!"},{"$error":"#VALUE!"},{"$error":"#VALUE!"},{"$error":"#VALUE!"},{"$error":"#VALUE!"},{"$error":"#VALUE!"},8,0,{"$error":"#VALUE!"},{"$error":"#VALUE!"},{"$error":"#VALUE!"},{"$error":"#VALUE!"},{"$error":"#VALUE!"},{"$error":"#VALUE!"},{"$error":"#VALUE!"},{"$error":"#VALUE!"},{"$error":"#VALUE!"},{"$error":"#VALUE!"},{"$error":"#VALUE!"},{"$error":"#VALUE!"},{"$error":"#VALUE!"},{"$error":"#VALUE!"},{"$error":"#VALUE!"},{"$error":"#VALUE!"},{"$error":"#VALUE!"},{"$error":"#VALUE!"},{"$error":"#VALUE!"},{"$error":"#VALUE!"},{"$error":"#VALUE!"},{"$error":"#VALUE!"},{"$error":"#VALUE!"},{"$error":"#VALUE!"},{"$error":"#VALUE!"},{"$error":"#VALUE!"},{"$error":"#VALUE!"},{"$error":"#VALUE!"},{"$error":"#VALUE!"},{"$error":"#VALUE!"},{"$error":"#VALUE!"},{"$error":"#VALUE!"},{"$error":"#VALUE!"},8,0,{"$error":"#VALUE!"},{"$error":"#VALUE!"},{"$error":"#VALUE!"},{"$error":"#VALUE!"},{"$error":"#VALUE!"},{"$error":"#VALUE!"},{"$error":"#VALUE!"},{"$error":"#VALUE!"},{"$error":"#VALUE!"},{"$error":"#VALUE!"},{"$error":"#VALUE!"},{"$error":"#VALUE!"},{"$error":"#VALUE!"},{"$error":"#VALUE!"},{"$error":"#VALUE!"},{"$error":"#VALUE!"},{"$error":"#VALUE!"},{"$error":"#VALUE!"},{"$error":"#VALUE!"},{"$error":"#VALUE!"},{"$error":"#VALUE!"},{"$error":"#VALUE!"},{"$error":"#VALUE!"},{"$error":"#VALUE!"},{"$error":"#VALUE!"},{"$error":"#VALUE!"},{"$error":"#VALUE!"},{"$error":"#VALUE!"},{"$error":"#VALUE!"},{"$error":"#VALUE!"},{"$error":"#VALUE!"},{"$error":"#VALUE!"},{"$error":"#VALUE!"},8,0,{"$error":"#VALUE!"},{"$error":"#VALUE!"},{"$error":"#VALUE!"},{"$error":"#VALUE!"},{"$error":"#VALUE!"},{"$error":"#VALUE!"},{"$error":"#VALUE!"},{"$error":"#VALUE!"},{"$error":"#VALUE!"},{"$error":"#VALUE!"},{"$error":"#VALUE!"},{"$error":"#VALUE!"},{"$error":"#VALUE!"},{"$error":"#VALUE!"},{"$error":"#VALUE!"},{"$error":"#VALUE!"},{"$error":"#VALUE!"},{"$error":"#VALUE!"},{"$error":"#VALUE!"},{"$error":"#VALUE!"},{"$error":"#VALUE!"},{"$error":"#VALUE!"},{"$error":"#VALUE!"},{"$error":"#VALUE!"},{"$error":"#VALUE!"},{"$error":"#VALUE!"},{"$error":"#VALUE!"},{"$error":"#VALUE!"},{"$error":"#VALUE!"},{"$error":"#VALUE!"},{"$error":"#VALUE!"},{"$error":"#VALUE!"},{"$error":"#VALUE!"}]
[null,null,null,null,null,null,null,null,null,null,null,null,null,null,null,null,null,null,null,null,null,null,null,9,null,null,null,null,null,null,null,null,null,"N/A",null,false,null,null,null,null,9,null,null,null,null,null,null,null,null,null,null,null,"OK","OK","OK","OK",10,10,10,{"$f":"(CU167*POWER(10,0)+CV167*POWER(10,1)+CW167*POWER(10,2)+CX167*POWER(10,3)+CY167*POWER(10,4)+CZ167*POWER(10,5)+DA167*POWER(10,6)+DB167*POWER(10,7)+DC167*POWER(10,8)+DD167*POWER(10,9)+DE167*POWER(10,10))","v":10},{"$f":"(DF167*POWER(10,0)+DG167*POWER(10,1)+DH167*POWER(10,2)+DI167*POWER(10,3)+DJ167*POWER(10,4)+DK167*POWER(10,5)+DL167*POWER(10,6)+DM167*POWER(10,7)+DN167*POWER(10,8)+DO167*POWER(10,9)+DP167*POWER(10,10))","v":10},10,10,null,9,null,1,null,null,null,null,null,null,null,null,null,null,1,null,null,null,null,null,null,null,null,null,null,1,null,null,null,null,null,null,null,null,null,null,1,null,null,null,null,null,null,null,null,null,null,1,null,null,null,null,null,null,null,null,null,null,1,null,null,null,null,null,null,null,null,null,null,9,{"$error":"#VALUE!"},{"$error":"#VALUE!"},{"$error":"#VALUE!"},{"$error":"#VALUE!"},{"$error":"#VALUE!"},{"$error":"#VALUE!"},{"$error":"#VALUE!"},{"$error":"#VALUE!"},{"$error":"#VALUE!"},{"$error":"#VALUE!"},{"$error":"#VALUE!"},{"$error":"#VALUE!"},{"$error":"#VALUE!"},{"$error":"#VALUE!"},{"$error":"#VALUE!"},{"$error":"#VALUE!"},{"$error":"#VALUE!"},{"$error":"#VALUE!"},null,9,0,{"$error":"#VALUE!"},{"$error":"#VALUE!"},{"$error":"#VALUE!"},{"$error":"#VALUE!"},{"$error":"#VALUE!"},{"$error":"#VALUE!"},{"$error":"#VALUE!"},{"$error":"#VALUE!"},{"$error":"#VALUE!"},{"$error":"#VALUE!"},{"$error":"#VALUE!"},{"$error":"#VALUE!"},{"$error":"#VALUE!"},{"$error":"#VALUE!"},{"$error":"#VALUE!"},{"$error":"#VALUE!"},{"$error":"#VALUE!"},{"$error":"#VALUE!"},{"$error":"#VALUE!"},{"$error":"#VALUE!"},{"$error":"#VALUE!"},{"$error":"#VALUE!"},{"$error":"#VALUE!"},{"$error":"#VALUE!"},{"$error":"#VALUE!"},{"$error":"#VALUE!"},{"$error":"#VALUE!"},{"$error":"#VALUE!"},{"$error":"#VALUE!"},{"$error":"#VALUE!"},{"$error":"#VALUE!"},{"$error":"#VALUE!"},{"$error":"#VALUE!"},9,0,{"$error":"#VALUE!"},{"$error":"#VALUE!"},{"$error":"#VALUE!"},{"$error":"#VALUE!"},{"$error":"#VALUE!"},{"$error":"#VALUE!"},{"$error":"#VALUE!"},{"$error":"#VALUE!"},{"$error":"#VALUE!"},{"$error":"#VALUE!"},{"$error":"#VALUE!"},{"$error":"#VALUE!"},{"$error":"#VALUE!"},{"$error":"#VALUE!"},{"$error":"#VALUE!"},{"$error":"#VALUE!"},{"$error":"#VALUE!"},{"$error":"#VALUE!"},{"$error":"#VALUE!"},{"$error":"#VALUE!"},{"$error":"#VALUE!"},{"$error":"#VALUE!"},{"$error":"#VALUE!"},{"$error":"#VALUE!"},{"$error":"#VALUE!"},{"$error":"#VALUE!"},{"$error":"#VALUE!"},{"$error":"#VALUE!"},{"$error":"#VALUE!"},{"$error":"#VALUE!"},{"$error":"#VALUE!"},{"$error":"#VALUE!"},{"$error":"#VALUE!"},9,0,{"$error":"#VALUE!"},{"$error":"#VALUE!"},{"$error":"#VALUE!"},{"$error":"#VALUE!"},{"$error":"#VALUE!"},{"$error":"#VALUE!"},{"$error":"#VALUE!"},{"$error":"#VALUE!"},{"$error":"#VALUE!"},{"$error":"#VALUE!"},{"$error":"#VALUE!"},{"$error":"#VALUE!"},{"$error":"#VALUE!"},{"$error":"#VALUE!"},{"$error":"#VALUE!"},{"$error":"#VALUE!"},{"$error":"#VALUE!"},{"$error":"#VALUE!"},{"$error":"#VALUE!"},{"$error":"#VALUE!"},{"$error":"#VALUE!"},{"$error":"#VALUE!"},{"$error":"#VALUE!"},{"$error":"#VALUE!"},{"$error":"#VALUE!"},{"$error":"#VALUE!"},{"$error":"#VALUE!"},{"$error":"#VALUE!"},{"$error":"#VALUE!"},{"$error":"#VALUE!"},{"$error":"#VALUE!"},{"$error":"#VALUE!"},{"$error":"#VALUE!"},9,0,{"$error":"#VALUE!"},{"$error":"#VALUE!"},{"$error":"#VALUE!"},{"$error":"#VALUE!"},{"$error":"#VALUE!"},{"$error":"#VALUE!"},{"$error":"#VALUE!"},{"$error":"#VALUE!"},{"$error":"#VALUE!"},{"$error":"#VALUE!"},{"$error":"#VALUE!"},{"$error":"#VALUE!"},{"$error":"#VALUE!"},{"$error":"#VALUE!"},{"$error":"#VALUE!"},{"$error":"#VALUE!"},{"$error":"#VALUE!"},{"$error":"#VALUE!"},{"$error":"#VALUE!"},{"$error":"#VALUE!"},{"$error":"#VALUE!"},{"$error":"#VALUE!"},{"$error":"#VALUE!"},{"$error":"#VALUE!"},{"$error":"#VALUE!"},{"$error":"#VALUE!"},{"$error":"#VALUE!"},{"$error":"#VALUE!"},{"$error":"#VALUE!"},{"$error":"#VALUE!"},{"$error":"#VALUE!"},{"$error":"#VALUE!"},{"$error":"#VALUE!"},9,0,{"$error":"#VALUE!"},{"$error":"#VALUE!"},{"$error":"#VALUE!"},{"$error":"#VALUE!"},{"$error":"#VALUE!"},{"$error":"#VALUE!"},{"$error":"#VALUE!"},{"$error":"#VALUE!"},{"$error":"#VALUE!"},{"$error":"#VALUE!"},{"$error":"#VALUE!"},{"$error":"#VALUE!"},{"$error":"#VALUE!"},{"$error":"#VALUE!"},{"$error":"#VALUE!"},{"$error":"#VALUE!"},{"$error":"#VALUE!"},{"$error":"#VALUE!"},{"$error":"#VALUE!"},{"$error":"#VALUE!"},{"$error":"#VALUE!"},{"$error":"#VALUE!"},{"$error":"#VALUE!"},{"$error":"#VALUE!"},{"$error":"#VALUE!"},{"$error":"#VALUE!"},{"$error":"#VALUE!"},{"$error":"#VALUE!"},{"$error":"#VALUE!"},{"$error":"#VALUE!"},{"$error":"#VALUE!"},{"$error":"#VALUE!"},{"$error":"#VALUE!"},9,0,{"$error":"#VALUE!"},{"$error":"#VALUE!"},{"$error":"#VALUE!"},{"$error":"#VALUE!"},{"$error":"#VALUE!"},{"$error":"#VALUE!"},{"$error":"#VALUE!"},{"$error":"#VALUE!"},{"$error":"#VALUE!"},{"$error":"#VALUE!"},{"$error":"#VALUE!"},{"$error":"#VALUE!"},{"$error":"#VALUE!"},{"$error":"#VALUE!"},{"$error":"#VALUE!"},{"$error":"#VALUE!"},{"$error":"#VALUE!"},{"$error":"#VALUE!"},{"$error":"#VALUE!"},{"$error":"#VALUE!"},{"$error":"#VALUE!"},{"$error":"#VALUE!"},{"$error":"#VALUE!"},{"$error":"#VALUE!"},{"$error":"#VALUE!"},{"$error":"#VALUE!"},{"$error":"#VALUE!"},{"$error":"#VALUE!"},{"$error":"#VALUE!"},{"$error":"#VALUE!"},{"$error":"#VALUE!"},{"$error":"#VALUE!"},{"$error":"#VALUE!"}]
[null,null,null,null,null,null,null,null,null,null,null,null,null,null,null,null,null,null,null,null,null,null,null,"Total",{"$f":"SUM(Y161:Y167)","v":0},{"$f":"SUM(Z161:Z167)","v":0},0,0,0,0,null,null,null,"N/A",null,false,null,null,null,null,"Total",null,null,null,null,null,null,null,null,null,null,null,null,null,null,null,null,null,null,null,null,null,null,null,"Total",null,null,null,null,null,null,null,null,null,null,null,null,null,null,null,null,null,null,null,null,null,null,null,null,null,null,null,null,null,null,null,null,null,null,null,null,null,null,null,null,null,null,null,null,null,null,null,null,null,null,null,null,null,null,null,null,null,null,null,null,null,null,null,null,null,null,null,"Total",{"$f":"SUM(ED161:ED167)","v":{"$error":"#VALUE!"}},{"$f":"SUM(EE161:EE167)","v":{"$error":"#VALUE!"}},{"$f":"SUM(EF161:EF167)","v":{"$error":"#VALUE!"}},{"$f":"SUM(EG161:EG167)","v":{"$error":"#VALUE!"}},{"$f":"SUM(EH161:EH167)","v":{"$error":"#VALUE!"}},{"$f":"SUM(EI161:EI167)","v":{"$error":"#VALUE!"}},{"$error":"#VALUE!"},{"$error":"#VALUE!"},{"$error":"#VALUE!"},{"$error":"#VALUE!"},{"$error":"#VALUE!"},{"$error":"#VALUE!"},{"$error":"#VALUE!"},{"$error":"#VALUE!"},{"$error":"#VALUE!"},{"$error":"#VALUE!"},{"$error":"#VALUE!"},{"$error":"#VALUE!"},null,"Total",{"$f":"SUM(EX161:EX167)","v":0},{"$f":"SUM(EY161:EY167)","v":{"$error":"#VALUE!"}},{"$f":"SUM(EZ161:EZ167)","v":{"$error":"#VALUE!"}},{"$error":"#VALUE!"},{"$error":"#VALUE!"},{"$f":"SUM(FC161:FC167)","v":{"$error":"#VALUE!"}},{"$f":"SUM(FD161:FD167)","v":{"$error":"#VALUE!"}},{"$error":"#VALUE!"},{"$error":"#VALUE!"},{"$error":"#VALUE!"},{"$error":"#VALUE!"},{"$error":"#VALUE!"},{"$error":"#VALUE!"},{"$error":"#VALUE!"},{"$error":"#VALUE!"},{"$error":"#VALUE!"},{"$f":"SUM(FN161:FN167)","v":{"$error":"#VALUE!"}},{"$f":"SUM(FO161:FO167)","v":{"$error":"#VALUE!"}},{"$f":"SUM(FP161:FP167)","v":{"$error":"#VALUE!"}},{"$f":"SUM(FQ161:FQ167)","v":{"$error":"#VALUE!"}},{"$error":"#VALUE!"},{"$error":"#VALUE!"},{"$error":"#VALUE!"},{"$error":"#VALUE!"},{"$error":"#VALUE!"},{"$error":"#VALUE!"},{"$error":"#VALUE!"},{"$error":"#VALUE!"},{"$error":"#VALUE!"},{"$error":"#VALUE!"},{"$error":"#VALUE!"},{"$f":"SUM(GC161:GC167)","v":{"$error":"#VALUE!"}},{"$f":"SUM(GD161:GD167)","v":{"$error":"#VALUE!"}},{"$error":"#VALUE!"},"Total",{"$f":"SUM(GG161:GG167)","v":0},{"$f":"SUM(GH161:GH167)","v":{"$error":"#VALUE!"}},{"$f":"SUM(GI161:GI167)","v":{"$error":"#VALUE!"}},{"$error":"#VALUE!"},{"$error":"#VALUE!"},{"$f":"SUM(GL161:GL167)","v":{"$error":"#VALUE!"}},{"$f":"SUM(GM161:GM167)","v":{"$error":"#VALUE!"}},{"$f":"SUM(GN161:GN167)","v":{"$error":"#VALUE!"}},{"$error":"#VALUE!"},{"$error":"#VALUE!"},{"$error":"#VALUE!"},{"$error":"#VALUE!"},{"$error":"#VALUE!"},{"$error":"#VALUE!"},{"$error":"#VALUE!"},{"$error":"#VALUE!"},{"$f":"SUM(GW161:GW167)","v":{"$error":"#VALUE!"}},{"$f":"SUM(GX161:GX167)","v":{"$error":"#VALUE!"}},{"$f":"SUM(GY161:GY167)","v":{"$error":"#VALUE!"}},{"$f":"SUM(GZ161:GZ167)","v":{"$error":"#VALUE!"}},{"$error":"#VALUE!"},{"$error":"#VALUE!"},{"$error":"#VALUE!"},{"$error":"#VALUE!"},{"$error":"#VALUE!"},{"$error":"#VALUE!"},{"$error":"#VALUE!"},{"$error":"#VALUE!"},{"$error":"#VALUE!"},{"$error":"#VALUE!"},{"$error":"#VALUE!"},{"$f":"SUM(HL161:HL167)","v":{"$error":"#VALUE!"}},{"$f":"SUM(HM161:HM167)","v":{"$error":"#VALUE!"}},{"$error":"#VALUE!"},"Total",{"$f":"SUM(HP161:HP167)","v":0},{"$f":"SUM(HQ161:HQ167)","v":{"$error":"#VALUE!"}},{"$f":"SUM(HR161:HR167)","v":{"$error":"#VALUE!"}},{"$error":"#VALUE!"},{"$error":"#VALUE!"},{"$f":"SUM(HU161:HU167)","v":{"$error":"#VALUE!"}},{"$f":"SUM(HV161:HV167)","v":{"$error":"#VALUE!"}},{"$error":"#VALUE!"},{"$error":"#VALUE!"},{"$error":"#VALUE!"},{"$error":"#VALUE!"},{"$error":"#VALUE!"},{"$error":"#VALUE!"},{"$error":"#VALUE!"},{"$error":"#VALUE!"},{"$error":"#VALUE!"},{"$f":"SUM(IF161:IF167)","v":{"$error":"#VALUE!"}},{"$f":"SUM(IG161:IG167)","v":{"$error":"#VALUE!"}},{"$f":"SUM(IH161:IH167)","v":{"$error":"#VALUE!"}},{"$f":"SUM(II161:II167)","v":{"$error":"#VALUE!"}},{"$error":"#VALUE!"},{"$error":"#VALUE!"},{"$error":"#VALUE!"},{"$error":"#VALUE!"},{"$error":"#VALUE!"},{"$error":"#VALUE!"},{"$error":"#VALUE!"},{"$error":"#VALUE!"},{"$error":"#VALUE!"},{"$error":"#VALUE!"},{"$error":"#VALUE!"},{"$f":"SUM(IU161:IU167)","v":{"$error":"#VALUE!"}},{"$f":"SUM(IV161:IV167)","v":{"$error":"#VALUE!"}},{"$error":"#VALUE!"},"Total",{"$f":"SUM(IY161:IY167)","v":0},{"$f":"SUM(IZ161:IZ167)","v":{"$error":"#VALUE!"}},{"$f":"SUM(JA161:JA167)","v":{"$error":"#VALUE!"}},{"$error":"#VALUE!"},{"$error":"#VALUE!"},{"$f":"SUM(JD161:JD167)","v":{"$error":"#VALUE!"}},{"$f":"SUM(JE161:JE167)","v":{"$error":"#VALUE!"}},{"$error":"#VALUE!"},{"$error":"#VALUE!"},{"$error":"#VALUE!"},{"$error":"#VALUE!"},{"$error":"#VALUE!"},{"$error":"#VALUE!"},{"$error":"#VALUE!"},{"$error":"#VALUE!"},{"$error":"#VALUE!"},{"$f":"SUM(JO161:JO167)","v":{"$error":"#VALUE!"}},{"$f":"SUM(JP161:JP167)","v":{"$error":"#VALUE!"}},{"$f":"SUM(JQ161:JQ167)","v":{"$error":"#VALUE!"}},{"$f":"SUM(JR161:JR167)","v":{"$error":"#VALUE!"}},{"$error":"#VALUE!"},{"$error":"#VALUE!"},{"$error":"#VALUE!"},{"$error":"#VALUE!"},{"$error":"#VALUE!"},{"$error":"#VALUE!"},{"$error":"#VALUE!"},{"$error":"#VALUE!"},{"$error":"#VALUE!"},{"$error":"#VALUE!"},{"$error":"#VALUE!"},{"$f":"SUM(KD161:KD167)","v":{"$error":"#VALUE!"}},{"$f":"SUM(KE161:KE167)","v":{"$error":"#VALUE!"}},{"$error":"#VALUE!"},"Total",{"$f":"SUM(KH161:KH167)","v":0},{"$f":"SUM(KI161:KI167)","v":{"$error":"#VALUE!"}},{"$f":"SUM(KJ161:KJ167)","v":{"$error":"#VALUE!"}},{"$error":"#VALUE!"},{"$error":"#VALUE!"},{"$f":"SUM(KM161:KM167)","v":{"$error":"#VALUE!"}},{"$f":"SUM(KN161:KN167)","v":{"$error":"#VALUE!"}},{"$error":"#VALUE!"},{"$error":"#VALUE!"},{"$error":"#VALUE!"},{"$error":"#VALUE!"},{"$error":"#VALUE!"},{"$error":"#VALUE!"},{"$error":"#VALUE!"},{"$error":"#VALUE!"},{"$error":"#VALUE!"},{"$f":"SUM(KX161:KX167)","v":{"$error":"#VALUE!"}},{"$f":"SUM(KY161:KY167)","v":{"$error":"#VALUE!"}},{"$f":"SUM(KZ161:KZ167)","v":{"$error":"#VALUE!"}},{"$f":"SUM(LA161:LA167)","v":{"$error":"#VALUE!"}},{"$error":"#VALUE!"},{"$error":"#VALUE!"},{"$error":"#VALUE!"},{"$error":"#VALUE!"},{"$error":"#VALUE!"},{"$error":"#VALUE!"},{"$error":"#VALUE!"},{"$error":"#VALUE!"},{"$error":"#VALUE!"},{"$error":"#VALUE!"},{"$error":"#VALUE!"},{"$f":"SUM(LM161:LM167)","v":{"$error":"#VALUE!"}},{"$f":"SUM(LN161:LN167)","v":{"$error":"#VALUE!"}},{"$error":"#VALUE!"},"Total",{"$f":"SUM(LQ161:LQ167)","v":0},{"$f":"SUM(LR161:LR167)","v":{"$error":"#VALUE!"}},{"$f":"SUM(LS161:LS167)","v":{"$error":"#VALUE!"}},{"$error":"#VALUE!"},{"$error":"#VALUE!"},{"$f":"SUM(LV161:LV167)","v":{"$error":"#VALUE!"}},{"$f":"SUM(LW161:LW167)","v":{"$error":"#VALUE!"}},{"$error":"#VALUE!"},{"$error":"#VALUE!"},{"$error":"#VALUE!"},{"$error":"#VALUE!"},{"$error":"#VALUE!"},{"$error":"#VALUE!"},{"$error":"#VALUE!"},{"$error":"#VALUE!"},{"$f":"SUM(MF161:MF167)","v":{"$error":"#VALUE!"}},{"$f":"SUM(MG161:MG167)","v":{"$error":"#VALUE!"}},{"$f":"SUM(MH161:MH167)","v":{"$error":"#VALUE!"}},{"$f":"SUM(MI161:MI167)","v":{"$error":"#VALUE!"}},{"$f":"SUM(MJ161:MJ167)","v":{"$error":"#VALUE!"}},{"$error":"#VALUE!"},{"$error":"#VALUE!"},{"$error":"#VALUE!"},{"$error":"#VALUE!"},{"$error":"#VALUE!"},{"$error":"#VALUE!"},{"$error":"#VALUE!"},{"$error":"#VALUE!"},{"$error":"#VALUE!"},{"$error":"#VALUE!"},{"$error":"#VALUE!"},{"$f":"SUM(MV161:MV167)","v":{"$error":"#VALUE!"}},{"$f":"SUM(MW161:MW167)","v":{"$error":"#VALUE!"}},{"$error":"#VALUE!"}]
[null,18,{"$f":"'Regional Project List Sheet'!F22","v":0},{"$f":"IF('Regional Project List Sheet'!$G22=\"New\",1,\"\")","v":""},{"$f":"IF('Regional Project List Sheet'!$G22=\"Funded Old\",1,\"\")","v":""},{"$f":"IF('Regional Project List Sheet'!$G22=\"Unfunded Old\",1,\"\")","v":""},{"$f":"'Regional Project List Sheet'!H22","v":0},{"$f":"'Regional Project List Sheet'!I22","v":0},{"$f":"'Regional Project List Sheet'!L22","v":0},{"$f":"'Regional Project List Sheet'!M22","v":0},{"$f":"'Regional Project List Sheet'!N22","v":0},{"$f":"'Regional Project List Sheet'!O22","v":0},{"$f":"'Regional Project List Sheet'!P22","v":0},{"$f":"IF('Regional Project List Sheet'!$Q22=\"N/A\",\"N/A\",IF($Y172<>0,5,IF($Z172<>0,4,IF($AA172<>0,3,IF($AB172<>0,2,1)))))","v":1},{"$f":"VLOOKUP($C169,'[2]Ranking|Priority'!$B$5:$O$40,12,FALSE)","v":{"$error":"#N/A"}},{"$f":"VLOOKUP($C169,'[2]Ranking|Priority'!$B$5:$O$68,13,FALSE)","v":{"$error":"#N/A"}},{"$f":"VLOOKUP($C169,'[2]Ranking|Priority'!$B$5:$O$68,14,FALSE)","v":{"$error":"#N/A"}},{"$f":"'Regional Project List Sheet'!T22","v":0},{"$f":"'Regional Project List Sheet'!U22","v":0},{"$f":"'Regional Project List Sheet'!V22","v":0},{"$f":"'Regional Project List Sheet'!W22","v":0},{"$f":"'Regional Project List Sheet'!X22","v":0},{"$f":"'Regional Project List Sheet'!Y22","v":"Choose from Project List in cell I2"},0,null,null,null,null,null,null,null,{"$f":"'Regional Project List Sheet'!AJ22","v":0},{"$f":"IF(OR('Regional Project List Sheet'!$AA22<>'Regional Project List Sheet'!$A$40,'Regional Project List Sheet'!$AD22<>'Regional Project List Sheet'!$A$40,'Regional Project List Sheet'!$AG22<>'Regional Project List Sheet'!$A$40),_xlfn.CONCAT(IF(ISNUMBER('Regional Project List Sheet'!$AA22),'Regional Project List Sheet'!$A$36,\"\"),\" \",IF(ISNUMBER('Regional Project List Sheet'!$AD22),'Regional Project List Sheet'!$A$37,\"\"),\" \",IF(ISNUMBER('Regional Project List Sheet'!$AG22),'Regional Project List Sheet'!$A$38,\"\")),\"N/A\")","v":"N/A"},"N/A",{"$f":"IF(OR('Regional Project List Sheet'!AC22<>'Regional Project List Sheet'!$A$40,'Regional Project List Sheet'!AF22<>'Regional Project List Sheet'!$A$40,'Regional Project List Sheet'!AI22<>'Regional Project List Sheet'!$A$40),\n\nIF(LEN(_xlfn.CONCAT(IF('Regional Project List Sheet'!AC22=\"Yes\",'Regional Project List Sheet'!$A$36,\"\"),\" \",\n\nIF('Regional Project List Sheet'!AF22=\"Yes\",'Regional Project List Sheet'!$A$37,\"\"),\" \",\n\nIF('Regional Project List Sheet'!AI22=\"Yes\",'Regional Project List Sheet'!$A$38,\"\")))<3,\"No\",\n\n_xlfn.CONCAT(IF('Regional Project List Sheet'!AC22=\"Yes\",'Regional Project List Sheet'!$A$36,\"\"),\" \",\n\nIF('Regional Project List Sheet'!AF22=\"Yes\",'Regional Project List Sheet'!$A$37,\"\"),\" \",\n\nIF('Regional Project List Sheet'!AI22=\"Yes\",'Regional Project List Sheet'!$A$38,\"\"))))","v":false},false,{"$f":"'Regional Project List Sheet'!AK22","v":0},null,{"$f":"'Regional Project List Sheet'!AL22","v":0},null,0,null,null,null,null,null,null,null,null,null,null,1,{"$f":"IF(AND(BB169=\"OK\",BC169=\"OK\",BD169=\"OK\"),\"OK\",\"ERR!\")","v":"OK"},{"$f":"IF(AND(Y169>0,SUM(BN169:BX169)<1),\"ERR!\",IF(AND(Z169>0,SUM(BY169:CI169)<1),\"ERR!\",IF(AND(AA169>0,SUM(CJ169:CT169)<1),\"ERR\",IF(AND(AB169>0,SUM(CU169:DE169)<1),\"ERR\",IF(AND(AC169>0,SUM(DF169:DP169)<1),\"ERR\",IF(AND(AD169>0,SUM(DQ169:EA169)<1),\"ERR\",\"OK\"))))))","v":"OK"},{"$f":"IF(OR(SUM(BN169:BX169)<>1,SUM(BY169:CI169)<>1,SUM(CJ169:CT169)<>1,SUM(CU169:DE169)<>1,SUM(DF169:DP169)<>1,SUM(DQ169:EA169)<>1),\"ERR!\",\"OK\")","v":"OK"},{"$f":"IF(AND(OR(BE169=BK169,BE169=0),OR(BF169=BK169,BF169=0),OR(BG169=BK169,BG169=0),OR(BH169=BK169,BH169=0),OR(BI169=BK169,BI169=0),OR(BJ169=BK169,BJ169=0)),\"OK\",\"ERR!\")","v":"OK"},{"$f":"(BN169*POWER(10,0)+BO169*POWER(10,1)+BP169*POWER(10,2)+BQ169*POWER(10,3)+BR169*POWER(10,4)+BS169*POWER(10,5)+BT169*POWER(10,6)+BU169*POWER(10,7)+BV169*POWER(10,8)+BW169*POWER(10,9)+BX169*POWER(10,10))","v":10000000},{"$f":"(BY169*POWER(10,0)+BZ169*POWER(10,1)+CA169*POWER(10,2)+CB169*POWER(10,3)+CC169*POWER(10,4)+CD169*POWER(10,5)+CE169*POWER(10,6)+CF169*POWER(10,7)+CG169*POWER(10,8)+CH169*POWER(10,9)+CI169*POWER(10,10))","v":10000000},{"$f":"(CJ169*POWER(10,0)+CK169*POWER(10,1)+CL169*POWER(10,2)+CM169*POWER(10,3)+CN169*POWER(10,4)+CO169*POWER(10,5)+CP169*POWER(10,6)+CQ169*POWER(10,7)+CR169*POWER(10,8)+CS169*POWER(10,9)+CT169*POWER(10,10))","v":10000000},{"$f":"(CU169*POWER(10,0)+CV169*POWER(10,1)+CW169*POWER(10,2)+CX169*POWER(10,3)+CY169*POWER(10,4)+CZ169*POWER(10,5)+DA169*POWER(10,6)+DB169*POWER(10,7)+DC169*POWER(10,8)+DD169*POWER(10,9)+DE169*POWER(10,10))","v":10000000},{"$f":"(DF169*POWER(10,0)+DG169*POWER(10,1)+DH169*POWER(10,2)+DI169*POWER(10,3)+DJ169*POWER(10,4)+DK169*POWER(10,5)+DL169*POWER(10,6)+DM169*POWER(10,7)+DN169*POWER(10,8)+DO169*POWER(10,9)+DP169*POWER(10,10))","v":10000000},{"$f":"(DQ169*POWER(10,0)+DR169*POWER(10,1)+DS169*POWER(10,2)+DT169*POWER(10,3)+DU169*POWER(10,4)+DV169*POWER(10,5)+DW169*POWER(10,6)+DX169*POWER(10,7)+DY169*POWER(10,8)+DZ169*POWER(10,9)+EA169*POWER(10,10))","v":10000000},{"$f":"MAX(BE169:BJ169)","v":10000000},null,0,null,null,null,null,null,null,null,1,null,null,null,null,null,null,null,null,null,null,1,null,null,null,null,null,null,null,null,null,null,1,null,null,null,null,null,null,null,null,null,null,1,null,null,null,null,null,null,null,null,null,null,1,null,null,null,null,null,null,null,null,null,null,1,null,null,null,null,0,{"$f":"($Y169*D$169)/1000","v":{"$error":"#VALUE!"}},{"$error":"#VALUE!"},{"$error":"#VALUE!"},{"$f":"($Z169*D$169)/1000","v":{"$error":"#VALUE!"}},{"$error":"#VALUE!"},{"$error":"#VALUE!"},{"$f":"($AA169*D$169)/1000","v":{"$error":"#VALUE!"}},{"$error":"#VALUE!"},{"$error":"#VALUE!"},{"$f":"($AB169*D$169)/1000","v":{"$error":"#VALUE!"}},{"$error":"#VALUE!"},{"$error":"#VALUE!"},{"$f":"($AC169*D$169)/1000","v":{"$error":"#VALUE!"}},{"$error":"#VALUE!"},{"$error":"#VALUE!"},{"$f":"($AD169*D$169)/1000","v":{"$error":"#VALUE!"}},{"$error":"#VALUE!"},{"$error":"#VALUE!"},null,0,{"$f":"$AZ$169*$Y169","v":0},{"$f":"($AZ$169*$BN169*D$169*$Y169)/1000","v":{"$error":"#VALUE!"}},{"$error":"#VALUE!"},{"$error":"#VALUE!"},{"$f":"($AZ$169*$BO169*D$169*$Y169)/1000","v":{"$error":"#VALUE!"}},{"$error":"#VALUE!"},{"$error":"#VALUE!"},{"$f":"($AZ$169*$BP169*D$169*$Y169)/1000","v":{"$error":"#VALUE!"}},{"$error":"#VALUE!"},{"$error":"#VALUE!"},{"$f":"($AZ$169*$BQ169*D$169*$Y169)/1000","v":{"$error":"#VALUE!"}},{"$error":"#VALUE!"},{"$error":"#VALUE!"},{"$f":"($AZ$169*$BR169*D$169*$Y169)/1000","v":{"$error":"#VALUE!"}},{"$error":"#VALUE!"},{"$error":"#VALUE!"},{"$f":"($AZ$169*$BS169*D$169*$Y169)/1000","v":{"$error":"#VALUE!"}},{"$error":"#VALUE!"},{"$error":"#VALUE!"},{"$f":"($AZ$169*$BT169*D$169*$Y169)/1000","v":{"$error":"#VALUE!"}},{"$error":"#VALUE!"},{"$error":"#VALUE!"},{"$f":"($AZ$169*$BU169*D$169*$Y169)/1000","v":{"$error":"#VALUE!"}},{"$error":"#VALUE!"},{"$error":"#VALUE!"},{"$f":"($AZ$169*$BV169*D$169*$Y169)/1000","v":{"$error":"#VALUE!"}},{"$error":"#VALUE!"},{"$error":"#VALUE!"},{"$f":"($AZ$169*$BW169*D$169*$Y169)/1000","v":{"$error":"#VALUE!"}},{"$error":"#VALUE!"},{"$error":"#VALUE!"},{"$f":"($AZ$169*$BX169*D$169*$Y169)/1000","v":{"$error":"#VALUE!"}},{"$error":"#VALUE!"},{"$error":"#VALUE!"},0,{"$f":"$AZ$169*$Z169","v":0},{"$f":"($AZ$169*$BY169*D$169*$Z169)/1000","v":{"$error":"#VALUE!"}},{"$error":"#VALUE!"},{"$error":"#VALUE!"},{"$f":"($AZ$169*$BZ169*D$169*$Z169)/1000","v":{"$error":"#VALUE!"}},{"$error":"#VALUE!"},{"$error":"#VALUE!"},{"$f":"($AZ$169*$CA169*D$169*$Z169)/1000","v":{"$error":"#VALUE!"}},{"$error":"#VALUE!"},{"$error":"#VALUE!"},{"$f":"($AZ$169*$CB169*D$169*$Z169)/1000","v":{"$error":"#VALUE!"}},{"$error":"#VALUE!"},{"$error":"#VALUE!"},{"$f":"($AZ$169*$CD169*D$169*$Z169)/1000","v":{"$error":"#VALUE!"}},{"$error":"#VALUE!"},{"$error":"#VALUE!"},{"$f":"($AZ$169*$CD169*D$169*$Z169)/1000","v":{"$error":"#VALUE!"}},{"$error":"#VALUE!"},{"$error":"#VALUE!"},{"$f":"($AZ$169*$CE169*D$169*$Z169)/1000","v":{"$error":"#VALUE!"}},{"$error":"#VALUE!"},{"$error":"#VALUE!"},{"$f":"($AZ$169*$CF169*D$169*$Z169)/1000","v":{"$error":"#VALUE!"}},{"$error":"#VALUE!"},{"$error":"#VALUE!"},{"$f":"($AZ$169*$CG169*D$169*$Z169)/1000","v":{"$error":"#VALUE!"}},{"$error":"#VALUE!"},{"$error":"#VALUE!"},{"$f":"($AZ$169*$CH169*D$169*$Z169)/1000","v":{"$error":"#VALUE!"}},{"$error":"#VALUE!"},{"$error":"#VALUE!"},{"$f":"($AZ$169*$CI169*D$169*$Z169)/1000","v":{"$error":"#VALUE!"}},{"$error":"#VALUE!"},{"$error":"#VALUE!"},0,{"$f":"$AZ$169*$AA169","v":0},{"$f":"($AZ$169*$CJ169*D$169*$AA169)/1000","v":{"$error":"#VALUE!"}},{"$error":"#VALUE!"},{"$error":"#VALUE!"},{"$f":"($AZ$169*$CK169*D$169*$AA169)/1000","v":{"$error":"#VALUE!"}},{"$error":"#VALUE!"},{"$error":"#VALUE!"},{"$f":"($AZ$169*$CL169*D$169*$AA169)/1000","v":{"$error":"#VALUE!"}},{"$error":"#VALUE!"},{"$error":"#VALUE!"},{"$f":"($AZ$169*$CM169*D$169*$AA169)/1000","v":{"$error":"#VALUE!"}},{"$error":"#VALUE!"},{"$error":"#VALUE!"},{"$f":"($AZ$169*$CN169*D$169*$AA169)/1000","v":{"$error":"#VALUE!"}},{"$error":"#VALUE!"},{"$error":"#VALUE!"},{"$f":"($AZ$169*$CO169*D$169*$AA169)/1000","v":{"$error":"#VALUE!"}},{"$error":"#VALUE!"},{"$error":"#VALUE!"},{"$f":"($AZ$169*$CP169*D$169*$AA169)/1000","v":{"$error":"#VALUE!"}},{"$error":"#VALUE!"},{"$error":"#VALUE!"},{"$f":"($AZ$169*$CQ169*D$169*$AA169)/1000","v":{"$error":"#VALUE!"}},{"$error":"#VALUE!"},{"$error":"#VALUE!"},{"$f":"($AZ$169*$CR169*D$169*$AA169)/1000","v":{"$error":"#VALUE!"}},{"$error":"#VALUE!"},{"$error":"#VALUE!"},{"$f":"($AZ$169*$CS169*D$169*$AA169)/1000","v":{"$error":"#VALUE!"}},{"$error":"#VALUE!"},{"$error":"#VALUE!"},{"$f":"($AZ$169*$CT169*D$169*$AA169)/1000","v":{"$error":"#VALUE!"}},{"$error":"#VALUE!"},{"$error":"#VALUE!"},0,{"$f":"$AZ$169*$AB169","v":0},{"$f":"($AZ$169*$CU169*D$169*$AB169)/1000","v":{"$error":"#VALUE!"}},{"$error":"#VALUE!"},{"$error":"#VALUE!"},{"$f":"($AZ$169*$CV169*D$169*$AB169)/1000","v":{"$error":"#VALUE!"}},{"$error":"#VALUE!"},{"$error":"#VALUE!"},{"$f":"($AZ$169*$CW169*D$169*$AB169)/1000","v":{"$error":"#VALUE!"}},{"$error":"#VALUE!"},{"$error":"#VALUE!"},{"$f":"($AZ$169*$CX169*D$169*$AB169)/1000","v":{"$error":"#VALUE!"}},{"$error":"#VALUE!"},{"$error":"#VALUE!"},{"$f":"($AZ$169*$CY169*D$169*$AB169)/1000","v":{"$error":"#VALUE!"}},{"$error":"#VALUE!"},{"$error":"#VALUE!"},{"$f":"($AZ$169*$CZ169*D$169*$AB169)/1000","v":{"$error":"#VALUE!"}},{"$error":"#VALUE!"},{"$error":"#VALUE!"},{"$f":"($AZ$169*$DA169*D$169*$AB169)/1000","v":{"$error":"#VALUE!"}},{"$error":"#VALUE!"},{"$error":"#VALUE!"},{"$f":"($AZ$169*$DB169*D$169*$AB169)/1000","v":{"$error":"#VALUE!"}},{"$error":"#VALUE!"},{"$error":"#VALUE!"},{"$f":"($AZ$169*$DC169*D$169*$AB169)/1000","v":{"$error":"#VALUE!"}},{"$error":"#VALUE!"},{"$error":"#VALUE!"},{"$f":"($AZ$169*$DD169*D$169*$AB169)/1000","v":{"$error":"#VALUE!"}},{"$error":"#VALUE!"},{"$error":"#VALUE!"},{"$f":"($AZ$169*$DE169*D$169*$AB169)/1000","v":{"$error":"#VALUE!"}},{"$error":"#VALUE!"},{"$error":"#VALUE!"},0,{"$f":"$AZ$169*$AC169","v":0},{"$f":"($AZ$169*$DF169*D$169*$AC169)/1000","v":{"$error":"#VALUE!"}},{"$error":"#VALUE!"},{"$error":"#VALUE!"},{"$f":"($AZ$169*$DG169*D$169*$AC169)/1000","v":{"$error":"#VALUE!"}},{"$error":"#VALUE!"},{"$error":"#VALUE!"},{"$f":"($AZ$169*$DH169*D$169*$AC169)/1000","v":{"$error":"#VALUE!"}},{"$error":"#VALUE!"},{"$error":"#VALUE!"},{"$f":"($AZ$169*$DI169*D$169*$AC169)/1000","v":{"$error":"#VALUE!"}},{"$error":"#VALUE!"},{"$error":"#VALUE!"},{"$f":"($AZ$169*$DJ169*D$169*$AC169)/1000","v":{"$error":"#VALUE!"}},{"$error":"#VALUE!"},{"$error":"#VALUE!"},{"$f":"($AZ$169*$DK169*D$169*$AC169)/1000","v":{"$error":"#VALUE!"}},{"$error":"#VALUE!"},{"$error":"#VALUE!"},{"$f":"($AZ$169*$DL169*D$169*$AC169)/1000","v":{"$error":"#VALUE!"}},{"$error":"#VALUE!"},{"$error":"#VALUE!"},{"$f":"($AZ$169*$DM169*D$169*$AC169)/1000","v":{"$error":"#VALUE!"}},{"$error":"#VALUE!"},{"$error":"#VALUE!"},{"$f":"($AZ$169*$DN169*D$169*$AC169)/1000","v":{"$error":"#VALUE!"}},{"$error":"#VALUE!"},{"$error":"#VALUE!"},{"$f":"($AZ$169*$DO169*D$169*$AC169)/1000","v":{"$error":"#VALUE!"}},{"$error":"#VALUE!"},{"$error":"#VALUE!"},{"$f":"($AZ$169*$DP169*D$169*$AC169)/1000","v":{"$error":"#VALUE!"}},{"$error":"#VALUE!"},{"$error":"#VALUE!"},0,{"$f":"$AZ$169*$AD169","v":0},{"$f":"($AZ$169*$DQ169*D$169*$AD169)/1000","v":{"$error":"#VALUE!"}},{"$error":"#VALUE!"},{"$error":"#VALUE!"},{"$f":"($AZ$169*$DR169*D$169*$AD169)/1000","v":{"$error":"#VALUE!"}},{"$error":"#VALUE!"},{"$error":"#VALUE!"},{"$f":"($AZ$169*$DS169*D$169*$AD169)/1000","v":{"$error":"#VALUE!"}},{"$error":"#VALUE!"},{"$error":"#VALUE!"},{"$f":"($AZ$169*$DT169*D$169*$AD169)/1000","v":{"$error":"#VALUE!"}},{"$error":"#VALUE!"},{"$error":"#VALUE!"},{"$f":"($AZ$169*$DU169*D$169*$AD169)/1000","v":{"$error":"#VALUE!"}},{"$error":"#VALUE!"},{"$error":"#VALUE!"},{"$f":"($AZ$169*$DV169*D$169*$AD169)/1000","v":{"$error":"#VALUE!"}},{"$error":"#VALUE!"},{"$error":"#VALUE!"},{"$f":"($AZ$169*$DW169*D$169*$AD169)/1000","v":{"$error":"#VALUE!"}},{"$error":"#VALUE!"},{"$error":"#VALUE!"},{"$f":"($AZ$169*$DX169*D$169*$AD169)/1000","v":{"$error":"#VALUE!"}},{"$error":"#VALUE!"},{"$error":"#VALUE!"},{"$f":"($AZ$169*$DY169*D$169*$AD169)/1000","v":{"$error":"#VALUE!"}},{"$error":"#VALUE!"},{"$error":"#VALUE!"},{"$f":"($AZ$169*$DZ169*D$169*$AD169)/1000","v":{"$error":"#VALUE!"}},{"$error":"#VALUE!"},{"$error":"#VALUE!"},{"$f":"($AZ$169*$EA169*D$169*$AD169)/1000","v":{"$error":"#VALUE!"}},{"$error":"#VALUE!"},{"$error":"#VALUE!"}]
[null,null,null,null,null,null,null,null,null,null,null,null,null,null,null,null,null,null,null,null,null,null,null,2,null,null,null,null,null,null,null,null,null,"N/A",null,false,null,null,null,null,2,null,null,null,null,null,null,null,null,null,null,null,{"$f":"IF(AND(BB170=\"OK\",BC170=\"OK\",BD170=\"OK\"),\"OK\",\"ERR!\")","v":"OK"},"OK",{"$f":"IF(OR(SUM(BN170:BX170)<>1,SUM(BY170:CI170)<>1,SUM(CJ170:CT170)<>1,SUM(CU170:DE170)<>1,SUM(DF170:DP170)<>1,SUM(DQ170:EA170)<>1),\"ERR!\",\"OK\")","v":"OK"},{"$f":"IF(AND(OR(BE170=BK170,BE170=0),OR(BF170=BK170,BF170=0),OR(BG170=BK170,BG170=0),OR(BH170=BK170,BH170=0),OR(BI170=BK170,BI170=0),OR(BJ170=BK170,BJ170=0)),\"OK\",\"ERR!\")","v":"OK"},{"$f":"(BN170*POWER(10,0)+BO170*POWER(10,1)+BP170*POWER(10,2)+BQ170*POWER(10,3)+BR170*POWER(10,4)+BS170*POWER(10,5)+BT170*POWER(10,6)+BU170*POWER(10,7)+BV170*POWER(10,8)+BW170*POWER(10,9)+BX170*POWER(10,10))","v":10000000},{"$f":"(BY170*POWER(10,0)+BZ170*POWER(10,1)+CA170*POWER(10,2)+CB170*POWER(10,3)+CC170*POWER(10,4)+CD170*POWER(10,5)+CE170*POWER(10,6)+CF170*POWER(10,7)+CG170*POWER(10,8)+CH170*POWER(10,9)+CI170*POWER(10,10))","v":10000000},{"$f":"(CJ170*POWER(10,0)+CK170*POWER(10,1)+CL170*POWER(10,2)+CM170*POWER(10,3)+CN170*POWER(10,4)+CO170*POWER(10,5)+CP170*POWER(10,6)+CQ170*POWER(10,7)+CR170*POWER(10,8)+CS170*POWER(10,9)+CT170*POWER(10,10))","v":10000000},{"$f":"(CU170*POWER(10,0)+CV170*POWER(10,1)+CW170*POWER(10,2)+CX170*POWER(10,3)+CY170*POWER(10,4)+CZ170*POWER(10,5)+DA170*POWER(10,6)+DB170*POWER(10,7)+DC170*POWER(10,8)+DD170*POWER(10,9)+DE170*POWER(10,10))","v":10000000},{"$f":"(DF170*POWER(10,0)+DG170*POWER(10,1)+DH170*POWER(10,2)+DI170*POWER(10,3)+DJ170*POWER(10,4)+DK170*POWER(10,5)+DL170*POWER(10,6)+DM170*POWER(10,7)+DN170*POWER(10,8)+DO170*POWER(10,9)+DP170*POWER(10,10))","v":10000000},{"$f":"(DQ170*POWER(10,0)+DR170*POWER(10,1)+DS170*POWER(10,2)+DT170*POWER(10,3)+DU170*POWER(10,4)+DV170*POWER(10,5)+DW170*POWER(10,6)+DX170*POWER(10,7)+DY170*POWER(10,8)+DZ170*POWER(10,9)+EA170*POWER(10,10))","v":10000000},{"$f":"MAX(BE170:BJ170)","v":10000000},null,2,null,null,null,null,null,null,null,1,null,null,null,null,null,null,null,null,null,null,1,null,null,null,null,null,null,null,null,null,null,1,null,null,null,null,null,null,null,null,null,null,1,null,null,null,null,null,null,null,null,null,null,1,null,null,null,null,null,null,null,null,null,null,1,null,null,null,null,2,{"$error":"#VALUE!"},{"$error":"#VALUE!"},{"$error":"#VALUE!"},{"$error":"#VALUE!"},{"$error":"#VALUE!"},{"$error":"#VALUE!"},{"$error":"#VALUE!"},{"$error":"#VALUE!"},{"$error":"#VALUE!"},{"$error":"#VALUE!"},{"$error":"#VALUE!"},{"$error":"#VALUE!"},{"$error":"#VALUE!"},{"$error":"#VALUE!"},{"$error":"#VALUE!"},{"$error":"#VALUE!"},{"$error":"#VALUE!"},{"$error":"#VALUE!"},null,2,0,{"$error":"#VALUE!"},{"$error":"#VALUE!"},{"$error":"#VALUE!"},{"$error":"#VALUE!"},{"$error":"#VALUE!"},{"$error":"#VALUE!"},{"$error":"#VALUE!"},{"$error":"#VALUE!"},{"$error":"#VALUE!"},{"$error":"#VALUE!"},{"$error":"#VALUE!"},{"$error":"#VALUE!"},{"$error":"#VALUE!"},{"$error":"#VALUE!"},{"$error":"#VALUE!"},{"$error":"#VALUE!"},{"$error":"#VALUE!"},{"$error":"#VALUE!"},{"$error":"#VALUE!"},{"$error":"#VALUE!"},{"$error":"#VALUE!"},{"$error":"#VALUE!"},{"$error":"#VALUE!"},{"$error":"#VALUE!"},{"$error":"#VALUE!"},{"$error":"#VALUE!"},{"$error":"#VALUE!"},{"$error":"#VALUE!"},{"$error":"#VALUE!"},{"$error":"#VALUE!"},{"$error":"#VALUE!"},{"$error":"#VALUE!"},{"$error":"#VALUE!"},2,0,{"$error":"#VALUE!"},{"$error":"#VALUE!"},{"$error":"#VALUE!"},{"$error":"#VALUE!"},{"$error":"#VALUE!"},{"$error":"#VALUE!"},{"$error":"#VALUE!"},{"$error":"#VALUE!"},{"$error":"#VALUE!"},{"$error":"#VALUE!"},{"$error":"#VALUE!"},{"$error":"#VALUE!"},{"$error":"#VALUE!"},{"$error":"#VALUE!"},{"$error":"#VALUE!"},{"$error":"#VALUE!"},{"$error":"#VALUE!"},{"$error":"#VALUE!"},{"$error":"#VALUE!"},{"$error":"#VALUE!"},{"$error":"#VALUE!"},{"$error":"#VALUE!"},{"$error":"#VALUE!"},{"$error":"#VALUE!"},{"$error":"#VALUE!"},{"$error":"#VALUE!"},{"$error":"#VALUE!"},{"$error":"#VALUE!"},{"$error":"#VALUE!"},{"$error":"#VALUE!"},{"$error":"#VALUE!"},{"$error":"#VALUE!"},{"$error":"#VALUE!"},2,0,{"$error":"#VALUE!"},{"$error":"#VALUE!"},{"$error":"#VALUE!"},{"$error":"#VALUE!"},{"$error":"#VALUE!"},{"$error":"#VALUE!"},{"$error":"#VALUE!"},{"$error":"#VALUE!"},{"$error":"#VALUE!"},{"$error":"#VALUE!"},{"$error":"#VALUE!"},{"$error":"#VALUE!"},{"$error":"#VALUE!"},{"$error":"#VALUE!"},{"$error":"#VALUE!"},{"$error":"#VALUE!"},{"$error":"#VALUE!"},{"$error":"#VALUE!"},{"$error":"#VALUE!"},{"$error":"#VALUE!"},{"$error":"#VALUE!"},{"$error":"#VALUE!"},{"$error":"#VALUE!"},{"$error":"#VALUE!"},{"$error":"#VALUE!"},{"$error":"#VALUE!"},{"$error":"#VALUE!"},{"$error":"#VALUE!"},{"$error":"#VALUE!"},{"$error":"#VALUE!"},{"$error":"#VALUE!"},{"$error":"#VALUE!"},{"$error":"#VALUE!"},2,0,{"$error":"#VALUE!"},{"$error":"#VALUE!"},{"$error":"#VALUE!"},{"$error":"#VALUE!"},{"$error":"#VALUE!"},{"$error":"#VALUE!"},{"$error":"#VALUE!"},{"$error":"#VALUE!"},{"$error":"#VALUE!"},{"$error":"#VALUE!"},{"$error":"#VALUE!"},{"$error":"#VALUE!"},{"$error":"#VALUE!"},{"$error":"#VALUE!"},{"$error":"#VALUE!"},{"$error":"#VALUE!"},{"$error":"#VALUE!"},{"$error":"#VALUE!"},{"$error":"#VALUE!"},{"$error":"#VALUE!"},{"$error":"#VALUE!"},{"$error":"#VALUE!"},{"$error":"#VALUE!"},{"$error":"#VALUE!"},{"$error":"#VALUE!"},{"$error":"#VALUE!"},{"$error":"#VALUE!"},{"$error":"#VALUE!"},{"$error":"#VALUE!"},{"$error":"#VALUE!"},{"$error":"#VALUE!"},{"$error":"#VALUE!"},{"$error":"#VALUE!"},2,0,{"$error":"#VALUE!"},{"$error":"#VALUE!"},{"$error":"#VALUE!"},{"$error":"#VALUE!"},{"$error":"#VALUE!"},{"$error":"#VALUE!"},{"$error":"#VALUE!"},{"$error":"#VALUE!"},{"$error":"#VALUE!"},{"$error":"#VALUE!"},{"$error":"#VALUE!"},{"$error":"#VALUE!"},{"$error":"#VALUE!"},{"$error":"#VALUE!"},{"$error":"#VALUE!"},{"$error":"#VALUE!"},{"$error":"#VALUE!"},{"$error":"#VALUE!"},{"$error":"#VALUE!"},{"$error":"#VALUE!"},{"$error":"#VALUE!"},{"$error":"#VALUE!"},{"$error":"#VALUE!"},{"$error":"#VALUE!"},{"$error":"#VALUE!"},{"$error":"#VALUE!"},{"$error":"#VALUE!"},{"$error":"#VALUE!"},{"$error":"#VALUE!"},{"$error":"#VALUE!"},{"$error":"#VALUE!"},{"$error":"#VALUE!"},{"$error":"#VALUE!"},2,0,{"$error":"#VALUE!"},{"$error":"#VALUE!"},{"$error":"#VALUE!"},{"$error":"#VALUE!"},{"$error":"#VALUE!"},{"$error":"#VALUE!"},{"$error":"#VALUE!"},{"$error":"#VALUE!"},{"$error":"#VALUE!"},{"$error":"#VALUE!"},{"$error":"#VALUE!"},{"$error":"#VALUE!"},{"$error":"#VALUE!"},{"$error":"#VALUE!"},{"$error":"#VALUE!"},{"$error":"#VALUE!"},{"$error":"#VALUE!"},{"$error":"#VALUE!"},{"$error":"#VALUE!"},{"$error":"#VALUE!"},{"$error":"#VALUE!"},{"$error":"#VALUE!"},{"$error":"#VALUE!"},{"$error":"#VALUE!"},{"$error":"#VALUE!"},{"$error":"#VALUE!"},{"$error":"#VALUE!"},{"$error":"#VALUE!"},{"$error":"#VALUE!"},{"$error":"#VALUE!"},{"$error":"#VALUE!"},{"$error":"#VALUE!"},{"$error":"#VALUE!"}]
[null,null,null,null,null,null,null,null,null,null,null,null,null,null,null,null,null,null,null,null,null,null,null,3,null,null,null,null,null,null,null,null,null,"N/A",null,false,null,null,null,null,3,null,null,null,null,null,null,null,null,null,null,null,{"$f":"IF(AND(BB171=\"OK\",BC171=\"OK\",BD171=\"OK\"),\"OK\",\"ERR!\")","v":"OK"},"OK",{"$f":"IF(OR(SUM(BN171:BX171)<>1,SUM(BY171:CI171)<>1,SUM(CJ171:CT171)<>1,SUM(CU171:DE171)<>1,SUM(DF171:DP171)<>1,SUM(DQ171:EA171)<>1),\"ERR!\",\"OK\")","v":"OK"},{"$f":"IF(AND(OR(BE171=BK171,BE171=0),OR(BF171=BK171,BF171=0),OR(BG171=BK171,BG171=0),OR(BH171=BK171,BH171=0),OR(BI171=BK171,BI171=0),OR(BJ171=BK171,BJ171=0)),\"OK\",\"ERR!\")","v":"OK"},10000000,10000000,10000000,10000000,10000000,10000000,{"$f":"MAX(BE171:BJ171)","v":10000000},null,3,null,null,null,null,null,null,null,1,null,null,null,null,null,null,null,null,null,null,1,null,null,null,null,null,null,null,null,null,null,1,null,null,null,null,null,null,null,null,null,null,1,null,null,null,null,null,null,null,null,null,null,1,null,null,null,null,null,null,null,null,null,null,1,null,null,null,null,3,{"$error":"#VALUE!"},{"$error":"#VALUE!"},{"$error":"#VALUE!"},{"$error":"#VALUE!"},{"$error":"#VALUE!"},{"$error":"#VALUE!"},{"$error":"#VALUE!"},{"$error":"#VALUE!"},{"$error":"#VALUE!"},{"$error":"#VALUE!"},{"$error":"#VALUE!"},{"$error":"#VALUE!"},{"$error":"#VALUE!"},{"$error":"#VALUE!"},{"$error":"#VALUE!"},{"$error":"#VALUE!"},{"$error":"#VALUE!"},{"$error":"#VALUE!"},null,3,0,{"$error":"#VALUE!"},{"$error":"#VALUE!"},{"$error":"#VALUE!"},{"$error":"#VALUE!"},{"$error":"#VALUE!"},{"$error":"#VALUE!"},{"$error":"#VALUE!"},{"$error":"#VALUE!"},{"$error":"#VALUE!"},{"$error":"#VALUE!"},{"$error":"#VALUE!"},{"$error":"#VALUE!"},{"$error":"#VALUE!"},{"$error":"#VALUE!"},{"$error":"#VALUE!"},{"$error":"#VALUE!"},{"$error":"#VALUE!"},{"$error":"#VALUE!"},{"$error":"#VALUE!"},{"$error":"#VALUE!"},{"$error":"#VALUE!"},{"$error":"#VALUE!"},{"$error":"#VALUE!"},{"$error":"#VALUE!"},{"$error":"#VALUE!"},{"$error":"#VALUE!"},{"$error":"#VALUE!"},{"$error":"#VALUE!"},{"$error":"#VALUE!"},{"$error":"#VALUE!"},{"$error":"#VALUE!"},{"$error":"#VALUE!"},{"$error":"#VALUE!"},3,0,{"$error":"#VALUE!"},{"$error":"#VALUE!"},{"$error":"#VALUE!"},{"$error":"#VALUE!"},{"$error":"#VALUE!"},{"$error":"#VALUE!"},{"$error":"#VALUE!"},{"$error":"#VALUE!"},{"$error":"#VALUE!"},{"$error":"#VALUE!"},{"$error":"#VALUE!"},{"$error":"#VALUE!"},{"$error":"#VALUE!"},{"$error":"#VALUE!"},{"$error":"#VALUE!"},{"$error":"#VALUE!"},{"$error":"#VALUE!"},{"$error":"#VALUE!"},{"$error":"#VALUE!"},{"$error":"#VALUE!"},{"$error":"#VALUE!"},{"$error":"#VALUE!"},{"$error":"#VALUE!"},{"$error":"#VALUE!"},{"$error":"#VALUE!"},{"$error":"#VALUE!"},{"$error":"#VALUE!"},{"$error":"#VALUE!"},{"$error":"#VALUE!"},{"$error":"#VALUE!"},{"$error":"#VALUE!"},{"$error":"#VALUE!"},{"$error":"#VALUE!"},3,0,{"$error":"#VALUE!"},{"$error":"#VALUE!"},{"$error":"#VALUE!"},{"$error":"#VALUE!"},{"$error":"#VALUE!"},{"$error":"#VALUE!"},{"$error":"#VALUE!"},{"$error":"#VALUE!"},{"$error":"#VALUE!"},{"$error":"#VALUE!"},{"$error":"#VALUE!"},{"$error":"#VALUE!"},{"$error":"#VALUE!"},{"$error":"#VALUE!"},{"$error":"#VALUE!"},{"$error":"#VALUE!"},{"$error":"#VALUE!"},{"$error":"#VALUE!"},{"$error":"#VALUE!"},{"$error":"#VALUE!"},{"$error":"#VALUE!"},{"$error":"#VALUE!"},{"$error":"#VALUE!"},{"$error":"#VALUE!"},{"$error":"#VALUE!"},{"$error":"#VALUE!"},{"$error":"#VALUE!"},{"$error":"#VALUE!"},{"$error":"#VALUE!"},{"$error":"#VALUE!"},{"$error":"#VALUE!"},{"$error":"#VALUE!"},{"$error":"#VALUE!"},3,0,{"$error":"#VALUE!"},{"$error":"#VALUE!"},{"$error":"#VALUE!"},{"$error":"#VALUE!"},{"$error":"#VALUE!"},{"$error":"#VALUE!"},{"$error":"#VALUE!"},{"$error":"#VALUE!"},{"$error":"#VALUE!"},{"$error":"#VALUE!"},{"$error":"#VALUE!"},{"$error":"#VALUE!"},{"$error":"#VALUE!"},{"$error":"#VALUE!"},{"$error":"#VALUE!"},{"$error":"#VALUE!"},{"$error":"#VALUE!"},{"$error":"#VALUE!"},{"$error":"#VALUE!"},{"$error":"#VALUE!"},{"$error":"#VALUE!"},{"$error":"#VALUE!"},{"$error":"#VALUE!"},{"$error":"#VALUE!"},{"$error":"#VALUE!"},{"$error":"#VALUE!"},{"$error":"#VALUE!"},{"$error":"#VALUE!"},{"$error":"#VALUE!"},{"$error":"#VALUE!"},{"$error":"#VALUE!"},{"$error":"#VALUE!"},{"$error":"#VALUE!"},3,0,{"$error":"#VALUE!"},{"$error":"#VALUE!"},{"$error":"#VALUE!"},{"$error":"#VALUE!"},{"$error":"#VALUE!"},{"$error":"#VALUE!"},{"$error":"#VALUE!"},{"$error":"#VALUE!"},{"$error":"#VALUE!"},{"$error":"#VALUE!"},{"$error":"#VALUE!"},{"$error":"#VALUE!"},{"$error":"#VALUE!"},{"$error":"#VALUE!"},{"$error":"#VALUE!"},{"$error":"#VALUE!"},{"$error":"#VALUE!"},{"$error":"#VALUE!"},{"$error":"#VALUE!"},{"$error":"#VALUE!"},{"$error":"#VALUE!"},{"$error":"#VALUE!"},{"$error":"#VALUE!"},{"$error":"#VALUE!"},{"$error":"#VALUE!"},{"$error":"#VALUE!"},{"$error":"#VALUE!"},{"$error":"#VALUE!"},{"$error":"#VALUE!"},{"$error":"#VALUE!"},{"$error":"#VALUE!"},{"$error":"#VALUE!"},{"$error":"#VALUE!"},3,0,{"$error":"#VALUE!"},{"$error":"#VALUE!"},{"$error":"#VALUE!"},{"$error":"#VALUE!"},{"$error":"#VALUE!"},{"$error":"#VALUE!"},{"$error":"#VALUE!"},{"$error":"#VALUE!"},{"$error":"#VALUE!"},{"$error":"#VALUE!"},{"$error":"#VALUE!"},{"$error":"#VALUE!"},{"$error":"#VALUE!"},{"$error":"#VALUE!"},{"$error":"#VALUE!"},{"$error":"#VALUE!"},{"$error":"#VALUE!"},{"$error":"#VALUE!"},{"$error":"#VALUE!"},{"$error":"#VALUE!"},{"$error":"#VALUE!"},{"$error":"#VALUE!"},{"$error":"#VALUE!"},{"$error":"#VALUE!"},{"$error":"#VALUE!"},{"$error":"#VALUE!"},{"$error":"#VALUE!"},{"$error":"#VALUE!"},{"$error":"#VALUE!"},{"$error":"#VALUE!"},{"$error":"#VALUE!"},{"$error":"#VALUE!"},{"$error":"#VALUE!"}]
[null,null,null,null,null,null,null,null,null,null,null,null,null,null,null,null,null,null,null,null,null,null,null,4,null,null,null,null,null,null,null,null,null,"N/A",null,false,null,null,null,null,4,null,null,null,null,null,null,null,null,null,null,null,{"$f":"IF(AND(BB172=\"OK\",BC172=\"OK\",BD172=\"OK\"),\"OK\",\"ERR!\")","v":"OK"},"OK","OK",{"$f":"IF(AND(OR(BE172=BK172,BE172=0),OR(BF172=BK172,BF172=0),OR(BG172=BK172,BG172=0),OR(BH172=BK172,BH172=0),OR(BI172=BK172,BI172=0),OR(BJ172=BK172,BJ172=0)),\"OK\",\"ERR!\")","v":"OK"},10000000,10000000,10000000,10000000,10000000,10000000,10000000,null,4,null,null,null,null,null,null,null,1,null,null,null,null,null,null,null,null,null,null,1,null,null,null,null,null,null,null,null,null,null,1,null,null,null,null,null,null,null,null,null,null,1,null,null,null,null,null,null,null,null,null,null,1,null,null,null,null,null,null,null,null,null,null,1,null,null,null,null,4,{"$error":"#VALUE!"},{"$error":"#VALUE!"},{"$error":"#VALUE!"},{"$error":"#VALUE!"},{"$error":"#VALUE!"},{"$error":"#VALUE!"},{"$error":"#VALUE!"},{"$error":"#VALUE!"},{"$error":"#VALUE!"},{"$error":"#VALUE!"},{"$error":"#VALUE!"},{"$error":"#VALUE!"},{"$error":"#VALUE!"},{"$error":"#VALUE!"},{"$error":"#VALUE!"},{"$error":"#VALUE!"},{"$error":"#VALUE!"},{"$error":"#VALUE!"},null,4,0,{"$error":"#VALUE!"},{"$error":"#VALUE!"},{"$error":"#VALUE!"},{"$error":"#VALUE!"},{"$error":"#VALUE!"},{"$error":"#VALUE!"},{"$error":"#VALUE!"},{"$error":"#VALUE!"},{"$error":"#VALUE!"},{"$error":"#VALUE!"},{"$error":"#VALUE!"},{"$error":"#VALUE!"},{"$error":"#VALUE!"},{"$error":"#VALUE!"},{"$error":"#VALUE!"},{"$error":"#VALUE!"},{"$error":"#VALUE!"},{"$error":"#VALUE!"},{"$error":"#VALUE!"},{"$error":"#VALUE!"},{"$error":"#VALUE!"},{"$error":"#VALUE!"},{"$error":"#VALUE!"},{"$error":"#VALUE!"},{"$error":"#VALUE!"},{"$error":"#VALUE!"},{"$error":"#VALUE!"},{"$error":"#VALUE!"},{"$error":"#VALUE!"},{"$error":"#VALUE!"},{"$error":"#VALUE!"},{"$error":"#VALUE!"},{"$error":"#VALUE!"},4,0,{"$error":"#VALUE!"},{"$error":"#VALUE!"},{"$error":"#VALUE!"},{"$error":"#VALUE!"},{"$error":"#VALUE!"},{"$error":"#VALUE!"},{"$error":"#VALUE!"},{"$error":"#VALUE!"},{"$error":"#VALUE!"},{"$error":"#VALUE!"},{"$error":"#VALUE!"},{"$error":"#VALUE!"},{"$error":"#VALUE!"},{"$error":"#VALUE!"},{"$error":"#VALUE!"},{"$error":"#VALUE!"},{"$error":"#VALUE!"},{"$error":"#VALUE!"},{"$error":"#VALUE!"},{"$error":"#VALUE!"},{"$error":"#VALUE!"},{"$error":"#VALUE!"},{"$error":"#VALUE!"},{"$error":"#VALUE!"},{"$error":"#VALUE!"},{"$error":"#VALUE!"},{"$error":"#VALUE!"},{"$error":"#VALUE!"},{"$error":"#VALUE!"},{"$error":"#VALUE!"},{"$error":"#VALUE!"},{"$error":"#VALUE!"},{"$error":"#VALUE!"},4,0,{"$error":"#VALUE!"},{"$error":"#VALUE!"},{"$error":"#VALUE!"},{"$error":"#VALUE!"},{"$error":"#VALUE!"},{"$error":"#VALUE!"},{"$error":"#VALUE!"},{"$error":"#VALUE!"},{"$error":"#VALUE!"},{"$error":"#VALUE!"},{"$error":"#VALUE!"},{"$error":"#VALUE!"},{"$error":"#VALUE!"},{"$error":"#VALUE!"},{"$error":"#VALUE!"},{"$error":"#VALUE!"},{"$error":"#VALUE!"},{"$error":"#VALUE!"},{"$error":"#VALUE!"},{"$error":"#VALUE!"},{"$error":"#VALUE!"},{"$error":"#VALUE!"},{"$error":"#VALUE!"},{"$error":"#VALUE!"},{"$error":"#VALUE!"},{"$error":"#VALUE!"},{"$error":"#VALUE!"},{"$error":"#VALUE!"},{"$error":"#VALUE!"},{"$error":"#VALUE!"},{"$error":"#VALUE!"},{"$error":"#VALUE!"},{"$error":"#VALUE!"},4,0,{"$error":"#VALUE!"},{"$error":"#VALUE!"},{"$error":"#VALUE!"},{"$error":"#VALUE!"},{"$error":"#VALUE!"},{"$error":"#VALUE!"},{"$error":"#VALUE!"},{"$error":"#VALUE!"},{"$error":"#VALUE!"},{"$error":"#VALUE!"},{"$error":"#VALUE!"},{"$error":"#VALUE!"},{"$error":"#VALUE!"},{"$error":"#VALUE!"},{"$error":"#VALUE!"},{"$error":"#VALUE!"},{"$error":"#VALUE!"},{"$error":"#VALUE!"},{"$error":"#VALUE!"},{"$error":"#VALUE!"},{"$error":"#VALUE!"},{"$error":"#VALUE!"},{"$error":"#VALUE!"},{"$error":"#VALUE!"},{"$error":"#VALUE!"},{"$error":"#VALUE!"},{"$error":"#VALUE!"},{"$error":"#VALUE!"},{"$error":"#VALUE!"},{"$error":"#VALUE!"},{"$error":"#VALUE!"},{"$error":"#VALUE!"},{"$error":"#VALUE!"},4,0,{"$error":"#VALUE!"},{"$error":"#VALUE!"},{"$error":"#VALUE!"},{"$error":"#VALUE!"},{"$error":"#VALUE!"},{"$error":"#VALUE!"},{"$error":"#VALUE!"},{"$error":"#VALUE!"},{"$error":"#VALUE!"},{"$error":"#VALUE!"},{"$error":"#VALUE!"},{"$error":"#VALUE!"},{"$error":"#VALUE!"},{"$error":"#VALUE!"},{"$error":"#VALUE!"},{"$error":"#VALUE!"},{"$error":"#VALUE!"},{"$error":"#VALUE!"},{"$error":"#VALUE!"},{"$error":"#VALUE!"},{"$error":"#VALUE!"},{"$error":"#VALUE!"},{"$error":"#VALUE!"},{"$error":"#VALUE!"},{"$error":"#VALUE!"},{"$error":"#VALUE!"},{"$error":"#VALUE!"},{"$error":"#VALUE!"},{"$error":"#VALUE!"},{"$error":"#VALUE!"},{"$error":"#VALUE!"},{"$error":"#VALUE!"},{"$error":"#VALUE!"},4,0,{"$error":"#VALUE!"},{"$error":"#VALUE!"},{"$error":"#VALUE!"},{"$error":"#VALUE!"},{"$error":"#VALUE!"},{"$error":"#VALUE!"},{"$error":"#VALUE!"},{"$error":"#VALUE!"},{"$error":"#VALUE!"},{"$error":"#VALUE!"},{"$error":"#VALUE!"},{"$error":"#VALUE!"},{"$error":"#VALUE!"},{"$error":"#VALUE!"},{"$error":"#VALUE!"},{"$error":"#VALUE!"},{"$error":"#VALUE!"},{"$error":"#VALUE!"},{"$error":"#VALUE!"},{"$error":"#VALUE!"},{"$error":"#VALUE!"},{"$error":"#VALUE!"},{"$error":"#VALUE!"},{"$error":"#VALUE!"},{"$error":"#VALUE!"},{"$error":"#VALUE!"},{"$error":"#VALUE!"},{"$error":"#VALUE!"},{"$error":"#VALUE!"},{"$error":"#VALUE!"},{"$error":"#VALUE!"},{"$error":"#VALUE!"},{"$error":"#VALUE!"}]
[null,null,null,null,null,null,null,null,null,null,null,null,null,null,null,null,null,null,null,null,null,null,null,7,null,null,null,null,null,null,null,null,null,"N/A",null,false,null,null,null,null,7,null,null,null,null,null,null,null,null,null,null,null,{"$f":"IF(AND(BB173=\"OK\",BC173=\"OK\",BD173=\"OK\"),\"OK\",\"ERR!\")","v":"OK"},"OK","OK","OK",10000000,10000000,10000000,10000000,10000000,10000000,10000000,null,7,null,null,null,null,null,null,null,1,null,null,null,null,null,null,null,null,null,null,1,null,null,null,null,null,null,null,null,null,null,1,null,null,null,null,null,null,null,null,null,null,1,null,null,null,null,null,null,null,null,null,null,1,null,null,null,null,null,null,null,null,null,null,1,null,null,null,null,7,{"$error":"#VALUE!"},{"$error":"#VALUE!"},{"$error":"#VALUE!"},{"$error":"#VALUE!"},{"$error":"#VALUE!"},{"$error":"#VALUE!"},{"$error":"#VALUE!"},{"$error":"#VALUE!"},{"$error":"#VALUE!"},{"$error":"#VALUE!"},{"$error":"#VALUE!"},{"$error":"#VALUE!"},{"$error":"#VALUE!"},{"$error":"#VALUE!"},{"$error":"#VALUE!"},{"$error":"#VALUE!"},{"$error":"#VALUE!"},{"$error":"#VALUE!"},null,7,0,{"$error":"#VALUE!"},{"$error":"#VALUE!"},{"$error":"#VALUE!"},{"$error":"#VALUE!"},{"$error":"#VALUE!"},{"$error":"#VALUE!"},{"$error":"#VALUE!"},{"$error":"#VALUE!"},{"$error":"#VALUE!"},{"$error":"#VALUE!"},{"$error":"#VALUE!"},{"$error":"#VALUE!"},{"$error":"#VALUE!"},{"$error":"#VALUE!"},{"$error":"#VALUE!"},{"$error":"#VALUE!"},{"$error":"#VALUE!"},{"$error":"#VALUE!"},{"$error":"#VALUE!"},{"$error":"#VALUE!"},{"$error":"#VALUE!"},{"$error":"#VALUE!"},{"$error":"#VALUE!"},{"$error":"#VALUE!"},{"$error":"#VALUE!"},{"$error":"#VALUE!"},{"$error":"#VALUE!"},{"$error":"#VALUE!"},{"$error":"#VALUE!"},{"$error":"#VALUE!"},{"$error":"#VALUE!"},{"$error":"#VALUE!"},{"$error":"#VALUE!"},7,0,{"$error":"#VALUE!"},{"$error":"#VALUE!"},{"$error":"#VALUE!"},{"$error":"#VALUE!"},{"$error":"#VALUE!"},{"$error":"#VALUE!"},{"$error":"#VALUE!"},{"$error":"#VALUE!"},{"$error":"#VALUE!"},{"$error":"#VALUE!"},{"$error":"#VALUE!"},{"$error":"#VALUE!"},{"$error":"#VALUE!"},{"$error":"#VALUE!"},{"$error":"#VALUE!"},{"$error":"#VALUE!"},{"$error":"#VALUE!"},{"$error":"#VALUE!"},{"$error":"#VALUE!"},{"$error":"#VALUE!"},{"$error":"#VALUE!"},{"$error":"#VALUE!"},{"$error":"#VALUE!"},{"$error":"#VALUE!"},{"$error":"#VALUE!"},{"$error":"#VALUE!"},{"$error":"#VALUE!"},{"$error":"#VALUE!"},{"$error":"#VALUE!"},{"$error":"#VALUE!"},{"$error":"#VALUE!"},{"$error":"#VALUE!"},{"$error":"#VALUE!"},7,0,{"$error":"#VALUE!"},{"$error":"#VALUE!"},{"$error":"#VALUE!"},{"$error":"#VALUE!"},{"$error":"#VALUE!"},{"$error":"#VALUE!"},{"$error":"#VALUE!"},{"$error":"#VALUE!"},{"$error":"#VALUE!"},{"$error":"#VALUE!"},{"$error":"#VALUE!"},{"$error":"#VALUE!"},{"$error":"#VALUE!"},{"$error":"#VALUE!"},{"$error":"#VALUE!"},{"$error":"#VALUE!"},{"$error":"#VALUE!"},{"$error":"#VALUE!"},{"$error":"#VALUE!"},{"$error":"#VALUE!"},{"$error":"#VALUE!"},{"$error":"#VALUE!"},{"$error":"#VALUE!"},{"$error":"#VALUE!"},{"$error":"#VALUE!"},{"$error":"#VALUE!"},{"$error":"#VALUE!"},{"$error":"#VALUE!"},{"$error":"#VALUE!"},{"$error":"#VALUE!"},{"$error":"#VALUE!"},{"$error":"#VALUE!"},{"$error":"#VALUE!"},7,0,{"$error":"#VALUE!"},{"$error":"#VALUE!"},{"$error":"#VALUE!"},{"$error":"#VALUE!"},{"$error":"#VALUE!"},{"$error":"#VALUE!"},{"$error":"#VALUE!"},{"$error":"#VALUE!"},{"$error":"#VALUE!"},{"$error":"#VALUE!"},{"$error":"#VALUE!"},{"$error":"#VALUE!"},{"$error":"#VALUE!"},{"$error":"#VALUE!"},{"$error":"#VALUE!"},{"$error":"#VALUE!"},{"$error":"#VALUE!"},{"$error":"#VALUE!"},{"$error":"#VALUE!"},{"$error":"#VALUE!"},{"$error":"#VALUE!"},{"$error":"#VALUE!"},{"$error":"#VALUE!"},{"$error":"#VALUE!"},{"$error":"#VALUE!"},{"$error":"#VALUE!"},{"$error":"#VALUE!"},{"$error":"#VALUE!"},{"$error":"#VALUE!"},{"$error":"#VALUE!"},{"$error":"#VALUE!"},{"$error":"#VALUE!"},{"$error":"#VALUE!"},7,0,{"$error":"#VALUE!"},{"$error":"#VALUE!"},{"$error":"#VALUE!"},{"$error":"#VALUE!"},{"$error":"#VALUE!"},{"$error":"#VALUE!"},{"$error":"#VALUE!"},{"$error":"#VALUE!"},{"$error":"#VALUE!"},{"$error":"#VALUE!"},{"$error":"#VALUE!"},{"$error":"#VALUE!"},{"$error":"#VALUE!"},{"$error":"#VALUE!"},{"$error":"#VALUE!"},{"$error":"#VALUE!"},{"$error":"#VALUE!"},{"$error":"#VALUE!"},{"$error":"#VALUE!"},{"$error":"#VALUE!"},{"$error":"#VALUE!"},{"$error":"#VALUE!"},{"$error":"#VALUE!"},{"$error":"#VALUE!"},{"$error":"#VALUE!"},{"$error":"#VALUE!"},{"$error":"#VALUE!"},{"$error":"#VALUE!"},{"$error":"#VALUE!"},{"$error":"#VALUE!"},{"$error":"#VALUE!"},{"$error":"#VALUE!"},{"$error":"#VALUE!"},7,0,{"$error":"#VALUE!"},{"$error":"#VALUE!"},{"$error":"#VALUE!"},{"$error":"#VALUE!"},{"$error":"#VALUE!"},{"$error":"#VALUE!"},{"$error":"#VALUE!"},{"$error":"#VALUE!"},{"$error":"#VALUE!"},{"$error":"#VALUE!"},{"$error":"#VALUE!"},{"$error":"#VALUE!"},{"$error":"#VALUE!"},{"$error":"#VALUE!"},{"$error":"#VALUE!"},{"$error":"#VALUE!"},{"$error":"#VALUE!"},{"$error":"#VALUE!"},{"$error":"#VALUE!"},{"$error":"#VALUE!"},{"$error":"#VALUE!"},{"$error":"#VALUE!"},{"$error":"#VALUE!"},{"$error":"#VALUE!"},{"$error":"#VALUE!"},{"$error":"#VALUE!"},{"$error":"#VALUE!"},{"$error":"#VALUE!"},{"$error":"#VALUE!"},{"$error":"#VALUE!"},{"$error":"#VALUE!"},{"$error":"#VALUE!"},{"$error":"#VALUE!"}]
[null,null,null,null,null,null,null,null,null,null,null,null,null,null,null,null,null,null,null,null,null,null,null,8,null,null,null,null,null,null,null,null,null,"N/A",null,false,null,null,null,null,8,null,null,null,null,null,null,null,null,null,null,null,"OK","OK","OK","OK",10000000,10000000,10000000,10000000,10000000,10000000,10000000,null,8,null,null,null,null,null,null,null,1,null,null,null,null,null,null,null,null,null,null,1,null,null,null,null,null,null,null,null,null,null,1,null,null,null,null,null,null,null,null,null,null,1,null,null,null,null,null,null,null,null,null,null,1,null,null,null,null,null,null,null,null,null,null,1,null,null,null,null,8,{"$error":"#VALUE!"},{"$error":"#VALUE!"},{"$error":"#VALUE!"},{"$error":"#VALUE!"},{"$error":"#VALUE!"},{"$error":"#VALUE!"},{"$error":"#VALUE!"},{"$error":"#VALUE!"},{"$error":"#VALUE!"},{"$error":"#VALUE!"},{"$error":"#VALUE!"},{"$error":"#VALUE!"},{"$error":"#VALUE!"},{"$error":"#VALUE!"},{"$error":"#VALUE!"},{"$error":"#VALUE!"},{"$error":"#VALUE!"},{"$error":"#VALUE!"},null,8,0,{"$error":"#VALUE!"},{"$error":"#VALUE!"},{"$error":"#VALUE!"},{"$error":"#VALUE!"},{"$error":"#VALUE!"},{"$error":"#VALUE!"},{"$error":"#VALUE!"},{"$error":"#VALUE!"},{"$error":"#VALUE!"},{"$error":"#VALUE!"},{"$error":"#VALUE!"},{"$error":"#VALUE!"},{"$error":"#VALUE!"},{"$error":"#VALUE!"},{"$error":"#VALUE!"},{"$error":"#VALUE!"},{"$error":"#VALUE!"},{"$error":"#VALUE!"},{"$error":"#VALUE!"},{"$error":"#VALUE!"},{"$error":"#VALUE!"},{"$error":"#VALUE!"},{"$error":"#VALUE!"},{"$error":"#VALUE!"},{"$error":"#VALUE!"},{"$error":"#VALUE!"},{"$error":"#VALUE!"},{"$error":"#VALUE!"},{"$error":"#VALUE!"},{"$error":"#VALUE!"},{"$error":"#VALUE!"},{"$error":"#VALUE!"},{"$error":"#VALUE!"},8,0,{"$error":"#VALUE!"},{"$error":"#VALUE!"},{"$error":"#VALUE!"},{"$error":"#VALUE!"},{"$error":"#VALUE!"},{"$error":"#VALUE!"},{"$error":"#VALUE!"},{"$error":"#VALUE!"},{"$error":"#VALUE!"},{"$error":"#VALUE!"},{"$error":"#VALUE!"},{"$error":"#VALUE!"},{"$error":"#VALUE!"},{"$error":"#VALUE!"},{"$error":"#VALUE!"},{"$error":"#VALUE!"},{"$error":"#VALUE!"},{"$error":"#VALUE!"},{"$error":"#VALUE!"},{"$error":"#VALUE!"},{"$error":"#VALUE!"},{"$error":"#VALUE!"},{"$error":"#VALUE!"},{"$error":"#VALUE!"},{"$error":"#VALUE!"},{"$error":"#VALUE!"},{"$error":"#VALUE!"},{"$error":"#VALUE!"},{"$error":"#VALUE!"},{"$error":"#VALUE!"},{"$error":"#VALUE!"},{"$error":"#VALUE!"},{"$error":"#VALUE!"},8,0,{"$error":"#VALUE!"},{"$error":"#VALUE!"},{"$error":"#VALUE!"},{"$error":"#VALUE!"},{"$error":"#VALUE!"},{"$error":"#VALUE!"},{"$error":"#VALUE!"},{"$error":"#VALUE!"},{"$error":"#VALUE!"},{"$error":"#VALUE!"},{"$error":"#VALUE!"},{"$error":"#VALUE!"},{"$error":"#VALUE!"},{"$error":"#VALUE!"},{"$error":"#VALUE!"},{"$error":"#VALUE!"},{"$error":"#VALUE!"},{"$error":"#VALUE!"},{"$error":"#VALUE!"},{"$error":"#VALUE!"},{"$error":"#VALUE!"},{"$error":"#VALUE!"},{"$error":"#VALUE!"},{"$error":"#VALUE!"},{"$error":"#VALUE!"},{"$error":"#VALUE!"},{"$error":"#VALUE!"},{"$error":"#VALUE!"},{"$error":"#VALUE!"},{"$error":"#VALUE!"},{"$error":"#VALUE!"},{"$error":"#VALUE!"},{"$error":"#VALUE!"},8,0,{"$error":"#VALUE!"},{"$error":"#VALUE!"},{"$error":"#VALUE!"},{"$error":"#VALUE!"},{"$error":"#VALUE!"},{"$error":"#VALUE!"},{"$error":"#VALUE!"},{"$error":"#VALUE!"},{"$error":"#VALUE!"},{"$error":"#VALUE!"},{"$error":"#VALUE!"},{"$error":"#VALUE!"},{"$error":"#VALUE!"},{"$error":"#VALUE!"},{"$error":"#VALUE!"},{"$error":"#VALUE!"},{"$error":"#VALUE!"},{"$error":"#VALUE!"},{"$error":"#VALUE!"},{"$error":"#VALUE!"},{"$error":"#VALUE!"},{"$error":"#VALUE!"},{"$error":"#VALUE!"},{"$error":"#VALUE!"},{"$error":"#VALUE!"},{"$error":"#VALUE!"},{"$error":"#VALUE!"},{"$error":"#VALUE!"},{"$error":"#VALUE!"},{"$error":"#VALUE!"},{"$error":"#VALUE!"},{"$error":"#VALUE!"},{"$error":"#VALUE!"},8,0,{"$error":"#VALUE!"},{"$error":"#VALUE!"},{"$error":"#VALUE!"},{"$error":"#VALUE!"},{"$error":"#VALUE!"},{"$error":"#VALUE!"},{"$error":"#VALUE!"},{"$error":"#VALUE!"},{"$error":"#VALUE!"},{"$error":"#VALUE!"},{"$error":"#VALUE!"},{"$error":"#VALUE!"},{"$error":"#VALUE!"},{"$error":"#VALUE!"},{"$error":"#VALUE!"},{"$error":"#VALUE!"},{"$error":"#VALUE!"},{"$error":"#VALUE!"},{"$error":"#VALUE!"},{"$error":"#VALUE!"},{"$error":"#VALUE!"},{"$error":"#VALUE!"},{"$error":"#VALUE!"},{"$error":"#VALUE!"},{"$error":"#VALUE!"},{"$error":"#VALUE!"},{"$error":"#VALUE!"},{"$error":"#VALUE!"},{"$error":"#VALUE!"},{"$error":"#VALUE!"},{"$error":"#VALUE!"},{"$error":"#VALUE!"},{"$error":"#VALUE!"},8,0,{"$error":"#VALUE!"},{"$error":"#VALUE!"},{"$error":"#VALUE!"},{"$error":"#VALUE!"},{"$error":"#VALUE!"},{"$error":"#VALUE!"},{"$error":"#VALUE!"},{"$error":"#VALUE!"},{"$error":"#VALUE!"},{"$error":"#VALUE!"},{"$error":"#VALUE!"},{"$error":"#VALUE!"},{"$error":"#VALUE!"},{"$error":"#VALUE!"},{"$error":"#VALUE!"},{"$error":"#VALUE!"},{"$error":"#VALUE!"},{"$error":"#VALUE!"},{"$error":"#VALUE!"},{"$error":"#VALUE!"},{"$error":"#VALUE!"},{"$error":"#VALUE!"},{"$error":"#VALUE!"},{"$error":"#VALUE!"},{"$error":"#VALUE!"},{"$error":"#VALUE!"},{"$error":"#VALUE!"},{"$error":"#VALUE!"},{"$error":"#VALUE!"},{"$error":"#VALUE!"},{"$error":"#VALUE!"},{"$error":"#VALUE!"},{"$error":"#VALUE!"}]
[null,null,null,null,null,null,null,null,null,null,null,null,null,null,null,null,null,null,null,null,null,null,null,9,null,null,null,null,null,null,null,null,null,"N/A",null,false,null,null,null,null,9,null,null,null,null,null,null,null,null,null,null,null,"OK","OK","OK","OK",10000000,10000000,10000000,{"$f":"(CU175*POWER(10,0)+CV175*POWER(10,1)+CW175*POWER(10,2)+CX175*POWER(10,3)+CY175*POWER(10,4)+CZ175*POWER(10,5)+DA175*POWER(10,6)+DB175*POWER(10,7)+DC175*POWER(10,8)+DD175*POWER(10,9)+DE175*POWER(10,10))","v":10000000},{"$f":"(DF175*POWER(10,0)+DG175*POWER(10,1)+DH175*POWER(10,2)+DI175*POWER(10,3)+DJ175*POWER(10,4)+DK175*POWER(10,5)+DL175*POWER(10,6)+DM175*POWER(10,7)+DN175*POWER(10,8)+DO175*POWER(10,9)+DP175*POWER(10,10))","v":10000000},10000000,10000000,null,9,null,null,null,null,null,null,null,1,null,null,null,null,null,null,null,null,null,null,1,null,null,null,null,null,null,null,null,null,null,1,null,null,null,null,null,null,null,null,null,null,1,null,null,null,null,null,null,null,null,null,null,1,null,null,null,null,null,null,null,null,null,null,1,null,null,null,null,9,{"$error":"#VALUE!"},{"$error":"#VALUE!"},{"$error":"#VALUE!"},{"$error":"#VALUE!"},{"$error":"#VALUE!"},{"$error":"#VALUE!"},{"$error":"#VALUE!"},{"$error":"#VALUE!"},{"$error":"#VALUE!"},{"$error":"#VALUE!"},{"$error":"#VALUE!"},{"$error":"#VALUE!"},{"$error":"#VALUE!"},{"$error":"#VALUE!"},{"$error":"#VALUE!"},{"$error":"#VALUE!"},{"$error":"#VALUE!"},{"$error":"#VALUE!"},null,9,0,{"$error":"#VALUE!"},{"$error":"#VALUE!"},{"$error":"#VALUE!"},{"$error":"#VALUE!"},{"$error":"#VALUE!"},{"$error":"#VALUE!"},{"$error":"#VALUE!"},{"$error":"#VALUE!"},{"$error":"#VALUE!"},{"$error":"#VALUE!"},{"$error":"#VALUE!"},{"$error":"#VALUE!"},{"$error":"#VALUE!"},{"$error":"#VALUE!"},{"$error":"#VALUE!"},{"$error":"#VALUE!"},{"$error":"#VALUE!"},{"$error":"#VALUE!"},{"$error":"#VALUE!"},{"$error":"#VALUE!"},{"$error":"#VALUE!"},{"$error":"#VALUE!"},{"$error":"#VALUE!"},{"$error":"#VALUE!"},{"$error":"#VALUE!"},{"$error":"#VALUE!"},{"$error":"#VALUE!"},{"$error":"#VALUE!"},{"$error":"#VALUE!"},{"$error":"#VALUE!"},{"$error":"#VALUE!"},{"$error":"#VALUE!"},{"$error":"#VALUE!"},9,0,{"$error":"#VALUE!"},{"$error":"#VALUE!"},{"$error":"#VALUE!"},{"$error":"#VALUE!"},{"$error":"#VALUE!"},{"$error":"#VALUE!"},{"$error":"#VALUE!"},{"$error":"#VALUE!"},{"$error":"#VALUE!"},{"$error":"#VALUE!"},{"$error":"#VALUE!"},{"$error":"#VALUE!"},{"$error":"#VALUE!"},{"$error":"#VALUE!"},{"$error":"#VALUE!"},{"$error":"#VALUE!"},{"$error":"#VALUE!"},{"$error":"#VALUE!"},{"$error":"#VALUE!"},{"$error":"#VALUE!"},{"$error":"#VALUE!"},{"$error":"#VALUE!"},{"$error":"#VALUE!"},{"$error":"#VALUE!"},{"$error":"#VALUE!"},{"$error":"#VALUE!"},{"$error":"#VALUE!"},{"$error":"#VALUE!"},{"$error":"#VALUE!"},{"$error":"#VALUE!"},{"$error":"#VALUE!"},{"$error":"#VALUE!"},{"$error":"#VALUE!"},9,0,{"$error":"#VALUE!"},{"$error":"#VALUE!"},{"$error":"#VALUE!"},{"$error":"#VALUE!"},{"$error":"#VALUE!"},{"$error":"#VALUE!"},{"$error":"#VALUE!"},{"$error":"#VALUE!"},{"$error":"#VALUE!"},{"$error":"#VALUE!"},{"$error":"#VALUE!"},{"$error":"#VALUE!"},{"$error":"#VALUE!"},{"$error":"#VALUE!"},{"$error":"#VALUE!"},{"$error":"#VALUE!"},{"$error":"#VALUE!"},{"$error":"#VALUE!"},{"$error":"#VALUE!"},{"$error":"#VALUE!"},{"$error":"#VALUE!"},{"$error":"#VALUE!"},{"$error":"#VALUE!"},{"$error":"#VALUE!"},{"$error":"#VALUE!"},{"$error":"#VALUE!"},{"$error":"#VALUE!"},{"$error":"#VALUE!"},{"$error":"#VALUE!"},{"$error":"#VALUE!"},{"$error":"#VALUE!"},{"$error":"#VALUE!"},{"$error":"#VALUE!"},9,0,{"$error":"#VALUE!"},{"$error":"#VALUE!"},{"$error":"#VALUE!"},{"$error":"#VALUE!"},{"$error":"#VALUE!"},{"$error":"#VALUE!"},{"$error":"#VALUE!"},{"$error":"#VALUE!"},{"$error":"#VALUE!"},{"$error":"#VALUE!"},{"$error":"#VALUE!"},{"$error":"#VALUE!"},{"$error":"#VALUE!"},{"$error":"#VALUE!"},{"$error":"#VALUE!"},{"$error":"#VALUE!"},{"$error":"#VALUE!"},{"$error":"#VALUE!"},{"$error":"#VALUE!"},{"$error":"#VALUE!"},{"$error":"#VALUE!"},{"$error":"#VALUE!"},{"$error":"#VALUE!"},{"$error":"#VALUE!"},{"$error":"#VALUE!"},{"$error":"#VALUE!"},{"$error":"#VALUE!"},{"$error":"#VALUE!"},{"$error":"#VALUE!"},{"$error":"#VALUE!"},{"$error":"#VALUE!"},{"$error":"#VALUE!"},{"$error":"#VALUE!"},9,0,{"$error":"#VALUE!"},{"$error":"#VALUE!"},{"$error":"#VALUE!"},{"$error":"#VALUE!"},{"$error":"#VALUE!"},{"$error":"#VALUE!"},{"$error":"#VALUE!"},{"$error":"#VALUE!"},{"$error":"#VALUE!"},{"$error":"#VALUE!"},{"$error":"#VALUE!"},{"$error":"#VALUE!"},{"$error":"#VALUE!"},{"$error":"#VALUE!"},{"$error":"#VALUE!"},{"$error":"#VALUE!"},{"$error":"#VALUE!"},{"$error":"#VALUE!"},{"$error":"#VALUE!"},{"$error":"#VALUE!"},{"$error":"#VALUE!"},{"$error":"#VALUE!"},{"$error":"#VALUE!"},{"$error":"#VALUE!"},{"$error":"#VALUE!"},{"$error":"#VALUE!"},{"$error":"#VALUE!"},{"$error":"#VALUE!"},{"$error":"#VALUE!"},{"$error":"#VALUE!"},{"$error":"#VALUE!"},{"$error":"#VALUE!"},{"$error":"#VALUE!"},9,0,{"$error":"#VALUE!"},{"$error":"#VALUE!"},{"$error":"#VALUE!"},{"$error":"#VALUE!"},{"$error":"#VALUE!"},{"$error":"#VALUE!"},{"$error":"#VALUE!"},{"$error":"#VALUE!"},{"$error":"#VALUE!"},{"$error":"#VALUE!"},{"$error":"#VALUE!"},{"$error":"#VALUE!"},{"$error":"#VALUE!"},{"$error":"#VALUE!"},{"$error":"#VALUE!"},{"$error":"#VALUE!"},{"$error":"#VALUE!"},{"$error":"#VALUE!"},{"$error":"#VALUE!"},{"$error":"#VALUE!"},{"$error":"#VALUE!"},{"$error":"#VALUE!"},{"$error":"#VALUE!"},{"$error":"#VALUE!"},{"$error":"#VALUE!"},{"$error":"#VALUE!"},{"$error":"#VALUE!"},{"$error":"#VALUE!"},{"$error":"#VALUE!"},{"$error":"#VALUE!"},{"$error":"#VALUE!"},{"$error":"#VALUE!"},{"$error":"#VALUE!"}]
[null,null,null,null,null,null,null,null,null,null,null,null,null,null,null,null,null,null,null,null,null,null,null,"Total",{"$f":"SUM(Y169:Y175)","v":0},{"$f":"SUM(Z169:Z175)","v":0},0,0,0,0,null,null,null,"N/A",null,false,null,null,null,null,"Total",null,null,null,null,null,null,null,null,null,null,null,null,null,null,null,null,null,null,null,null,null,null,null,"Total",null,null,null,null,null,null,null,null,null,null,null,null,null,null,null,null,null,null,null,null,null,null,null,null,null,null,null,null,null,null,null,null,null,null,null,null,null,null,null,null,null,null,null,null,null,null,null,null,null,null,null,null,null,null,null,null,null,null,null,null,null,null,null,null,null,null,null,"Total",{"$f":"SUM(ED169:ED175)","v":{"$error":"#VALUE!"}},{"$f":"SUM(EE169:EE175)","v":{"$error":"#VALUE!"}},{"$f":"SUM(EF169:EF175)","v":{"$error":"#VALUE!"}},{"$f":"SUM(EG169:EG175)","v":{"$error":"#VALUE!"}},{"$f":"SUM(EH169:EH175)","v":{"$error":"#VALUE!"}},{"$f":"SUM(EI169:EI175)","v":{"$error":"#VALUE!"}},{"$error":"#VALUE!"},{"$error":"#VALUE!"},{"$error":"#VALUE!"},{"$error":"#VALUE!"},{"$error":"#VALUE!"},{"$error":"#VALUE!"},{"$error":"#VALUE!"},{"$error":"#VALUE!"},{"$error":"#VALUE!"},{"$error":"#VALUE!"},{"$error":"#VALUE!"},{"$error":"#VALUE!"},null,"Total",{"$f":"SUM(EX169:EX175)","v":0},{"$f":"SUM(EY169:EY175)","v":{"$error":"#VALUE!"}},{"$f":"SUM(EZ169:EZ175)","v":{"$error":"#VALUE!"}},{"$error":"#VALUE!"},{"$error":"#VALUE!"},{"$f":"SUM(FC169:FC175)","v":{"$error":"#VALUE!"}},{"$f":"SUM(FD169:FD175)","v":{"$error":"#VALUE!"}},{"$error":"#VALUE!"},{"$error":"#VALUE!"},{"$error":"#VALUE!"},{"$error":"#VALUE!"},{"$error":"#VALUE!"},{"$error":"#VALUE!"},{"$error":"#VALUE!"},{"$error":"#VALUE!"},{"$error":"#VALUE!"},{"$f":"SUM(FN169:FN175)","v":{"$error":"#VALUE!"}},{"$f":"SUM(FO169:FO175)","v":{"$error":"#VALUE!"}},{"$f":"SUM(FP169:FP175)","v":{"$error":"#VALUE!"}},{"$f":"SUM(FQ169:FQ175)","v":{"$error":"#VALUE!"}},{"$error":"#VALUE!"},{"$error":"#VALUE!"},{"$error":"#VALUE!"},{"$error":"#VALUE!"},{"$error":"#VALUE!"},{"$error":"#VALUE!"},{"$error":"#VALUE!"},{"$error":"#VALUE!"},{"$error":"#VALUE!"},{"$error":"#VALUE!"},{"$error":"#VALUE!"},{"$f":"SUM(GC169:GC175)","v":{"$error":"#VALUE!"}},{"$f":"SUM(GD169:GD175)","v":{"$error":"#VALUE!"}},{"$error":"#VALUE!"},"Total",{"$f":"SUM(GG169:GG175)","v":0},{"$f":"SUM(GH169:GH175)","v":{"$error":"#VALUE!"}},{"$f":"SUM(GI169:GI175)","v":{"$error":"#VALUE!"}},{"$error":"#VALUE!"},{"$error":"#VALUE!"},{"$f":"SUM(GL169:GL175)","v":{"$error":"#VALUE!"}},{"$f":"SUM(GM169:GM175)","v":{"$error":"#VALUE!"}},{"$f":"SUM(GN169:GN175)","v":{"$error":"#VALUE!"}},{"$error":"#VALUE!"},{"$error":"#VALUE!"},{"$error":"#VALUE!"},{"$error":"#VALUE!"},{"$error":"#VALUE!"},{"$error":"#VALUE!"},{"$error":"#VALUE!"},{"$error":"#VALUE!"},{"$f":"SUM(GW169:GW175)","v":{"$error":"#VALUE!"}},{"$f":"SUM(GX169:GX175)","v":{"$error":"#VALUE!"}},{"$f":"SUM(GY169:GY175)","v":{"$error":"#VALUE!"}},{"$f":"SUM(GZ169:GZ175)","v":{"$error":"#VALUE!"}},{"$error":"#VALUE!"},{"$error":"#VALUE!"},{"$error":"#VALUE!"},{"$error":"#VALUE!"},{"$error":"#VALUE!"},{"$error":"#VALUE!"},{"$error":"#VALUE!"},{"$error":"#VALUE!"},{"$error":"#VALUE!"},{"$error":"#VALUE!"},{"$error":"#VALUE!"},{"$f":"SUM(HL169:HL175)","v":{"$error":"#VALUE!"}},{"$f":"SUM(HM169:HM175)","v":{"$error":"#VALUE!"}},{"$error":"#VALUE!"},"Total",{"$f":"SUM(HP169:HP175)","v":0},{"$f":"SUM(HQ169:HQ175)","v":{"$error":"#VALUE!"}},{"$f":"SUM(HR169:HR175)","v":{"$error":"#VALUE!"}},{"$error":"#VALUE!"},{"$error":"#VALUE!"},{"$f":"SUM(HU169:HU175)","v":{"$error":"#VALUE!"}},{"$f":"SUM(HV169:HV175)","v":{"$error":"#VALUE!"}},{"$error":"#VALUE!"},{"$error":"#VALUE!"},{"$error":"#VALUE!"},{"$error":"#VALUE!"},{"$error":"#VALUE!"},{"$error":"#VALUE!"},{"$error":"#VALUE!"},{"$error":"#VALUE!"},{"$error":"#VALUE!"},{"$f":"SUM(IF169:IF175)","v":{"$error":"#VALUE!"}},{"$f":"SUM(IG169:IG175)","v":{"$error":"#VALUE!"}},{"$f":"SUM(IH169:IH175)","v":{"$error":"#VALUE!"}},{"$f":"SUM(II169:II175)","v":{"$error":"#VALUE!"}},{"$error":"#VALUE!"},{"$error":"#VALUE!"},{"$error":"#VALUE!"},{"$error":"#VALUE!"},{"$error":"#VALUE!"},{"$error":"#VALUE!"},{"$error":"#VALUE!"},{"$error":"#VALUE!"},{"$error":"#VALUE!"},{"$error":"#VALUE!"},{"$error":"#VALUE!"},{"$f":"SUM(IU169:IU175)","v":{"$error":"#VALUE!"}},{"$f":"SUM(IV169:IV175)","v":{"$error":"#VALUE!"}},{"$error":"#VALUE!"},"Total",{"$f":"SUM(IY169:IY175)","v":0},{"$f":"SUM(IZ169:IZ175)","v":{"$error":"#VALUE!"}},{"$f":"SUM(JA169:JA175)","v":{"$error":"#VALUE!"}},{"$error":"#VALUE!"},{"$error":"#VALUE!"},{"$f":"SUM(JD169:JD175)","v":{"$error":"#VALUE!"}},{"$f":"SUM(JE169:JE175)","v":{"$error":"#VALUE!"}},{"$error":"#VALUE!"},{"$error":"#VALUE!"},{"$error":"#VALUE!"},{"$error":"#VALUE!"},{"$error":"#VALUE!"},{"$error":"#VALUE!"},{"$error":"#VALUE!"},{"$error":"#VALUE!"},{"$error":"#VALUE!"},{"$f":"SUM(JO169:JO175)","v":{"$error":"#VALUE!"}},{"$f":"SUM(JP169:JP175)","v":{"$error":"#VALUE!"}},{"$f":"SUM(JQ169:JQ175)","v":{"$error":"#VALUE!"}},{"$f":"SUM(JR169:JR175)","v":{"$error":"#VALUE!"}},{"$error":"#VALUE!"},{"$error":"#VALUE!"},{"$error":"#VALUE!"},{"$error":"#VALUE!"},{"$error":"#VALUE!"},{"$error":"#VALUE!"},{"$error":"#VALUE!"},{"$error":"#VALUE!"},{"$error":"#VALUE!"},{"$error":"#VALUE!"},{"$error":"#VALUE!"},{"$f":"SUM(KD169:KD175)","v":{"$error":"#VALUE!"}},{"$f":"SUM(KE169:KE175)","v":{"$error":"#VALUE!"}},{"$error":"#VALUE!"},"Total",{"$f":"SUM(KH169:KH175)","v":0},{"$f":"SUM(KI169:KI175)","v":{"$error":"#VALUE!"}},{"$f":"SUM(KJ169:KJ175)","v":{"$error":"#VALUE!"}},{"$error":"#VALUE!"},{"$error":"#VALUE!"},{"$f":"SUM(KM169:KM175)","v":{"$error":"#VALUE!"}},{"$f":"SUM(KN169:KN175)","v":{"$error":"#VALUE!"}},{"$error":"#VALUE!"},{"$error":"#VALUE!"},{"$error":"#VALUE!"},{"$error":"#VALUE!"},{"$error":"#VALUE!"},{"$error":"#VALUE!"},{"$error":"#VALUE!"},{"$error":"#VALUE!"},{"$error":"#VALUE!"},{"$f":"SUM(KX169:KX175)","v":{"$error":"#VALUE!"}},{"$f":"SUM(KY169:KY175)","v":{"$error":"#VALUE!"}},{"$f":"SUM(KZ169:KZ175)","v":{"$error":"#VALUE!"}},{"$f":"SUM(LA169:LA175)","v":{"$error":"#VALUE!"}},{"$error":"#VALUE!"},{"$error":"#VALUE!"},{"$error":"#VALUE!"},{"$error":"#VALUE!"},{"$error":"#VALUE!"},{"$error":"#VALUE!"},{"$error":"#VALUE!"},{"$error":"#VALUE!"},{"$error":"#VALUE!"},{"$error":"#VALUE!"},{"$error":"#VALUE!"},{"$f":"SUM(LM169:LM175)","v":{"$error":"#VALUE!"}},{"$f":"SUM(LN169:LN175)","v":{"$error":"#VALUE!"}},{"$error":"#VALUE!"},"Total",{"$f":"SUM(LQ169:LQ175)","v":0},{"$f":"SUM(LR169:LR175)","v":{"$error":"#VALUE!"}},{"$f":"SUM(LS169:LS175)","v":{"$error":"#VALUE!"}},{"$error":"#VALUE!"},{"$error":"#VALUE!"},{"$f":"SUM(LV169:LV175)","v":{"$error":"#VALUE!"}},{"$f":"SUM(LW169:LW175)","v":{"$error":"#VALUE!"}},{"$error":"#VALUE!"},{"$error":"#VALUE!"},{"$error":"#VALUE!"},{"$error":"#VALUE!"},{"$error":"#VALUE!"},{"$error":"#VALUE!"},{"$error":"#VALUE!"},{"$error":"#VALUE!"},{"$f":"SUM(MF169:MF175)","v":{"$error":"#VALUE!"}},{"$f":"SUM(MG169:MG175)","v":{"$error":"#VALUE!"}},{"$f":"SUM(MH169:MH175)","v":{"$error":"#VALUE!"}},{"$f":"SUM(MI169:MI175)","v":{"$error":"#VALUE!"}},{"$f":"SUM(MJ169:MJ175)","v":{"$error":"#VALUE!"}},{"$error":"#VALUE!"},{"$error":"#VALUE!"},{"$error":"#VALUE!"},{"$error":"#VALUE!"},{"$error":"#VALUE!"},{"$error":"#VALUE!"},{"$error":"#VALUE!"},{"$error":"#VALUE!"},{"$error":"#VALUE!"},{"$error":"#VALUE!"},{"$error":"#VALUE!"},{"$f":"SUM(MV169:MV175)","v":{"$error":"#VALUE!"}},{"$f":"SUM(MW169:MW175)","v":{"$error":"#VALUE!"}},{"$error":"#VALUE!"}]
[null,19,{"$f":"'Regional Project List Sheet'!F23","v":0},{"$f":"IF('Regional Project List Sheet'!$G23=\"New\",1,\"\")","v":""},{"$f":"IF('Regional Project List Sheet'!$G23=\"Funded Old\",1,\"\")","v":""},{"$f":"IF('Regional Project List Sheet'!$G23=\"Unfunded Old\",1,\"\")","v":""},{"$f":"'Regional Project List Sheet'!H23","v":0},{"$f":"'Regional Project List Sheet'!I23","v":0},{"$f":"'Regional Project List Sheet'!L23","v":0},{"$f":"'Regional Project List Sheet'!M23","v":0},{"$f":"'Regional Project List Sheet'!N23","v":0},{"$f":"'Regional Project List Sheet'!O23","v":0},{"$f":"'Regional Project List Sheet'!P23","v":0},{"$f":"IF('Regional Project List Sheet'!$Q23=\"N/A\",\"N/A\",IF($Y180<>0,5,IF($Z180<>0,4,IF($AA180<>0,3,IF($AB180<>0,2,1)))))","v":1},{"$f":"VLOOKUP($C177,'[2]Ranking|Priority'!$B$5:$O$40,12,FALSE)","v":{"$error":"#N/A"}},{"$f":"VLOOKUP($C177,'[2]Ranking|Priority'!$B$5:$O$68,13,FALSE)","v":{"$error":"#N/A"}},{"$f":"VLOOKUP($C177,'[2]Ranking|Priority'!$B$5:$O$68,14,FALSE)","v":{"$error":"#N/A"}},{"$f":"'Regional Project List Sheet'!T23","v":0},{"$f":"'Regional Project List Sheet'!U23","v":0},{"$f":"'Regional Project List Sheet'!V23","v":0},{"$f":"'Regional Project List Sheet'!W23","v":0},{"$f":"'Regional Project List Sheet'!X23","v":0},{"$f":"'Regional Project List Sheet'!Y23","v":"Choose from Project List in cell I2"},0,null,null,null,null,null,null,null,{"$f":"'Regional Project List Sheet'!AJ23","v":0},{"$f":"IF(OR('Regional Project List Sheet'!$AA23<>'Regional Project List Sheet'!$A$40,'Regional Project List Sheet'!$AD23<>'Regional Project List Sheet'!$A$40,'Regional Project List Sheet'!$AG23<>'Regional Project List Sheet'!$A$40),_xlfn.CONCAT(IF(ISNUMBER('Regional Project List Sheet'!$AA23),'Regional Project List Sheet'!$A$36,\"\"),\" \",IF(ISNUMBER('Regional Project List Sheet'!$AD23),'Regional Project List Sheet'!$A$37,\"\"),\" \",IF(ISNUMBER('Regional Project List Sheet'!$AG23),'Regional Project List Sheet'!$A$38,\"\")),\"N/A\")","v":"N/A"},"N/A",{"$f":"IF(OR('Regional Project List Sheet'!AC23<>'Regional Project List Sheet'!$A$40,'Regional Project List Sheet'!AF23<>'Regional Project List Sheet'!$A$40,'Regional Project List Sheet'!AI23<>'Regional Project List Sheet'!$A$40),\n\nIF(LEN(_xlfn.CONCAT(IF('Regional Project List Sheet'!AC23=\"Yes\",'Regional Project List Sheet'!$A$36,\"\"),\" \",\n\nIF('Regional Project List Sheet'!AF23=\"Yes\",'Regional Project List Sheet'!$A$37,\"\"),\" \",\n\nIF('Regional Project List Sheet'!AI23=\"Yes\",'Regional Project List Sheet'!$A$38,\"\")))<3,\"No\",\n\n_xlfn.CONCAT(IF('Regional Project List Sheet'!AC23=\"Yes\",'Regional Project List Sheet'!$A$36,\"\"),\" \",\n\nIF('Regional Project List Sheet'!AF23=\"Yes\",'Regional Project List Sheet'!$A$37,\"\"),\" \",\n\nIF('Regional Project List Sheet'!AI23=\"Yes\",'Regional Project List Sheet'!$A$38,\"\"))))","v":false},false,{"$f":"'Regional Project List Sheet'!AK23","v":0},null,{"$f":"'Regional Project List Sheet'!AL23","v":0},null,0,null,null,null,null,null,null,null,null,null,null,1,{"$f":"IF(AND(BB177=\"OK\",BC177=\"OK\",BD177=\"OK\"),\"OK\",\"ERR!\")","v":"OK"},{"$f":"IF(AND(Y177>0,SUM(BN177:BX177)<1),\"ERR!\",IF(AND(Z177>0,SUM(BY177:CI177)<1),\"ERR!\",IF(AND(AA177>0,SUM(CJ177:CT177)<1),\"ERR\",IF(AND(AB177>0,SUM(CU177:DE177)<1),\"ERR\",IF(AND(AC177>0,SUM(DF177:DP177)<1),\"ERR\",IF(AND(AD177>0,SUM(DQ177:EA177)<1),\"ERR\",\"OK\"))))))","v":"OK"},{"$f":"IF(OR(SUM(BN177:BX177)<>1,SUM(BY177:CI177)<>1,SUM(CJ177:CT177)<>1,SUM(CU177:DE177)<>1,SUM(DF177:DP177)<>1,SUM(DQ177:EA177)<>1),\"ERR!\",\"OK\")","v":"OK"},{"$f":"IF(AND(OR(BE177=BK177,BE177=0),OR(BF177=BK177,BF177=0),OR(BG177=BK177,BG177=0),OR(BH177=BK177,BH177=0),OR(BI177=BK177,BI177=0),OR(BJ177=BK177,BJ177=0)),\"OK\",\"ERR!\")","v":"OK"},{"$f":"(BN177*POWER(10,0)+BO177*POWER(10,1)+BP177*POWER(10,2)+BQ177*POWER(10,3)+BR177*POWER(10,4)+BS177*POWER(10,5)+BT177*POWER(10,6)+BU177*POWER(10,7)+BV177*POWER(10,8)+BW177*POWER(10,9)+BX177*POWER(10,10))","v":10000000},{"$f":"(BY177*POWER(10,0)+BZ177*POWER(10,1)+CA177*POWER(10,2)+CB177*POWER(10,3)+CC177*POWER(10,4)+CD177*POWER(10,5)+CE177*POWER(10,6)+CF177*POWER(10,7)+CG177*POWER(10,8)+CH177*POWER(10,9)+CI177*POWER(10,10))","v":10000000},{"$f":"(CJ177*POWER(10,0)+CK177*POWER(10,1)+CL177*POWER(10,2)+CM177*POWER(10,3)+CN177*POWER(10,4)+CO177*POWER(10,5)+CP177*POWER(10,6)+CQ177*POWER(10,7)+CR177*POWER(10,8)+CS177*POWER(10,9)+CT177*POWER(10,10))","v":10000000},{"$f":"(CU177*POWER(10,0)+CV177*POWER(10,1)+CW177*POWER(10,2)+CX177*POWER(10,3)+CY177*POWER(10,4)+CZ177*POWER(10,5)+DA177*POWER(10,6)+DB177*POWER(10,7)+DC177*POWER(10,8)+DD177*POWER(10,9)+DE177*POWER(10,10))","v":10000000},{"$f":"(DF177*POWER(10,0)+DG177*POWER(10,1)+DH177*POWER(10,2)+DI177*POWER(10,3)+DJ177*POWER(10,4)+DK177*POWER(10,5)+DL177*POWER(10,6)+DM177*POWER(10,7)+DN177*POWER(10,8)+DO177*POWER(10,9)+DP177*POWER(10,10))","v":10000000},{"$f":"(DQ177*POWER(10,0)+DR177*POWER(10,1)+DS177*POWER(10,2)+DT177*POWER(10,3)+DU177*POWER(10,4)+DV177*POWER(10,5)+DW177*POWER(10,6)+DX177*POWER(10,7)+DY177*POWER(10,8)+DZ177*POWER(10,9)+EA177*POWER(10,10))","v":10000000},{"$f":"MAX(BE177:BJ177)","v":10000000},null,0,null,null,null,null,null,null,null,1,null,null,null,null,null,null,null,null,null,null,1,null,null,null,null,null,null,null,null,null,null,1,null,null,null,null,null,null,null,null,null,null,1,null,null,null,null,null,null,null,null,null,null,1,null,null,null,null,null,null,null,null,null,null,1,null,null,null,null,0,{"$f":"($Y177*D$177)/1000","v":{"$error":"#VALUE!"}},{"$error":"#VALUE!"},{"$error":"#VALUE!"},{"$f":"($Z177*D$177)/1000","v":{"$error":"#VALUE!"}},{"$error":"#VALUE!"},{"$error":"#VALUE!"},{"$f":"($AA177*D$177)/1000","v":{"$error":"#VALUE!"}},{"$error":"#VALUE!"},{"$error":"#VALUE!"},{"$f":"($AB177*D$177)/1000","v":{"$error":"#VALUE!"}},{"$error":"#VALUE!"},{"$error":"#VALUE!"},{"$f":"($AC177*D$177)/1000","v":{"$error":"#VALUE!"}},{"$error":"#VALUE!"},{"$error":"#VALUE!"},{"$f":"($AD177*D$177)/1000","v":{"$error":"#VALUE!"}},{"$error":"#VALUE!"},{"$error":"#VALUE!"},null,0,{"$f":"$AZ$177*$Y177","v":0},{"$f":"($AZ$177*$BN177*D$177*$Y177)/1000","v":{"$error":"#VALUE!"}},{"$error":"#VALUE!"},{"$error":"#VALUE!"},{"$f":"($AZ$177*$BO177*D$177*$Y177)/1000","v":{"$error":"#VALUE!"}},{"$error":"#VALUE!"},{"$error":"#VALUE!"},{"$f":"($AZ$177*$BP177*D$177*$Y177)/1000","v":{"$error":"#VALUE!"}},{"$error":"#VALUE!"},{"$error":"#VALUE!"},{"$f":"($AZ$177*$BQ177*D$177*$Y177)/1000","v":{"$error":"#VALUE!"}},{"$error":"#VALUE!"},{"$error":"#VALUE!"},{"$f":"($AZ$177*$BR177*D$177*$Y177)/1000","v":{"$error":"#VALUE!"}},{"$error":"#VALUE!"},{"$error":"#VALUE!"},{"$f":"($AZ$177*$BS177*D$177*$Y177)/1000","v":{"$error":"#VALUE!"}},{"$error":"#VALUE!"},{"$error":"#VALUE!"},{"$f":"($AZ$177*$BT177*D$177*$Y177)/1000","v":{"$error":"#VALUE!"}},{"$error":"#VALUE!"},{"$error":"#VALUE!"},{"$f":"($AZ$177*$BU177*D$177*$Y177)/1000","v":{"$error":"#VALUE!"}},{"$error":"#VALUE!"},{"$error":"#VALUE!"},{"$f":"($AZ$177*$BV177*D$177*$Y177)/1000","v":{"$error":"#VALUE!"}},{"$error":"#VALUE!"},{"$error":"#VALUE!"},{"$f":"($AZ$177*$BW177*D$177*$Y177)/1000","v":{"$error":"#VALUE!"}},{"$error":"#VALUE!"},{"$error":"#VALUE!"},{"$f":"($AZ$177*$BX177*D$177*$Y177)/1000","v":{"$error":"#VALUE!"}},{"$error":"#VALUE!"},{"$error":"#VALUE!"},0,{"$f":"$AZ$177*$Z177","v":0},{"$f":"($AZ$177*$BY177*D$177*$Z177)/1000","v":{"$error":"#VALUE!"}},{"$error":"#VALUE!"},{"$error":"#VALUE!"},{"$f":"($AZ$177*$BZ177*D$177*$Z177)/1000","v":{"$error":"#VALUE!"}},{"$error":"#VALUE!"},{"$error":"#VALUE!"},{"$f":"($AZ$177*$CA177*D$177*$Z177)/1000","v":{"$error":"#VALUE!"}},{"$error":"#VALUE!"},{"$error":"#VALUE!"},{"$f":"($AZ$177*$CB177*D$177*$Z177)/1000","v":{"$error":"#VALUE!"}},{"$error":"#VALUE!"},{"$error":"#VALUE!"},{"$f":"($AZ$177*$CD177*D$177*$Z177)/1000","v":{"$error":"#VALUE!"}},{"$error":"#VALUE!"},{"$error":"#VALUE!"},{"$f":"($AZ$177*$CD177*D$177*$Z177)/1000","v":{"$error":"#VALUE!"}},{"$error":"#VALUE!"},{"$error":"#VALUE!"},{"$f":"($AZ$177*$CE177*D$177*$Z177)/1000","v":{"$error":"#VALUE!"}},{"$error":"#VALUE!"},{"$error":"#VALUE!"},{"$f":"($AZ$177*$CF177*D$177*$Z177)/1000","v":{"$error":"#VALUE!"}},{"$error":"#VALUE!"},{"$error":"#VALUE!"},{"$f":"($AZ$177*$CG177*D$177*$Z177)/1000","v":{"$error":"#VALUE!"}},{"$error":"#VALUE!"},{"$error":"#VALUE!"},{"$f":"($AZ$177*$CH177*D$177*$Z177)/1000","v":{"$error":"#VALUE!"}},{"$error":"#VALUE!"},{"$error":"#VALUE!"},{"$f":"($AZ$177*$CI177*D$177*$Z177)/1000","v":{"$error":"#VALUE!"}},{"$error":"#VALUE!"},{"$error":"#VALUE!"},0,{"$f":"$AZ$177*$AA177","v":0},{"$f":"($AZ$177*$CJ177*D$177*$AA177)/1000","v":{"$error":"#VALUE!"}},{"$error":"#VALUE!"},{"$error":"#VALUE!"},{"$f":"($AZ$177*$CK177*D$177*$AA177)/1000","v":{"$error":"#VALUE!"}},{"$error":"#VALUE!"},{"$error":"#VALUE!"},{"$f":"($AZ$177*$CL177*D$177*$AA177)/1000","v":{"$error":"#VALUE!"}},{"$error":"#VALUE!"},{"$error":"#VALUE!"},{"$f":"($AZ$177*$CM177*D$177*$AA177)/1000","v":{"$error":"#VALUE!"}},{"$error":"#VALUE!"},{"$error":"#VALUE!"},{"$f":"($AZ$177*$CN177*D$177*$AA177)/1000","v":{"$error":"#VALUE!"}},{"$error":"#VALUE!"},{"$error":"#VALUE!"},{"$f":"($AZ$177*$CO177*D$177*$AA177)/1000","v":{"$error":"#VALUE!"}},{"$error":"#VALUE!"},{"$error":"#VALUE!"},{"$f":"($AZ$177*$CP177*D$177*$AA177)/1000","v":{"$error":"#VALUE!"}},{"$error":"#VALUE!"},{"$error":"#VALUE!"},{"$f":"($AZ$177*$CQ177*D$177*$AA177)/1000","v":{"$error":"#VALUE!"}},{"$error":"#VALUE!"},{"$error":"#VALUE!"},{"$f":"($AZ$177*$CR177*D$177*$AA177)/1000","v":{"$error":"#VALUE!"}},{"$error":"#VALUE!"},{"$error":"#VALUE!"},{"$f":"($AZ$177*$CS177*D$177*$AA177)/1000","v":{"$error":"#VALUE!"}},{"$error":"#VALUE!"},{"$error":"#VALUE!"},{"$f":"($AZ$177*$CT177*D$177*$AA177)/1000","v":{"$error":"#VALUE!"}},{"$error":"#VALUE!"},{"$error":"#VALUE!"},0,{"$f":"$AZ$177*$AB177","v":0},{"$f":"($AZ$177*$CU177*D$177*$AB177)/1000","v":{"$error":"#VALUE!"}},{"$error":"#VALUE!"},{"$error":"#VALUE!"},{"$f":"($AZ$177*$CV177*D$177*$AB177)/1000","v":{"$error":"#VALUE!"}},{"$error":"#VALUE!"},{"$error":"#VALUE!"},{"$f":"($AZ$177*$CW177*D$177*$AB177)/1000","v":{"$error":"#VALUE!"}},{"$error":"#VALUE!"},{"$error":"#VALUE!"},{"$f":"($AZ$177*$CX177*D$177*$AB177)/1000","v":{"$error":"#VALUE!"}},{"$error":"#VALUE!"},{"$error":"#VALUE!"},{"$f":"($AZ$177*$CY177*D$177*$AB177)/1000","v":{"$error":"#VALUE!"}},{"$error":"#VALUE!"},{"$error":"#VALUE!"},{"$f":"($AZ$177*$CZ177*D$177*$AB177)/1000","v":{"$error":"#VALUE!"}},{"$error":"#VALUE!"},{"$error":"#VALUE!"},{"$f":"($AZ$177*$DA177*D$177*$AB177)/1000","v":{"$error":"#VALUE!"}},{"$error":"#VALUE!"},{"$error":"#VALUE!"},{"$f":"($AZ$177*$DB177*D$177*$AB177)/1000","v":{"$error":"#VALUE!"}},{"$error":"#VALUE!"},{"$error":"#VALUE!"},{"$f":"($AZ$177*$DC177*D$177*$AB177)/1000","v":{"$error":"#VALUE!"}},{"$error":"#VALUE!"},{"$error":"#VALUE!"},{"$f":"($AZ$177*$DD177*D$177*$AB177)/1000","v":{"$error":"#VALUE!"}},{"$error":"#VALUE!"},{"$error":"#VALUE!"},{"$f":"($AZ$177*$DE177*D$177*$AB177)/1000","v":{"$error":"#VALUE!"}},{"$error":"#VALUE!"},{"$error":"#VALUE!"},0,{"$f":"$AZ$177*$AC177","v":0},{"$f":"($AZ$177*$DF177*D$177*$AC177)/1000","v":{"$error":"#VALUE!"}},{"$error":"#VALUE!"},{"$error":"#VALUE!"},{"$f":"($AZ$177*$DG177*D$177*$AC177)/1000","v":{"$error":"#VALUE!"}},{"$error":"#VALUE!"},{"$error":"#VALUE!"},{"$f":"($AZ$177*$DH177*D$177*$AC177)/1000","v":{"$error":"#VALUE!"}},{"$error":"#VALUE!"},{"$error":"#VALUE!"},{"$f":"($AZ$177*$DI177*D$177*$AC177)/1000","v":{"$error":"#VALUE!"}},{"$error":"#VALUE!"},{"$error":"#VALUE!"},{"$f":"($AZ$177*$DJ177*D$177*$AC177)/1000","v":{"$error":"#VALUE!"}},{"$error":"#VALUE!"},{"$error":"#VALUE!"},{"$f":"($AZ$177*$DK177*D$177*$AC177)/1000","v":{"$error":"#VALUE!"}},{"$error":"#VALUE!"},{"$error":"#VALUE!"},{"$f":"($AZ$177*$DL177*D$177*$AC177)/1000","v":{"$error":"#VALUE!"}},{"$error":"#VALUE!"},{"$error":"#VALUE!"},{"$f":"($AZ$177*$DM177*D$177*$AC177)/1000","v":{"$error":"#VALUE!"}},{"$error":"#VALUE!"},{"$error":"#VALUE!"},{"$f":"($AZ$177*$DN177*D$177*$AC177)/1000","v":{"$error":"#VALUE!"}},{"$error":"#VALUE!"},{"$error":"#VALUE!"},{"$f":"($AZ$177*$DO177*D$177*$AC177)/1000","v":{"$error":"#VALUE!"}},{"$error":"#VALUE!"},{"$error":"#VALUE!"},{"$f":"($AZ$177*$DP177*D$177*$AC177)/1000","v":{"$error":"#VALUE!"}},{"$error":"#VALUE!"},{"$error":"#VALUE!"},0,{"$f":"$AZ$177*$AD177","v":0},{"$f":"($AZ$177*$DQ177*D$177*$AD177)/1000","v":{"$error":"#VALUE!"}},{"$error":"#VALUE!"},{"$error":"#VALUE!"},{"$f":"($AZ$177*$DR177*D$177*$AD177)/1000","v":{"$error":"#VALUE!"}},{"$error":"#VALUE!"},{"$error":"#VALUE!"},{"$f":"($AZ$177*$DS177*D$177*$AD177)/1000","v":{"$error":"#VALUE!"}},{"$error":"#VALUE!"},{"$error":"#VALUE!"},{"$f":"($AZ$177*$DT177*D$177*$AD177)/1000","v":{"$error":"#VALUE!"}},{"$error":"#VALUE!"},{"$error":"#VALUE!"},{"$f":"($AZ$177*$DU177*D$177*$AD177)/1000","v":{"$error":"#VALUE!"}},{"$error":"#VALUE!"},{"$error":"#VALUE!"},{"$f":"($AZ$177*$DV177*D$177*$AD177)/1000","v":{"$error":"#VALUE!"}},{"$error":"#VALUE!"},{"$error":"#VALUE!"},{"$f":"($AZ$177*$DW177*D$177*$AD177)/1000","v":{"$error":"#VALUE!"}},{"$error":"#VALUE!"},{"$error":"#VALUE!"},{"$f":"($AZ$177*$DX177*D$177*$AD177)/1000","v":{"$error":"#VALUE!"}},{"$error":"#VALUE!"},{"$error":"#VALUE!"},{"$f":"($AZ$177*$DY177*D$177*$AD177)/1000","v":{"$error":"#VALUE!"}},{"$error":"#VALUE!"},{"$error":"#VALUE!"},{"$f":"($AZ$177*$DZ177*D$177*$AD177)/1000","v":{"$error":"#VALUE!"}},{"$error":"#VALUE!"},{"$error":"#VALUE!"},{"$f":"($AZ$177*$EA177*D$177*$AD177)/1000","v":{"$error":"#VALUE!"}},{"$error":"#VALUE!"},{"$error":"#VALUE!"}]
[null,null,null,null,null,null,null,null,null,null,null,null,null,null,null,null,null,null,null,null,null,null,null,2,null,null,null,null,null,null,null,null,null,"N/A",null,false,null,null,null,null,2,null,null,null,null,null,null,null,null,null,null,null,{"$f":"IF(AND(BB178=\"OK\",BC178=\"OK\",BD178=\"OK\"),\"OK\",\"ERR!\")","v":"OK"},"OK",{"$f":"IF(OR(SUM(BN178:BX178)<>1,SUM(BY178:CI178)<>1,SUM(CJ178:CT178)<>1,SUM(CU178:DE178)<>1,SUM(DF178:DP178)<>1,SUM(DQ178:EA178)<>1),\"ERR!\",\"OK\")","v":"OK"},{"$f":"IF(AND(OR(BE178=BK178,BE178=0),OR(BF178=BK178,BF178=0),OR(BG178=BK178,BG178=0),OR(BH178=BK178,BH178=0),OR(BI178=BK178,BI178=0),OR(BJ178=BK178,BJ178=0)),\"OK\",\"ERR!\")","v":"OK"},{"$f":"(BN178*POWER(10,0)+BO178*POWER(10,1)+BP178*POWER(10,2)+BQ178*POWER(10,3)+BR178*POWER(10,4)+BS178*POWER(10,5)+BT178*POWER(10,6)+BU178*POWER(10,7)+BV178*POWER(10,8)+BW178*POWER(10,9)+BX178*POWER(10,10))","v":10000000},{"$f":"(BY178*POWER(10,0)+BZ178*POWER(10,1)+CA178*POWER(10,2)+CB178*POWER(10,3)+CC178*POWER(10,4)+CD178*POWER(10,5)+CE178*POWER(10,6)+CF178*POWER(10,7)+CG178*POWER(10,8)+CH178*POWER(10,9)+CI178*POWER(10,10))","v":10000000},{"$f":"(CJ178*POWER(10,0)+CK178*POWER(10,1)+CL178*POWER(10,2)+CM178*POWER(10,3)+CN178*POWER(10,4)+CO178*POWER(10,5)+CP178*POWER(10,6)+CQ178*POWER(10,7)+CR178*POWER(10,8)+CS178*POWER(10,9)+CT178*POWER(10,10))","v":10000000},{"$f":"(CU178*POWER(10,0)+CV178*POWER(10,1)+CW178*POWER(10,2)+CX178*POWER(10,3)+CY178*POWER(10,4)+CZ178*POWER(10,5)+DA178*POWER(10,6)+DB178*POWER(10,7)+DC178*POWER(10,8)+DD178*POWER(10,9)+DE178*POWER(10,10))","v":10000000},{"$f":"(DF178*POWER(10,0)+DG178*POWER(10,1)+DH178*POWER(10,2)+DI178*POWER(10,3)+DJ178*POWER(10,4)+DK178*POWER(10,5)+DL178*POWER(10,6)+DM178*POWER(10,7)+DN178*POWER(10,8)+DO178*POWER(10,9)+DP178*POWER(10,10))","v":10000000},{"$f":"(DQ178*POWER(10,0)+DR178*POWER(10,1)+DS178*POWER(10,2)+DT178*POWER(10,3)+DU178*POWER(10,4)+DV178*POWER(10,5)+DW178*POWER(10,6)+DX178*POWER(10,7)+DY178*POWER(10,8)+DZ178*POWER(10,9)+EA178*POWER(10,10))","v":10000000},{"$f":"MAX(BE178:BJ178)","v":10000000},null,2,null,null,null,null,null,null,null,1,null,null,null,null,null,null,null,null,null,null,1,null,null,null,null,null,null,null,null,null,null,1,null,null,null,null,null,null,null,null,null,null,1,null,null,null,null,null,null,null,null,null,null,1,null,null,null,null,null,null,null,null,null,null,1,null,null,null,null,2,{"$error":"#VALUE!"},{"$error":"#VALUE!"},{"$error":"#VALUE!"},{"$error":"#VALUE!"},{"$error":"#VALUE!"},{"$error":"#VALUE!"},{"$error":"#VALUE!"},{"$error":"#VALUE!"},{"$error":"#VALUE!"},{"$error":"#VALUE!"},{"$error":"#VALUE!"},{"$error":"#VALUE!"},{"$error":"#VALUE!"},{"$error":"#VALUE!"},{"$error":"#VALUE!"},{"$error":"#VALUE!"},{"$error":"#VALUE!"},{"$error":"#VALUE!"},null,2,0,{"$error":"#VALUE!"},{"$error":"#VALUE!"},{"$error":"#VALUE!"},{"$error":"#VALUE!"},{"$error":"#VALUE!"},{"$error":"#VALUE!"},{"$error":"#VALUE!"},{"$error":"#VALUE!"},{"$error":"#VALUE!"},{"$error":"#VALUE!"},{"$error":"#VALUE!"},{"$error":"#VALUE!"},{"$error":"#VALUE!"},{"$error":"#VALUE!"},{"$error":"#VALUE!"},{"$error":"#VALUE!"},{"$error":"#VALUE!"},{"$error":"#VALUE!"},{"$error":"#VALUE!"},{"$error":"#VALUE!"},{"$error":"#VALUE!"},{"$error":"#VALUE!"},{"$error":"#VALUE!"},{"$error":"#VALUE!"},{"$error":"#VALUE!"},{"$error":"#VALUE!"},{"$error":"#VALUE!"},{"$error":"#VALUE!"},{"$error":"#VALUE!"},{"$error":"#VALUE!"},{"$error":"#VALUE!"},{"$error":"#VALUE!"},{"$error":"#VALUE!"},2,0,{"$error":"#VALUE!"},{"$error":"#VALUE!"},{"$error":"#VALUE!"},{"$error":"#VALUE!"},{"$error":"#VALUE!"},{"$error":"#VALUE!"},{"$error":"#VALUE!"},{"$error":"#VALUE!"},{"$error":"#VALUE!"},{"$error":"#VALUE!"},{"$error":"#VALUE!"},{"$error":"#VALUE!"},{"$error":"#VALUE!"},{"$error":"#VALUE!"},{"$error":"#VALUE!"},{"$error":"#VALUE!"},{"$error":"#VALUE!"},{"$error":"#VALUE!"},{"$error":"#VALUE!"},{"$error":"#VALUE!"},{"$error":"#VALUE!"},{"$error":"#VALUE!"},{"$error":"#VALUE!"},{"$error":"#VALUE!"},{"$error":"#VALUE!"},{"$error":"#VALUE!"},{"$error":"#VALUE!"},{"$error":"#VALUE!"},{"$error":"#VALUE!"},{"$error":"#VALUE!"},{"$error":"#VALUE!"},{"$error":"#VALUE!"},{"$error":"#VALUE!"},2,0,{"$error":"#VALUE!"},{"$error":"#VALUE!"},{"$error":"#VALUE!"},{"$error":"#VALUE!"},{"$error":"#VALUE!"},{"$error":"#VALUE!"},{"$error":"#VALUE!"},{"$error":"#VALUE!"},{"$error":"#VALUE!"},{"$error":"#VALUE!"},{"$error":"#VALUE!"},{"$error":"#VALUE!"},{"$error":"#VALUE!"},{"$error":"#VALUE!"},{"$error":"#VALUE!"},{"$error":"#VALUE!"},{"$error":"#VALUE!"},{"$error":"#VALUE!"},{"$error":"#VALUE!"},{"$error":"#VALUE!"},{"$error":"#VALUE!"},{"$error":"#VALUE!"},{"$error":"#VALUE!"},{"$error":"#VALUE!"},{"$error":"#VALUE!"},{"$error":"#VALUE!"},{"$error":"#VALUE!"},{"$error":"#VALUE!"},{"$error":"#VALUE!"},{"$error":"#VALUE!"},{"$error":"#VALUE!"},{"$error":"#VALUE!"},{"$error":"#VALUE!"},2,0,{"$error":"#VALUE!"},{"$error":"#VALUE!"},{"$error":"#VALUE!"},{"$error":"#VALUE!"},{"$error":"#VALUE!"},{"$error":"#VALUE!"},{"$error":"#VALUE!"},{"$error":"#VALUE!"},{"$error":"#VALUE!"},{"$error":"#VALUE!"},{"$error":"#VALUE!"},{"$error":"#VALUE!"},{"$error":"#VALUE!"},{"$error":"#VALUE!"},{"$error":"#VALUE!"},{"$error":"#VALUE!"},{"$error":"#VALUE!"},{"$error":"#VALUE!"},{"$error":"#VALUE!"},{"$error":"#VALUE!"},{"$error":"#VALUE!"},{"$error":"#VALUE!"},{"$error":"#VALUE!"},{"$error":"#VALUE!"},{"$error":"#VALUE!"},{"$error":"#VALUE!"},{"$error":"#VALUE!"},{"$error":"#VALUE!"},{"$error":"#VALUE!"},{"$error":"#VALUE!"},{"$error":"#VALUE!"},{"$error":"#VALUE!"},{"$error":"#VALUE!"},2,0,{"$error":"#VALUE!"},{"$error":"#VALUE!"},{"$error":"#VALUE!"},{"$error":"#VALUE!"},{"$error":"#VALUE!"},{"$error":"#VALUE!"},{"$error":"#VALUE!"},{"$error":"#VALUE!"},{"$error":"#VALUE!"},{"$error":"#VALUE!"},{"$error":"#VALUE!"},{"$error":"#VALUE!"},{"$error":"#VALUE!"},{"$error":"#VALUE!"},{"$error":"#VALUE!"},{"$error":"#VALUE!"},{"$error":"#VALUE!"},{"$error":"#VALUE!"},{"$error":"#VALUE!"},{"$error":"#VALUE!"},{"$error":"#VALUE!"},{"$error":"#VALUE!"},{"$error":"#VALUE!"},{"$error":"#VALUE!"},{"$error":"#VALUE!"},{"$error":"#VALUE!"},{"$error":"#VALUE!"},{"$error":"#VALUE!"},{"$error":"#VALUE!"},{"$error":"#VALUE!"},{"$error":"#VALUE!"},{"$error":"#VALUE!"},{"$error":"#VALUE!"},2,0,{"$error":"#VALUE!"},{"$error":"#VALUE!"},{"$error":"#VALUE!"},{"$error":"#VALUE!"},{"$error":"#VALUE!"},{"$error":"#VALUE!"},{"$error":"#VALUE!"},{"$error":"#VALUE!"},{"$error":"#VALUE!"},{"$error":"#VALUE!"},{"$error":"#VALUE!"},{"$error":"#VALUE!"},{"$error":"#VALUE!"},{"$error":"#VALUE!"},{"$error":"#VALUE!"},{"$error":"#VALUE!"},{"$error":"#VALUE!"},{"$error":"#VALUE!"},{"$error":"#VALUE!"},{"$error":"#VALUE!"},{"$error":"#VALUE!"},{"$error":"#VALUE!"},{"$error":"#VALUE!"},{"$error":"#VALUE!"},{"$error":"#VALUE!"},{"$error":"#VALUE!"},{"$error":"#VALUE!"},{"$error":"#VALUE!"},{"$error":"#VALUE!"},{"$error":"#VALUE!"},{"$error":"#VALUE!"},{"$error":"#VALUE!"},{"$error":"#VALUE!"}]
[null,null,null,null,null,null,null,null,null,null,null,null,null,null,null,null,null,null,null,null,null,null,null,3,null,null,null,null,null,null,null,null,null,"N/A",null,false,null,null,null,null,3,null,null,null,null,null,null,null,null,null,null,null,{"$f":"IF(AND(BB179=\"OK\",BC179=\"OK\",BD179=\"OK\"),\"OK\",\"ERR!\")","v":"OK"},"OK",{"$f":"IF(OR(SUM(BN179:BX179)<>1,SUM(BY179:CI179)<>1,SUM(CJ179:CT179)<>1,SUM(CU179:DE179)<>1,SUM(DF179:DP179)<>1,SUM(DQ179:EA179)<>1),\"ERR!\",\"OK\")","v":"OK"},{"$f":"IF(AND(OR(BE179=BK179,BE179=0),OR(BF179=BK179,BF179=0),OR(BG179=BK179,BG179=0),OR(BH179=BK179,BH179=0),OR(BI179=BK179,BI179=0),OR(BJ179=BK179,BJ179=0)),\"OK\",\"ERR!\")","v":"OK"},10000000,10000000,10000000,10000000,10000000,10000000,{"$f":"MAX(BE179:BJ179)","v":10000000},null,3,null,null,null,null,null,null,null,1,null,null,null,null,null,null,null,null,null,null,1,null,null,null,null,null,null,null,null,null,null,1,null,null,null,null,null,null,null,null,null,null,1,null,null,null,null,null,null,null,null,null,null,1,null,null,null,null,null,null,null,null,null,null,1,null,null,null,null,3,{"$error":"#VALUE!"},{"$error":"#VALUE!"},{"$error":"#VALUE!"},{"$error":"#VALUE!"},{"$error":"#VALUE!"},{"$error":"#VALUE!"},{"$error":"#VALUE!"},{"$error":"#VALUE!"},{"$error":"#VALUE!"},{"$error":"#VALUE!"},{"$error":"#VALUE!"},{"$error":"#VALUE!"},{"$error":"#VALUE!"},{"$error":"#VALUE!"},{"$error":"#VALUE!"},{"$error":"#VALUE!"},{"$error":"#VALUE!"},{"$error":"#VALUE!"},null,3,0,{"$error":"#VALUE!"},{"$error":"#VALUE!"},{"$error":"#VALUE!"},{"$error":"#VALUE!"},{"$error":"#VALUE!"},{"$error":"#VALUE!"},{"$error":"#VALUE!"},{"$error":"#VALUE!"},{"$error":"#VALUE!"},{"$error":"#VALUE!"},{"$error":"#VALUE!"},{"$error":"#VALUE!"},{"$error":"#VALUE!"},{"$error":"#VALUE!"},{"$error":"#VALUE!"},{"$error":"#VALUE!"},{"$error":"#VALUE!"},{"$error":"#VALUE!"},{"$error":"#VALUE!"},{"$error":"#VALUE!"},{"$error":"#VALUE!"},{"$error":"#VALUE!"},{"$error":"#VALUE!"},{"$error":"#VALUE!"},{"$error":"#VALUE!"},{"$error":"#VALUE!"},{"$error":"#VALUE!"},{"$error":"#VALUE!"},{"$error":"#VALUE!"},{"$error":"#VALUE!"},{"$error":"#VALUE!"},{"$error":"#VALUE!"},{"$error":"#VALUE!"},3,0,{"$error":"#VALUE!"},{"$error":"#VALUE!"},{"$error":"#VALUE!"},{"$error":"#VALUE!"},{"$error":"#VALUE!"},{"$error":"#VALUE!"},{"$error":"#VALUE!"},{"$error":"#VALUE!"},{"$error":"#VALUE!"},{"$error":"#VALUE!"},{"$error":"#VALUE!"},{"$error":"#VALUE!"},{"$error":"#VALUE!"},{"$error":"#VALUE!"},{"$error":"#VALUE!"},{"$error":"#VALUE!"},{"$error":"#VALUE!"},{"$error":"#VALUE!"},{"$error":"#VALUE!"},{"$error":"#VALUE!"},{"$error":"#VALUE!"},{"$error":"#VALUE!"},{"$error":"#VALUE!"},{"$error":"#VALUE!"},{"$error":"#VALUE!"},{"$error":"#VALUE!"},{"$error":"#VALUE!"},{"$error":"#VALUE!"},{"$error":"#VALUE!"},{"$error":"#VALUE!"},{"$error":"#VALUE!"},{"$error":"#VALUE!"},{"$error":"#VALUE!"},3,0,{"$error":"#VALUE!"},{"$error":"#VALUE!"},{"$error":"#VALUE!"},{"$error":"#VALUE!"},{"$error":"#VALUE!"},{"$error":"#VALUE!"},{"$error":"#VALUE!"},{"$error":"#VALUE!"},{"$error":"#VALUE!"},{"$error":"#VALUE!"},{"$error":"#VALUE!"},{"$error":"#VALUE!"},{"$error":"#VALUE!"},{"$error":"#VALUE!"},{"$error":"#VALUE!"},{"$error":"#VALUE!"},{"$error":"#VALUE!"},{"$error":"#VALUE!"},{"$error":"#VALUE!"},{"$error":"#VALUE!"},{"$error":"#VALUE!"},{"$error":"#VALUE!"},{"$error":"#VALUE!"},{"$error":"#VALUE!"},{"$error":"#VALUE!"},{"$error":"#VALUE!"},{"$error":"#VALUE!"},{"$error":"#VALUE!"},{"$error":"#VALUE!"},{"$error":"#VALUE!"},{"$error":"#VALUE!"},{"$error":"#VALUE!"},{"$error":"#VALUE!"},3,0,{"$error":"#VALUE!"},{"$error":"#VALUE!"},{"$error":"#VALUE!"},{"$error":"#VALUE!"},{"$error":"#VALUE!"},{"$error":"#VALUE!"},{"$error":"#VALUE!"},{"$error":"#VALUE!"},{"$error":"#VALUE!"},{"$error":"#VALUE!"},{"$error":"#VALUE!"},{"$error":"#VALUE!"},{"$error":"#VALUE!"},{"$error":"#VALUE!"},{"$error":"#VALUE!"},{"$error":"#VALUE!"},{"$error":"#VALUE!"},{"$error":"#VALUE!"},{"$error":"#VALUE!"},{"$error":"#VALUE!"},{"$error":"#VALUE!"},{"$error":"#VALUE!"},{"$error":"#VALUE!"},{"$error":"#VALUE!"},{"$error":"#VALUE!"},{"$error":"#VALUE!"},{"$error":"#VALUE!"},{"$error":"#VALUE!"},{"$error":"#VALUE!"},{"$error":"#VALUE!"},{"$error":"#VALUE!"},{"$error":"#VALUE!"},{"$error":"#VALUE!"},3,0,{"$error":"#VALUE!"},{"$error":"#VALUE!"},{"$error":"#VALUE!"},{"$error":"#VALUE!"},{"$error":"#VALUE!"},{"$error":"#VALUE!"},{"$error":"#VALUE!"},{"$error":"#VALUE!"},{"$error":"#VALUE!"},{"$error":"#VALUE!"},{"$error":"#VALUE!"},{"$error":"#VALUE!"},{"$error":"#VALUE!"},{"$error":"#VALUE!"},{"$error":"#VALUE!"},{"$error":"#VALUE!"},{"$error":"#VALUE!"},{"$error":"#VALUE!"},{"$error":"#VALUE!"},{"$error":"#VALUE!"},{"$error":"#VALUE!"},{"$error":"#VALUE!"},{"$error":"#VALUE!"},{"$error":"#VALUE!"},{"$error":"#VALUE!"},{"$error":"#VALUE!"},{"$error":"#VALUE!"},{"$error":"#VALUE!"},{"$error":"#VALUE!"},{"$error":"#VALUE!"},{"$error":"#VALUE!"},{"$error":"#VALUE!"},{"$error":"#VALUE!"},3,0,{"$error":"#VALUE!"},{"$error":"#VALUE!"},{"$error":"#VALUE!"},{"$error":"#VALUE!"},{"$error":"#VALUE!"},{"$error":"#VALUE!"},{"$error":"#VALUE!"},{"$error":"#VALUE!"},{"$error":"#VALUE!"},{"$error":"#VALUE!"},{"$error":"#VALUE!"},{"$error":"#VALUE!"},{"$error":"#VALUE!"},{"$error":"#VALUE!"},{"$error":"#VALUE!"},{"$error":"#VALUE!"},{"$error":"#VALUE!"},{"$error":"#VALUE!"},{"$error":"#VALUE!"},{"$error":"#VALUE!"},{"$error":"#VALUE!"},{"$error":"#VALUE!"},{"$error":"#VALUE!"},{"$error":"#VALUE!"},{"$error":"#VALUE!"},{"$error":"#VALUE!"},{"$error":"#VALUE!"},{"$error":"#VALUE!"},{"$error":"#VALUE!"},{"$error":"#VALUE!"},{"$error":"#VALUE!"},{"$error":"#VALUE!"},{"$error":"#VALUE!"}]
[null,null,null,null,null,null,null,null,null,null,null,null,null,null,null,null,null,null,null,null,null,null,null,4,null,null,null,null,null,null,null,null,null,"N/A",null,false,null,null,null,null,4,null,null,null,null,null,null,null,null,null,null,null,{"$f":"IF(AND(BB180=\"OK\",BC180=\"OK\",BD180=\"OK\"),\"OK\",\"ERR!\")","v":"OK"},"OK","OK",{"$f":"IF(AND(OR(BE180=BK180,BE180=0),OR(BF180=BK180,BF180=0),OR(BG180=BK180,BG180=0),OR(BH180=BK180,BH180=0),OR(BI180=BK180,BI180=0),OR(BJ180=BK180,BJ180=0)),\"OK\",\"ERR!\")","v":"OK"},10000000,10000000,10000000,10000000,10000000,10000000,10000000,null,4,null,null,null,null,null,null,null,1,null,null,null,null,null,null,null,null,null,null,1,null,null,null,null,null,null,null,null,null,null,1,null,null,null,null,null,null,null,null,null,null,1,null,null,null,null,null,null,null,null,null,null,1,null,null,null,null,null,null,null,null,null,null,1,null,null,null,null,4,{"$error":"#VALUE!"},{"$error":"#VALUE!"},{"$error":"#VALUE!"},{"$error":"#VALUE!"},{"$error":"#VALUE!"},{"$error":"#VALUE!"},{"$error":"#VALUE!"},{"$error":"#VALUE!"},{"$error":"#VALUE!"},{"$error":"#VALUE!"},{"$error":"#VALUE!"},{"$error":"#VALUE!"},{"$error":"#VALUE!"},{"$error":"#VALUE!"},{"$error":"#VALUE!"},{"$error":"#VALUE!"},{"$error":"#VALUE!"},{"$error":"#VALUE!"},null,4,0,{"$error":"#VALUE!"},{"$error":"#VALUE!"},{"$error":"#VALUE!"},{"$error":"#VALUE!"},{"$error":"#VALUE!"},{"$error":"#VALUE!"},{"$error":"#VALUE!"},{"$error":"#VALUE!"},{"$error":"#VALUE!"},{"$error":"#VALUE!"},{"$error":"#VALUE!"},{"$error":"#VALUE!"},{"$error":"#VALUE!"},{"$error":"#VALUE!"},{"$error":"#VALUE!"},{"$error":"#VALUE!"},{"$error":"#VALUE!"},{"$error":"#VALUE!"},{"$error":"#VALUE!"},{"$error":"#VALUE!"},{"$error":"#VALUE!"},{"$error":"#VALUE!"},{"$error":"#VALUE!"},{"$error":"#VALUE!"},{"$error":"#VALUE!"},{"$error":"#VALUE!"},{"$error":"#VALUE!"},{"$error":"#VALUE!"},{"$error":"#VALUE!"},{"$error":"#VALUE!"},{"$error":"#VALUE!"},{"$error":"#VALUE!"},{"$error":"#VALUE!"},4,0,{"$error":"#VALUE!"},{"$error":"#VALUE!"},{"$error":"#VALUE!"},{"$error":"#VALUE!"},{"$error":"#VALUE!"},{"$error":"#VALUE!"},{"$error":"#VALUE!"},{"$error":"#VALUE!"},{"$error":"#VALUE!"},{"$error":"#VALUE!"},{"$error":"#VALUE!"},{"$error":"#VALUE!"},{"$error":"#VALUE!"},{"$error":"#VALUE!"},{"$error":"#VALUE!"},{"$error":"#VALUE!"},{"$error":"#VALUE!"},{"$error":"#VALUE!"},{"$error":"#VALUE!"},{"$error":"#VALUE!"},{"$error":"#VALUE!"},{"$error":"#VALUE!"},{"$error":"#VALUE!"},{"$error":"#VALUE!"},{"$error":"#VALUE!"},{"$error":"#VALUE!"},{"$error":"#VALUE!"},{"$error":"#VALUE!"},{"$error":"#VALUE!"},{"$error":"#VALUE!"},{"$error":"#VALUE!"},{"$error":"#VALUE!"},{"$error":"#VALUE!"},4,0,{"$error":"#VALUE!"},{"$error":"#VALUE!"},{"$error":"#VALUE!"},{"$error":"#VALUE!"},{"$error":"#VALUE!"},{"$error":"#VALUE!"},{"$error":"#VALUE!"},{"$error":"#VALUE!"},{"$error":"#VALUE!"},{"$error":"#VALUE!"},{"$error":"#VALUE!"},{"$error":"#VALUE!"},{"$error":"#VALUE!"},{"$error":"#VALUE!"},{"$error":"#VALUE!"},{"$error":"#VALUE!"},{"$error":"#VALUE!"},{"$error":"#VALUE!"},{"$error":"#VALUE!"},{"$error":"#VALUE!"},{"$error":"#VALUE!"},{"$error":"#VALUE!"},{"$error":"#VALUE!"},{"$error":"#VALUE!"},{"$error":"#VALUE!"},{"$error":"#VALUE!"},{"$error":"#VALUE!"},{"$error":"#VALUE!"},{"$error":"#VALUE!"},{"$error":"#VALUE!"},{"$error":"#VALUE!"},{"$error":"#VALUE!"},{"$error":"#VALUE!"},4,0,{"$error":"#VALUE!"},{"$error":"#VALUE!"},{"$error":"#VALUE!"},{"$error":"#VALUE!"},{"$error":"#VALUE!"},{"$error":"#VALUE!"},{"$error":"#VALUE!"},{"$error":"#VALUE!"},{"$error":"#VALUE!"},{"$error":"#VALUE!"},{"$error":"#VALUE!"},{"$error":"#VALUE!"},{"$error":"#VALUE!"},{"$error":"#VALUE!"},{"$error":"#VALUE!"},{"$error":"#VALUE!"},{"$error":"#VALUE!"},{"$error":"#VALUE!"},{"$error":"#VALUE!"},{"$error":"#VALUE!"},{"$error":"#VALUE!"},{"$error":"#VALUE!"},{"$error":"#VALUE!"},{"$error":"#VALUE!"},{"$error":"#VALUE!"},{"$error":"#VALUE!"},{"$error":"#VALUE!"},{"$error":"#VALUE!"},{"$error":"#VALUE!"},{"$error":"#VALUE!"},{"$error":"#VALUE!"},{"$error":"#VALUE!"},{"$error":"#VALUE!"},4,0,{"$error":"#VALUE!"},{"$error":"#VALUE!"},{"$error":"#VALUE!"},{"$error":"#VALUE!"},{"$error":"#VALUE!"},{"$error":"#VALUE!"},{"$error":"#VALUE!"},{"$error":"#VALUE!"},{"$error":"#VALUE!"},{"$error":"#VALUE!"},{"$error":"#VALUE!"},{"$error":"#VALUE!"},{"$error":"#VALUE!"},{"$error":"#VALUE!"},{"$error":"#VALUE!"},{"$error":"#VALUE!"},{"$error":"#VALUE!"},{"$error":"#VALUE!"},{"$error":"#VALUE!"},{"$error":"#VALUE!"},{"$error":"#VALUE!"},{"$error":"#VALUE!"},{"$error":"#VALUE!"},{"$error":"#VALUE!"},{"$error":"#VALUE!"},{"$error":"#VALUE!"},{"$error":"#VALUE!"},{"$error":"#VALUE!"},{"$error":"#VALUE!"},{"$error":"#VALUE!"},{"$error":"#VALUE!"},{"$error":"#VALUE!"},{"$error":"#VALUE!"},4,0,{"$error":"#VALUE!"},{"$error":"#VALUE!"},{"$error":"#VALUE!"},{"$error":"#VALUE!"},{"$error":"#VALUE!"},{"$error":"#VALUE!"},{"$error":"#VALUE!"},{"$error":"#VALUE!"},{"$error":"#VALUE!"},{"$error":"#VALUE!"},{"$error":"#VALUE!"},{"$error":"#VALUE!"},{"$error":"#VALUE!"},{"$error":"#VALUE!"},{"$error":"#VALUE!"},{"$error":"#VALUE!"},{"$error":"#VALUE!"},{"$error":"#VALUE!"},{"$error":"#VALUE!"},{"$error":"#VALUE!"},{"$error":"#VALUE!"},{"$error":"#VALUE!"},{"$error":"#VALUE!"},{"$error":"#VALUE!"},{"$error":"#VALUE!"},{"$error":"#VALUE!"},{"$error":"#VALUE!"},{"$error":"#VALUE!"},{"$error":"#VALUE!"},{"$error":"#VALUE!"},{"$error":"#VALUE!"},{"$error":"#VALUE!"},{"$error":"#VALUE!"}]
[null,null,null,null,null,null,null,null,null,null,null,null,null,null,null,null,null,null,null,null,null,null,null,7,null,null,null,null,null,null,null,null,null,"N/A",null,false,null,null,null,null,7,null,null,null,null,null,null,null,null,null,null,null,{"$f":"IF(AND(BB181=\"OK\",BC181=\"OK\",BD181=\"OK\"),\"OK\",\"ERR!\")","v":"OK"},"OK","OK","OK",10000000,10000000,10000000,10000000,10000000,10000000,10000000,null,7,null,null,null,null,null,null,null,1,null,null,null,null,null,null,null,null,null,null,1,null,null,null,null,null,null,null,null,null,null,1,null,null,null,null,null,null,null,null,null,null,1,null,null,null,null,null,null,null,null,null,null,1,null,null,null,null,null,null,null,null,null,null,1,null,null,null,null,7,{"$error":"#VALUE!"},{"$error":"#VALUE!"},{"$error":"#VALUE!"},{"$error":"#VALUE!"},{"$error":"#VALUE!"},{"$error":"#VALUE!"},{"$error":"#VALUE!"},{"$error":"#VALUE!"},{"$error":"#VALUE!"},{"$error":"#VALUE!"},{"$error":"#VALUE!"},{"$error":"#VALUE!"},{"$error":"#VALUE!"},{"$error":"#VALUE!"},{"$error":"#VALUE!"},{"$error":"#VALUE!"},{"$error":"#VALUE!"},{"$error":"#VALUE!"},null,7,0,{"$error":"#VALUE!"},{"$error":"#VALUE!"},{"$error":"#VALUE!"},{"$error":"#VALUE!"},{"$error":"#VALUE!"},{"$error":"#VALUE!"},{"$error":"#VALUE!"},{"$error":"#VALUE!"},{"$error":"#VALUE!"},{"$error":"#VALUE!"},{"$error":"#VALUE!"},{"$error":"#VALUE!"},{"$error":"#VALUE!"},{"$error":"#VALUE!"},{"$error":"#VALUE!"},{"$error":"#VALUE!"},{"$error":"#VALUE!"},{"$error":"#VALUE!"},{"$error":"#VALUE!"},{"$error":"#VALUE!"},{"$error":"#VALUE!"},{"$error":"#VALUE!"},{"$error":"#VALUE!"},{"$error":"#VALUE!"},{"$error":"#VALUE!"},{"$error":"#VALUE!"},{"$error":"#VALUE!"},{"$error":"#VALUE!"},{"$error":"#VALUE!"},{"$error":"#VALUE!"},{"$error":"#VALUE!"},{"$error":"#VALUE!"},{"$error":"#VALUE!"},7,0,{"$error":"#VALUE!"},{"$error":"#VALUE!"},{"$error":"#VALUE!"},{"$error":"#VALUE!"},{"$error":"#VALUE!"},{"$error":"#VALUE!"},{"$error":"#VALUE!"},{"$error":"#VALUE!"},{"$error":"#VALUE!"},{"$error":"#VALUE!"},{"$error":"#VALUE!"},{"$error":"#VALUE!"},{"$error":"#VALUE!"},{"$error":"#VALUE!"},{"$error":"#VALUE!"},{"$error":"#VALUE!"},{"$error":"#VALUE!"},{"$error":"#VALUE!"},{"$error":"#VALUE!"},{"$error":"#VALUE!"},{"$error":"#VALUE!"},{"$error":"#VALUE!"},{"$error":"#VALUE!"},{"$error":"#VALUE!"},{"$error":"#VALUE!"},{"$error":"#VALUE!"},{"$error":"#VALUE!"},{"$error":"#VALUE!"},{"$error":"#VALUE!"},{"$error":"#VALUE!"},{"$error":"#VALUE!"},{"$error":"#VALUE!"},{"$error":"#VALUE!"},7,0,{"$error":"#VALUE!"},{"$error":"#VALUE!"},{"$error":"#VALUE!"},{"$error":"#VALUE!"},{"$error":"#VALUE!"},{"$error":"#VALUE!"},{"$error":"#VALUE!"},{"$error":"#VALUE!"},{"$error":"#VALUE!"},{"$error":"#VALUE!"},{"$error":"#VALUE!"},{"$error":"#VALUE!"},{"$error":"#VALUE!"},{"$error":"#VALUE!"},{"$error":"#VALUE!"},{"$error":"#VALUE!"},{"$error":"#VALUE!"},{"$error":"#VALUE!"},{"$error":"#VALUE!"},{"$error":"#VALUE!"},{"$error":"#VALUE!"},{"$error":"#VALUE!"},{"$error":"#VALUE!"},{"$error":"#VALUE!"},{"$error":"#VALUE!"},{"$error":"#VALUE!"},{"$error":"#VALUE!"},{"$error":"#VALUE!"},{"$error":"#VALUE!"},{"$error":"#VALUE!"},{"$error":"#VALUE!"},{"$error":"#VALUE!"},{"$error":"#VALUE!"},7,0,{"$error":"#VALUE!"},{"$error":"#VALUE!"},{"$error":"#VALUE!"},{"$error":"#VALUE!"},{"$error":"#VALUE!"},{"$error":"#VALUE!"},{"$error":"#VALUE!"},{"$error":"#VALUE!"},{"$error":"#VALUE!"},{"$error":"#VALUE!"},{"$error":"#VALUE!"},{"$error":"#VALUE!"},{"$error":"#VALUE!"},{"$error":"#VALUE!"},{"$error":"#VALUE!"},{"$error":"#VALUE!"},{"$error":"#VALUE!"},{"$error":"#VALUE!"},{"$error":"#VALUE!"},{"$error":"#VALUE!"},{"$error":"#VALUE!"},{"$error":"#VALUE!"},{"$error":"#VALUE!"},{"$error":"#VALUE!"},{"$error":"#VALUE!"},{"$error":"#VALUE!"},{"$error":"#VALUE!"},{"$error":"#VALUE!"},{"$error":"#VALUE!"},{"$error":"#VALUE!"},{"$error":"#VALUE!"},{"$error":"#VALUE!"},{"$error":"#VALUE!"},7,0,{"$error":"#VALUE!"},{"$error":"#VALUE!"},{"$error":"#VALUE!"},{"$error":"#VALUE!"},{"$error":"#VALUE!"},{"$error":"#VALUE!"},{"$error":"#VALUE!"},{"$error":"#VALUE!"},{"$error":"#VALUE!"},{"$error":"#VALUE!"},{"$error":"#VALUE!"},{"$error":"#VALUE!"},{"$error":"#VALUE!"},{"$error":"#VALUE!"},{"$error":"#VALUE!"},{"$error":"#VALUE!"},{"$error":"#VALUE!"},{"$error":"#VALUE!"},{"$error":"#VALUE!"},{"$error":"#VALUE!"},{"$error":"#VALUE!"},{"$error":"#VALUE!"},{"$error":"#VALUE!"},{"$error":"#VALUE!"},{"$error":"#VALUE!"},{"$error":"#VALUE!"},{"$error":"#VALUE!"},{"$error":"#VALUE!"},{"$error":"#VALUE!"},{"$error":"#VALUE!"},{"$error":"#VALUE!"},{"$error":"#VALUE!"},{"$error":"#VALUE!"},7,0,{"$error":"#VALUE!"},{"$error":"#VALUE!"},{"$error":"#VALUE!"},{"$error":"#VALUE!"},{"$error":"#VALUE!"},{"$error":"#VALUE!"},{"$error":"#VALUE!"},{"$error":"#VALUE!"},{"$error":"#VALUE!"},{"$error":"#VALUE!"},{"$error":"#VALUE!"},{"$error":"#VALUE!"},{"$error":"#VALUE!"},{"$error":"#VALUE!"},{"$error":"#VALUE!"},{"$error":"#VALUE!"},{"$error":"#VALUE!"},{"$error":"#VALUE!"},{"$error":"#VALUE!"},{"$error":"#VALUE!"},{"$error":"#VALUE!"},{"$error":"#VALUE!"},{"$error":"#VALUE!"},{"$error":"#VALUE!"},{"$error":"#VALUE!"},{"$error":"#VALUE!"},{"$error":"#VALUE!"},{"$error":"#VALUE!"},{"$error":"#VALUE!"},{"$error":"#VALUE!"},{"$error":"#VALUE!"},{"$error":"#VALUE!"},{"$error":"#VALUE!"}]
[null,null,null,null,null,null,null,null,null,null,null,null,null,null,null,null,null,null,null,null,null,null,null,8,null,null,null,null,null,null,null,null,null,"N/A",null,false,null,null,null,null,8,null,null,null,null,null,null,null,null,null,null,null,"OK","OK","OK","OK",10000000,10000000,10000000,10000000,10000000,10000000,10000000,null,8,null,null,null,null,null,null,null,1,null,null,null,null,null,null,null,null,null,null,1,null,null,null,null,null,null,null,null,null,null,1,null,null,null,null,null,null,null,null,null,null,1,null,null,null,null,null,null,null,null,null,null,1,null,null,null,null,null,null,null,null,null,null,1,null,null,null,null,8,{"$error":"#VALUE!"},{"$error":"#VALUE!"},{"$error":"#VALUE!"},{"$error":"#VALUE!"},{"$error":"#VALUE!"},{"$error":"#VALUE!"},{"$error":"#VALUE!"},{"$error":"#VALUE!"},{"$error":"#VALUE!"},{"$error":"#VALUE!"},{"$error":"#VALUE!"},{"$error":"#VALUE!"},{"$error":"#VALUE!"},{"$error":"#VALUE!"},{"$error":"#VALUE!"},{"$error":"#VALUE!"},{"$error":"#VALUE!"},{"$error":"#VALUE!"},null,8,0,{"$error":"#VALUE!"},{"$error":"#VALUE!"},{"$error":"#VALUE!"},{"$error":"#VALUE!"},{"$error":"#VALUE!"},{"$error":"#VALUE!"},{"$error":"#VALUE!"},{"$error":"#VALUE!"},{"$error":"#VALUE!"},{"$error":"#VALUE!"},{"$error":"#VALUE!"},{"$error":"#VALUE!"},{"$error":"#VALUE!"},{"$error":"#VALUE!"},{"$error":"#VALUE!"},{"$error":"#VALUE!"},{"$error":"#VALUE!"},{"$error":"#VALUE!"},{"$error":"#VALUE!"},{"$error":"#VALUE!"},{"$error":"#VALUE!"},{"$error":"#VALUE!"},{"$error":"#VALUE!"},{"$error":"#VALUE!"},{"$error":"#VALUE!"},{"$error":"#VALUE!"},{"$error":"#VALUE!"},{"$error":"#VALUE!"},{"$error":"#VALUE!"},{"$error":"#VALUE!"},{"$error":"#VALUE!"},{"$error":"#VALUE!"},{"$error":"#VALUE!"},8,0,{"$error":"#VALUE!"},{"$error":"#VALUE!"},{"$error":"#VALUE!"},{"$error":"#VALUE!"},{"$error":"#VALUE!"},{"$error":"#VALUE!"},{"$error":"#VALUE!"},{"$error":"#VALUE!"},{"$error":"#VALUE!"},{"$error":"#VALUE!"},{"$error":"#VALUE!"},{"$error":"#VALUE!"},{"$error":"#VALUE!"},{"$error":"#VALUE!"},{"$error":"#VALUE!"},{"$error":"#VALUE!"},{"$error":"#VALUE!"},{"$error":"#VALUE!"},{"$error":"#VALUE!"},{"$error":"#VALUE!"},{"$error":"#VALUE!"},{"$error":"#VALUE!"},{"$error":"#VALUE!"},{"$error":"#VALUE!"},{"$error":"#VALUE!"},{"$error":"#VALUE!"},{"$error":"#VALUE!"},{"$error":"#VALUE!"},{"$error":"#VALUE!"},{"$error":"#VALUE!"},{"$error":"#VALUE!"},{"$error":"#VALUE!"},{"$error":"#VALUE!"},8,0,{"$error":"#VALUE!"},{"$error":"#VALUE!"},{"$error":"#VALUE!"},{"$error":"#VALUE!"},{"$error":"#VALUE!"},{"$error":"#VALUE!"},{"$error":"#VALUE!"},{"$error":"#VALUE!"},{"$error":"#VALUE!"},{"$error":"#VALUE!"},{"$error":"#VALUE!"},{"$error":"#VALUE!"},{"$error":"#VALUE!"},{"$error":"#VALUE!"},{"$error":"#VALUE!"},{"$error":"#VALUE!"},{"$error":"#VALUE!"},{"$error":"#VALUE!"},{"$error":"#VALUE!"},{"$error":"#VALUE!"},{"$error":"#VALUE!"},{"$error":"#VALUE!"},{"$error":"#VALUE!"},{"$error":"#VALUE!"},{"$error":"#VALUE!"},{"$error":"#VALUE!"},{"$error":"#VALUE!"},{"$error":"#VALUE!"},{"$error":"#VALUE!"},{"$error":"#VALUE!"},{"$error":"#VALUE!"},{"$error":"#VALUE!"},{"$error":"#VALUE!"},8,0,{"$error":"#VALUE!"},{"$error":"#VALUE!"},{"$error":"#VALUE!"},{"$error":"#VALUE!"},{"$error":"#VALUE!"},{"$error":"#VALUE!"},{"$error":"#VALUE!"},{"$error":"#VALUE!"},{"$error":"#VALUE!"},{"$error":"#VALUE!"},{"$error":"#VALUE!"},{"$error":"#VALUE!"},{"$error":"#VALUE!"},{"$error":"#VALUE!"},{"$error":"#VALUE!"},{"$error":"#VALUE!"},{"$error":"#VALUE!"},{"$error":"#VALUE!"},{"$error":"#VALUE!"},{"$error":"#VALUE!"},{"$error":"#VALUE!"},{"$error":"#VALUE!"},{"$error":"#VALUE!"},{"$error":"#VALUE!"},{"$error":"#VALUE!"},{"$error":"#VALUE!"},{"$error":"#VALUE!"},{"$error":"#VALUE!"},{"$error":"#VALUE!"},{"$error":"#VALUE!"},{"$error":"#VALUE!"},{"$error":"#VALUE!"},{"$error":"#VALUE!"},8,0,{"$error":"#VALUE!"},{"$error":"#VALUE!"},{"$error":"#VALUE!"},{"$error":"#VALUE!"},{"$error":"#VALUE!"},{"$error":"#VALUE!"},{"$error":"#VALUE!"},{"$error":"#VALUE!"},{"$error":"#VALUE!"},{"$error":"#VALUE!"},{"$error":"#VALUE!"},{"$error":"#VALUE!"},{"$error":"#VALUE!"},{"$error":"#VALUE!"},{"$error":"#VALUE!"},{"$error":"#VALUE!"},{"$error":"#VALUE!"},{"$error":"#VALUE!"},{"$error":"#VALUE!"},{"$error":"#VALUE!"},{"$error":"#VALUE!"},{"$error":"#VALUE!"},{"$error":"#VALUE!"},{"$error":"#VALUE!"},{"$error":"#VALUE!"},{"$error":"#VALUE!"},{"$error":"#VALUE!"},{"$error":"#VALUE!"},{"$error":"#VALUE!"},{"$error":"#VALUE!"},{"$error":"#VALUE!"},{"$error":"#VALUE!"},{"$error":"#VALUE!"},8,0,{"$error":"#VALUE!"},{"$error":"#VALUE!"},{"$error":"#VALUE!"},{"$error":"#VALUE!"},{"$error":"#VALUE!"},{"$error":"#VALUE!"},{"$error":"#VALUE!"},{"$error":"#VALUE!"},{"$error":"#VALUE!"},{"$error":"#VALUE!"},{"$error":"#VALUE!"},{"$error":"#VALUE!"},{"$error":"#VALUE!"},{"$error":"#VALUE!"},{"$error":"#VALUE!"},{"$error":"#VALUE!"},{"$error":"#VALUE!"},{"$error":"#VALUE!"},{"$error":"#VALUE!"},{"$error":"#VALUE!"},{"$error":"#VALUE!"},{"$error":"#VALUE!"},{"$error":"#VALUE!"},{"$error":"#VALUE!"},{"$error":"#VALUE!"},{"$error":"#VALUE!"},{"$error":"#VALUE!"},{"$error":"#VALUE!"},{"$error":"#VALUE!"},{"$error":"#VALUE!"},{"$error":"#VALUE!"},{"$error":"#VALUE!"},{"$error":"#VALUE!"}]
[null,null,null,null,null,null,null,null,null,null,null,null,null,null,null,null,null,null,null,null,null,null,null,9,null,null,null,null,null,null,null,null,null,"N/A",null,false,null,null,null,null,9,null,null,null,null,null,null,null,null,null,null,null,"OK","OK","OK","OK",10000000,10000000,10000000,{"$f":"(CU183*POWER(10,0)+CV183*POWER(10,1)+CW183*POWER(10,2)+CX183*POWER(10,3)+CY183*POWER(10,4)+CZ183*POWER(10,5)+DA183*POWER(10,6)+DB183*POWER(10,7)+DC183*POWER(10,8)+DD183*POWER(10,9)+DE183*POWER(10,10))","v":10000000},{"$f":"(DF183*POWER(10,0)+DG183*POWER(10,1)+DH183*POWER(10,2)+DI183*POWER(10,3)+DJ183*POWER(10,4)+DK183*POWER(10,5)+DL183*POWER(10,6)+DM183*POWER(10,7)+DN183*POWER(10,8)+DO183*POWER(10,9)+DP183*POWER(10,10))","v":10000000},10000000,10000000,null,9,null,null,null,null,null,null,null,1,null,null,null,null,null,null,null,null,null,null,1,null,null,null,null,null,null,null,null,null,null,1,null,null,null,null,null,null,null,null,null,null,1,null,null,null,null,null,null,null,null,null,null,1,null,null,null,null,null,null,null,null,null,null,1,null,null,null,null,9,{"$error":"#VALUE!"},{"$error":"#VALUE!"},{"$error":"#VALUE!"},{"$error":"#VALUE!"},{"$error":"#VALUE!"},{"$error":"#VALUE!"},{"$error":"#VALUE!"},{"$error":"#VALUE!"},{"$error":"#VALUE!"},{"$error":"#VALUE!"},{"$error":"#VALUE!"},{"$error":"#VALUE!"},{"$error":"#VALUE!"},{"$error":"#VALUE!"},{"$error":"#VALUE!"},{"$error":"#VALUE!"},{"$error":"#VALUE!"},{"$error":"#VALUE!"},null,9,0,{"$error":"#VALUE!"},{"$error":"#VALUE!"},{"$error":"#VALUE!"},{"$error":"#VALUE!"},{"$error":"#VALUE!"},{"$error":"#VALUE!"},{"$error":"#VALUE!"},{"$error":"#VALUE!"},{"$error":"#VALUE!"},{"$error":"#VALUE!"},{"$error":"#VALUE!"},{"$error":"#VALUE!"},{"$error":"#VALUE!"},{"$error":"#VALUE!"},{"$error":"#VALUE!"},{"$error":"#VALUE!"},{"$error":"#VALUE!"},{"$error":"#VALUE!"},{"$error":"#VALUE!"},{"$error":"#VALUE!"},{"$error":"#VALUE!"},{"$error":"#VALUE!"},{"$error":"#VALUE!"},{"$error":"#VALUE!"},{"$error":"#VALUE!"},{"$error":"#VALUE!"},{"$error":"#VALUE!"},{"$error":"#VALUE!"},{"$error":"#VALUE!"},{"$error":"#VALUE!"},{"$error":"#VALUE!"},{"$error":"#VALUE!"},{"$error":"#VALUE!"},9,0,{"$error":"#VALUE!"},{"$error":"#VALUE!"},{"$error":"#VALUE!"},{"$error":"#VALUE!"},{"$error":"#VALUE!"},{"$error":"#VALUE!"},{"$error":"#VALUE!"},{"$error":"#VALUE!"},{"$error":"#VALUE!"},{"$error":"#VALUE!"},{"$error":"#VALUE!"},{"$error":"#VALUE!"},{"$error":"#VALUE!"},{"$error":"#VALUE!"},{"$error":"#VALUE!"},{"$error":"#VALUE!"},{"$error":"#VALUE!"},{"$error":"#VALUE!"},{"$error":"#VALUE!"},{"$error":"#VALUE!"},{"$error":"#VALUE!"},{"$error":"#VALUE!"},{"$error":"#VALUE!"},{"$error":"#VALUE!"},{"$error":"#VALUE!"},{"$error":"#VALUE!"},{"$error":"#VALUE!"},{"$error":"#VALUE!"},{"$error":"#VALUE!"},{"$error":"#VALUE!"},{"$error":"#VALUE!"},{"$error":"#VALUE!"},{"$error":"#VALUE!"},9,0,{"$error":"#VALUE!"},{"$error":"#VALUE!"},{"$error":"#VALUE!"},{"$error":"#VALUE!"},{"$error":"#VALUE!"},{"$error":"#VALUE!"},{"$error":"#VALUE!"},{"$error":"#VALUE!"},{"$error":"#VALUE!"},{"$error":"#VALUE!"},{"$error":"#VALUE!"},{"$error":"#VALUE!"},{"$error":"#VALUE!"},{"$error":"#VALUE!"},{"$error":"#VALUE!"},{"$error":"#VALUE!"},{"$error":"#VALUE!"},{"$error":"#VALUE!"},{"$error":"#VALUE!"},{"$error":"#VALUE!"},{"$error":"#VALUE!"},{"$error":"#VALUE!"},{"$error":"#VALUE!"},{"$error":"#VALUE!"},{"$error":"#VALUE!"},{"$error":"#VALUE!"},{"$error":"#VALUE!"},{"$error":"#VALUE!"},{"$error":"#VALUE!"},{"$error":"#VALUE!"},{"$error":"#VALUE!"},{"$error":"#VALUE!"},{"$error":"#VALUE!"},9,0,{"$error":"#VALUE!"},{"$error":"#VALUE!"},{"$error":"#VALUE!"},{"$error":"#VALUE!"},{"$error":"#VALUE!"},{"$error":"#VALUE!"},{"$error":"#VALUE!"},{"$error":"#VALUE!"},{"$error":"#VALUE!"},{"$error":"#VALUE!"},{"$error":"#VALUE!"},{"$error":"#VALUE!"},{"$error":"#VALUE!"},{"$error":"#VALUE!"},{"$error":"#VALUE!"},{"$error":"#VALUE!"},{"$error":"#VALUE!"},{"$error":"#VALUE!"},{"$error":"#VALUE!"},{"$error":"#VALUE!"},{"$error":"#VALUE!"},{"$error":"#VALUE!"},{"$error":"#VALUE!"},{"$error":"#VALUE!"},{"$error":"#VALUE!"},{"$error":"#VALUE!"},{"$error":"#VALUE!"},{"$error":"#VALUE!"},{"$error":"#VALUE!"},{"$error":"#VALUE!"},{"$error":"#VALUE!"},{"$error":"#VALUE!"},{"$error":"#VALUE!"},9,0,{"$error":"#VALUE!"},{"$error":"#VALUE!"},{"$error":"#VALUE!"},{"$error":"#VALUE!"},{"$error":"#VALUE!"},{"$error":"#VALUE!"},{"$error":"#VALUE!"},{"$error":"#VALUE!"},{"$error":"#VALUE!"},{"$error":"#VALUE!"},{"$error":"#VALUE!"},{"$error":"#VALUE!"},{"$error":"#VALUE!"},{"$error":"#VALUE!"},{"$error":"#VALUE!"},{"$error":"#VALUE!"},{"$error":"#VALUE!"},{"$error":"#VALUE!"},{"$error":"#VALUE!"},{"$error":"#VALUE!"},{"$error":"#VALUE!"},{"$error":"#VALUE!"},{"$error":"#VALUE!"},{"$error":"#VALUE!"},{"$error":"#VALUE!"},{"$error":"#VALUE!"},{"$error":"#VALUE!"},{"$error":"#VALUE!"},{"$error":"#VALUE!"},{"$error":"#VALUE!"},{"$error":"#VALUE!"},{"$error":"#VALUE!"},{"$error":"#VALUE!"},9,0,{"$error":"#VALUE!"},{"$error":"#VALUE!"},{"$error":"#VALUE!"},{"$error":"#VALUE!"},{"$error":"#VALUE!"},{"$error":"#VALUE!"},{"$error":"#VALUE!"},{"$error":"#VALUE!"},{"$error":"#VALUE!"},{"$error":"#VALUE!"},{"$error":"#VALUE!"},{"$error":"#VALUE!"},{"$error":"#VALUE!"},{"$error":"#VALUE!"},{"$error":"#VALUE!"},{"$error":"#VALUE!"},{"$error":"#VALUE!"},{"$error":"#VALUE!"},{"$error":"#VALUE!"},{"$error":"#VALUE!"},{"$error":"#VALUE!"},{"$error":"#VALUE!"},{"$error":"#VALUE!"},{"$error":"#VALUE!"},{"$error":"#VALUE!"},{"$error":"#VALUE!"},{"$error":"#VALUE!"},{"$error":"#VALUE!"},{"$error":"#VALUE!"},{"$error":"#VALUE!"},{"$error":"#VALUE!"},{"$error":"#VALUE!"},{"$error":"#VALUE!"}]
[null,null,null,null,null,null,null,null,null,null,null,null,null,null,null,null,null,null,null,null,null,null,null,"Total",{"$f":"SUM(Y177:Y183)","v":0},{"$f":"SUM(Z177:Z183)","v":0},0,0,0,0,null,null,null,"N/A",null,false,null,null,null,null,"Total",null,null,null,null,null,null,null,null,null,null,null,null,null,null,null,null,null,null,null,null,null,null,null,"Total",null,null,null,null,null,null,null,null,null,null,null,null,null,null,null,null,null,null,null,null,null,null,null,null,null,null,null,null,null,null,null,null,null,null,null,null,null,null,null,null,null,null,null,null,null,null,null,null,null,null,null,null,null,null,null,null,null,null,null,null,null,null,null,null,null,null,null,"Total",{"$f":"SUM(ED177:ED183)","v":{"$error":"#VALUE!"}},{"$f":"SUM(EE177:EE183)","v":{"$error":"#VALUE!"}},{"$f":"SUM(EF177:EF183)","v":{"$error":"#VALUE!"}},{"$f":"SUM(EG177:EG183)","v":{"$error":"#VALUE!"}},{"$f":"SUM(EH177:EH183)","v":{"$error":"#VALUE!"}},{"$f":"SUM(EI177:EI183)","v":{"$error":"#VALUE!"}},{"$error":"#VALUE!"},{"$error":"#VALUE!"},{"$error":"#VALUE!"},{"$error":"#VALUE!"},{"$error":"#VALUE!"},{"$error":"#VALUE!"},{"$error":"#VALUE!"},{"$error":"#VALUE!"},{"$error":"#VALUE!"},{"$error":"#VALUE!"},{"$error":"#VALUE!"},{"$error":"#VALUE!"},null,"Total",{"$f":"SUM(EX177:EX183)","v":0},{"$f":"SUM(EY177:EY183)","v":{"$error":"#VALUE!"}},{"$f":"SUM(EZ177:EZ183)","v":{"$error":"#VALUE!"}},{"$error":"#VALUE!"},{"$error":"#VALUE!"},{"$f":"SUM(FC177:FC183)","v":{"$error":"#VALUE!"}},{"$f":"SUM(FD177:FD183)","v":{"$error":"#VALUE!"}},{"$error":"#VALUE!"},{"$error":"#VALUE!"},{"$error":"#VALUE!"},{"$error":"#VALUE!"},{"$error":"#VALUE!"},{"$error":"#VALUE!"},{"$error":"#VALUE!"},{"$error":"#VALUE!"},{"$error":"#VALUE!"},{"$f":"SUM(FN177:FN183)","v":{"$error":"#VALUE!"}},{"$f":"SUM(FO177:FO183)","v":{"$error":"#VALUE!"}},{"$f":"SUM(FP177:FP183)","v":{"$error":"#VALUE!"}},{"$f":"SUM(FQ177:FQ183)","v":{"$error":"#VALUE!"}},{"$error":"#VALUE!"},{"$error":"#VALUE!"},{"$error":"#VALUE!"},{"$error":"#VALUE!"},{"$error":"#VALUE!"},{"$error":"#VALUE!"},{"$error":"#VALUE!"},{"$error":"#VALUE!"},{"$error":"#VALUE!"},{"$error":"#VALUE!"},{"$error":"#VALUE!"},{"$f":"SUM(GC177:GC183)","v":{"$error":"#VALUE!"}},{"$f":"SUM(GD177:GD183)","v":{"$error":"#VALUE!"}},{"$error":"#VALUE!"},"Total",{"$f":"SUM(GG177:GG183)","v":0},{"$f":"SUM(GH177:GH183)","v":{"$error":"#VALUE!"}},{"$f":"SUM(GI177:GI183)","v":{"$error":"#VALUE!"}},{"$error":"#VALUE!"},{"$error":"#VALUE!"},{"$f":"SUM(GL177:GL183)","v":{"$error":"#VALUE!"}},{"$f":"SUM(GM177:GM183)","v":{"$error":"#VALUE!"}},{"$f":"SUM(GN177:GN183)","v":{"$error":"#VALUE!"}},{"$error":"#VALUE!"},{"$error":"#VALUE!"},{"$error":"#VALUE!"},{"$error":"#VALUE!"},{"$error":"#VALUE!"},{"$error":"#VALUE!"},{"$error":"#VALUE!"},{"$error":"#VALUE!"},{"$f":"SUM(GW177:GW183)","v":{"$error":"#VALUE!"}},{"$f":"SUM(GX177:GX183)","v":{"$error":"#VALUE!"}},{"$f":"SUM(GY177:GY183)","v":{"$error":"#VALUE!"}},{"$f":"SUM(GZ177:GZ183)","v":{"$error":"#VALUE!"}},{"$error":"#VALUE!"},{"$error":"#VALUE!"},{"$error":"#VALUE!"},{"$error":"#VALUE!"},{"$error":"#VALUE!"},{"$error":"#VALUE!"},{"$error":"#VALUE!"},{"$error":"#VALUE!"},{"$error":"#VALUE!"},{"$error":"#VALUE!"},{"$error":"#VALUE!"},{"$f":"SUM(HL177:HL183)","v":{"$error":"#VALUE!"}},{"$f":"SUM(HM177:HM183)","v":{"$error":"#VALUE!"}},{"$error":"#VALUE!"},"Total",{"$f":"SUM(HP177:HP183)","v":0},{"$f":"SUM(HQ177:HQ183)","v":{"$error":"#VALUE!"}},{"$f":"SUM(HR177:HR183)","v":{"$error":"#VALUE!"}},{"$error":"#VALUE!"},{"$error":"#VALUE!"},{"$f":"SUM(HU177:HU183)","v":{"$error":"#VALUE!"}},{"$f":"SUM(HV177:HV183)","v":{"$error":"#VALUE!"}},{"$error":"#VALUE!"},{"$error":"#VALUE!"},{"$error":"#VALUE!"},{"$error":"#VALUE!"},{"$error":"#VALUE!"},{"$error":"#VALUE!"},{"$error":"#VALUE!"},{"$error":"#VALUE!"},{"$error":"#VALUE!"},{"$f":"SUM(IF177:IF183)","v":{"$error":"#VALUE!"}},{"$f":"SUM(IG177:IG183)","v":{"$error":"#VALUE!"}},{"$f":"SUM(IH177:IH183)","v":{"$error":"#VALUE!"}},{"$f":"SUM(II177:II183)","v":{"$error":"#VALUE!"}},{"$error":"#VALUE!"},{"$error":"#VALUE!"},{"$error":"#VALUE!"},{"$error":"#VALUE!"},{"$error":"#VALUE!"},{"$error":"#VALUE!"},{"$error":"#VALUE!"},{"$error":"#VALUE!"},{"$error":"#VALUE!"},{"$error":"#VALUE!"},{"$error":"#VALUE!"},{"$f":"SUM(IU177:IU183)","v":{"$error":"#VALUE!"}},{"$f":"SUM(IV177:IV183)","v":{"$error":"#VALUE!"}},{"$error":"#VALUE!"},"Total",{"$f":"SUM(IY177:IY183)","v":0},{"$f":"SUM(IZ177:IZ183)","v":{"$error":"#VALUE!"}},{"$f":"SUM(JA177:JA183)","v":{"$error":"#VALUE!"}},{"$error":"#VALUE!"},{"$error":"#VALUE!"},{"$f":"SUM(JD177:JD183)","v":{"$error":"#VALUE!"}},{"$f":"SUM(JE177:JE183)","v":{"$error":"#VALUE!"}},{"$error":"#VALUE!"},{"$error":"#VALUE!"},{"$error":"#VALUE!"},{"$error":"#VALUE!"},{"$error":"#VALUE!"},{"$error":"#VALUE!"},{"$error":"#VALUE!"},{"$error":"#VALUE!"},{"$error":"#VALUE!"},{"$f":"SUM(JO177:JO183)","v":{"$error":"#VALUE!"}},{"$f":"SUM(JP177:JP183)","v":{"$error":"#VALUE!"}},{"$f":"SUM(JQ177:JQ183)","v":{"$error":"#VALUE!"}},{"$f":"SUM(JR177:JR183)","v":{"$error":"#VALUE!"}},{"$error":"#VALUE!"},{"$error":"#VALUE!"},{"$error":"#VALUE!"},{"$error":"#VALUE!"},{"$error":"#VALUE!"},{"$error":"#VALUE!"},{"$error":"#VALUE!"},{"$error":"#VALUE!"},{"$error":"#VALUE!"},{"$error":"#VALUE!"},{"$error":"#VALUE!"},{"$f":"SUM(KD177:KD183)","v":{"$error":"#VALUE!"}},{"$f":"SUM(KE177:KE183)","v":{"$error":"#VALUE!"}},{"$error":"#VALUE!"},"Total",{"$f":"SUM(KH177:KH183)","v":0},{"$f":"SUM(KI177:KI183)","v":{"$error":"#VALUE!"}},{"$f":"SUM(KJ177:KJ183)","v":{"$error":"#VALUE!"}},{"$error":"#VALUE!"},{"$error":"#VALUE!"},{"$f":"SUM(KM177:KM183)","v":{"$error":"#VALUE!"}},{"$f":"SUM(KN177:KN183)","v":{"$error":"#VALUE!"}},{"$error":"#VALUE!"},{"$error":"#VALUE!"},{"$error":"#VALUE!"},{"$error":"#VALUE!"},{"$error":"#VALUE!"},{"$error":"#VALUE!"},{"$error":"#VALUE!"},{"$error":"#VALUE!"},{"$error":"#VALUE!"},{"$f":"SUM(KX177:KX183)","v":{"$error":"#VALUE!"}},{"$f":"SUM(KY177:KY183)","v":{"$error":"#VALUE!"}},{"$f":"SUM(KZ177:KZ183)","v":{"$error":"#VALUE!"}},{"$f":"SUM(LA177:LA183)","v":{"$error":"#VALUE!"}},{"$error":"#VALUE!"},{"$error":"#VALUE!"},{"$error":"#VALUE!"},{"$error":"#VALUE!"},{"$error":"#VALUE!"},{"$error":"#VALUE!"},{"$error":"#VALUE!"},{"$error":"#VALUE!"},{"$error":"#VALUE!"},{"$error":"#VALUE!"},{"$error":"#VALUE!"},{"$f":"SUM(LM177:LM183)","v":{"$error":"#VALUE!"}},{"$f":"SUM(LN177:LN183)","v":{"$error":"#VALUE!"}},{"$error":"#VALUE!"},"Total",{"$f":"SUM(LQ177:LQ183)","v":0},{"$f":"SUM(LR177:LR183)","v":{"$error":"#VALUE!"}},{"$f":"SUM(LS177:LS183)","v":{"$error":"#VALUE!"}},{"$error":"#VALUE!"},{"$error":"#VALUE!"},{"$f":"SUM(LV177:LV183)","v":{"$error":"#VALUE!"}},{"$f":"SUM(LW177:LW183)","v":{"$error":"#VALUE!"}},{"$error":"#VALUE!"},{"$error":"#VALUE!"},{"$error":"#VALUE!"},{"$error":"#VALUE!"},{"$error":"#VALUE!"},{"$error":"#VALUE!"},{"$error":"#VALUE!"},{"$error":"#VALUE!"},{"$f":"SUM(MF177:MF183)","v":{"$error":"#VALUE!"}},{"$f":"SUM(MG177:MG183)","v":{"$error":"#VALUE!"}},{"$f":"SUM(MH177:MH183)","v":{"$error":"#VALUE!"}},{"$f":"SUM(MI177:MI183)","v":{"$error":"#VALUE!"}},{"$f":"SUM(MJ177:MJ183)","v":{"$error":"#VALUE!"}},{"$error":"#VALUE!"},{"$error":"#VALUE!"},{"$error":"#VALUE!"},{"$error":"#VALUE!"},{"$error":"#VALUE!"},{"$error":"#VALUE!"},{"$error":"#VALUE!"},{"$error":"#VALUE!"},{"$error":"#VALUE!"},{"$error":"#VALUE!"},{"$error":"#VALUE!"},{"$f":"SUM(MV177:MV183)","v":{"$error":"#VALUE!"}},{"$f":"SUM(MW177:MW183)","v":{"$error":"#VALUE!"}},{"$error":"#VALUE!"}]
[null,20,{"$f":"'Regional Project List Sheet'!F24","v":0},{"$f":"IF('Regional Project List Sheet'!$G24=\"New\",1,\"\")","v":""},{"$f":"IF('Regional Project List Sheet'!$G24=\"Funded Old\",1,\"\")","v":""},{"$f":"IF('Regional Project List Sheet'!$G24=\"Unfunded Old\",1,\"\")","v":""},{"$f":"'Regional Project List Sheet'!H24","v":0},{"$f":"'Regional Project List Sheet'!I24","v":0},{"$f":"'Regional Project List Sheet'!L24","v":0},{"$f":"'Regional Project List Sheet'!M24","v":0},{"$f":"'Regional Project List Sheet'!N24","v":0},{"$f":"'Regional Project List Sheet'!O24","v":0},{"$f":"'Regional Project List Sheet'!P24","v":0},{"$f":"IF('Regional Project List Sheet'!$Q24=\"N/A\",\"N/A\",IF($Y188<>0,5,IF($Z188<>0,4,IF($AA188<>0,3,IF($AB188<>0,2,1)))))","v":1},{"$f":"VLOOKUP($C185,'[2]Ranking|Priority'!$B$5:$O$40,12,FALSE)","v":{"$error":"#N/A"}},{"$f":"VLOOKUP($C185,'[2]Ranking|Priority'!$B$5:$O$68,13,FALSE)","v":{"$error":"#N/A"}},{"$f":"VLOOKUP($C185,'[2]Ranking|Priority'!$B$5:$O$68,14,FALSE)","v":{"$error":"#N/A"}},{"$f":"'Regional Project List Sheet'!T24","v":0},{"$f":"'Regional Project List Sheet'!U24","v":0},{"$f":"'Regional Project List Sheet'!V24","v":0},{"$f":"'Regional Project List Sheet'!W24","v":0},{"$f":"'Regional Project List Sheet'!X24","v":0},{"$f":"'Regional Project List Sheet'!Y24","v":"Choose from Project List in cell I2"},0,null,null,null,null,null,null,null,{"$f":"'Regional Project List Sheet'!AJ24","v":0},{"$f":"IF(OR('Regional Project List Sheet'!$AA24<>'Regional Project List Sheet'!$A$40,'Regional Project List Sheet'!$AD24<>'Regional Project List Sheet'!$A$40,'Regional Project List Sheet'!$AG24<>'Regional Project List Sheet'!$A$40),_xlfn.CONCAT(IF(ISNUMBER('Regional Project List Sheet'!$AA24),'Regional Project List Sheet'!$A$36,\"\"),\" \",IF(ISNUMBER('Regional Project List Sheet'!$AD24),'Regional Project List Sheet'!$A$37,\"\"),\" \",IF(ISNUMBER('Regional Project List Sheet'!$AG24),'Regional Project List Sheet'!$A$38,\"\")),\"N/A\")","v":"N/A"},"N/A",{"$f":"IF(OR('Regional Project List Sheet'!AC24<>'Regional Project List Sheet'!$A$40,'Regional Project List Sheet'!AF24<>'Regional Project List Sheet'!$A$40,'Regional Project List Sheet'!AI24<>'Regional Project List Sheet'!$A$40),\n\nIF(LEN(_xlfn.CONCAT(IF('Regional Project List Sheet'!AC24=\"Yes\",'Regional Project List Sheet'!$A$36,\"\"),\" \",\n\nIF('Regional Project List Sheet'!AF24=\"Yes\",'Regional Project List Sheet'!$A$37,\"\"),\" \",\n\nIF('Regional Project List Sheet'!AI24=\"Yes\",'Regional Project List Sheet'!$A$38,\"\")))<3,\"No\",\n\n_xlfn.CONCAT(IF('Regional Project List Sheet'!AC24=\"Yes\",'Regional Project List Sheet'!$A$36,\"\"),\" \",\n\nIF('Regional Project List Sheet'!AF24=\"Yes\",'Regional Project List Sheet'!$A$37,\"\"),\" \",\n\nIF('Regional Project List Sheet'!AI24=\"Yes\",'Regional Project List Sheet'!$A$38,\"\"))))","v":false},false,{"$f":"'Regional Project List Sheet'!AK24","v":0},null,{"$f":"'Regional Project List Sheet'!AL24","v":0},null,0,null,null,null,null,null,null,null,null,null,null,1,{"$f":"IF(AND(BB185=\"OK\",BC185=\"OK\",BD185=\"OK\"),\"OK\",\"ERR!\")","v":"OK"},{"$f":"IF(AND(Y185>0,SUM(BN185:BX185)<1),\"ERR!\",IF(AND(Z185>0,SUM(BY185:CI185)<1),\"ERR!\",IF(AND(AA185>0,SUM(CJ185:CT185)<1),\"ERR\",IF(AND(AB185>0,SUM(CU185:DE185)<1),\"ERR\",IF(AND(AC185>0,SUM(DF185:DP185)<1),\"ERR\",IF(AND(AD185>0,SUM(DQ185:EA185)<1),\"ERR\",\"OK\"))))))","v":"OK"},{"$f":"IF(OR(SUM(BN185:BX185)<>1,SUM(BY185:CI185)<>1,SUM(CJ185:CT185)<>1,SUM(CU185:DE185)<>1,SUM(DF185:DP185)<>1,SUM(DQ185:EA185)<>1),\"ERR!\",\"OK\")","v":"OK"},{"$f":"IF(AND(OR(BE185=BK185,BE185=0),OR(BF185=BK185,BF185=0),OR(BG185=BK185,BG185=0),OR(BH185=BK185,BH185=0),OR(BI185=BK185,BI185=0),OR(BJ185=BK185,BJ185=0)),\"OK\",\"ERR!\")","v":"OK"},{"$f":"(BN185*POWER(10,0)+BO185*POWER(10,1)+BP185*POWER(10,2)+BQ185*POWER(10,3)+BR185*POWER(10,4)+BS185*POWER(10,5)+BT185*POWER(10,6)+BU185*POWER(10,7)+BV185*POWER(10,8)+BW185*POWER(10,9)+BX185*POWER(10,10))","v":1000},{"$f":"(BY185*POWER(10,0)+BZ185*POWER(10,1)+CA185*POWER(10,2)+CB185*POWER(10,3)+CC185*POWER(10,4)+CD185*POWER(10,5)+CE185*POWER(10,6)+CF185*POWER(10,7)+CG185*POWER(10,8)+CH185*POWER(10,9)+CI185*POWER(10,10))","v":1000},{"$f":"(CJ185*POWER(10,0)+CK185*POWER(10,1)+CL185*POWER(10,2)+CM185*POWER(10,3)+CN185*POWER(10,4)+CO185*POWER(10,5)+CP185*POWER(10,6)+CQ185*POWER(10,7)+CR185*POWER(10,8)+CS185*POWER(10,9)+CT185*POWER(10,10))","v":1000},{"$f":"(CU185*POWER(10,0)+CV185*POWER(10,1)+CW185*POWER(10,2)+CX185*POWER(10,3)+CY185*POWER(10,4)+CZ185*POWER(10,5)+DA185*POWER(10,6)+DB185*POWER(10,7)+DC185*POWER(10,8)+DD185*POWER(10,9)+DE185*POWER(10,10))","v":1000},{"$f":"(DF185*POWER(10,0)+DG185*POWER(10,1)+DH185*POWER(10,2)+DI185*POWER(10,3)+DJ185*POWER(10,4)+DK185*POWER(10,5)+DL185*POWER(10,6)+DM185*POWER(10,7)+DN185*POWER(10,8)+DO185*POWER(10,9)+DP185*POWER(10,10))","v":1000},{"$f":"(DQ185*POWER(10,0)+DR185*POWER(10,1)+DS185*POWER(10,2)+DT185*POWER(10,3)+DU185*POWER(10,4)+DV185*POWER(10,5)+DW185*POWER(10,6)+DX185*POWER(10,7)+DY185*POWER(10,8)+DZ185*POWER(10,9)+EA185*POWER(10,10))","v":1000},{"$f":"MAX(BE185:BJ185)","v":1000},null,0,null,null,null,1,null,null,null,null,null,null,null,null,null,null,1,null,null,null,null,null,null,null,null,null,null,1,null,null,null,null,null,null,null,null,null,null,1,null,null,null,null,null,null,null,null,null,null,1,null,null,null,null,null,null,null,null,null,null,1,null,null,null,null,null,null,null,null,0,{"$f":"($Y185*D$185)/1000","v":{"$error":"#VALUE!"}},{"$error":"#VALUE!"},{"$error":"#VALUE!"},{"$f":"($Z185*D$185)/1000","v":{"$error":"#VALUE!"}},{"$error":"#VALUE!"},{"$error":"#VALUE!"},{"$f":"($AA185*D$185)/1000","v":{"$error":"#VALUE!"}},{"$error":"#VALUE!"},{"$error":"#VALUE!"},{"$f":"($AB185*D$185)/1000","v":{"$error":"#VALUE!"}},{"$error":"#VALUE!"},{"$error":"#VALUE!"},{"$f":"($AC185*D$185)/1000","v":{"$error":"#VALUE!"}},{"$error":"#VALUE!"},{"$error":"#VALUE!"},{"$f":"($AD185*D$185)/1000","v":{"$error":"#VALUE!"}},{"$error":"#VALUE!"},{"$error":"#VALUE!"},null,0,{"$f":"$AZ$185*$Y185","v":0},{"$f":"($AZ$185*$BN185*D$185*$Y185)/1000","v":{"$error":"#VALUE!"}},{"$error":"#VALUE!"},{"$error":"#VALUE!"},{"$f":"($AZ$185*$BO185*D$185*$Y185)/1000","v":{"$error":"#VALUE!"}},{"$error":"#VALUE!"},{"$error":"#VALUE!"},{"$f":"($AZ$185*$BP185*D$185*$Y185)/1000","v":{"$error":"#VALUE!"}},{"$error":"#VALUE!"},{"$error":"#VALUE!"},{"$f":"($AZ$185*$BQ185*D$185*$Y185)/1000","v":{"$error":"#VALUE!"}},{"$error":"#VALUE!"},{"$error":"#VALUE!"},{"$f":"($AZ$185*$BR185*D$185*$Y185)/1000","v":{"$error":"#VALUE!"}},{"$error":"#VALUE!"},{"$error":"#VALUE!"},{"$f":"($AZ$185*$BS185*D$185*$Y185)/1000","v":{"$error":"#VALUE!"}},{"$error":"#VALUE!"},{"$error":"#VALUE!"},{"$f":"($AZ$185*$BT185*D$185*$Y185)/1000","v":{"$error":"#VALUE!"}},{"$error":"#VALUE!"},{"$error":"#VALUE!"},{"$f":"($AZ$185*$BU185*D$185*$Y185)/1000","v":{"$error":"#VALUE!"}},{"$error":"#VALUE!"},{"$error":"#VALUE!"},{"$f":"($AZ$185*$BV185*D$185*$Y185)/1000","v":{"$error":"#VALUE!"}},{"$error":"#VALUE!"},{"$error":"#VALUE!"},{"$f":"($AZ$185*$BW185*D$185*$Y185)/1000","v":{"$error":"#VALUE!"}},{"$error":"#VALUE!"},{"$error":"#VALUE!"},{"$f":"($AZ$185*$BX185*D$185*$Y185)/1000","v":{"$error":"#VALUE!"}},{"$error":"#VALUE!"},{"$error":"#VALUE!"},0,{"$f":"$AZ$185*$Z185","v":0},{"$f":"($AZ$185*$BY185*D$185*$Z185)/1000","v":{"$error":"#VALUE!"}},{"$error":"#VALUE!"},{"$error":"#VALUE!"},{"$f":"($AZ$185*$BZ185*D$185*$Z185)/1000","v":{"$error":"#VALUE!"}},{"$error":"#VALUE!"},{"$error":"#VALUE!"},{"$f":"($AZ$185*$CA185*D$185*$Z185)/1000","v":{"$error":"#VALUE!"}},{"$error":"#VALUE!"},{"$error":"#VALUE!"},{"$f":"($AZ$185*$CB185*D$185*$Z185)/1000","v":{"$error":"#VALUE!"}},{"$error":"#VALUE!"},{"$error":"#VALUE!"},{"$f":"($AZ$185*$CD185*D$185*$Z185)/1000","v":{"$error":"#VALUE!"}},{"$error":"#VALUE!"},{"$error":"#VALUE!"},{"$f":"($AZ$185*$CD185*D$185*$Z185)/1000","v":{"$error":"#VALUE!"}},{"$error":"#VALUE!"},{"$error":"#VALUE!"},{"$f":"($AZ$185*$CE185*D$185*$Z185)/1000","v":{"$error":"#VALUE!"}},{"$error":"#VALUE!"},{"$error":"#VALUE!"},{"$f":"($AZ$185*$CF185*D$185*$Z185)/1000","v":{"$error":"#VALUE!"}},{"$error":"#VALUE!"},{"$error":"#VALUE!"},{"$f":"($AZ$185*$CG185*D$185*$Z185)/1000","v":{"$error":"#VALUE!"}},{"$error":"#VALUE!"},{"$error":"#VALUE!"},{"$f":"($AZ$185*$CH185*D$185*$Z185)/1000","v":{"$error":"#VALUE!"}},{"$error":"#VALUE!"},{"$error":"#VALUE!"},{"$f":"($AZ$185*$CI185*D$185*$Z185)/1000","v":{"$error":"#VALUE!"}},{"$error":"#VALUE!"},{"$error":"#VALUE!"},0,{"$f":"$AZ$185*$AA185","v":0},{"$f":"($AZ$185*$CJ185*D$185*$AA185)/1000","v":{"$error":"#VALUE!"}},{"$error":"#VALUE!"},{"$error":"#VALUE!"},{"$f":"($AZ$185*$CK185*D$185*$AA185)/1000","v":{"$error":"#VALUE!"}},{"$error":"#VALUE!"},{"$error":"#VALUE!"},{"$f":"($AZ$185*$CL185*D$185*$AA185)/1000","v":{"$error":"#VALUE!"}},{"$error":"#VALUE!"},{"$error":"#VALUE!"},{"$f":"($AZ$185*$CM185*D$185*$AA185)/1000","v":{"$error":"#VALUE!"}},{"$error":"#VALUE!"},{"$error":"#VALUE!"},{"$f":"($AZ$185*$CN185*D$185*$AA185)/1000","v":{"$error":"#VALUE!"}},{"$error":"#VALUE!"},{"$error":"#VALUE!"},{"$f":"($AZ$185*$CO185*D$185*$AA185)/1000","v":{"$error":"#VALUE!"}},{"$error":"#VALUE!"},{"$error":"#VALUE!"},{"$f":"($AZ$185*$CP185*D$185*$AA185)/1000","v":{"$error":"#VALUE!"}},{"$error":"#VALUE!"},{"$error":"#VALUE!"},{"$f":"($AZ$185*$CQ185*D$185*$AA185)/1000","v":{"$error":"#VALUE!"}},{"$error":"#VALUE!"},{"$error":"#VALUE!"},{"$f":"($AZ$185*$CR185*D$185*$AA185)/1000","v":{"$error":"#VALUE!"}},{"$error":"#VALUE!"},{"$error":"#VALUE!"},{"$f":"($AZ$185*$CS185*D$185*$AA185)/1000","v":{"$error":"#VALUE!"}},{"$error":"#VALUE!"},{"$error":"#VALUE!"},{"$f":"($AZ$185*$CT185*D$185*$AA185)/1000","v":{"$error":"#VALUE!"}},{"$error":"#VALUE!"},{"$error":"#VALUE!"},0,{"$f":"$AZ$185*$AB185","v":0},{"$f":"($AZ$185*$CU185*D$185*$AB185)/1000","v":{"$error":"#VALUE!"}},{"$error":"#VALUE!"},{"$error":"#VALUE!"},{"$f":"($AZ$185*$CV185*D$185*$AB185)/1000","v":{"$error":"#VALUE!"}},{"$error":"#VALUE!"},{"$error":"#VALUE!"},{"$f":"($AZ$185*$CW185*D$185*$AB185)/1000","v":{"$error":"#VALUE!"}},{"$error":"#VALUE!"},{"$error":"#VALUE!"},{"$f":"($AZ$185*$CX185*D$185*$AB185)/1000","v":{"$error":"#VALUE!"}},{"$error":"#VALUE!"},{"$error":"#VALUE!"},{"$f":"($AZ$185*$CY185*D$185*$AB185)/1000","v":{"$error":"#VALUE!"}},{"$error":"#VALUE!"},{"$error":"#VALUE!"},{"$f":"($AZ$185*$CZ185*D$185*$AB185)/1000","v":{"$error":"#VALUE!"}},{"$error":"#VALUE!"},{"$error":"#VALUE!"},{"$f":"($AZ$185*$DA185*D$185*$AB185)/1000","v":{"$error":"#VALUE!"}},{"$error":"#VALUE!"},{"$error":"#VALUE!"},{"$f":"($AZ$185*$DB185*D$185*$AB185)/1000","v":{"$error":"#VALUE!"}},{"$error":"#VALUE!"},{"$error":"#VALUE!"},{"$f":"($AZ$185*$DC185*D$185*$AB185)/1000","v":{"$error":"#VALUE!"}},{"$error":"#VALUE!"},{"$error":"#VALUE!"},{"$f":"($AZ$185*$DD185*D$185*$AB185)/1000","v":{"$error":"#VALUE!"}},{"$error":"#VALUE!"},{"$error":"#VALUE!"},{"$f":"($AZ$185*$DE185*D$185*$AB185)/1000","v":{"$error":"#VALUE!"}},{"$error":"#VALUE!"},{"$error":"#VALUE!"},0,{"$f":"$AZ$185*$AC185","v":0},{"$f":"($AZ$185*$DF185*D$185*$AC185)/1000","v":{"$error":"#VALUE!"}},{"$error":"#VALUE!"},{"$error":"#VALUE!"},{"$f":"($AZ$185*$DG185*D$185*$AC185)/1000","v":{"$error":"#VALUE!"}},{"$error":"#VALUE!"},{"$error":"#VALUE!"},{"$f":"($AZ$185*$DH185*D$185*$AC185)/1000","v":{"$error":"#VALUE!"}},{"$error":"#VALUE!"},{"$error":"#VALUE!"},{"$f":"($AZ$185*$DI185*D$185*$AC185)/1000","v":{"$error":"#VALUE!"}},{"$error":"#VALUE!"},{"$error":"#VALUE!"},{"$f":"($AZ$185*$DJ185*D$185*$AC185)/1000","v":{"$error":"#VALUE!"}},{"$error":"#VALUE!"},{"$error":"#VALUE!"},{"$f":"($AZ$185*$DK185*D$185*$AC185)/1000","v":{"$error":"#VALUE!"}},{"$error":"#VALUE!"},{"$error":"#VALUE!"},{"$f":"($AZ$185*$DL185*D$185*$AC185)/1000","v":{"$error":"#VALUE!"}},{"$error":"#VALUE!"},{"$error":"#VALUE!"},{"$f":"($AZ$185*$DM185*D$185*$AC185)/1000","v":{"$error":"#VALUE!"}},{"$error":"#VALUE!"},{"$error":"#VALUE!"},{"$f":"($AZ$185*$DN185*D$185*$AC185)/1000","v":{"$error":"#VALUE!"}},{"$error":"#VALUE!"},{"$error":"#VALUE!"},{"$f":"($AZ$185*$DO185*D$185*$AC185)/1000","v":{"$error":"#VALUE!"}},{"$error":"#VALUE!"},{"$error":"#VALUE!"},{"$f":"($AZ$185*$DP185*D$185*$AC185)/1000","v":{"$error":"#VALUE!"}},{"$error":"#VALUE!"},{"$error":"#VALUE!"},0,{"$f":"$AZ$185*$AD185","v":0},{"$f":"($AZ$185*$DQ185*D$185*$AD185)/1000","v":{"$error":"#VALUE!"}},{"$error":"#VALUE!"},{"$error":"#VALUE!"},{"$f":"($AZ$185*$DR185*D$185*$AD185)/1000","v":{"$error":"#VALUE!"}},{"$error":"#VALUE!"},{"$error":"#VALUE!"},{"$f":"($AZ$185*$DS185*D$185*$AD185)/1000","v":{"$error":"#VALUE!"}},{"$error":"#VALUE!"},{"$error":"#VALUE!"},{"$f":"($AZ$185*$DT185*D$185*$AD185)/1000","v":{"$error":"#VALUE!"}},{"$error":"#VALUE!"},{"$error":"#VALUE!"},{"$f":"($AZ$185*$DU185*D$185*$AD185)/1000","v":{"$error":"#VALUE!"}},{"$error":"#VALUE!"},{"$error":"#VALUE!"},{"$f":"($AZ$185*$DV185*D$185*$AD185)/1000","v":{"$error":"#VALUE!"}},{"$error":"#VALUE!"},{"$error":"#VALUE!"},{"$f":"($AZ$185*$DW185*D$185*$AD185)/1000","v":{"$error":"#VALUE!"}},{"$error":"#VALUE!"},{"$error":"#VALUE!"},{"$f":"($AZ$185*$DX185*D$185*$AD185)/1000","v":{"$error":"#VALUE!"}},{"$error":"#VALUE!"},{"$error":"#VALUE!"},{"$f":"($AZ$185*$DY185*D$185*$AD185)/1000","v":{"$error":"#VALUE!"}},{"$error":"#VALUE!"},{"$error":"#VALUE!"},{"$f":"($AZ$185*$DZ185*D$185*$AD185)/1000","v":{"$error":"#VALUE!"}},{"$error":"#VALUE!"},{"$error":"#VALUE!"},{"$f":"($AZ$185*$EA185*D$185*$AD185)/1000","v":{"$error":"#VALUE!"}},{"$error":"#VALUE!"},{"$error":"#VALUE!"}]
[null,null,null,null,null,null,null,null,null,null,null,null,null,null,null,null,null,null,null,null,null,null,null,2,null,null,null,null,null,null,null,null,null,"N/A",null,false,null,null,null,null,2,null,null,null,null,null,null,null,null,null,null,null,{"$f":"IF(AND(BB186=\"OK\",BC186=\"OK\",BD186=\"OK\"),\"OK\",\"ERR!\")","v":"OK"},"OK",{"$f":"IF(OR(SUM(BN186:BX186)<>1,SUM(BY186:CI186)<>1,SUM(CJ186:CT186)<>1,SUM(CU186:DE186)<>1,SUM(DF186:DP186)<>1,SUM(DQ186:EA186)<>1),\"ERR!\",\"OK\")","v":"OK"},{"$f":"IF(AND(OR(BE186=BK186,BE186=0),OR(BF186=BK186,BF186=0),OR(BG186=BK186,BG186=0),OR(BH186=BK186,BH186=0),OR(BI186=BK186,BI186=0),OR(BJ186=BK186,BJ186=0)),\"OK\",\"ERR!\")","v":"OK"},{"$f":"(BN186*POWER(10,0)+BO186*POWER(10,1)+BP186*POWER(10,2)+BQ186*POWER(10,3)+BR186*POWER(10,4)+BS186*POWER(10,5)+BT186*POWER(10,6)+BU186*POWER(10,7)+BV186*POWER(10,8)+BW186*POWER(10,9)+BX186*POWER(10,10))","v":1000},{"$f":"(BY186*POWER(10,0)+BZ186*POWER(10,1)+CA186*POWER(10,2)+CB186*POWER(10,3)+CC186*POWER(10,4)+CD186*POWER(10,5)+CE186*POWER(10,6)+CF186*POWER(10,7)+CG186*POWER(10,8)+CH186*POWER(10,9)+CI186*POWER(10,10))","v":1000},{"$f":"(CJ186*POWER(10,0)+CK186*POWER(10,1)+CL186*POWER(10,2)+CM186*POWER(10,3)+CN186*POWER(10,4)+CO186*POWER(10,5)+CP186*POWER(10,6)+CQ186*POWER(10,7)+CR186*POWER(10,8)+CS186*POWER(10,9)+CT186*POWER(10,10))","v":1000},{"$f":"(CU186*POWER(10,0)+CV186*POWER(10,1)+CW186*POWER(10,2)+CX186*POWER(10,3)+CY186*POWER(10,4)+CZ186*POWER(10,5)+DA186*POWER(10,6)+DB186*POWER(10,7)+DC186*POWER(10,8)+DD186*POWER(10,9)+DE186*POWER(10,10))","v":1000},{"$f":"(DF186*POWER(10,0)+DG186*POWER(10,1)+DH186*POWER(10,2)+DI186*POWER(10,3)+DJ186*POWER(10,4)+DK186*POWER(10,5)+DL186*POWER(10,6)+DM186*POWER(10,7)+DN186*POWER(10,8)+DO186*POWER(10,9)+DP186*POWER(10,10))","v":1000},{"$f":"(DQ186*POWER(10,0)+DR186*POWER(10,1)+DS186*POWER(10,2)+DT186*POWER(10,3)+DU186*POWER(10,4)+DV186*POWER(10,5)+DW186*POWER(10,6)+DX186*POWER(10,7)+DY186*POWER(10,8)+DZ186*POWER(10,9)+EA186*POWER(10,10))","v":1000},{"$f":"MAX(BE186:BJ186)","v":1000},null,2,null,null,null,1,null,null,null,null,null,null,null,null,null,null,1,null,null,null,null,null,null,null,null,null,null,1,null,null,null,null,null,null,null,null,null,null,1,null,null,null,null,null,null,null,null,null,null,1,null,null,null,null,null,null,null,null,null,null,1,null,null,null,null,null,null,null,null,2,{"$error":"#VALUE!"},{"$error":"#VALUE!"},{"$error":"#VALUE!"},{"$error":"#VALUE!"},{"$error":"#VALUE!"},{"$error":"#VALUE!"},{"$error":"#VALUE!"},{"$error":"#VALUE!"},{"$error":"#VALUE!"},{"$error":"#VALUE!"},{"$error":"#VALUE!"},{"$error":"#VALUE!"},{"$error":"#VALUE!"},{"$error":"#VALUE!"},{"$error":"#VALUE!"},{"$error":"#VALUE!"},{"$error":"#VALUE!"},{"$error":"#VALUE!"},null,2,0,{"$error":"#VALUE!"},{"$error":"#VALUE!"},{"$error":"#VALUE!"},{"$error":"#VALUE!"},{"$error":"#VALUE!"},{"$error":"#VALUE!"},{"$error":"#VALUE!"},{"$error":"#VALUE!"},{"$error":"#VALUE!"},{"$error":"#VALUE!"},{"$error":"#VALUE!"},{"$error":"#VALUE!"},{"$error":"#VALUE!"},{"$error":"#VALUE!"},{"$error":"#VALUE!"},{"$error":"#VALUE!"},{"$error":"#VALUE!"},{"$error":"#VALUE!"},{"$error":"#VALUE!"},{"$error":"#VALUE!"},{"$error":"#VALUE!"},{"$error":"#VALUE!"},{"$error":"#VALUE!"},{"$error":"#VALUE!"},{"$error":"#VALUE!"},{"$error":"#VALUE!"},{"$error":"#VALUE!"},{"$error":"#VALUE!"},{"$error":"#VALUE!"},{"$error":"#VALUE!"},{"$error":"#VALUE!"},{"$error":"#VALUE!"},{"$error":"#VALUE!"},2,0,{"$error":"#VALUE!"},{"$error":"#VALUE!"},{"$error":"#VALUE!"},{"$error":"#VALUE!"},{"$error":"#VALUE!"},{"$error":"#VALUE!"},{"$error":"#VALUE!"},{"$error":"#VALUE!"},{"$error":"#VALUE!"},{"$error":"#VALUE!"},{"$error":"#VALUE!"},{"$error":"#VALUE!"},{"$error":"#VALUE!"},{"$error":"#VALUE!"},{"$error":"#VALUE!"},{"$error":"#VALUE!"},{"$error":"#VALUE!"},{"$error":"#VALUE!"},{"$error":"#VALUE!"},{"$error":"#VALUE!"},{"$error":"#VALUE!"},{"$error":"#VALUE!"},{"$error":"#VALUE!"},{"$error":"#VALUE!"},{"$error":"#VALUE!"},{"$error":"#VALUE!"},{"$error":"#VALUE!"},{"$error":"#VALUE!"},{"$error":"#VALUE!"},{"$error":"#VALUE!"},{"$error":"#VALUE!"},{"$error":"#VALUE!"},{"$error":"#VALUE!"},2,0,{"$error":"#VALUE!"},{"$error":"#VALUE!"},{"$error":"#VALUE!"},{"$error":"#VALUE!"},{"$error":"#VALUE!"},{"$error":"#VALUE!"},{"$error":"#VALUE!"},{"$error":"#VALUE!"},{"$error":"#VALUE!"},{"$error":"#VALUE!"},{"$error":"#VALUE!"},{"$error":"#VALUE!"},{"$error":"#VALUE!"},{"$error":"#VALUE!"},{"$error":"#VALUE!"},{"$error":"#VALUE!"},{"$error":"#VALUE!"},{"$error":"#VALUE!"},{"$error":"#VALUE!"},{"$error":"#VALUE!"},{"$error":"#VALUE!"},{"$error":"#VALUE!"},{"$error":"#VALUE!"},{"$error":"#VALUE!"},{"$error":"#VALUE!"},{"$error":"#VALUE!"},{"$error":"#VALUE!"},{"$error":"#VALUE!"},{"$error":"#VALUE!"},{"$error":"#VALUE!"},{"$error":"#VALUE!"},{"$error":"#VALUE!"},{"$error":"#VALUE!"},2,0,{"$error":"#VALUE!"},{"$error":"#VALUE!"},{"$error":"#VALUE!"},{"$error":"#VALUE!"},{"$error":"#VALUE!"},{"$error":"#VALUE!"},{"$error":"#VALUE!"},{"$error":"#VALUE!"},{"$error":"#VALUE!"},{"$error":"#VALUE!"},{"$error":"#VALUE!"},{"$error":"#VALUE!"},{"$error":"#VALUE!"},{"$error":"#VALUE!"},{"$error":"#VALUE!"},{"$error":"#VALUE!"},{"$error":"#VALUE!"},{"$error":"#VALUE!"},{"$error":"#VALUE!"},{"$error":"#VALUE!"},{"$error":"#VALUE!"},{"$error":"#VALUE!"},{"$error":"#VALUE!"},{"$error":"#VALUE!"},{"$error":"#VALUE!"},{"$error":"#VALUE!"},{"$error":"#VALUE!"},{"$error":"#VALUE!"},{"$error":"#VALUE!"},{"$error":"#VALUE!"},{"$error":"#VALUE!"},{"$error":"#VALUE!"},{"$error":"#VALUE!"},2,0,{"$error":"#VALUE!"},{"$error":"#VALUE!"},{"$error":"#VALUE!"},{"$error":"#VALUE!"},{"$error":"#VALUE!"},{"$error":"#VALUE!"},{"$error":"#VALUE!"},{"$error":"#VALUE!"},{"$error":"#VALUE!"},{"$error":"#VALUE!"},{"$error":"#VALUE!"},{"$error":"#VALUE!"},{"$error":"#VALUE!"},{"$error":"#VALUE!"},{"$error":"#VALUE!"},{"$error":"#VALUE!"},{"$error":"#VALUE!"},{"$error":"#VALUE!"},{"$error":"#VALUE!"},{"$error":"#VALUE!"},{"$error":"#VALUE!"},{"$error":"#VALUE!"},{"$error":"#VALUE!"},{"$error":"#VALUE!"},{"$error":"#VALUE!"},{"$error":"#VALUE!"},{"$error":"#VALUE!"},{"$error":"#VALUE!"},{"$error":"#VALUE!"},{"$error":"#VALUE!"},{"$error":"#VALUE!"},{"$error":"#VALUE!"},{"$error":"#VALUE!"},2,0,{"$error":"#VALUE!"},{"$error":"#VALUE!"},{"$error":"#VALUE!"},{"$error":"#VALUE!"},{"$error":"#VALUE!"},{"$error":"#VALUE!"},{"$error":"#VALUE!"},{"$error":"#VALUE!"},{"$error":"#VALUE!"},{"$error":"#VALUE!"},{"$error":"#VALUE!"},{"$error":"#VALUE!"},{"$error":"#VALUE!"},{"$error":"#VALUE!"},{"$error":"#VALUE!"},{"$error":"#VALUE!"},{"$error":"#VALUE!"},{"$error":"#VALUE!"},{"$error":"#VALUE!"},{"$error":"#VALUE!"},{"$error":"#VALUE!"},{"$error":"#VALUE!"},{"$error":"#VALUE!"},{"$error":"#VALUE!"},{"$error":"#VALUE!"},{"$error":"#VALUE!"},{"$error":"#VALUE!"},{"$error":"#VALUE!"},{"$error":"#VALUE!"},{"$error":"#VALUE!"},{"$error":"#VALUE!"},{"$error":"#VALUE!"},{"$error":"#VALUE!"}]
[null,null,null,null,null,null,null,null,null,null,null,null,null,null,null,null,null,null,null,null,null,null,null,3,null,null,null,null,null,null,null,null,null,"N/A",null,false,null,null,null,null,3,null,null,null,null,null,null,null,null,null,null,null,{"$f":"IF(AND(BB187=\"OK\",BC187=\"OK\",BD187=\"OK\"),\"OK\",\"ERR!\")","v":"OK"},"OK",{"$f":"IF(OR(SUM(BN187:BX187)<>1,SUM(BY187:CI187)<>1,SUM(CJ187:CT187)<>1,SUM(CU187:DE187)<>1,SUM(DF187:DP187)<>1,SUM(DQ187:EA187)<>1),\"ERR!\",\"OK\")","v":"OK"},{"$f":"IF(AND(OR(BE187=BK187,BE187=0),OR(BF187=BK187,BF187=0),OR(BG187=BK187,BG187=0),OR(BH187=BK187,BH187=0),OR(BI187=BK187,BI187=0),OR(BJ187=BK187,BJ187=0)),\"OK\",\"ERR!\")","v":"OK"},1000,1000,1000,1000,1000,1000,{"$f":"MAX(BE187:BJ187)","v":1000},null,3,null,null,null,1,null,null,null,null,null,null,null,null,null,null,1,null,null,null,null,null,null,null,null,null,null,1,null,null,null,null,null,null,null,null,null,null,1,null,null,null,null,null,null,null,null,null,null,1,null,null,null,null,null,null,null,null,null,null,1,null,null,null,null,null,null,null,null,3,{"$error":"#VALUE!"},{"$error":"#VALUE!"},{"$error":"#VALUE!"},{"$error":"#VALUE!"},{"$error":"#VALUE!"},{"$error":"#VALUE!"},{"$error":"#VALUE!"},{"$error":"#VALUE!"},{"$error":"#VALUE!"},{"$error":"#VALUE!"},{"$error":"#VALUE!"},{"$error":"#VALUE!"},{"$error":"#VALUE!"},{"$error":"#VALUE!"},{"$error":"#VALUE!"},{"$error":"#VALUE!"},{"$error":"#VALUE!"},{"$error":"#VALUE!"},null,3,0,{"$error":"#VALUE!"},{"$error":"#VALUE!"},{"$error":"#VALUE!"},{"$error":"#VALUE!"},{"$error":"#VALUE!"},{"$error":"#VALUE!"},{"$error":"#VALUE!"},{"$error":"#VALUE!"},{"$error":"#VALUE!"},{"$error":"#VALUE!"},{"$error":"#VALUE!"},{"$error":"#VALUE!"},{"$error":"#VALUE!"},{"$error":"#VALUE!"},{"$error":"#VALUE!"},{"$error":"#VALUE!"},{"$error":"#VALUE!"},{"$error":"#VALUE!"},{"$error":"#VALUE!"},{"$error":"#VALUE!"},{"$error":"#VALUE!"},{"$error":"#VALUE!"},{"$error":"#VALUE!"},{"$error":"#VALUE!"},{"$error":"#VALUE!"},{"$error":"#VALUE!"},{"$error":"#VALUE!"},{"$error":"#VALUE!"},{"$error":"#VALUE!"},{"$error":"#VALUE!"},{"$error":"#VALUE!"},{"$error":"#VALUE!"},{"$error":"#VALUE!"},3,0,{"$error":"#VALUE!"},{"$error":"#VALUE!"},{"$error":"#VALUE!"},{"$error":"#VALUE!"},{"$error":"#VALUE!"},{"$error":"#VALUE!"},{"$error":"#VALUE!"},{"$error":"#VALUE!"},{"$error":"#VALUE!"},{"$error":"#VALUE!"},{"$error":"#VALUE!"},{"$error":"#VALUE!"},{"$error":"#VALUE!"},{"$error":"#VALUE!"},{"$error":"#VALUE!"},{"$error":"#VALUE!"},{"$error":"#VALUE!"},{"$error":"#VALUE!"},{"$error":"#VALUE!"},{"$error":"#VALUE!"},{"$error":"#VALUE!"},{"$error":"#VALUE!"},{"$error":"#VALUE!"},{"$error":"#VALUE!"},{"$error":"#VALUE!"},{"$error":"#VALUE!"},{"$error":"#VALUE!"},{"$error":"#VALUE!"},{"$error":"#VALUE!"},{"$error":"#VALUE!"},{"$error":"#VALUE!"},{"$error":"#VALUE!"},{"$error":"#VALUE!"},3,0,{"$error":"#VALUE!"},{"$error":"#VALUE!"},{"$error":"#VALUE!"},{"$error":"#VALUE!"},{"$error":"#VALUE!"},{"$error":"#VALUE!"},{"$error":"#VALUE!"},{"$error":"#VALUE!"},{"$error":"#VALUE!"},{"$error":"#VALUE!"},{"$error":"#VALUE!"},{"$error":"#VALUE!"},{"$error":"#VALUE!"},{"$error":"#VALUE!"},{"$error":"#VALUE!"},{"$error":"#VALUE!"},{"$error":"#VALUE!"},{"$error":"#VALUE!"},{"$error":"#VALUE!"},{"$error":"#VALUE!"},{"$error":"#VALUE!"},{"$error":"#VALUE!"},{"$error":"#VALUE!"},{"$error":"#VALUE!"},{"$error":"#VALUE!"},{"$error":"#VALUE!"},{"$error":"#VALUE!"},{"$error":"#VALUE!"},{"$error":"#VALUE!"},{"$error":"#VALUE!"},{"$error":"#VALUE!"},{"$error":"#VALUE!"},{"$error":"#VALUE!"},3,0,{"$error":"#VALUE!"},{"$error":"#VALUE!"},{"$error":"#VALUE!"},{"$error":"#VALUE!"},{"$error":"#VALUE!"},{"$error":"#VALUE!"},{"$error":"#VALUE!"},{"$error":"#VALUE!"},{"$error":"#VALUE!"},{"$error":"#VALUE!"},{"$error":"#VALUE!"},{"$error":"#VALUE!"},{"$error":"#VALUE!"},{"$error":"#VALUE!"},{"$error":"#VALUE!"},{"$error":"#VALUE!"},{"$error":"#VALUE!"},{"$error":"#VALUE!"},{"$error":"#VALUE!"},{"$error":"#VALUE!"},{"$error":"#VALUE!"},{"$error":"#VALUE!"},{"$error":"#VALUE!"},{"$error":"#VALUE!"},{"$error":"#VALUE!"},{"$error":"#VALUE!"},{"$error":"#VALUE!"},{"$error":"#VALUE!"},{"$error":"#VALUE!"},{"$error":"#VALUE!"},{"$error":"#VALUE!"},{"$error":"#VALUE!"},{"$error":"#VALUE!"},3,0,{"$error":"#VALUE!"},{"$error":"#VALUE!"},{"$error":"#VALUE!"},{"$error":"#VALUE!"},{"$error":"#VALUE!"},{"$error":"#VALUE!"},{"$error":"#VALUE!"},{"$error":"#VALUE!"},{"$error":"#VALUE!"},{"$error":"#VALUE!"},{"$error":"#VALUE!"},{"$error":"#VALUE!"},{"$error":"#VALUE!"},{"$error":"#VALUE!"},{"$error":"#VALUE!"},{"$error":"#VALUE!"},{"$error":"#VALUE!"},{"$error":"#VALUE!"},{"$error":"#VALUE!"},{"$error":"#VALUE!"},{"$error":"#VALUE!"},{"$error":"#VALUE!"},{"$error":"#VALUE!"},{"$error":"#VALUE!"},{"$error":"#VALUE!"},{"$error":"#VALUE!"},{"$error":"#VALUE!"},{"$error":"#VALUE!"},{"$error":"#VALUE!"},{"$error":"#VALUE!"},{"$error":"#VALUE!"},{"$error":"#VALUE!"},{"$error":"#VALUE!"},3,0,{"$error":"#VALUE!"},{"$error":"#VALUE!"},{"$error":"#VALUE!"},{"$error":"#VALUE!"},{"$error":"#VALUE!"},{"$error":"#VALUE!"},{"$error":"#VALUE!"},{"$error":"#VALUE!"},{"$error":"#VALUE!"},{"$error":"#VALUE!"},{"$error":"#VALUE!"},{"$error":"#VALUE!"},{"$error":"#VALUE!"},{"$error":"#VALUE!"},{"$error":"#VALUE!"},{"$error":"#VALUE!"},{"$error":"#VALUE!"},{"$error":"#VALUE!"},{"$error":"#VALUE!"},{"$error":"#VALUE!"},{"$error":"#VALUE!"},{"$error":"#VALUE!"},{"$error":"#VALUE!"},{"$error":"#VALUE!"},{"$error":"#VALUE!"},{"$error":"#VALUE!"},{"$error":"#VALUE!"},{"$error":"#VALUE!"},{"$error":"#VALUE!"},{"$error":"#VALUE!"},{"$error":"#VALUE!"},{"$error":"#VALUE!"},{"$error":"#VALUE!"}]
[null,null,null,null,null,null,null,null,null,null,null,null,null,null,null,null,null,null,null,null,null,null,null,4,null,null,null,null,null,null,null,null,null,"N/A",null,false,null,null,null,null,4,null,null,null,null,null,null,null,null,null,null,null,{"$f":"IF(AND(BB188=\"OK\",BC188=\"OK\",BD188=\"OK\"),\"OK\",\"ERR!\")","v":"OK"},"OK","OK",{"$f":"IF(AND(OR(BE188=BK188,BE188=0),OR(BF188=BK188,BF188=0),OR(BG188=BK188,BG188=0),OR(BH188=BK188,BH188=0),OR(BI188=BK188,BI188=0),OR(BJ188=BK188,BJ188=0)),\"OK\",\"ERR!\")","v":"OK"},1000,1000,1000,1000,1000,1000,1000,null,4,null,null,null,1,null,null,null,null,null,null,null,null,null,null,1,null,null,null,null,null,null,null,null,null,null,1,null,null,null,null,null,null,null,null,null,null,1,null,null,null,null,null,null,null,null,null,null,1,null,null,null,null,null,null,null,null,null,null,1,null,null,null,null,null,null,null,null,4,{"$error":"#VALUE!"},{"$error":"#VALUE!"},{"$error":"#VALUE!"},{"$error":"#VALUE!"},{"$error":"#VALUE!"},{"$error":"#VALUE!"},{"$error":"#VALUE!"},{"$error":"#VALUE!"},{"$error":"#VALUE!"},{"$error":"#VALUE!"},{"$error":"#VALUE!"},{"$error":"#VALUE!"},{"$error":"#VALUE!"},{"$error":"#VALUE!"},{"$error":"#VALUE!"},{"$error":"#VALUE!"},{"$error":"#VALUE!"},{"$error":"#VALUE!"},null,4,0,{"$error":"#VALUE!"},{"$error":"#VALUE!"},{"$error":"#VALUE!"},{"$error":"#VALUE!"},{"$error":"#VALUE!"},{"$error":"#VALUE!"},{"$error":"#VALUE!"},{"$error":"#VALUE!"},{"$error":"#VALUE!"},{"$error":"#VALUE!"},{"$error":"#VALUE!"},{"$error":"#VALUE!"},{"$error":"#VALUE!"},{"$error":"#VALUE!"},{"$error":"#VALUE!"},{"$error":"#VALUE!"},{"$error":"#VALUE!"},{"$error":"#VALUE!"},{"$error":"#VALUE!"},{"$error":"#VALUE!"},{"$error":"#VALUE!"},{"$error":"#VALUE!"},{"$error":"#VALUE!"},{"$error":"#VALUE!"},{"$error":"#VALUE!"},{"$error":"#VALUE!"},{"$error":"#VALUE!"},{"$error":"#VALUE!"},{"$error":"#VALUE!"},{"$error":"#VALUE!"},{"$error":"#VALUE!"},{"$error":"#VALUE!"},{"$error":"#VALUE!"},4,0,{"$error":"#VALUE!"},{"$error":"#VALUE!"},{"$error":"#VALUE!"},{"$error":"#VALUE!"},{"$error":"#VALUE!"},{"$error":"#VALUE!"},{"$error":"#VALUE!"},{"$error":"#VALUE!"},{"$error":"#VALUE!"},{"$error":"#VALUE!"},{"$error":"#VALUE!"},{"$error":"#VALUE!"},{"$error":"#VALUE!"},{"$error":"#VALUE!"},{"$error":"#VALUE!"},{"$error":"#VALUE!"},{"$error":"#VALUE!"},{"$error":"#VALUE!"},{"$error":"#VALUE!"},{"$error":"#VALUE!"},{"$error":"#VALUE!"},{"$error":"#VALUE!"},{"$error":"#VALUE!"},{"$error":"#VALUE!"},{"$error":"#VALUE!"},{"$error":"#VALUE!"},{"$error":"#VALUE!"},{"$error":"#VALUE!"},{"$error":"#VALUE!"},{"$error":"#VALUE!"},{"$error":"#VALUE!"},{"$error":"#VALUE!"},{"$error":"#VALUE!"},4,0,{"$error":"#VALUE!"},{"$error":"#VALUE!"},{"$error":"#VALUE!"},{"$error":"#VALUE!"},{"$error":"#VALUE!"},{"$error":"#VALUE!"},{"$error":"#VALUE!"},{"$error":"#VALUE!"},{"$error":"#VALUE!"},{"$error":"#VALUE!"},{"$error":"#VALUE!"},{"$error":"#VALUE!"},{"$error":"#VALUE!"},{"$error":"#VALUE!"},{"$error":"#VALUE!"},{"$error":"#VALUE!"},{"$error":"#VALUE!"},{"$error":"#VALUE!"},{"$error":"#VALUE!"},{"$error":"#VALUE!"},{"$error":"#VALUE!"},{"$error":"#VALUE!"},{"$error":"#VALUE!"},{"$error":"#VALUE!"},{"$error":"#VALUE!"},{"$error":"#VALUE!"},{"$error":"#VALUE!"},{"$error":"#VALUE!"},{"$error":"#VALUE!"},{"$error":"#VALUE!"},{"$error":"#VALUE!"},{"$error":"#VALUE!"},{"$error":"#VALUE!"},4,0,{"$error":"#VALUE!"},{"$error":"#VALUE!"},{"$error":"#VALUE!"},{"$error":"#VALUE!"},{"$error":"#VALUE!"},{"$error":"#VALUE!"},{"$error":"#VALUE!"},{"$error":"#VALUE!"},{"$error":"#VALUE!"},{"$error":"#VALUE!"},{"$error":"#VALUE!"},{"$error":"#VALUE!"},{"$error":"#VALUE!"},{"$error":"#VALUE!"},{"$error":"#VALUE!"},{"$error":"#VALUE!"},{"$error":"#VALUE!"},{"$error":"#VALUE!"},{"$error":"#VALUE!"},{"$error":"#VALUE!"},{"$error":"#VALUE!"},{"$error":"#VALUE!"},{"$error":"#VALUE!"},{"$error":"#VALUE!"},{"$error":"#VALUE!"},{"$error":"#VALUE!"},{"$error":"#VALUE!"},{"$error":"#VALUE!"},{"$error":"#VALUE!"},{"$error":"#VALUE!"},{"$error":"#VALUE!"},{"$error":"#VALUE!"},{"$error":"#VALUE!"},4,0,{"$error":"#VALUE!"},{"$error":"#VALUE!"},{"$error":"#VALUE!"},{"$error":"#VALUE!"},{"$error":"#VALUE!"},{"$error":"#VALUE!"},{"$error":"#VALUE!"},{"$error":"#VALUE!"},{"$error":"#VALUE!"},{"$error":"#VALUE!"},{"$error":"#VALUE!"},{"$error":"#VALUE!"},{"$error":"#VALUE!"},{"$error":"#VALUE!"},{"$error":"#VALUE!"},{"$error":"#VALUE!"},{"$error":"#VALUE!"},{"$error":"#VALUE!"},{"$error":"#VALUE!"},{"$error":"#VALUE!"},{"$error":"#VALUE!"},{"$error":"#VALUE!"},{"$error":"#VALUE!"},{"$error":"#VALUE!"},{"$error":"#VALUE!"},{"$error":"#VALUE!"},{"$error":"#VALUE!"},{"$error":"#VALUE!"},{"$error":"#VALUE!"},{"$error":"#VALUE!"},{"$error":"#VALUE!"},{"$error":"#VALUE!"},{"$error":"#VALUE!"},4,0,{"$error":"#VALUE!"},{"$error":"#VALUE!"},{"$error":"#VALUE!"},{"$error":"#VALUE!"},{"$error":"#VALUE!"},{"$error":"#VALUE!"},{"$error":"#VALUE!"},{"$error":"#VALUE!"},{"$error":"#VALUE!"},{"$error":"#VALUE!"},{"$error":"#VALUE!"},{"$error":"#VALUE!"},{"$error":"#VALUE!"},{"$error":"#VALUE!"},{"$error":"#VALUE!"},{"$error":"#VALUE!"},{"$error":"#VALUE!"},{"$error":"#VALUE!"},{"$error":"#VALUE!"},{"$error":"#VALUE!"},{"$error":"#VALUE!"},{"$error":"#VALUE!"},{"$error":"#VALUE!"},{"$error":"#VALUE!"},{"$error":"#VALUE!"},{"$error":"#VALUE!"},{"$error":"#VALUE!"},{"$error":"#VALUE!"},{"$error":"#VALUE!"},{"$error":"#VALUE!"},{"$error":"#VALUE!"},{"$error":"#VALUE!"},{"$error":"#VALUE!"}]
[null,null,null,null,null,null,null,null,null,null,null,null,null,null,null,null,null,null,null,null,null,null,null,7,null,null,null,null,null,null,null,null,null,"N/A",null,false,null,null,null,null,7,null,null,null,null,null,null,null,null,null,null,null,{"$f":"IF(AND(BB189=\"OK\",BC189=\"OK\",BD189=\"OK\"),\"OK\",\"ERR!\")","v":"OK"},"OK","OK","OK",1000,1000,1000,1000,1000,1000,1000,null,7,null,null,null,1,null,null,null,null,null,null,null,null,null,null,1,null,null,null,null,null,null,null,null,null,null,1,null,null,null,null,null,null,null,null,null,null,1,null,null,null,null,null,null,null,null,null,null,1,null,null,null,null,null,null,null,null,null,null,1,null,null,null,null,null,null,null,null,7,{"$error":"#VALUE!"},{"$error":"#VALUE!"},{"$error":"#VALUE!"},{"$error":"#VALUE!"},{"$error":"#VALUE!"},{"$error":"#VALUE!"},{"$error":"#VALUE!"},{"$error":"#VALUE!"},{"$error":"#VALUE!"},{"$error":"#VALUE!"},{"$error":"#VALUE!"},{"$error":"#VALUE!"},{"$error":"#VALUE!"},{"$error":"#VALUE!"},{"$error":"#VALUE!"},{"$error":"#VALUE!"},{"$error":"#VALUE!"},{"$error":"#VALUE!"},null,7,0,{"$error":"#VALUE!"},{"$error":"#VALUE!"},{"$error":"#VALUE!"},{"$error":"#VALUE!"},{"$error":"#VALUE!"},{"$error":"#VALUE!"},{"$error":"#VALUE!"},{"$error":"#VALUE!"},{"$error":"#VALUE!"},{"$error":"#VALUE!"},{"$error":"#VALUE!"},{"$error":"#VALUE!"},{"$error":"#VALUE!"},{"$error":"#VALUE!"},{"$error":"#VALUE!"},{"$error":"#VALUE!"},{"$error":"#VALUE!"},{"$error":"#VALUE!"},{"$error":"#VALUE!"},{"$error":"#VALUE!"},{"$error":"#VALUE!"},{"$error":"#VALUE!"},{"$error":"#VALUE!"},{"$error":"#VALUE!"},{"$error":"#VALUE!"},{"$error":"#VALUE!"},{"$error":"#VALUE!"},{"$error":"#VALUE!"},{"$error":"#VALUE!"},{"$error":"#VALUE!"},{"$error":"#VALUE!"},{"$error":"#VALUE!"},{"$error":"#VALUE!"},7,0,{"$error":"#VALUE!"},{"$error":"#VALUE!"},{"$error":"#VALUE!"},{"$error":"#VALUE!"},{"$error":"#VALUE!"},{"$error":"#VALUE!"},{"$error":"#VALUE!"},{"$error":"#VALUE!"},{"$error":"#VALUE!"},{"$error":"#VALUE!"},{"$error":"#VALUE!"},{"$error":"#VALUE!"},{"$error":"#VALUE!"},{"$error":"#VALUE!"},{"$error":"#VALUE!"},{"$error":"#VALUE!"},{"$error":"#VALUE!"},{"$error":"#VALUE!"},{"$error":"#VALUE!"},{"$error":"#VALUE!"},{"$error":"#VALUE!"},{"$error":"#VALUE!"},{"$error":"#VALUE!"},{"$error":"#VALUE!"},{"$error":"#VALUE!"},{"$error":"#VALUE!"},{"$error":"#VALUE!"},{"$error":"#VALUE!"},{"$error":"#VALUE!"},{"$error":"#VALUE!"},{"$error":"#VALUE!"},{"$error":"#VALUE!"},{"$error":"#VALUE!"},7,0,{"$error":"#VALUE!"},{"$error":"#VALUE!"},{"$error":"#VALUE!"},{"$error":"#VALUE!"},{"$error":"#VALUE!"},{"$error":"#VALUE!"},{"$error":"#VALUE!"},{"$error":"#VALUE!"},{"$error":"#VALUE!"},{"$error":"#VALUE!"},{"$error":"#VALUE!"},{"$error":"#VALUE!"},{"$error":"#VALUE!"},{"$error":"#VALUE!"},{"$error":"#VALUE!"},{"$error":"#VALUE!"},{"$error":"#VALUE!"},{"$error":"#VALUE!"},{"$error":"#VALUE!"},{"$error":"#VALUE!"},{"$error":"#VALUE!"},{"$error":"#VALUE!"},{"$error":"#VALUE!"},{"$error":"#VALUE!"},{"$error":"#VALUE!"},{"$error":"#VALUE!"},{"$error":"#VALUE!"},{"$error":"#VALUE!"},{"$error":"#VALUE!"},{"$error":"#VALUE!"},{"$error":"#VALUE!"},{"$error":"#VALUE!"},{"$error":"#VALUE!"},7,0,{"$error":"#VALUE!"},{"$error":"#VALUE!"},{"$error":"#VALUE!"},{"$error":"#VALUE!"},{"$error":"#VALUE!"},{"$error":"#VALUE!"},{"$error":"#VALUE!"},{"$error":"#VALUE!"},{"$error":"#VALUE!"},{"$error":"#VALUE!"},{"$error":"#VALUE!"},{"$error":"#VALUE!"},{"$error":"#VALUE!"},{"$error":"#VALUE!"},{"$error":"#VALUE!"},{"$error":"#VALUE!"},{"$error":"#VALUE!"},{"$error":"#VALUE!"},{"$error":"#VALUE!"},{"$error":"#VALUE!"},{"$error":"#VALUE!"},{"$error":"#VALUE!"},{"$error":"#VALUE!"},{"$error":"#VALUE!"},{"$error":"#VALUE!"},{"$error":"#VALUE!"},{"$error":"#VALUE!"},{"$error":"#VALUE!"},{"$error":"#VALUE!"},{"$error":"#VALUE!"},{"$error":"#VALUE!"},{"$error":"#VALUE!"},{"$error":"#VALUE!"},7,0,{"$error":"#VALUE!"},{"$error":"#VALUE!"},{"$error":"#VALUE!"},{"$error":"#VALUE!"},{"$error":"#VALUE!"},{"$error":"#VALUE!"},{"$error":"#VALUE!"},{"$error":"#VALUE!"},{"$error":"#VALUE!"},{"$error":"#VALUE!"},{"$error":"#VALUE!"},{"$error":"#VALUE!"},{"$error":"#VALUE!"},{"$error":"#VALUE!"},{"$error":"#VALUE!"},{"$error":"#VALUE!"},{"$error":"#VALUE!"},{"$error":"#VALUE!"},{"$error":"#VALUE!"},{"$error":"#VALUE!"},{"$error":"#VALUE!"},{"$error":"#VALUE!"},{"$error":"#VALUE!"},{"$error":"#VALUE!"},{"$error":"#VALUE!"},{"$error":"#VALUE!"},{"$error":"#VALUE!"},{"$error":"#VALUE!"},{"$error":"#VALUE!"},{"$error":"#VALUE!"},{"$error":"#VALUE!"},{"$error":"#VALUE!"},{"$error":"#VALUE!"},7,0,{"$error":"#VALUE!"},{"$error":"#VALUE!"},{"$error":"#VALUE!"},{"$error":"#VALUE!"},{"$error":"#VALUE!"},{"$error":"#VALUE!"},{"$error":"#VALUE!"},{"$error":"#VALUE!"},{"$error":"#VALUE!"},{"$error":"#VALUE!"},{"$error":"#VALUE!"},{"$error":"#VALUE!"},{"$error":"#VALUE!"},{"$error":"#VALUE!"},{"$error":"#VALUE!"},{"$error":"#VALUE!"},{"$error":"#VALUE!"},{"$error":"#VALUE!"},{"$error":"#VALUE!"},{"$error":"#VALUE!"},{"$error":"#VALUE!"},{"$error":"#VALUE!"},{"$error":"#VALUE!"},{"$error":"#VALUE!"},{"$error":"#VALUE!"},{"$error":"#VALUE!"},{"$error":"#VALUE!"},{"$error":"#VALUE!"},{"$error":"#VALUE!"},{"$error":"#VALUE!"},{"$error":"#VALUE!"},{"$error":"#VALUE!"},{"$error":"#VALUE!"}]
[null,null,null,null,null,null,null,null,null,null,null,null,null,null,null,null,null,null,null,null,null,null,null,8,null,null,null,null,null,null,null,null,null,"N/A",null,false,null,null,null,null,8,null,null,null,null,null,null,null,null,null,null,null,"OK","OK","OK","OK",1000,1000,1000,1000,1000,1000,1000,null,8,null,null,null,1,null,null,null,null,null,null,null,null,null,null,1,null,null,null,null,null,null,null,null,null,null,1,null,null,null,null,null,null,null,null,null,null,1,null,null,null,null,null,null,null,null,null,null,1,null,null,null,null,null,null,null,null,null,null,1,null,null,null,null,null,null,null,null,8,{"$error":"#VALUE!"},{"$error":"#VALUE!"},{"$error":"#VALUE!"},{"$error":"#VALUE!"},{"$error":"#VALUE!"},{"$error":"#VALUE!"},{"$error":"#VALUE!"},{"$error":"#VALUE!"},{"$error":"#VALUE!"},{"$error":"#VALUE!"},{"$error":"#VALUE!"},{"$error":"#VALUE!"},{"$error":"#VALUE!"},{"$error":"#VALUE!"},{"$error":"#VALUE!"},{"$error":"#VALUE!"},{"$error":"#VALUE!"},{"$error":"#VALUE!"},null,8,0,{"$error":"#VALUE!"},{"$error":"#VALUE!"},{"$error":"#VALUE!"},{"$error":"#VALUE!"},{"$error":"#VALUE!"},{"$error":"#VALUE!"},{"$error":"#VALUE!"},{"$error":"#VALUE!"},{"$error":"#VALUE!"},{"$error":"#VALUE!"},{"$error":"#VALUE!"},{"$error":"#VALUE!"},{"$error":"#VALUE!"},{"$error":"#VALUE!"},{"$error":"#VALUE!"},{"$error":"#VALUE!"},{"$error":"#VALUE!"},{"$error":"#VALUE!"},{"$error":"#VALUE!"},{"$error":"#VALUE!"},{"$error":"#VALUE!"},{"$error":"#VALUE!"},{"$error":"#VALUE!"},{"$error":"#VALUE!"},{"$error":"#VALUE!"},{"$error":"#VALUE!"},{"$error":"#VALUE!"},{"$error":"#VALUE!"},{"$error":"#VALUE!"},{"$error":"#VALUE!"},{"$error":"#VALUE!"},{"$error":"#VALUE!"},{"$error":"#VALUE!"},8,0,{"$error":"#VALUE!"},{"$error":"#VALUE!"},{"$error":"#VALUE!"},{"$error":"#VALUE!"},{"$error":"#VALUE!"},{"$error":"#VALUE!"},{"$error":"#VALUE!"},{"$error":"#VALUE!"},{"$error":"#VALUE!"},{"$error":"#VALUE!"},{"$error":"#VALUE!"},{"$error":"#VALUE!"},{"$error":"#VALUE!"},{"$error":"#VALUE!"},{"$error":"#VALUE!"},{"$error":"#VALUE!"},{"$error":"#VALUE!"},{"$error":"#VALUE!"},{"$error":"#VALUE!"},{"$error":"#VALUE!"},{"$error":"#VALUE!"},{"$error":"#VALUE!"},{"$error":"#VALUE!"},{"$error":"#VALUE!"},{"$error":"#VALUE!"},{"$error":"#VALUE!"},{"$error":"#VALUE!"},{"$error":"#VALUE!"},{"$error":"#VALUE!"},{"$error":"#VALUE!"},{"$error":"#VALUE!"},{"$error":"#VALUE!"},{"$error":"#VALUE!"},8,0,{"$error":"#VALUE!"},{"$error":"#VALUE!"},{"$error":"#VALUE!"},{"$error":"#VALUE!"},{"$error":"#VALUE!"},{"$error":"#VALUE!"},{"$error":"#VALUE!"},{"$error":"#VALUE!"},{"$error":"#VALUE!"},{"$error":"#VALUE!"},{"$error":"#VALUE!"},{"$error":"#VALUE!"},{"$error":"#VALUE!"},{"$error":"#VALUE!"},{"$error":"#VALUE!"},{"$error":"#VALUE!"},{"$error":"#VALUE!"},{"$error":"#VALUE!"},{"$error":"#VALUE!"},{"$error":"#VALUE!"},{"$error":"#VALUE!"},{"$error":"#VALUE!"},{"$error":"#VALUE!"},{"$error":"#VALUE!"},{"$error":"#VALUE!"},{"$error":"#VALUE!"},{"$error":"#VALUE!"},{"$error":"#VALUE!"},{"$error":"#VALUE!"},{"$error":"#VALUE!"},{"$error":"#VALUE!"},{"$error":"#VALUE!"},{"$error":"#VALUE!"},8,0,{"$error":"#VALUE!"},{"$error":"#VALUE!"},{"$error":"#VALUE!"},{"$error":"#VALUE!"},{"$error":"#VALUE!"},{"$error":"#VALUE!"},{"$error":"#VALUE!"},{"$error":"#VALUE!"},{"$error":"#VALUE!"},{"$error":"#VALUE!"},{"$error":"#VALUE!"},{"$error":"#VALUE!"},{"$error":"#VALUE!"},{"$error":"#VALUE!"},{"$error":"#VALUE!"},{"$error":"#VALUE!"},{"$error":"#VALUE!"},{"$error":"#VALUE!"},{"$error":"#VALUE!"},{"$error":"#VALUE!"},{"$error":"#VALUE!"},{"$error":"#VALUE!"},{"$error":"#VALUE!"},{"$error":"#VALUE!"},{"$error":"#VALUE!"},{"$error":"#VALUE!"},{"$error":"#VALUE!"},{"$error":"#VALUE!"},{"$error":"#VALUE!"},{"$error":"#VALUE!"},{"$error":"#VALUE!"},{"$error":"#VALUE!"},{"$error":"#VALUE!"},8,0,{"$error":"#VALUE!"},{"$error":"#VALUE!"},{"$error":"#VALUE!"},{"$error":"#VALUE!"},{"$error":"#VALUE!"},{"$error":"#VALUE!"},{"$error":"#VALUE!"},{"$error":"#VALUE!"},{"$error":"#VALUE!"},{"$error":"#VALUE!"},{"$error":"#VALUE!"},{"$error":"#VALUE!"},{"$error":"#VALUE!"},{"$error":"#VALUE!"},{"$error":"#VALUE!"},{"$error":"#VALUE!"},{"$error":"#VALUE!"},{"$error":"#VALUE!"},{"$error":"#VALUE!"},{"$error":"#VALUE!"},{"$error":"#VALUE!"},{"$error":"#VALUE!"},{"$error":"#VALUE!"},{"$error":"#VALUE!"},{"$error":"#VALUE!"},{"$error":"#VALUE!"},{"$error":"#VALUE!"},{"$error":"#VALUE!"},{"$error":"#VALUE!"},{"$error":"#VALUE!"},{"$error":"#VALUE!"},{"$error":"#VALUE!"},{"$error":"#VALUE!"},8,0,{"$error":"#VALUE!"},{"$error":"#VALUE!"},{"$error":"#VALUE!"},{"$error":"#VALUE!"},{"$error":"#VALUE!"},{"$error":"#VALUE!"},{"$error":"#VALUE!"},{"$error":"#VALUE!"},{"$error":"#VALUE!"},{"$error":"#VALUE!"},{"$error":"#VALUE!"},{"$error":"#VALUE!"},{"$error":"#VALUE!"},{"$error":"#VALUE!"},{"$error":"#VALUE!"},{"$error":"#VALUE!"},{"$error":"#VALUE!"},{"$error":"#VALUE!"},{"$error":"#VALUE!"},{"$error":"#VALUE!"},{"$error":"#VALUE!"},{"$error":"#VALUE!"},{"$error":"#VALUE!"},{"$error":"#VALUE!"},{"$error":"#VALUE!"},{"$error":"#VALUE!"},{"$error":"#VALUE!"},{"$error":"#VALUE!"},{"$error":"#VALUE!"},{"$error":"#VALUE!"},{"$error":"#VALUE!"},{"$error":"#VALUE!"},{"$error":"#VALUE!"}]
[null,null,null,null,null,null,null,null,null,null,null,null,null,null,null,null,null,null,null,null,null,null,null,9,null,null,null,null,null,null,null,null,null,"N/A",null,false,null,null,null,null,9,null,null,null,null,null,null,null,null,null,null,null,"OK","OK","OK","OK",1000,1000,1000,{"$f":"(CU191*POWER(10,0)+CV191*POWER(10,1)+CW191*POWER(10,2)+CX191*POWER(10,3)+CY191*POWER(10,4)+CZ191*POWER(10,5)+DA191*POWER(10,6)+DB191*POWER(10,7)+DC191*POWER(10,8)+DD191*POWER(10,9)+DE191*POWER(10,10))","v":1000},{"$f":"(DF191*POWER(10,0)+DG191*POWER(10,1)+DH191*POWER(10,2)+DI191*POWER(10,3)+DJ191*POWER(10,4)+DK191*POWER(10,5)+DL191*POWER(10,6)+DM191*POWER(10,7)+DN191*POWER(10,8)+DO191*POWER(10,9)+DP191*POWER(10,10))","v":1000},1000,1000,null,9,null,null,null,1,null,null,null,null,null,null,null,null,null,null,1,null,null,null,null,null,null,null,null,null,null,1,null,null,null,null,null,null,null,null,null,null,1,null,null,null,null,null,null,null,null,null,null,1,null,null,null,null,null,null,null,null,null,null,1,null,null,null,null,null,null,null,null,9,{"$error":"#VALUE!"},{"$error":"#VALUE!"},{"$error":"#VALUE!"},{"$error":"#VALUE!"},{"$error":"#VALUE!"},{"$error":"#VALUE!"},{"$error":"#VALUE!"},{"$error":"#VALUE!"},{"$error":"#VALUE!"},{"$error":"#VALUE!"},{"$error":"#VALUE!"},{"$error":"#VALUE!"},{"$error":"#VALUE!"},{"$error":"#VALUE!"},{"$error":"#VALUE!"},{"$error":"#VALUE!"},{"$error":"#VALUE!"},{"$error":"#VALUE!"},null,9,0,{"$error":"#VALUE!"},{"$error":"#VALUE!"},{"$error":"#VALUE!"},{"$error":"#VALUE!"},{"$error":"#VALUE!"},{"$error":"#VALUE!"},{"$error":"#VALUE!"},{"$error":"#VALUE!"},{"$error":"#VALUE!"},{"$error":"#VALUE!"},{"$error":"#VALUE!"},{"$error":"#VALUE!"},{"$error":"#VALUE!"},{"$error":"#VALUE!"},{"$error":"#VALUE!"},{"$error":"#VALUE!"},{"$error":"#VALUE!"},{"$error":"#VALUE!"},{"$error":"#VALUE!"},{"$error":"#VALUE!"},{"$error":"#VALUE!"},{"$error":"#VALUE!"},{"$error":"#VALUE!"},{"$error":"#VALUE!"},{"$error":"#VALUE!"},{"$error":"#VALUE!"},{"$error":"#VALUE!"},{"$error":"#VALUE!"},{"$error":"#VALUE!"},{"$error":"#VALUE!"},{"$error":"#VALUE!"},{"$error":"#VALUE!"},{"$error":"#VALUE!"},9,0,{"$error":"#VALUE!"},{"$error":"#VALUE!"},{"$error":"#VALUE!"},{"$error":"#VALUE!"},{"$error":"#VALUE!"},{"$error":"#VALUE!"},{"$error":"#VALUE!"},{"$error":"#VALUE!"},{"$error":"#VALUE!"},{"$error":"#VALUE!"},{"$error":"#VALUE!"},{"$error":"#VALUE!"},{"$error":"#VALUE!"},{"$error":"#VALUE!"},{"$error":"#VALUE!"},{"$error":"#VALUE!"},{"$error":"#VALUE!"},{"$error":"#VALUE!"},{"$error":"#VALUE!"},{"$error":"#VALUE!"},{"$error":"#VALUE!"},{"$error":"#VALUE!"},{"$error":"#VALUE!"},{"$error":"#VALUE!"},{"$error":"#VALUE!"},{"$error":"#VALUE!"},{"$error":"#VALUE!"},{"$error":"#VALUE!"},{"$error":"#VALUE!"},{"$error":"#VALUE!"},{"$error":"#VALUE!"},{"$error":"#VALUE!"},{"$error":"#VALUE!"},9,0,{"$error":"#VALUE!"},{"$error":"#VALUE!"},{"$error":"#VALUE!"},{"$error":"#VALUE!"},{"$error":"#VALUE!"},{"$error":"#VALUE!"},{"$error":"#VALUE!"},{"$error":"#VALUE!"},{"$error":"#VALUE!"},{"$error":"#VALUE!"},{"$error":"#VALUE!"},{"$error":"#VALUE!"},{"$error":"#VALUE!"},{"$error":"#VALUE!"},{"$error":"#VALUE!"},{"$error":"#VALUE!"},{"$error":"#VALUE!"},{"$error":"#VALUE!"},{"$error":"#VALUE!"},{"$error":"#VALUE!"},{"$error":"#VALUE!"},{"$error":"#VALUE!"},{"$error":"#VALUE!"},{"$error":"#VALUE!"},{"$error":"#VALUE!"},{"$error":"#VALUE!"},{"$error":"#VALUE!"},{"$error":"#VALUE!"},{"$error":"#VALUE!"},{"$error":"#VALUE!"},{"$error":"#VALUE!"},{"$error":"#VALUE!"},{"$error":"#VALUE!"},9,0,{"$error":"#VALUE!"},{"$error":"#VALUE!"},{"$error":"#VALUE!"},{"$error":"#VALUE!"},{"$error":"#VALUE!"},{"$error":"#VALUE!"},{"$error":"#VALUE!"},{"$error":"#VALUE!"},{"$error":"#VALUE!"},{"$error":"#VALUE!"},{"$error":"#VALUE!"},{"$error":"#VALUE!"},{"$error":"#VALUE!"},{"$error":"#VALUE!"},{"$error":"#VALUE!"},{"$error":"#VALUE!"},{"$error":"#VALUE!"},{"$error":"#VALUE!"},{"$error":"#VALUE!"},{"$error":"#VALUE!"},{"$error":"#VALUE!"},{"$error":"#VALUE!"},{"$error":"#VALUE!"},{"$error":"#VALUE!"},{"$error":"#VALUE!"},{"$error":"#VALUE!"},{"$error":"#VALUE!"},{"$error":"#VALUE!"},{"$error":"#VALUE!"},{"$error":"#VALUE!"},{"$error":"#VALUE!"},{"$error":"#VALUE!"},{"$error":"#VALUE!"},9,0,{"$error":"#VALUE!"},{"$error":"#VALUE!"},{"$error":"#VALUE!"},{"$error":"#VALUE!"},{"$error":"#VALUE!"},{"$error":"#VALUE!"},{"$error":"#VALUE!"},{"$error":"#VALUE!"},{"$error":"#VALUE!"},{"$error":"#VALUE!"},{"$error":"#VALUE!"},{"$error":"#VALUE!"},{"$error":"#VALUE!"},{"$error":"#VALUE!"},{"$error":"#VALUE!"},{"$error":"#VALUE!"},{"$error":"#VALUE!"},{"$error":"#VALUE!"},{"$error":"#VALUE!"},{"$error":"#VALUE!"},{"$error":"#VALUE!"},{"$error":"#VALUE!"},{"$error":"#VALUE!"},{"$error":"#VALUE!"},{"$error":"#VALUE!"},{"$error":"#VALUE!"},{"$error":"#VALUE!"},{"$error":"#VALUE!"},{"$error":"#VALUE!"},{"$error":"#VALUE!"},{"$error":"#VALUE!"},{"$error":"#VALUE!"},{"$error":"#VALUE!"},9,0,{"$error":"#VALUE!"},{"$error":"#VALUE!"},{"$error":"#VALUE!"},{"$error":"#VALUE!"},{"$error":"#VALUE!"},{"$error":"#VALUE!"},{"$error":"#VALUE!"},{"$error":"#VALUE!"},{"$error":"#VALUE!"},{"$error":"#VALUE!"},{"$error":"#VALUE!"},{"$error":"#VALUE!"},{"$error":"#VALUE!"},{"$error":"#VALUE!"},{"$error":"#VALUE!"},{"$error":"#VALUE!"},{"$error":"#VALUE!"},{"$error":"#VALUE!"},{"$error":"#VALUE!"},{"$error":"#VALUE!"},{"$error":"#VALUE!"},{"$error":"#VALUE!"},{"$error":"#VALUE!"},{"$error":"#VALUE!"},{"$error":"#VALUE!"},{"$error":"#VALUE!"},{"$error":"#VALUE!"},{"$error":"#VALUE!"},{"$error":"#VALUE!"},{"$error":"#VALUE!"},{"$error":"#VALUE!"},{"$error":"#VALUE!"},{"$error":"#VALUE!"}]
[null,null,null,null,null,null,null,null,null,null,null,null,null,null,null,null,null,null,null,null,null,null,null,"Total",{"$f":"SUM(Y185:Y191)","v":0},{"$f":"SUM(Z185:Z191)","v":0},0,0,0,0,null,null,null,"N/A",null,false,null,null,null,null,"Total",null,null,null,null,null,null,null,null,null,null,null,null,null,null,null,null,null,null,null,null,null,null,null,"Total",null,null,null,null,null,null,null,null,null,null,null,null,null,null,null,null,null,null,null,null,null,null,null,null,null,null,null,null,null,null,null,null,null,null,null,null,null,null,null,null,null,null,null,null,null,null,null,null,null,null,null,null,null,null,null,null,null,null,null,null,null,null,null,null,null,null,null,"Total",{"$f":"SUM(ED185:ED191)","v":{"$error":"#VALUE!"}},{"$f":"SUM(EE185:EE191)","v":{"$error":"#VALUE!"}},{"$f":"SUM(EF185:EF191)","v":{"$error":"#VALUE!"}},{"$f":"SUM(EG185:EG191)","v":{"$error":"#VALUE!"}},{"$f":"SUM(EH185:EH191)","v":{"$error":"#VALUE!"}},{"$f":"SUM(EI185:EI191)","v":{"$error":"#VALUE!"}},{"$error":"#VALUE!"},{"$error":"#VALUE!"},{"$error":"#VALUE!"},{"$error":"#VALUE!"},{"$error":"#VALUE!"},{"$error":"#VALUE!"},{"$error":"#VALUE!"},{"$error":"#VALUE!"},{"$error":"#VALUE!"},{"$error":"#VALUE!"},{"$error":"#VALUE!"},{"$error":"#VALUE!"},null,"Total",{"$f":"SUM(EX185:EX191)","v":0},{"$f":"SUM(EY185:EY191)","v":{"$error":"#VALUE!"}},{"$f":"SUM(EZ185:EZ191)","v":{"$error":"#VALUE!"}},{"$error":"#VALUE!"},{"$error":"#VALUE!"},{"$f":"SUM(FC185:FC191)","v":{"$error":"#VALUE!"}},{"$f":"SUM(FD185:FD191)","v":{"$error":"#VALUE!"}},{"$error":"#VALUE!"},{"$error":"#VALUE!"},{"$error":"#VALUE!"},{"$error":"#VALUE!"},{"$error":"#VALUE!"},{"$error":"#VALUE!"},{"$error":"#VALUE!"},{"$error":"#VALUE!"},{"$error":"#VALUE!"},{"$f":"SUM(FN185:FN191)","v":{"$error":"#VALUE!"}},{"$f":"SUM(FO185:FO191)","v":{"$error":"#VALUE!"}},{"$f":"SUM(FP185:FP191)","v":{"$error":"#VALUE!"}},{"$f":"SUM(FQ185:FQ191)","v":{"$error":"#VALUE!"}},{"$error":"#VALUE!"},{"$error":"#VALUE!"},{"$error":"#VALUE!"},{"$error":"#VALUE!"},{"$error":"#VALUE!"},{"$error":"#VALUE!"},{"$error":"#VALUE!"},{"$error":"#VALUE!"},{"$error":"#VALUE!"},{"$error":"#VALUE!"},{"$error":"#VALUE!"},{"$f":"SUM(GC185:GC191)","v":{"$error":"#VALUE!"}},{"$f":"SUM(GD185:GD191)","v":{"$error":"#VALUE!"}},{"$error":"#VALUE!"},"Total",{"$f":"SUM(GG185:GG191)","v":0},{"$f":"SUM(GH185:GH191)","v":{"$error":"#VALUE!"}},{"$f":"SUM(GI185:GI191)","v":{"$error":"#VALUE!"}},{"$error":"#VALUE!"},{"$error":"#VALUE!"},{"$f":"SUM(GL185:GL191)","v":{"$error":"#VALUE!"}},{"$f":"SUM(GM185:GM191)","v":{"$error":"#VALUE!"}},{"$f":"SUM(GN185:GN191)","v":{"$error":"#VALUE!"}},{"$error":"#VALUE!"},{"$error":"#VALUE!"},{"$error":"#VALUE!"},{"$error":"#VALUE!"},{"$error":"#VALUE!"},{"$error":"#VALUE!"},{"$error":"#VALUE!"},{"$error":"#VALUE!"},{"$f":"SUM(GW185:GW191)","v":{"$error":"#VALUE!"}},{"$f":"SUM(GX185:GX191)","v":{"$error":"#VALUE!"}},{"$f":"SUM(GY185:GY191)","v":{"$error":"#VALUE!"}},{"$f":"SUM(GZ185:GZ191)","v":{"$error":"#VALUE!"}},{"$error":"#VALUE!"},{"$error":"#VALUE!"},{"$error":"#VALUE!"},{"$error":"#VALUE!"},{"$error":"#VALUE!"},{"$error":"#VALUE!"},{"$error":"#VALUE!"},{"$error":"#VALUE!"},{"$error":"#VALUE!"},{"$error":"#VALUE!"},{"$error":"#VALUE!"},{"$f":"SUM(HL185:HL191)","v":{"$error":"#VALUE!"}},{"$f":"SUM(HM185:HM191)","v":{"$error":"#VALUE!"}},{"$error":"#VALUE!"},"Total",{"$f":"SUM(HP185:HP191)","v":0},{"$f":"SUM(HQ185:HQ191)","v":{"$error":"#VALUE!"}},{"$f":"SUM(HR185:HR191)","v":{"$error":"#VALUE!"}},{"$error":"#VALUE!"},{"$error":"#VALUE!"},{"$f":"SUM(HU185:HU191)","v":{"$error":"#VALUE!"}},{"$f":"SUM(HV185:HV191)","v":{"$error":"#VALUE!"}},{"$error":"#VALUE!"},{"$error":"#VALUE!"},{"$error":"#VALUE!"},{"$error":"#VALUE!"},{"$error":"#VALUE!"},{"$error":"#VALUE!"},{"$error":"#VALUE!"},{"$error":"#VALUE!"},{"$error":"#VALUE!"},{"$f":"SUM(IF185:IF191)","v":{"$error":"#VALUE!"}},{"$f":"SUM(IG185:IG191)","v":{"$error":"#VALUE!"}},{"$f":"SUM(IH185:IH191)","v":{"$error":"#VALUE!"}},{"$f":"SUM(II185:II191)","v":{"$error":"#VALUE!"}},{"$error":"#VALUE!"},{"$error":"#VALUE!"},{"$error":"#VALUE!"},{"$error":"#VALUE!"},{"$error":"#VALUE!"},{"$error":"#VALUE!"},{"$error":"#VALUE!"},{"$error":"#VALUE!"},{"$error":"#VALUE!"},{"$error":"#VALUE!"},{"$error":"#VALUE!"},{"$f":"SUM(IU185:IU191)","v":{"$error":"#VALUE!"}},{"$f":"SUM(IV185:IV191)","v":{"$error":"#VALUE!"}},{"$error":"#VALUE!"},"Total",{"$f":"SUM(IY185:IY191)","v":0},{"$f":"SUM(IZ185:IZ191)","v":{"$error":"#VALUE!"}},{"$f":"SUM(JA185:JA191)","v":{"$error":"#VALUE!"}},{"$error":"#VALUE!"},{"$error":"#VALUE!"},{"$f":"SUM(JD185:JD191)","v":{"$error":"#VALUE!"}},{"$f":"SUM(JE185:JE191)","v":{"$error":"#VALUE!"}},{"$error":"#VALUE!"},{"$error":"#VALUE!"},{"$error":"#VALUE!"},{"$error":"#VALUE!"},{"$error":"#VALUE!"},{"$error":"#VALUE!"},{"$error":"#VALUE!"},{"$error":"#VALUE!"},{"$error":"#VALUE!"},{"$f":"SUM(JO185:JO191)","v":{"$error":"#VALUE!"}},{"$f":"SUM(JP185:JP191)","v":{"$error":"#VALUE!"}},{"$f":"SUM(JQ185:JQ191)","v":{"$error":"#VALUE!"}},{"$f":"SUM(JR185:JR191)","v":{"$error":"#VALUE!"}},{"$error":"#VALUE!"},{"$error":"#VALUE!"},{"$error":"#VALUE!"},{"$error":"#VALUE!"},{"$error":"#VALUE!"},{"$error":"#VALUE!"},{"$error":"#VALUE!"},{"$error":"#VALUE!"},{"$error":"#VALUE!"},{"$error":"#VALUE!"},{"$error":"#VALUE!"},{"$f":"SUM(KD185:KD191)","v":{"$error":"#VALUE!"}},{"$f":"SUM(KE185:KE191)","v":{"$error":"#VALUE!"}},{"$error":"#VALUE!"},"Total",{"$f":"SUM(KH185:KH191)","v":0},{"$f":"SUM(KI185:KI191)","v":{"$error":"#VALUE!"}},{"$f":"SUM(KJ185:KJ191)","v":{"$error":"#VALUE!"}},{"$error":"#VALUE!"},{"$error":"#VALUE!"},{"$f":"SUM(KM185:KM191)","v":{"$error":"#VALUE!"}},{"$f":"SUM(KN185:KN191)","v":{"$error":"#VALUE!"}},{"$error":"#VALUE!"},{"$error":"#VALUE!"},{"$error":"#VALUE!"},{"$error":"#VALUE!"},{"$error":"#VALUE!"},{"$error":"#VALUE!"},{"$error":"#VALUE!"},{"$error":"#VALUE!"},{"$error":"#VALUE!"},{"$f":"SUM(KX185:KX191)","v":{"$error":"#VALUE!"}},{"$f":"SUM(KY185:KY191)","v":{"$error":"#VALUE!"}},{"$f":"SUM(KZ185:KZ191)","v":{"$error":"#VALUE!"}},{"$f":"SUM(LA185:LA191)","v":{"$error":"#VALUE!"}},{"$error":"#VALUE!"},{"$error":"#VALUE!"},{"$error":"#VALUE!"},{"$error":"#VALUE!"},{"$error":"#VALUE!"},{"$error":"#VALUE!"},{"$error":"#VALUE!"},{"$error":"#VALUE!"},{"$error":"#VALUE!"},{"$error":"#VALUE!"},{"$error":"#VALUE!"},{"$f":"SUM(LM185:LM191)","v":{"$error":"#VALUE!"}},{"$f":"SUM(LN185:LN191)","v":{"$error":"#VALUE!"}},{"$error":"#VALUE!"},"Total",{"$f":"SUM(LQ185:LQ191)","v":0},{"$f":"SUM(LR185:LR191)","v":{"$error":"#VALUE!"}},{"$f":"SUM(LS185:LS191)","v":{"$error":"#VALUE!"}},{"$error":"#VALUE!"},{"$error":"#VALUE!"},{"$f":"SUM(LV185:LV191)","v":{"$error":"#VALUE!"}},{"$f":"SUM(LW185:LW191)","v":{"$error":"#VALUE!"}},{"$error":"#VALUE!"},{"$error":"#VALUE!"},{"$error":"#VALUE!"},{"$error":"#VALUE!"},{"$error":"#VALUE!"},{"$error":"#VALUE!"},{"$error":"#VALUE!"},{"$error":"#VALUE!"},{"$f":"SUM(MF185:MF191)","v":{"$error":"#VALUE!"}},{"$f":"SUM(MG185:MG191)","v":{"$error":"#VALUE!"}},{"$f":"SUM(MH185:MH191)","v":{"$error":"#VALUE!"}},{"$f":"SUM(MI185:MI191)","v":{"$error":"#VALUE!"}},{"$f":"SUM(MJ185:MJ191)","v":{"$error":"#VALUE!"}},{"$error":"#VALUE!"},{"$error":"#VALUE!"},{"$error":"#VALUE!"},{"$error":"#VALUE!"},{"$error":"#VALUE!"},{"$error":"#VALUE!"},{"$error":"#VALUE!"},{"$error":"#VALUE!"},{"$error":"#VALUE!"},{"$error":"#VALUE!"},{"$error":"#VALUE!"},{"$f":"SUM(MV185:MV191)","v":{"$error":"#VALUE!"}},{"$f":"SUM(MW185:MW191)","v":{"$error":"#VALUE!"}},{"$error":"#VALUE!"}]
[null,21,{"$f":"'Regional Project List Sheet'!F25","v":0},{"$f":"IF('Regional Project List Sheet'!$G25=\"New\",1,\"\")","v":""},{"$f":"IF('Regional Project List Sheet'!$G25=\"Funded Old\",1,\"\")","v":""},{"$f":"IF('Regional Project List Sheet'!$G25=\"Unfunded Old\",1,\"\")","v":""},{"$f":"'Regional Project List Sheet'!H25","v":0},{"$f":"'Regional Project List Sheet'!I25","v":0},{"$f":"'Regional Project List Sheet'!L25","v":0},{"$f":"'Regional Project List Sheet'!M25","v":0},{"$f":"'Regional Project List Sheet'!N25","v":0},{"$f":"'Regional Project List Sheet'!O25","v":0},{"$f":"'Regional Project List Sheet'!P25","v":0},{"$f":"IF('Regional Project List Sheet'!$Q25=\"N/A\",\"N/A\",IF($Y196<>0,5,IF($Z196<>0,4,IF($AA196<>0,3,IF($AB196<>0,2,1)))))","v":1},{"$f":"VLOOKUP($C193,'[2]Ranking|Priority'!$B$5:$O$40,12,FALSE)","v":{"$error":"#N/A"}},{"$f":"VLOOKUP($C193,'[2]Ranking|Priority'!$B$5:$O$68,13,FALSE)","v":{"$error":"#N/A"}},{"$f":"VLOOKUP($C193,'[2]Ranking|Priority'!$B$5:$O$68,14,FALSE)","v":{"$error":"#N/A"}},{"$f":"'Regional Project List Sheet'!T25","v":0},{"$f":"'Regional Project List Sheet'!U25","v":0},{"$f":"'Regional Project List Sheet'!V25","v":0},{"$f":"'Regional Project List Sheet'!W25","v":0},{"$f":"'Regional Project List Sheet'!X25","v":0},{"$f":"'Regional Project List Sheet'!Y25","v":"Choose from Project List in cell I2"},0,null,null,null,null,null,null,null,{"$f":"'Regional Project List Sheet'!AJ25","v":0},{"$f":"IF(OR('Regional Project List Sheet'!$AA25<>'Regional Project List Sheet'!$A$40,'Regional Project List Sheet'!$AD25<>'Regional Project List Sheet'!$A$40,'Regional Project List Sheet'!$AG25<>'Regional Project List Sheet'!$A$40),_xlfn.CONCAT(IF(ISNUMBER('Regional Project List Sheet'!$AA25),'Regional Project List Sheet'!$A$36,\"\"),\" \",IF(ISNUMBER('Regional Project List Sheet'!$AD25),'Regional Project List Sheet'!$A$37,\"\"),\" \",IF(ISNUMBER('Regional Project List Sheet'!$AG25),'Regional Project List Sheet'!$A$38,\"\")),\"N/A\")","v":"N/A"},"N/A",{"$f":"IF(OR('Regional Project List Sheet'!AC25<>'Regional Project List Sheet'!$A$40,'Regional Project List Sheet'!AF25<>'Regional Project List Sheet'!$A$40,'Regional Project List Sheet'!AI25<>'Regional Project List Sheet'!$A$40),\n\nIF(LEN(_xlfn.CONCAT(IF('Regional Project List Sheet'!AC25=\"Yes\",'Regional Project List Sheet'!$A$36,\"\"),\" \",\n\nIF('Regional Project List Sheet'!AF25=\"Yes\",'Regional Project List Sheet'!$A$37,\"\"),\" \",\n\nIF('Regional Project List Sheet'!AI25=\"Yes\",'Regional Project List Sheet'!$A$38,\"\")))<3,\"No\",\n\n_xlfn.CONCAT(IF('Regional Project List Sheet'!AC25=\"Yes\",'Regional Project List Sheet'!$A$36,\"\"),\" \",\n\nIF('Regional Project List Sheet'!AF25=\"Yes\",'Regional Project List Sheet'!$A$37,\"\"),\" \",\n\nIF('Regional Project List Sheet'!AI25=\"Yes\",'Regional Project List Sheet'!$A$38,\"\"))))","v":false},false,{"$f":"'Regional Project List Sheet'!AK25","v":0},null,{"$f":"'Regional Project List Sheet'!AL25","v":0},null,0,null,null,null,null,null,null,null,null,null,null,1,{"$f":"IF(AND(BB193=\"OK\",BC193=\"OK\",BD193=\"OK\"),\"OK\",\"ERR!\")","v":"ERR!"},{"$f":"IF(AND(Y193>0,SUM(BN193:BX193)<1),\"ERR!\",IF(AND(Z193>0,SUM(BY193:CI193)<1),\"ERR!\",IF(AND(AA193>0,SUM(CJ193:CT193)<1),\"ERR\",IF(AND(AB193>0,SUM(CU193:DE193)<1),\"ERR\",IF(AND(AC193>0,SUM(DF193:DP193)<1),\"ERR\",IF(AND(AD193>0,SUM(DQ193:EA193)<1),\"ERR\",\"OK\"))))))","v":"OK"},{"$f":"IF(OR(SUM(BN193:BX193)<>1,SUM(BY193:CI193)<>1,SUM(CJ193:CT193)<>1,SUM(CU193:DE193)<>1,SUM(DF193:DP193)<>1,SUM(DQ193:EA193)<>1),\"ERR!\",\"OK\")","v":"ERR!"},{"$f":"IF(AND(OR(BE193=BK193,BE193=0),OR(BF193=BK193,BF193=0),OR(BG193=BK193,BG193=0),OR(BH193=BK193,BH193=0),OR(BI193=BK193,BI193=0),OR(BJ193=BK193,BJ193=0)),\"OK\",\"ERR!\")","v":"OK"},{"$f":"(BN193*POWER(10,0)+BO193*POWER(10,1)+BP193*POWER(10,2)+BQ193*POWER(10,3)+BR193*POWER(10,4)+BS193*POWER(10,5)+BT193*POWER(10,6)+BU193*POWER(10,7)+BV193*POWER(10,8)+BW193*POWER(10,9)+BX193*POWER(10,10))","v":0},{"$f":"(BY193*POWER(10,0)+BZ193*POWER(10,1)+CA193*POWER(10,2)+CB193*POWER(10,3)+CC193*POWER(10,4)+CD193*POWER(10,5)+CE193*POWER(10,6)+CF193*POWER(10,7)+CG193*POWER(10,8)+CH193*POWER(10,9)+CI193*POWER(10,10))","v":0},{"$f":"(CJ193*POWER(10,0)+CK193*POWER(10,1)+CL193*POWER(10,2)+CM193*POWER(10,3)+CN193*POWER(10,4)+CO193*POWER(10,5)+CP193*POWER(10,6)+CQ193*POWER(10,7)+CR193*POWER(10,8)+CS193*POWER(10,9)+CT193*POWER(10,10))","v":0},{"$f":"(CU193*POWER(10,0)+CV193*POWER(10,1)+CW193*POWER(10,2)+CX193*POWER(10,3)+CY193*POWER(10,4)+CZ193*POWER(10,5)+DA193*POWER(10,6)+DB193*POWER(10,7)+DC193*POWER(10,8)+DD193*POWER(10,9)+DE193*POWER(10,10))","v":0},{"$f":"(DF193*POWER(10,0)+DG193*POWER(10,1)+DH193*POWER(10,2)+DI193*POWER(10,3)+DJ193*POWER(10,4)+DK193*POWER(10,5)+DL193*POWER(10,6)+DM193*POWER(10,7)+DN193*POWER(10,8)+DO193*POWER(10,9)+DP193*POWER(10,10))","v":0},{"$f":"(DQ193*POWER(10,0)+DR193*POWER(10,1)+DS193*POWER(10,2)+DT193*POWER(10,3)+DU193*POWER(10,4)+DV193*POWER(10,5)+DW193*POWER(10,6)+DX193*POWER(10,7)+DY193*POWER(10,8)+DZ193*POWER(10,9)+EA193*POWER(10,10))","v":0},{"$f":"MAX(BE193:BJ193)","v":0},null,0,null,null,null,null,null,null,null,null,null,null,null,null,null,null,null,null,null,null,null,null,null,null,null,null,null,null,null,null,null,null,null,null,null,null,null,null,null,null,null,null,null,null,null,null,null,null,null,null,null,null,null,null,null,null,null,null,null,null,null,null,null,null,null,null,null,null,null,0,{"$f":"($Y193*D$193)/1000","v":{"$error":"#VALUE!"}},{"$error":"#VALUE!"},{"$error":"#VALUE!"},{"$f":"($Z193*D$193)/1000","v":{"$error":"#VALUE!"}},{"$error":"#VALUE!"},{"$error":"#VALUE!"},{"$f":"($AA193*D$193)/1000","v":{"$error":"#VALUE!"}},{"$error":"#VALUE!"},{"$error":"#VALUE!"},{"$f":"($AB193*D$193)/1000","v":{"$error":"#VALUE!"}},{"$error":"#VALUE!"},{"$error":"#VALUE!"},{"$f":"($AC193*D$193)/1000","v":{"$error":"#VALUE!"}},{"$error":"#VALUE!"},{"$error":"#VALUE!"},{"$f":"($AD193*D$193)/1000","v":{"$error":"#VALUE!"}},{"$error":"#VALUE!"},{"$error":"#VALUE!"},null,0,{"$f":"$AZ$193*$Y193","v":0},{"$f":"($AZ$193*$BN193*D$193*$Y193)/1000","v":{"$error":"#VALUE!"}},{"$error":"#VALUE!"},{"$error":"#VALUE!"},{"$f":"($AZ$193*$BO193*D$193*$Y193)/1000","v":{"$error":"#VALUE!"}},{"$error":"#VALUE!"},{"$error":"#VALUE!"},{"$f":"($AZ$193*$BP193*D$193*$Y193)/1000","v":{"$error":"#VALUE!"}},{"$error":"#VALUE!"},{"$error":"#VALUE!"},{"$f":"($AZ$193*$BQ193*D$193*$Y193)/1000","v":{"$error":"#VALUE!"}},{"$error":"#VALUE!"},{"$error":"#VALUE!"},{"$f":"($AZ$193*$BR193*D$193*$Y193)/1000","v":{"$error":"#VALUE!"}},{"$error":"#VALUE!"},{"$error":"#VALUE!"},{"$f":"($AZ$193*$BS193*D$193*$Y193)/1000","v":{"$error":"#VALUE!"}},{"$error":"#VALUE!"},{"$error":"#VALUE!"},{"$f":"($AZ$193*$BT193*D$193*$Y193)/1000","v":{"$error":"#VALUE!"}},{"$error":"#VALUE!"},{"$error":"#VALUE!"},{"$f":"($AZ$193*$BU193*D$193*$Y193)/1000","v":{"$error":"#VALUE!"}},{"$error":"#VALUE!"},{"$error":"#VALUE!"},{"$f":"($AZ$193*$BV193*D$193*$Y193)/1000","v":{"$error":"#VALUE!"}},{"$error":"#VALUE!"},{"$error":"#VALUE!"},{"$f":"($AZ$193*$BW193*D$193*$Y193)/1000","v":{"$error":"#VALUE!"}},{"$error":"#VALUE!"},{"$error":"#VALUE!"},{"$f":"($AZ$193*$BX193*D$193*$Y193)/1000","v":{"$error":"#VALUE!"}},{"$error":"#VALUE!"},{"$error":"#VALUE!"},0,{"$f":"$AZ$193*$Z193","v":0},{"$f":"($AZ$193*$BY193*D$193*$Z193)/1000","v":{"$error":"#VALUE!"}},{"$error":"#VALUE!"},{"$error":"#VALUE!"},{"$f":"($AZ$193*$BZ193*D$193*$Z193)/1000","v":{"$error":"#VALUE!"}},{"$error":"#VALUE!"},{"$error":"#VALUE!"},{"$f":"($AZ$193*$CA193*D$193*$Z193)/1000","v":{"$error":"#VALUE!"}},{"$error":"#VALUE!"},{"$error":"#VALUE!"},{"$f":"($AZ$193*$CB193*D$193*$Z193)/1000","v":{"$error":"#VALUE!"}},{"$error":"#VALUE!"},{"$error":"#VALUE!"},{"$f":"($AZ$193*$CD193*D$193*$Z193)/1000","v":{"$error":"#VALUE!"}},{"$error":"#VALUE!"},{"$error":"#VALUE!"},{"$f":"($AZ$193*$CD193*D$193*$Z193)/1000","v":{"$error":"#VALUE!"}},{"$error":"#VALUE!"},{"$error":"#VALUE!"},{"$f":"($AZ$193*$CE193*D$193*$Z193)/1000","v":{"$error":"#VALUE!"}},{"$error":"#VALUE!"},{"$error":"#VALUE!"},{"$f":"($AZ$193*$CF193*D$193*$Z193)/1000","v":{"$error":"#VALUE!"}},{"$error":"#VALUE!"},{"$error":"#VALUE!"},{"$f":"($AZ$193*$CG193*D$193*$Z193)/1000","v":{"$error":"#VALUE!"}},{"$error":"#VALUE!"},{"$error":"#VALUE!"},{"$f":"($AZ$193*$CH193*D$193*$Z193)/1000","v":{"$error":"#VALUE!"}},{"$error":"#VALUE!"},{"$error":"#VALUE!"},{"$f":"($AZ$193*$CI193*D$193*$Z193)/1000","v":{"$error":"#VALUE!"}},{"$error":"#VALUE!"},{"$error":"#VALUE!"},0,{"$f":"$AZ$193*$AA193","v":0},{"$f":"($AZ$193*$CJ193*D$193*$AA193)/1000","v":{"$error":"#VALUE!"}},{"$error":"#VALUE!"},{"$error":"#VALUE!"},{"$f":"($AZ$193*$CK193*D$193*$AA193)/1000","v":{"$error":"#VALUE!"}},{"$error":"#VALUE!"},{"$error":"#VALUE!"},{"$f":"($AZ$193*$CL193*D$193*$AA193)/1000","v":{"$error":"#VALUE!"}},{"$error":"#VALUE!"},{"$error":"#VALUE!"},{"$f":"($AZ$193*$CM193*D$193*$AA193)/1000","v":{"$error":"#VALUE!"}},{"$error":"#VALUE!"},{"$error":"#VALUE!"},{"$f":"($AZ$193*$CN193*D$193*$AA193)/1000","v":{"$error":"#VALUE!"}},{"$error":"#VALUE!"},{"$error":"#VALUE!"},{"$f":"($AZ$193*$CO193*D$193*$AA193)/1000","v":{"$error":"#VALUE!"}},{"$error":"#VALUE!"},{"$error":"#VALUE!"},{"$f":"($AZ$193*$CP193*D$193*$AA193)/1000","v":{"$error":"#VALUE!"}},{"$error":"#VALUE!"},{"$error":"#VALUE!"},{"$f":"($AZ$193*$CQ193*D$193*$AA193)/1000","v":{"$error":"#VALUE!"}},{"$error":"#VALUE!"},{"$error":"#VALUE!"},{"$f":"($AZ$193*$CR193*D$193*$AA193)/1000","v":{"$error":"#VALUE!"}},{"$error":"#VALUE!"},{"$error":"#VALUE!"},{"$f":"($AZ$193*$CS193*D$193*$AA193)/1000","v":{"$error":"#VALUE!"}},{"$error":"#VALUE!"},{"$error":"#VALUE!"},{"$f":"($AZ$193*$CT193*D$193*$AA193)/1000","v":{"$error":"#VALUE!"}},{"$error":"#VALUE!"},{"$error":"#VALUE!"},0,{"$f":"$AZ$193*$AB193","v":0},{"$f":"($AZ$193*$CU193*D$193*$AB193)/1000","v":{"$error":"#VALUE!"}},{"$error":"#VALUE!"},{"$error":"#VALUE!"},{"$f":"($AZ$193*$CV193*D$193*$AB193)/1000","v":{"$error":"#VALUE!"}},{"$error":"#VALUE!"},{"$error":"#VALUE!"},{"$f":"($AZ$193*$CW193*D$193*$AB193)/1000","v":{"$error":"#VALUE!"}},{"$error":"#VALUE!"},{"$error":"#VALUE!"},{"$f":"($AZ$193*$CX193*D$193*$AB193)/1000","v":{"$error":"#VALUE!"}},{"$error":"#VALUE!"},{"$error":"#VALUE!"},{"$f":"($AZ$193*$CY193*D$193*$AB193)/1000","v":{"$error":"#VALUE!"}},{"$error":"#VALUE!"},{"$error":"#VALUE!"},{"$f":"($AZ$193*$CZ193*D$193*$AB193)/1000","v":{"$error":"#VALUE!"}},{"$error":"#VALUE!"},{"$error":"#VALUE!"},{"$f":"($AZ$193*$DA193*D$193*$AB193)/1000","v":{"$error":"#VALUE!"}},{"$error":"#VALUE!"},{"$error":"#VALUE!"},{"$f":"($AZ$193*$DB193*D$193*$AB193)/1000","v":{"$error":"#VALUE!"}},{"$error":"#VALUE!"},{"$error":"#VALUE!"},{"$f":"($AZ$193*$DC193*D$193*$AB193)/1000","v":{"$error":"#VALUE!"}},{"$error":"#VALUE!"},{"$error":"#VALUE!"},{"$f":"($AZ$193*$DD193*D$193*$AB193)/1000","v":{"$error":"#VALUE!"}},{"$error":"#VALUE!"},{"$error":"#VALUE!"},{"$f":"($AZ$193*$DE193*D$193*$AB193)/1000","v":{"$error":"#VALUE!"}},{"$error":"#VALUE!"},{"$error":"#VALUE!"},0,{"$f":"$AZ$193*$AC193","v":0},{"$f":"($AZ$193*$DF193*D$193*$AC193)/1000","v":{"$error":"#VALUE!"}},{"$error":"#VALUE!"},{"$error":"#VALUE!"},{"$f":"($AZ$193*$DG193*D$193*$AC193)/1000","v":{"$error":"#VALUE!"}},{"$error":"#VALUE!"},{"$error":"#VALUE!"},{"$f":"($AZ$193*$DH193*D$193*$AC193)/1000","v":{"$error":"#VALUE!"}},{"$error":"#VALUE!"},{"$error":"#VALUE!"},{"$f":"($AZ$193*$DI193*D$193*$AC193)/1000","v":{"$error":"#VALUE!"}},{"$error":"#VALUE!"},{"$error":"#VALUE!"},{"$f":"($AZ$193*$DJ193*D$193*$AC193)/1000","v":{"$error":"#VALUE!"}},{"$error":"#VALUE!"},{"$error":"#VALUE!"},{"$f":"($AZ$193*$DK193*D$193*$AC193)/1000","v":{"$error":"#VALUE!"}},{"$error":"#VALUE!"},{"$error":"#VALUE!"},{"$f":"($AZ$193*$DL193*D$193*$AC193)/1000","v":{"$error":"#VALUE!"}},{"$error":"#VALUE!"},{"$error":"#VALUE!"},{"$f":"($AZ$193*$DM193*D$193*$AC193)/1000","v":{"$error":"#VALUE!"}},{"$error":"#VALUE!"},{"$error":"#VALUE!"},{"$f":"($AZ$193*$DN193*D$193*$AC193)/1000","v":{"$error":"#VALUE!"}},{"$error":"#VALUE!"},{"$error":"#VALUE!"},{"$f":"($AZ$193*$DO193*D$193*$AC193)/1000","v":{"$error":"#VALUE!"}},{"$error":"#VALUE!"},{"$error":"#VALUE!"},{"$f":"($AZ$193*$DP193*D$193*$AC193)/1000","v":{"$error":"#VALUE!"}},{"$error":"#VALUE!"},{"$error":"#VALUE!"},0,{"$f":"$AZ$193*$AD193","v":0},{"$f":"($AZ$193*$DQ193*D$193*$AD193)/1000","v":{"$error":"#VALUE!"}},{"$error":"#VALUE!"},{"$error":"#VALUE!"},{"$f":"($AZ$193*$DR193*D$193*$AD193)/1000","v":{"$error":"#VALUE!"}},{"$error":"#VALUE!"},{"$error":"#VALUE!"},{"$f":"($AZ$193*$DS193*D$193*$AD193)/1000","v":{"$error":"#VALUE!"}},{"$error":"#VALUE!"},{"$error":"#VALUE!"},{"$f":"($AZ$193*$DT193*D$193*$AD193)/1000","v":{"$error":"#VALUE!"}},{"$error":"#VALUE!"},{"$error":"#VALUE!"},{"$f":"($AZ$193*$DU193*D$193*$AD193)/1000","v":{"$error":"#VALUE!"}},{"$error":"#VALUE!"},{"$error":"#VALUE!"},{"$f":"($AZ$193*$DV193*D$193*$AD193)/1000","v":{"$error":"#VALUE!"}},{"$error":"#VALUE!"},{"$error":"#VALUE!"},{"$f":"($AZ$193*$DW193*D$193*$AD193)/1000","v":{"$error":"#VALUE!"}},{"$error":"#VALUE!"},{"$error":"#VALUE!"},{"$f":"($AZ$193*$DX193*D$193*$AD193)/1000","v":{"$error":"#VALUE!"}},{"$error":"#VALUE!"},{"$error":"#VALUE!"},{"$f":"($AZ$193*$DY193*D$193*$AD193)/1000","v":{"$error":"#VALUE!"}},{"$error":"#VALUE!"},{"$error":"#VALUE!"},{"$f":"($AZ$193*$DZ193*D$193*$AD193)/1000","v":{"$error":"#VALUE!"}},{"$error":"#VALUE!"},{"$error":"#VALUE!"},{"$f":"($AZ$193*$EA193*D$193*$AD193)/1000","v":{"$error":"#VALUE!"}},{"$error":"#VALUE!"},{"$error":"#VALUE!"}]
[null,null,null,null,null,null,null,null,null,null,null,null,null,null,null,null,null,null,null,null,null,null,null,2,null,null,null,null,null,null,null,null,null,"N/A",null,false,null,null,null,null,2,null,null,null,null,null,null,null,null,null,null,null,{"$f":"IF(AND(BB194=\"OK\",BC194=\"OK\",BD194=\"OK\"),\"OK\",\"ERR!\")","v":"ERR!"},"OK",{"$f":"IF(OR(SUM(BN194:BX194)<>1,SUM(BY194:CI194)<>1,SUM(CJ194:CT194)<>1,SUM(CU194:DE194)<>1,SUM(DF194:DP194)<>1,SUM(DQ194:EA194)<>1),\"ERR!\",\"OK\")","v":"ERR!"},{"$f":"IF(AND(OR(BE194=BK194,BE194=0),OR(BF194=BK194,BF194=0),OR(BG194=BK194,BG194=0),OR(BH194=BK194,BH194=0),OR(BI194=BK194,BI194=0),OR(BJ194=BK194,BJ194=0)),\"OK\",\"ERR!\")","v":"OK"},{"$f":"(BN194*POWER(10,0)+BO194*POWER(10,1)+BP194*POWER(10,2)+BQ194*POWER(10,3)+BR194*POWER(10,4)+BS194*POWER(10,5)+BT194*POWER(10,6)+BU194*POWER(10,7)+BV194*POWER(10,8)+BW194*POWER(10,9)+BX194*POWER(10,10))","v":0},{"$f":"(BY194*POWER(10,0)+BZ194*POWER(10,1)+CA194*POWER(10,2)+CB194*POWER(10,3)+CC194*POWER(10,4)+CD194*POWER(10,5)+CE194*POWER(10,6)+CF194*POWER(10,7)+CG194*POWER(10,8)+CH194*POWER(10,9)+CI194*POWER(10,10))","v":0},{"$f":"(CJ194*POWER(10,0)+CK194*POWER(10,1)+CL194*POWER(10,2)+CM194*POWER(10,3)+CN194*POWER(10,4)+CO194*POWER(10,5)+CP194*POWER(10,6)+CQ194*POWER(10,7)+CR194*POWER(10,8)+CS194*POWER(10,9)+CT194*POWER(10,10))","v":0},{"$f":"(CU194*POWER(10,0)+CV194*POWER(10,1)+CW194*POWER(10,2)+CX194*POWER(10,3)+CY194*POWER(10,4)+CZ194*POWER(10,5)+DA194*POWER(10,6)+DB194*POWER(10,7)+DC194*POWER(10,8)+DD194*POWER(10,9)+DE194*POWER(10,10))","v":0},{"$f":"(DF194*POWER(10,0)+DG194*POWER(10,1)+DH194*POWER(10,2)+DI194*POWER(10,3)+DJ194*POWER(10,4)+DK194*POWER(10,5)+DL194*POWER(10,6)+DM194*POWER(10,7)+DN194*POWER(10,8)+DO194*POWER(10,9)+DP194*POWER(10,10))","v":0},{"$f":"(DQ194*POWER(10,0)+DR194*POWER(10,1)+DS194*POWER(10,2)+DT194*POWER(10,3)+DU194*POWER(10,4)+DV194*POWER(10,5)+DW194*POWER(10,6)+DX194*POWER(10,7)+DY194*POWER(10,8)+DZ194*POWER(10,9)+EA194*POWER(10,10))","v":0},{"$f":"MAX(BE194:BJ194)","v":0},null,2,null,null,null,null,null,null,null,null,null,null,null,null,null,null,null,null,null,null,null,null,null,null,null,null,null,null,null,null,null,null,null,null,null,null,null,null,null,null,null,null,null,null,null,null,null,null,null,null,null,null,null,null,null,null,null,null,null,null,null,null,null,null,null,null,null,null,null,2,{"$error":"#VALUE!"},{"$error":"#VALUE!"},{"$error":"#VALUE!"},{"$error":"#VALUE!"},{"$error":"#VALUE!"},{"$error":"#VALUE!"},{"$error":"#VALUE!"},{"$error":"#VALUE!"},{"$error":"#VALUE!"},{"$error":"#VALUE!"},{"$error":"#VALUE!"},{"$error":"#VALUE!"},{"$error":"#VALUE!"},{"$error":"#VALUE!"},{"$error":"#VALUE!"},{"$error":"#VALUE!"},{"$error":"#VALUE!"},{"$error":"#VALUE!"},null,2,0,{"$error":"#VALUE!"},{"$error":"#VALUE!"},{"$error":"#VALUE!"},{"$error":"#VALUE!"},{"$error":"#VALUE!"},{"$error":"#VALUE!"},{"$error":"#VALUE!"},{"$error":"#VALUE!"},{"$error":"#VALUE!"},{"$error":"#VALUE!"},{"$error":"#VALUE!"},{"$error":"#VALUE!"},{"$error":"#VALUE!"},{"$error":"#VALUE!"},{"$error":"#VALUE!"},{"$error":"#VALUE!"},{"$error":"#VALUE!"},{"$error":"#VALUE!"},{"$error":"#VALUE!"},{"$error":"#VALUE!"},{"$error":"#VALUE!"},{"$error":"#VALUE!"},{"$error":"#VALUE!"},{"$error":"#VALUE!"},{"$error":"#VALUE!"},{"$error":"#VALUE!"},{"$error":"#VALUE!"},{"$error":"#VALUE!"},{"$error":"#VALUE!"},{"$error":"#VALUE!"},{"$error":"#VALUE!"},{"$error":"#VALUE!"},{"$error":"#VALUE!"},2,0,{"$error":"#VALUE!"},{"$error":"#VALUE!"},{"$error":"#VALUE!"},{"$error":"#VALUE!"},{"$error":"#VALUE!"},{"$error":"#VALUE!"},{"$error":"#VALUE!"},{"$error":"#VALUE!"},{"$error":"#VALUE!"},{"$error":"#VALUE!"},{"$error":"#VALUE!"},{"$error":"#VALUE!"},{"$error":"#VALUE!"},{"$error":"#VALUE!"},{"$error":"#VALUE!"},{"$error":"#VALUE!"},{"$error":"#VALUE!"},{"$error":"#VALUE!"},{"$error":"#VALUE!"},{"$error":"#VALUE!"},{"$error":"#VALUE!"},{"$error":"#VALUE!"},{"$error":"#VALUE!"},{"$error":"#VALUE!"},{"$error":"#VALUE!"},{"$error":"#VALUE!"},{"$error":"#VALUE!"},{"$error":"#VALUE!"},{"$error":"#VALUE!"},{"$error":"#VALUE!"},{"$error":"#VALUE!"},{"$error":"#VALUE!"},{"$error":"#VALUE!"},2,0,{"$error":"#VALUE!"},{"$error":"#VALUE!"},{"$error":"#VALUE!"},{"$error":"#VALUE!"},{"$error":"#VALUE!"},{"$error":"#VALUE!"},{"$error":"#VALUE!"},{"$error":"#VALUE!"},{"$error":"#VALUE!"},{"$error":"#VALUE!"},{"$error":"#VALUE!"},{"$error":"#VALUE!"},{"$error":"#VALUE!"},{"$error":"#VALUE!"},{"$error":"#VALUE!"},{"$error":"#VALUE!"},{"$error":"#VALUE!"},{"$error":"#VALUE!"},{"$error":"#VALUE!"},{"$error":"#VALUE!"},{"$error":"#VALUE!"},{"$error":"#VALUE!"},{"$error":"#VALUE!"},{"$error":"#VALUE!"},{"$error":"#VALUE!"},{"$error":"#VALUE!"},{"$error":"#VALUE!"},{"$error":"#VALUE!"},{"$error":"#VALUE!"},{"$error":"#VALUE!"},{"$error":"#VALUE!"},{"$error":"#VALUE!"},{"$error":"#VALUE!"},2,0,{"$error":"#VALUE!"},{"$error":"#VALUE!"},{"$error":"#VALUE!"},{"$error":"#VALUE!"},{"$error":"#VALUE!"},{"$error":"#VALUE!"},{"$error":"#VALUE!"},{"$error":"#VALUE!"},{"$error":"#VALUE!"},{"$error":"#VALUE!"},{"$error":"#VALUE!"},{"$error":"#VALUE!"},{"$error":"#VALUE!"},{"$error":"#VALUE!"},{"$error":"#VALUE!"},{"$error":"#VALUE!"},{"$error":"#VALUE!"},{"$error":"#VALUE!"},{"$error":"#VALUE!"},{"$error":"#VALUE!"},{"$error":"#VALUE!"},{"$error":"#VALUE!"},{"$error":"#VALUE!"},{"$error":"#VALUE!"},{"$error":"#VALUE!"},{"$error":"#VALUE!"},{"$error":"#VALUE!"},{"$error":"#VALUE!"},{"$error":"#VALUE!"},{"$error":"#VALUE!"},{"$error":"#VALUE!"},{"$error":"#VALUE!"},{"$error":"#VALUE!"},2,0,{"$error":"#VALUE!"},{"$error":"#VALUE!"},{"$error":"#VALUE!"},{"$error":"#VALUE!"},{"$error":"#VALUE!"},{"$error":"#VALUE!"},{"$error":"#VALUE!"},{"$error":"#VALUE!"},{"$error":"#VALUE!"},{"$error":"#VALUE!"},{"$error":"#VALUE!"},{"$error":"#VALUE!"},{"$error":"#VALUE!"},{"$error":"#VALUE!"},{"$error":"#VALUE!"},{"$error":"#VALUE!"},{"$error":"#VALUE!"},{"$error":"#VALUE!"},{"$error":"#VALUE!"},{"$error":"#VALUE!"},{"$error":"#VALUE!"},{"$error":"#VALUE!"},{"$error":"#VALUE!"},{"$error":"#VALUE!"},{"$error":"#VALUE!"},{"$error":"#VALUE!"},{"$error":"#VALUE!"},{"$error":"#VALUE!"},{"$error":"#VALUE!"},{"$error":"#VALUE!"},{"$error":"#VALUE!"},{"$error":"#VALUE!"},{"$error":"#VALUE!"},2,0,{"$error":"#VALUE!"},{"$error":"#VALUE!"},{"$error":"#VALUE!"},{"$error":"#VALUE!"},{"$error":"#VALUE!"},{"$error":"#VALUE!"},{"$error":"#VALUE!"},{"$error":"#VALUE!"},{"$error":"#VALUE!"},{"$error":"#VALUE!"},{"$error":"#VALUE!"},{"$error":"#VALUE!"},{"$error":"#VALUE!"},{"$error":"#VALUE!"},{"$error":"#VALUE!"},{"$error":"#VALUE!"},{"$error":"#VALUE!"},{"$error":"#VALUE!"},{"$error":"#VALUE!"},{"$error":"#VALUE!"},{"$error":"#VALUE!"},{"$error":"#VALUE!"},{"$error":"#VALUE!"},{"$error":"#VALUE!"},{"$error":"#VALUE!"},{"$error":"#VALUE!"},{"$error":"#VALUE!"},{"$error":"#VALUE!"},{"$error":"#VALUE!"},{"$error":"#VALUE!"},{"$error":"#VALUE!"},{"$error":"#VALUE!"},{"$error":"#VALUE!"}]
[null,null,null,null,null,null,null,null,null,null,null,null,null,null,null,null,null,null,null,null,null,null,null,3,null,null,null,null,null,null,null,null,null,"N/A",null,false,null,null,null,null,3,null,null,null,null,null,null,null,null,null,null,null,{"$f":"IF(AND(BB195=\"OK\",BC195=\"OK\",BD195=\"OK\"),\"OK\",\"ERR!\")","v":"ERR!"},"OK",{"$f":"IF(OR(SUM(BN195:BX195)<>1,SUM(BY195:CI195)<>1,SUM(CJ195:CT195)<>1,SUM(CU195:DE195)<>1,SUM(DF195:DP195)<>1,SUM(DQ195:EA195)<>1),\"ERR!\",\"OK\")","v":"ERR!"},{"$f":"IF(AND(OR(BE195=BK195,BE195=0),OR(BF195=BK195,BF195=0),OR(BG195=BK195,BG195=0),OR(BH195=BK195,BH195=0),OR(BI195=BK195,BI195=0),OR(BJ195=BK195,BJ195=0)),\"OK\",\"ERR!\")","v":"OK"},0,0,0,0,0,0,{"$f":"MAX(BE195:BJ195)","v":0},null,3,null,null,null,null,null,null,null,null,null,null,null,null,null,null,null,null,null,null,null,null,null,null,null,null,null,null,null,null,null,null,null,null,null,null,null,null,null,null,null,null,null,null,null,null,null,null,null,null,null,null,null,null,null,null,null,null,null,null,null,null,null,null,null,null,null,null,null,3,{"$error":"#VALUE!"},{"$error":"#VALUE!"},{"$error":"#VALUE!"},{"$error":"#VALUE!"},{"$error":"#VALUE!"},{"$error":"#VALUE!"},{"$error":"#VALUE!"},{"$error":"#VALUE!"},{"$error":"#VALUE!"},{"$error":"#VALUE!"},{"$error":"#VALUE!"},{"$error":"#VALUE!"},{"$error":"#VALUE!"},{"$error":"#VALUE!"},{"$error":"#VALUE!"},{"$error":"#VALUE!"},{"$error":"#VALUE!"},{"$error":"#VALUE!"},null,3,0,{"$error":"#VALUE!"},{"$error":"#VALUE!"},{"$error":"#VALUE!"},{"$error":"#VALUE!"},{"$error":"#VALUE!"},{"$error":"#VALUE!"},{"$error":"#VALUE!"},{"$error":"#VALUE!"},{"$error":"#VALUE!"},{"$error":"#VALUE!"},{"$error":"#VALUE!"},{"$error":"#VALUE!"},{"$error":"#VALUE!"},{"$error":"#VALUE!"},{"$error":"#VALUE!"},{"$error":"#VALUE!"},{"$error":"#VALUE!"},{"$error":"#VALUE!"},{"$error":"#VALUE!"},{"$error":"#VALUE!"},{"$error":"#VALUE!"},{"$error":"#VALUE!"},{"$error":"#VALUE!"},{"$error":"#VALUE!"},{"$error":"#VALUE!"},{"$error":"#VALUE!"},{"$error":"#VALUE!"},{"$error":"#VALUE!"},{"$error":"#VALUE!"},{"$error":"#VALUE!"},{"$error":"#VALUE!"},{"$error":"#VALUE!"},{"$error":"#VALUE!"},3,0,{"$error":"#VALUE!"},{"$error":"#VALUE!"},{"$error":"#VALUE!"},{"$error":"#VALUE!"},{"$error":"#VALUE!"},{"$error":"#VALUE!"},{"$error":"#VALUE!"},{"$error":"#VALUE!"},{"$error":"#VALUE!"},{"$error":"#VALUE!"},{"$error":"#VALUE!"},{"$error":"#VALUE!"},{"$error":"#VALUE!"},{"$error":"#VALUE!"},{"$error":"#VALUE!"},{"$error":"#VALUE!"},{"$error":"#VALUE!"},{"$error":"#VALUE!"},{"$error":"#VALUE!"},{"$error":"#VALUE!"},{"$error":"#VALUE!"},{"$error":"#VALUE!"},{"$error":"#VALUE!"},{"$error":"#VALUE!"},{"$error":"#VALUE!"},{"$error":"#VALUE!"},{"$error":"#VALUE!"},{"$error":"#VALUE!"},{"$error":"#VALUE!"},{"$error":"#VALUE!"},{"$error":"#VALUE!"},{"$error":"#VALUE!"},{"$error":"#VALUE!"},3,0,{"$error":"#VALUE!"},{"$error":"#VALUE!"},{"$error":"#VALUE!"},{"$error":"#VALUE!"},{"$error":"#VALUE!"},{"$error":"#VALUE!"},{"$error":"#VALUE!"},{"$error":"#VALUE!"},{"$error":"#VALUE!"},{"$error":"#VALUE!"},{"$error":"#VALUE!"},{"$error":"#VALUE!"},{"$error":"#VALUE!"},{"$error":"#VALUE!"},{"$error":"#VALUE!"},{"$error":"#VALUE!"},{"$error":"#VALUE!"},{"$error":"#VALUE!"},{"$error":"#VALUE!"},{"$error":"#VALUE!"},{"$error":"#VALUE!"},{"$error":"#VALUE!"},{"$error":"#VALUE!"},{"$error":"#VALUE!"},{"$error":"#VALUE!"},{"$error":"#VALUE!"},{"$error":"#VALUE!"},{"$error":"#VALUE!"},{"$error":"#VALUE!"},{"$error":"#VALUE!"},{"$error":"#VALUE!"},{"$error":"#VALUE!"},{"$error":"#VALUE!"},3,0,{"$error":"#VALUE!"},{"$error":"#VALUE!"},{"$error":"#VALUE!"},{"$error":"#VALUE!"},{"$error":"#VALUE!"},{"$error":"#VALUE!"},{"$error":"#VALUE!"},{"$error":"#VALUE!"},{"$error":"#VALUE!"},{"$error":"#VALUE!"},{"$error":"#VALUE!"},{"$error":"#VALUE!"},{"$error":"#VALUE!"},{"$error":"#VALUE!"},{"$error":"#VALUE!"},{"$error":"#VALUE!"},{"$error":"#VALUE!"},{"$error":"#VALUE!"},{"$error":"#VALUE!"},{"$error":"#VALUE!"},{"$error":"#VALUE!"},{"$error":"#VALUE!"},{"$error":"#VALUE!"},{"$error":"#VALUE!"},{"$error":"#VALUE!"},{"$error":"#VALUE!"},{"$error":"#VALUE!"},{"$error":"#VALUE!"},{"$error":"#VALUE!"},{"$error":"#VALUE!"},{"$error":"#VALUE!"},{"$error":"#VALUE!"},{"$error":"#VALUE!"},3,0,{"$error":"#VALUE!"},{"$error":"#VALUE!"},{"$error":"#VALUE!"},{"$error":"#VALUE!"},{"$error":"#VALUE!"},{"$error":"#VALUE!"},{"$error":"#VALUE!"},{"$error":"#VALUE!"},{"$error":"#VALUE!"},{"$error":"#VALUE!"},{"$error":"#VALUE!"},{"$error":"#VALUE!"},{"$error":"#VALUE!"},{"$error":"#VALUE!"},{"$error":"#VALUE!"},{"$error":"#VALUE!"},{"$error":"#VALUE!"},{"$error":"#VALUE!"},{"$error":"#VALUE!"},{"$error":"#VALUE!"},{"$error":"#VALUE!"},{"$error":"#VALUE!"},{"$error":"#VALUE!"},{"$error":"#VALUE!"},{"$error":"#VALUE!"},{"$error":"#VALUE!"},{"$error":"#VALUE!"},{"$error":"#VALUE!"},{"$error":"#VALUE!"},{"$error":"#VALUE!"},{"$error":"#VALUE!"},{"$error":"#VALUE!"},{"$error":"#VALUE!"},3,0,{"$error":"#VALUE!"},{"$error":"#VALUE!"},{"$error":"#VALUE!"},{"$error":"#VALUE!"},{"$error":"#VALUE!"},{"$error":"#VALUE!"},{"$error":"#VALUE!"},{"$error":"#VALUE!"},{"$error":"#VALUE!"},{"$error":"#VALUE!"},{"$error":"#VALUE!"},{"$error":"#VALUE!"},{"$error":"#VALUE!"},{"$error":"#VALUE!"},{"$error":"#VALUE!"},{"$error":"#VALUE!"},{"$error":"#VALUE!"},{"$error":"#VALUE!"},{"$error":"#VALUE!"},{"$error":"#VALUE!"},{"$error":"#VALUE!"},{"$error":"#VALUE!"},{"$error":"#VALUE!"},{"$error":"#VALUE!"},{"$error":"#VALUE!"},{"$error":"#VALUE!"},{"$error":"#VALUE!"},{"$error":"#VALUE!"},{"$error":"#VALUE!"},{"$error":"#VALUE!"},{"$error":"#VALUE!"},{"$error":"#VALUE!"},{"$error":"#VALUE!"}]
[null,null,null,null,null,null,null,null,null,null,null,null,null,null,null,null,null,null,null,null,null,null,null,4,null,null,null,null,null,null,null,null,null,"N/A",null,false,null,null,null,null,4,null,null,null,null,null,null,null,null,null,null,null,{"$f":"IF(AND(BB196=\"OK\",BC196=\"OK\",BD196=\"OK\"),\"OK\",\"ERR!\")","v":"ERR!"},"OK","ERR!",{"$f":"IF(AND(OR(BE196=BK196,BE196=0),OR(BF196=BK196,BF196=0),OR(BG196=BK196,BG196=0),OR(BH196=BK196,BH196=0),OR(BI196=BK196,BI196=0),OR(BJ196=BK196,BJ196=0)),\"OK\",\"ERR!\")","v":"OK"},0,0,0,0,0,0,0,null,4,null,null,null,null,null,null,null,null,null,null,null,null,null,null,null,null,null,null,null,null,null,null,null,null,null,null,null,null,null,null,null,null,null,null,null,null,null,null,null,null,null,null,null,null,null,null,null,null,null,null,null,null,null,null,null,null,null,null,null,null,null,null,null,null,null,null,null,4,{"$error":"#VALUE!"},{"$error":"#VALUE!"},{"$error":"#VALUE!"},{"$error":"#VALUE!"},{"$error":"#VALUE!"},{"$error":"#VALUE!"},{"$error":"#VALUE!"},{"$error":"#VALUE!"},{"$error":"#VALUE!"},{"$error":"#VALUE!"},{"$error":"#VALUE!"},{"$error":"#VALUE!"},{"$error":"#VALUE!"},{"$error":"#VALUE!"},{"$error":"#VALUE!"},{"$error":"#VALUE!"},{"$error":"#VALUE!"},{"$error":"#VALUE!"},null,4,0,{"$error":"#VALUE!"},{"$error":"#VALUE!"},{"$error":"#VALUE!"},{"$error":"#VALUE!"},{"$error":"#VALUE!"},{"$error":"#VALUE!"},{"$error":"#VALUE!"},{"$error":"#VALUE!"},{"$error":"#VALUE!"},{"$error":"#VALUE!"},{"$error":"#VALUE!"},{"$error":"#VALUE!"},{"$error":"#VALUE!"},{"$error":"#VALUE!"},{"$error":"#VALUE!"},{"$error":"#VALUE!"},{"$error":"#VALUE!"},{"$error":"#VALUE!"},{"$error":"#VALUE!"},{"$error":"#VALUE!"},{"$error":"#VALUE!"},{"$error":"#VALUE!"},{"$error":"#VALUE!"},{"$error":"#VALUE!"},{"$error":"#VALUE!"},{"$error":"#VALUE!"},{"$error":"#VALUE!"},{"$error":"#VALUE!"},{"$error":"#VALUE!"},{"$error":"#VALUE!"},{"$error":"#VALUE!"},{"$error":"#VALUE!"},{"$error":"#VALUE!"},4,0,{"$error":"#VALUE!"},{"$error":"#VALUE!"},{"$error":"#VALUE!"},{"$error":"#VALUE!"},{"$error":"#VALUE!"},{"$error":"#VALUE!"},{"$error":"#VALUE!"},{"$error":"#VALUE!"},{"$error":"#VALUE!"},{"$error":"#VALUE!"},{"$error":"#VALUE!"},{"$error":"#VALUE!"},{"$error":"#VALUE!"},{"$error":"#VALUE!"},{"$error":"#VALUE!"},{"$error":"#VALUE!"},{"$error":"#VALUE!"},{"$error":"#VALUE!"},{"$error":"#VALUE!"},{"$error":"#VALUE!"},{"$error":"#VALUE!"},{"$error":"#VALUE!"},{"$error":"#VALUE!"},{"$error":"#VALUE!"},{"$error":"#VALUE!"},{"$error":"#VALUE!"},{"$error":"#VALUE!"},{"$error":"#VALUE!"},{"$error":"#VALUE!"},{"$error":"#VALUE!"},{"$error":"#VALUE!"},{"$error":"#VALUE!"},{"$error":"#VALUE!"},4,0,{"$error":"#VALUE!"},{"$error":"#VALUE!"},{"$error":"#VALUE!"},{"$error":"#VALUE!"},{"$error":"#VALUE!"},{"$error":"#VALUE!"},{"$error":"#VALUE!"},{"$error":"#VALUE!"},{"$error":"#VALUE!"},{"$error":"#VALUE!"},{"$error":"#VALUE!"},{"$error":"#VALUE!"},{"$error":"#VALUE!"},{"$error":"#VALUE!"},{"$error":"#VALUE!"},{"$error":"#VALUE!"},{"$error":"#VALUE!"},{"$error":"#VALUE!"},{"$error":"#VALUE!"},{"$error":"#VALUE!"},{"$error":"#VALUE!"},{"$error":"#VALUE!"},{"$error":"#VALUE!"},{"$error":"#VALUE!"},{"$error":"#VALUE!"},{"$error":"#VALUE!"},{"$error":"#VALUE!"},{"$error":"#VALUE!"},{"$error":"#VALUE!"},{"$error":"#VALUE!"},{"$error":"#VALUE!"},{"$error":"#VALUE!"},{"$error":"#VALUE!"},4,0,{"$error":"#VALUE!"},{"$error":"#VALUE!"},{"$error":"#VALUE!"},{"$error":"#VALUE!"},{"$error":"#VALUE!"},{"$error":"#VALUE!"},{"$error":"#VALUE!"},{"$error":"#VALUE!"},{"$error":"#VALUE!"},{"$error":"#VALUE!"},{"$error":"#VALUE!"},{"$error":"#VALUE!"},{"$error":"#VALUE!"},{"$error":"#VALUE!"},{"$error":"#VALUE!"},{"$error":"#VALUE!"},{"$error":"#VALUE!"},{"$error":"#VALUE!"},{"$error":"#VALUE!"},{"$error":"#VALUE!"},{"$error":"#VALUE!"},{"$error":"#VALUE!"},{"$error":"#VALUE!"},{"$error":"#VALUE!"},{"$error":"#VALUE!"},{"$error":"#VALUE!"},{"$error":"#VALUE!"},{"$error":"#VALUE!"},{"$error":"#VALUE!"},{"$error":"#VALUE!"},{"$error":"#VALUE!"},{"$error":"#VALUE!"},{"$error":"#VALUE!"},4,0,{"$error":"#VALUE!"},{"$error":"#VALUE!"},{"$error":"#VALUE!"},{"$error":"#VALUE!"},{"$error":"#VALUE!"},{"$error":"#VALUE!"},{"$error":"#VALUE!"},{"$error":"#VALUE!"},{"$error":"#VALUE!"},{"$error":"#VALUE!"},{"$error":"#VALUE!"},{"$error":"#VALUE!"},{"$error":"#VALUE!"},{"$error":"#VALUE!"},{"$error":"#VALUE!"},{"$error":"#VALUE!"},{"$error":"#VALUE!"},{"$error":"#VALUE!"},{"$error":"#VALUE!"},{"$error":"#VALUE!"},{"$error":"#VALUE!"},{"$error":"#VALUE!"},{"$error":"#VALUE!"},{"$error":"#VALUE!"},{"$error":"#VALUE!"},{"$error":"#VALUE!"},{"$error":"#VALUE!"},{"$error":"#VALUE!"},{"$error":"#VALUE!"},{"$error":"#VALUE!"},{"$error":"#VALUE!"},{"$error":"#VALUE!"},{"$error":"#VALUE!"},4,0,{"$error":"#VALUE!"},{"$error":"#VALUE!"},{"$error":"#VALUE!"},{"$error":"#VALUE!"},{"$error":"#VALUE!"},{"$error":"#VALUE!"},{"$error":"#VALUE!"},{"$error":"#VALUE!"},{"$error":"#VALUE!"},{"$error":"#VALUE!"},{"$error":"#VALUE!"},{"$error":"#VALUE!"},{"$error":"#VALUE!"},{"$error":"#VALUE!"},{"$error":"#VALUE!"},{"$error":"#VALUE!"},{"$error":"#VALUE!"},{"$error":"#VALUE!"},{"$error":"#VALUE!"},{"$error":"#VALUE!"},{"$error":"#VALUE!"},{"$error":"#VALUE!"},{"$error":"#VALUE!"},{"$error":"#VALUE!"},{"$error":"#VALUE!"},{"$error":"#VALUE!"},{"$error":"#VALUE!"},{"$error":"#VALUE!"},{"$error":"#VALUE!"},{"$error":"#VALUE!"},{"$error":"#VALUE!"},{"$error":"#VALUE!"},{"$error":"#VALUE!"}]
[null,null,null,null,null,null,null,null,null,null,null,null,null,null,null,null,null,null,null,null,null,null,null,7,null,null,null,null,null,null,null,null,null,"N/A",null,false,null,null,null,null,7,null,null,null,null,null,null,null,null,null,null,null,{"$f":"IF(AND(BB197=\"OK\",BC197=\"OK\",BD197=\"OK\"),\"OK\",\"ERR!\")","v":"ERR!"},"OK","ERR!","OK",0,0,0,0,0,0,0,null,7,null,null,null,null,null,null,null,null,null,null,null,null,null,null,null,null,null,null,null,null,null,null,null,null,null,null,null,null,null,null,null,null,null,null,null,null,null,null,null,null,null,null,null,null,null,null,null,null,null,null,null,null,null,null,null,null,null,null,null,null,null,null,null,null,null,null,null,7,{"$error":"#VALUE!"},{"$error":"#VALUE!"},{"$error":"#VALUE!"},{"$error":"#VALUE!"},{"$error":"#VALUE!"},{"$error":"#VALUE!"},{"$error":"#VALUE!"},{"$error":"#VALUE!"},{"$error":"#VALUE!"},{"$error":"#VALUE!"},{"$error":"#VALUE!"},{"$error":"#VALUE!"},{"$error":"#VALUE!"},{"$error":"#VALUE!"},{"$error":"#VALUE!"},{"$error":"#VALUE!"},{"$error":"#VALUE!"},{"$error":"#VALUE!"},null,7,0,{"$error":"#VALUE!"},{"$error":"#VALUE!"},{"$error":"#VALUE!"},{"$error":"#VALUE!"},{"$error":"#VALUE!"},{"$error":"#VALUE!"},{"$error":"#VALUE!"},{"$error":"#VALUE!"},{"$error":"#VALUE!"},{"$error":"#VALUE!"},{"$error":"#VALUE!"},{"$error":"#VALUE!"},{"$error":"#VALUE!"},{"$error":"#VALUE!"},{"$error":"#VALUE!"},{"$error":"#VALUE!"},{"$error":"#VALUE!"},{"$error":"#VALUE!"},{"$error":"#VALUE!"},{"$error":"#VALUE!"},{"$error":"#VALUE!"},{"$error":"#VALUE!"},{"$error":"#VALUE!"},{"$error":"#VALUE!"},{"$error":"#VALUE!"},{"$error":"#VALUE!"},{"$error":"#VALUE!"},{"$error":"#VALUE!"},{"$error":"#VALUE!"},{"$error":"#VALUE!"},{"$error":"#VALUE!"},{"$error":"#VALUE!"},{"$error":"#VALUE!"},7,0,{"$error":"#VALUE!"},{"$error":"#VALUE!"},{"$error":"#VALUE!"},{"$error":"#VALUE!"},{"$error":"#VALUE!"},{"$error":"#VALUE!"},{"$error":"#VALUE!"},{"$error":"#VALUE!"},{"$error":"#VALUE!"},{"$error":"#VALUE!"},{"$error":"#VALUE!"},{"$error":"#VALUE!"},{"$error":"#VALUE!"},{"$error":"#VALUE!"},{"$error":"#VALUE!"},{"$error":"#VALUE!"},{"$error":"#VALUE!"},{"$error":"#VALUE!"},{"$error":"#VALUE!"},{"$error":"#VALUE!"},{"$error":"#VALUE!"},{"$error":"#VALUE!"},{"$error":"#VALUE!"},{"$error":"#VALUE!"},{"$error":"#VALUE!"},{"$error":"#VALUE!"},{"$error":"#VALUE!"},{"$error":"#VALUE!"},{"$error":"#VALUE!"},{"$error":"#VALUE!"},{"$error":"#VALUE!"},{"$error":"#VALUE!"},{"$error":"#VALUE!"},7,0,{"$error":"#VALUE!"},{"$error":"#VALUE!"},{"$error":"#VALUE!"},{"$error":"#VALUE!"},{"$error":"#VALUE!"},{"$error":"#VALUE!"},{"$error":"#VALUE!"},{"$error":"#VALUE!"},{"$error":"#VALUE!"},{"$error":"#VALUE!"},{"$error":"#VALUE!"},{"$error":"#VALUE!"},{"$error":"#VALUE!"},{"$error":"#VALUE!"},{"$error":"#VALUE!"},{"$error":"#VALUE!"},{"$error":"#VALUE!"},{"$error":"#VALUE!"},{"$error":"#VALUE!"},{"$error":"#VALUE!"},{"$error":"#VALUE!"},{"$error":"#VALUE!"},{"$error":"#VALUE!"},{"$error":"#VALUE!"},{"$error":"#VALUE!"},{"$error":"#VALUE!"},{"$error":"#VALUE!"},{"$error":"#VALUE!"},{"$error":"#VALUE!"},{"$error":"#VALUE!"},{"$error":"#VALUE!"},{"$error":"#VALUE!"},{"$error":"#VALUE!"},7,0,{"$error":"#VALUE!"},{"$error":"#VALUE!"},{"$error":"#VALUE!"},{"$error":"#VALUE!"},{"$error":"#VALUE!"},{"$error":"#VALUE!"},{"$error":"#VALUE!"},{"$error":"#VALUE!"},{"$error":"#VALUE!"},{"$error":"#VALUE!"},{"$error":"#VALUE!"},{"$error":"#VALUE!"},{"$error":"#VALUE!"},{"$error":"#VALUE!"},{"$error":"#VALUE!"},{"$error":"#VALUE!"},{"$error":"#VALUE!"},{"$error":"#VALUE!"},{"$error":"#VALUE!"},{"$error":"#VALUE!"},{"$error":"#VALUE!"},{"$error":"#VALUE!"},{"$error":"#VALUE!"},{"$error":"#VALUE!"},{"$error":"#VALUE!"},{"$error":"#VALUE!"},{"$error":"#VALUE!"},{"$error":"#VALUE!"},{"$error":"#VALUE!"},{"$error":"#VALUE!"},{"$error":"#VALUE!"},{"$error":"#VALUE!"},{"$error":"#VALUE!"},7,0,{"$error":"#VALUE!"},{"$error":"#VALUE!"},{"$error":"#VALUE!"},{"$error":"#VALUE!"},{"$error":"#VALUE!"},{"$error":"#VALUE!"},{"$error":"#VALUE!"},{"$error":"#VALUE!"},{"$error":"#VALUE!"},{"$error":"#VALUE!"},{"$error":"#VALUE!"},{"$error":"#VALUE!"},{"$error":"#VALUE!"},{"$error":"#VALUE!"},{"$error":"#VALUE!"},{"$error":"#VALUE!"},{"$error":"#VALUE!"},{"$error":"#VALUE!"},{"$error":"#VALUE!"},{"$error":"#VALUE!"},{"$error":"#VALUE!"},{"$error":"#VALUE!"},{"$error":"#VALUE!"},{"$error":"#VALUE!"},{"$error":"#VALUE!"},{"$error":"#VALUE!"},{"$error":"#VALUE!"},{"$error":"#VALUE!"},{"$error":"#VALUE!"},{"$error":"#VALUE!"},{"$error":"#VALUE!"},{"$error":"#VALUE!"},{"$error":"#VALUE!"},7,0,{"$error":"#VALUE!"},{"$error":"#VALUE!"},{"$error":"#VALUE!"},{"$error":"#VALUE!"},{"$error":"#VALUE!"},{"$error":"#VALUE!"},{"$error":"#VALUE!"},{"$error":"#VALUE!"},{"$error":"#VALUE!"},{"$error":"#VALUE!"},{"$error":"#VALUE!"},{"$error":"#VALUE!"},{"$error":"#VALUE!"},{"$error":"#VALUE!"},{"$error":"#VALUE!"},{"$error":"#VALUE!"},{"$error":"#VALUE!"},{"$error":"#VALUE!"},{"$error":"#VALUE!"},{"$error":"#VALUE!"},{"$error":"#VALUE!"},{"$error":"#VALUE!"},{"$error":"#VALUE!"},{"$error":"#VALUE!"},{"$error":"#VALUE!"},{"$error":"#VALUE!"},{"$error":"#VALUE!"},{"$error":"#VALUE!"},{"$error":"#VALUE!"},{"$error":"#VALUE!"},{"$error":"#VALUE!"},{"$error":"#VALUE!"},{"$error":"#VALUE!"}]
[null,null,null,null,null,null,null,null,null,null,null,null,null,null,null,null,null,null,null,null,null,null,null,8,null,null,null,null,null,null,null,null,null,"N/A",null,false,null,null,null,null,8,null,null,null,null,null,null,null,null,null,null,null,"ERR!","OK","ERR!","OK",0,0,0,0,0,0,0,null,8,null,null,null,null,null,null,null,null,null,null,null,null,null,null,null,null,null,null,null,null,null,null,null,null,null,null,null,null,null,null,null,null,null,null,null,null,null,null,null,null,null,null,null,null,null,null,null,null,null,null,null,null,null,null,null,null,null,null,null,null,null,null,null,null,null,null,null,8,{"$error":"#VALUE!"},{"$error":"#VALUE!"},{"$error":"#VALUE!"},{"$error":"#VALUE!"},{"$error":"#VALUE!"},{"$error":"#VALUE!"},{"$error":"#VALUE!"},{"$error":"#VALUE!"},{"$error":"#VALUE!"},{"$error":"#VALUE!"},{"$error":"#VALUE!"},{"$error":"#VALUE!"},{"$error":"#VALUE!"},{"$error":"#VALUE!"},{"$error":"#VALUE!"},{"$error":"#VALUE!"},{"$error":"#VALUE!"},{"$error":"#VALUE!"},null,8,0,{"$error":"#VALUE!"},{"$error":"#VALUE!"},{"$error":"#VALUE!"},{"$error":"#VALUE!"},{"$error":"#VALUE!"},{"$error":"#VALUE!"},{"$error":"#VALUE!"},{"$error":"#VALUE!"},{"$error":"#VALUE!"},{"$error":"#VALUE!"},{"$error":"#VALUE!"},{"$error":"#VALUE!"},{"$error":"#VALUE!"},{"$error":"#VALUE!"},{"$error":"#VALUE!"},{"$error":"#VALUE!"},{"$error":"#VALUE!"},{"$error":"#VALUE!"},{"$error":"#VALUE!"},{"$error":"#VALUE!"},{"$error":"#VALUE!"},{"$error":"#VALUE!"},{"$error":"#VALUE!"},{"$error":"#VALUE!"},{"$error":"#VALUE!"},{"$error":"#VALUE!"},{"$error":"#VALUE!"},{"$error":"#VALUE!"},{"$error":"#VALUE!"},{"$error":"#VALUE!"},{"$error":"#VALUE!"},{"$error":"#VALUE!"},{"$error":"#VALUE!"},8,0,{"$error":"#VALUE!"},{"$error":"#VALUE!"},{"$error":"#VALUE!"},{"$error":"#VALUE!"},{"$error":"#VALUE!"},{"$error":"#VALUE!"},{"$error":"#VALUE!"},{"$error":"#VALUE!"},{"$error":"#VALUE!"},{"$error":"#VALUE!"},{"$error":"#VALUE!"},{"$error":"#VALUE!"},{"$error":"#VALUE!"},{"$error":"#VALUE!"},{"$error":"#VALUE!"},{"$error":"#VALUE!"},{"$error":"#VALUE!"},{"$error":"#VALUE!"},{"$error":"#VALUE!"},{"$error":"#VALUE!"},{"$error":"#VALUE!"},{"$error":"#VALUE!"},{"$error":"#VALUE!"},{"$error":"#VALUE!"},{"$error":"#VALUE!"},{"$error":"#VALUE!"},{"$error":"#VALUE!"},{"$error":"#VALUE!"},{"$error":"#VALUE!"},{"$error":"#VALUE!"},{"$error":"#VALUE!"},{"$error":"#VALUE!"},{"$error":"#VALUE!"},8,0,{"$error":"#VALUE!"},{"$error":"#VALUE!"},{"$error":"#VALUE!"},{"$error":"#VALUE!"},{"$error":"#VALUE!"},{"$error":"#VALUE!"},{"$error":"#VALUE!"},{"$error":"#VALUE!"},{"$error":"#VALUE!"},{"$error":"#VALUE!"},{"$error":"#VALUE!"},{"$error":"#VALUE!"},{"$error":"#VALUE!"},{"$error":"#VALUE!"},{"$error":"#VALUE!"},{"$error":"#VALUE!"},{"$error":"#VALUE!"},{"$error":"#VALUE!"},{"$error":"#VALUE!"},{"$error":"#VALUE!"},{"$error":"#VALUE!"},{"$error":"#VALUE!"},{"$error":"#VALUE!"},{"$error":"#VALUE!"},{"$error":"#VALUE!"},{"$error":"#VALUE!"},{"$error":"#VALUE!"},{"$error":"#VALUE!"},{"$error":"#VALUE!"},{"$error":"#VALUE!"},{"$error":"#VALUE!"},{"$error":"#VALUE!"},{"$error":"#VALUE!"},8,0,{"$error":"#VALUE!"},{"$error":"#VALUE!"},{"$error":"#VALUE!"},{"$error":"#VALUE!"},{"$error":"#VALUE!"},{"$error":"#VALUE!"},{"$error":"#VALUE!"},{"$error":"#VALUE!"},{"$error":"#VALUE!"},{"$error":"#VALUE!"},{"$error":"#VALUE!"},{"$error":"#VALUE!"},{"$error":"#VALUE!"},{"$error":"#VALUE!"},{"$error":"#VALUE!"},{"$error":"#VALUE!"},{"$error":"#VALUE!"},{"$error":"#VALUE!"},{"$error":"#VALUE!"},{"$error":"#VALUE!"},{"$error":"#VALUE!"},{"$error":"#VALUE!"},{"$error":"#VALUE!"},{"$error":"#VALUE!"},{"$error":"#VALUE!"},{"$error":"#VALUE!"},{"$error":"#VALUE!"},{"$error":"#VALUE!"},{"$error":"#VALUE!"},{"$error":"#VALUE!"},{"$error":"#VALUE!"},{"$error":"#VALUE!"},{"$error":"#VALUE!"},8,0,{"$error":"#VALUE!"},{"$error":"#VALUE!"},{"$error":"#VALUE!"},{"$error":"#VALUE!"},{"$error":"#VALUE!"},{"$error":"#VALUE!"},{"$error":"#VALUE!"},{"$error":"#VALUE!"},{"$error":"#VALUE!"},{"$error":"#VALUE!"},{"$error":"#VALUE!"},{"$error":"#VALUE!"},{"$error":"#VALUE!"},{"$error":"#VALUE!"},{"$error":"#VALUE!"},{"$error":"#VALUE!"},{"$error":"#VALUE!"},{"$error":"#VALUE!"},{"$error":"#VALUE!"},{"$error":"#VALUE!"},{"$error":"#VALUE!"},{"$error":"#VALUE!"},{"$error":"#VALUE!"},{"$error":"#VALUE!"},{"$error":"#VALUE!"},{"$error":"#VALUE!"},{"$error":"#VALUE!"},{"$error":"#VALUE!"},{"$error":"#VALUE!"},{"$error":"#VALUE!"},{"$error":"#VALUE!"},{"$error":"#VALUE!"},{"$error":"#VALUE!"},8,0,{"$error":"#VALUE!"},{"$error":"#VALUE!"},{"$error":"#VALUE!"},{"$error":"#VALUE!"},{"$error":"#VALUE!"},{"$error":"#VALUE!"},{"$error":"#VALUE!"},{"$error":"#VALUE!"},{"$error":"#VALUE!"},{"$error":"#VALUE!"},{"$error":"#VALUE!"},{"$error":"#VALUE!"},{"$error":"#VALUE!"},{"$error":"#VALUE!"},{"$error":"#VALUE!"},{"$error":"#VALUE!"},{"$error":"#VALUE!"},{"$error":"#VALUE!"},{"$error":"#VALUE!"},{"$error":"#VALUE!"},{"$error":"#VALUE!"},{"$error":"#VALUE!"},{"$error":"#VALUE!"},{"$error":"#VALUE!"},{"$error":"#VALUE!"},{"$error":"#VALUE!"},{"$error":"#VALUE!"},{"$error":"#VALUE!"},{"$error":"#VALUE!"},{"$error":"#VALUE!"},{"$error":"#VALUE!"},{"$error":"#VALUE!"},{"$error":"#VALUE!"}]
[null,null,null,null,null,null,null,null,null,null,null,null,null,null,null,null,null,null,null,null,null,null,null,9,null,null,null,null,null,null,null,null,null,"N/A",null,false,null,null,null,null,9,null,null,null,null,null,null,null,null,null,null,null,"ERR!","OK","ERR!","OK",0,0,0,{"$f":"(CU199*POWER(10,0)+CV199*POWER(10,1)+CW199*POWER(10,2)+CX199*POWER(10,3)+CY199*POWER(10,4)+CZ199*POWER(10,5)+DA199*POWER(10,6)+DB199*POWER(10,7)+DC199*POWER(10,8)+DD199*POWER(10,9)+DE199*POWER(10,10))","v":0},{"$f":"(DF199*POWER(10,0)+DG199*POWER(10,1)+DH199*POWER(10,2)+DI199*POWER(10,3)+DJ199*POWER(10,4)+DK199*POWER(10,5)+DL199*POWER(10,6)+DM199*POWER(10,7)+DN199*POWER(10,8)+DO199*POWER(10,9)+DP199*POWER(10,10))","v":0},0,0,null,9,null,null,null,null,null,null,null,null,null,null,null,null,null,null,null,null,null,null,null,null,null,null,null,null,null,null,null,null,null,null,null,null,null,null,null,null,null,null,null,null,null,null,null,null,null,null,null,null,null,null,null,null,null,null,null,null,null,null,null,null,null,null,null,null,null,null,null,9,{"$error":"#VALUE!"},{"$error":"#VALUE!"},{"$error":"#VALUE!"},{"$error":"#VALUE!"},{"$error":"#VALUE!"},{"$error":"#VALUE!"},{"$error":"#VALUE!"},{"$error":"#VALUE!"},{"$error":"#VALUE!"},{"$error":"#VALUE!"},{"$error":"#VALUE!"},{"$error":"#VALUE!"},{"$error":"#VALUE!"},{"$error":"#VALUE!"},{"$error":"#VALUE!"},{"$error":"#VALUE!"},{"$error":"#VALUE!"},{"$error":"#VALUE!"},null,9,0,{"$error":"#VALUE!"},{"$error":"#VALUE!"},{"$error":"#VALUE!"},{"$error":"#VALUE!"},{"$error":"#VALUE!"},{"$error":"#VALUE!"},{"$error":"#VALUE!"},{"$error":"#VALUE!"},{"$error":"#VALUE!"},{"$error":"#VALUE!"},{"$error":"#VALUE!"},{"$error":"#VALUE!"},{"$error":"#VALUE!"},{"$error":"#VALUE!"},{"$error":"#VALUE!"},{"$error":"#VALUE!"},{"$error":"#VALUE!"},{"$error":"#VALUE!"},{"$error":"#VALUE!"},{"$error":"#VALUE!"},{"$error":"#VALUE!"},{"$error":"#VALUE!"},{"$error":"#VALUE!"},{"$error":"#VALUE!"},{"$error":"#VALUE!"},{"$error":"#VALUE!"},{"$error":"#VALUE!"},{"$error":"#VALUE!"},{"$error":"#VALUE!"},{"$error":"#VALUE!"},{"$error":"#VALUE!"},{"$error":"#VALUE!"},{"$error":"#VALUE!"},9,0,{"$error":"#VALUE!"},{"$error":"#VALUE!"},{"$error":"#VALUE!"},{"$error":"#VALUE!"},{"$error":"#VALUE!"},{"$error":"#VALUE!"},{"$error":"#VALUE!"},{"$error":"#VALUE!"},{"$error":"#VALUE!"},{"$error":"#VALUE!"},{"$error":"#VALUE!"},{"$error":"#VALUE!"},{"$error":"#VALUE!"},{"$error":"#VALUE!"},{"$error":"#VALUE!"},{"$error":"#VALUE!"},{"$error":"#VALUE!"},{"$error":"#VALUE!"},{"$error":"#VALUE!"},{"$error":"#VALUE!"},{"$error":"#VALUE!"},{"$error":"#VALUE!"},{"$error":"#VALUE!"},{"$error":"#VALUE!"},{"$error":"#VALUE!"},{"$error":"#VALUE!"},{"$error":"#VALUE!"},{"$error":"#VALUE!"},{"$error":"#VALUE!"},{"$error":"#VALUE!"},{"$error":"#VALUE!"},{"$error":"#VALUE!"},{"$error":"#VALUE!"},9,0,{"$error":"#VALUE!"},{"$error":"#VALUE!"},{"$error":"#VALUE!"},{"$error":"#VALUE!"},{"$error":"#VALUE!"},{"$error":"#VALUE!"},{"$error":"#VALUE!"},{"$error":"#VALUE!"},{"$error":"#VALUE!"},{"$error":"#VALUE!"},{"$error":"#VALUE!"},{"$error":"#VALUE!"},{"$error":"#VALUE!"},{"$error":"#VALUE!"},{"$error":"#VALUE!"},{"$error":"#VALUE!"},{"$error":"#VALUE!"},{"$error":"#VALUE!"},{"$error":"#VALUE!"},{"$error":"#VALUE!"},{"$error":"#VALUE!"},{"$error":"#VALUE!"},{"$error":"#VALUE!"},{"$error":"#VALUE!"},{"$error":"#VALUE!"},{"$error":"#VALUE!"},{"$error":"#VALUE!"},{"$error":"#VALUE!"},{"$error":"#VALUE!"},{"$error":"#VALUE!"},{"$error":"#VALUE!"},{"$error":"#VALUE!"},{"$error":"#VALUE!"},9,0,{"$error":"#VALUE!"},{"$error":"#VALUE!"},{"$error":"#VALUE!"},{"$error":"#VALUE!"},{"$error":"#VALUE!"},{"$error":"#VALUE!"},{"$error":"#VALUE!"},{"$error":"#VALUE!"},{"$error":"#VALUE!"},{"$error":"#VALUE!"},{"$error":"#VALUE!"},{"$error":"#VALUE!"},{"$error":"#VALUE!"},{"$error":"#VALUE!"},{"$error":"#VALUE!"},{"$error":"#VALUE!"},{"$error":"#VALUE!"},{"$error":"#VALUE!"},{"$error":"#VALUE!"},{"$error":"#VALUE!"},{"$error":"#VALUE!"},{"$error":"#VALUE!"},{"$error":"#VALUE!"},{"$error":"#VALUE!"},{"$error":"#VALUE!"},{"$error":"#VALUE!"},{"$error":"#VALUE!"},{"$error":"#VALUE!"},{"$error":"#VALUE!"},{"$error":"#VALUE!"},{"$error":"#VALUE!"},{"$error":"#VALUE!"},{"$error":"#VALUE!"},9,0,{"$error":"#VALUE!"},{"$error":"#VALUE!"},{"$error":"#VALUE!"},{"$error":"#VALUE!"},{"$error":"#VALUE!"},{"$error":"#VALUE!"},{"$error":"#VALUE!"},{"$error":"#VALUE!"},{"$error":"#VALUE!"},{"$error":"#VALUE!"},{"$error":"#VALUE!"},{"$error":"#VALUE!"},{"$error":"#VALUE!"},{"$error":"#VALUE!"},{"$error":"#VALUE!"},{"$error":"#VALUE!"},{"$error":"#VALUE!"},{"$error":"#VALUE!"},{"$error":"#VALUE!"},{"$error":"#VALUE!"},{"$error":"#VALUE!"},{"$error":"#VALUE!"},{"$error":"#VALUE!"},{"$error":"#VALUE!"},{"$error":"#VALUE!"},{"$error":"#VALUE!"},{"$error":"#VALUE!"},{"$error":"#VALUE!"},{"$error":"#VALUE!"},{"$error":"#VALUE!"},{"$error":"#VALUE!"},{"$error":"#VALUE!"},{"$error":"#VALUE!"},9,0,{"$error":"#VALUE!"},{"$error":"#VALUE!"},{"$error":"#VALUE!"},{"$error":"#VALUE!"},{"$error":"#VALUE!"},{"$error":"#VALUE!"},{"$error":"#VALUE!"},{"$error":"#VALUE!"},{"$error":"#VALUE!"},{"$error":"#VALUE!"},{"$error":"#VALUE!"},{"$error":"#VALUE!"},{"$error":"#VALUE!"},{"$error":"#VALUE!"},{"$error":"#VALUE!"},{"$error":"#VALUE!"},{"$error":"#VALUE!"},{"$error":"#VALUE!"},{"$error":"#VALUE!"},{"$error":"#VALUE!"},{"$error":"#VALUE!"},{"$error":"#VALUE!"},{"$error":"#VALUE!"},{"$error":"#VALUE!"},{"$error":"#VALUE!"},{"$error":"#VALUE!"},{"$error":"#VALUE!"},{"$error":"#VALUE!"},{"$error":"#VALUE!"},{"$error":"#VALUE!"},{"$error":"#VALUE!"},{"$error":"#VALUE!"},{"$error":"#VALUE!"}]
[null,null,null,null,null,null,null,null,null,null,null,null,null,null,null,null,null,null,null,null,null,null,null,"Total",{"$f":"SUM(Y193:Y199)","v":0},{"$f":"SUM(Z193:Z199)","v":0},0,0,0,0,null,null,null,"N/A",null,false,null,null,null,null,"Total",null,null,null,null,null,null,null,null,null,null,null,null,null,null,null,null,null,null,null,null,null,null,null,"Total",null,null,null,null,null,null,null,null,null,null,null,null,null,null,null,null,null,null,null,null,null,null,null,null,null,null,null,null,null,null,null,null,null,null,null,null,null,null,null,null,null,null,null,null,null,null,null,null,null,null,null,null,null,null,null,null,null,null,null,null,null,null,null,null,null,null,null,"Total",{"$f":"SUM(ED193:ED199)","v":{"$error":"#VALUE!"}},{"$f":"SUM(EE193:EE199)","v":{"$error":"#VALUE!"}},{"$f":"SUM(EF193:EF199)","v":{"$error":"#VALUE!"}},{"$f":"SUM(EG193:EG199)","v":{"$error":"#VALUE!"}},{"$f":"SUM(EH193:EH199)","v":{"$error":"#VALUE!"}},{"$f":"SUM(EI193:EI199)","v":{"$error":"#VALUE!"}},{"$error":"#VALUE!"},{"$error":"#VALUE!"},{"$error":"#VALUE!"},{"$error":"#VALUE!"},{"$error":"#VALUE!"},{"$error":"#VALUE!"},{"$error":"#VALUE!"},{"$error":"#VALUE!"},{"$error":"#VALUE!"},{"$error":"#VALUE!"},{"$error":"#VALUE!"},{"$error":"#VALUE!"},null,"Total",{"$f":"SUM(EX193:EX199)","v":0},{"$f":"SUM(EY193:EY199)","v":{"$error":"#VALUE!"}},{"$f":"SUM(EZ193:EZ199)","v":{"$error":"#VALUE!"}},{"$error":"#VALUE!"},{"$error":"#VALUE!"},{"$f":"SUM(FC193:FC199)","v":{"$error":"#VALUE!"}},{"$f":"SUM(FD193:FD199)","v":{"$error":"#VALUE!"}},{"$error":"#VALUE!"},{"$error":"#VALUE!"},{"$error":"#VALUE!"},{"$error":"#VALUE!"},{"$error":"#VALUE!"},{"$error":"#VALUE!"},{"$error":"#VALUE!"},{"$error":"#VALUE!"},{"$error":"#VALUE!"},{"$f":"SUM(FN193:FN199)","v":{"$error":"#VALUE!"}},{"$f":"SUM(FO193:FO199)","v":{"$error":"#VALUE!"}},{"$f":"SUM(FP193:FP199)","v":{"$error":"#VALUE!"}},{"$f":"SUM(FQ193:FQ199)","v":{"$error":"#VALUE!"}},{"$error":"#VALUE!"},{"$error":"#VALUE!"},{"$error":"#VALUE!"},{"$error":"#VALUE!"},{"$error":"#VALUE!"},{"$error":"#VALUE!"},{"$error":"#VALUE!"},{"$error":"#VALUE!"},{"$error":"#VALUE!"},{"$error":"#VALUE!"},{"$error":"#VALUE!"},{"$f":"SUM(GC193:GC199)","v":{"$error":"#VALUE!"}},{"$f":"SUM(GD193:GD199)","v":{"$error":"#VALUE!"}},{"$error":"#VALUE!"},"Total",{"$f":"SUM(GG193:GG199)","v":0},{"$f":"SUM(GH193:GH199)","v":{"$error":"#VALUE!"}},{"$f":"SUM(GI193:GI199)","v":{"$error":"#VALUE!"}},{"$error":"#VALUE!"},{"$error":"#VALUE!"},{"$f":"SUM(GL193:GL199)","v":{"$error":"#VALUE!"}},{"$f":"SUM(GM193:GM199)","v":{"$error":"#VALUE!"}},{"$f":"SUM(GN193:GN199)","v":{"$error":"#VALUE!"}},{"$error":"#VALUE!"},{"$error":"#VALUE!"},{"$error":"#VALUE!"},{"$error":"#VALUE!"},{"$error":"#VALUE!"},{"$error":"#VALUE!"},{"$error":"#VALUE!"},{"$error":"#VALUE!"},{"$f":"SUM(GW193:GW199)","v":{"$error":"#VALUE!"}},{"$f":"SUM(GX193:GX199)","v":{"$error":"#VALUE!"}},{"$f":"SUM(GY193:GY199)","v":{"$error":"#VALUE!"}},{"$f":"SUM(GZ193:GZ199)","v":{"$error":"#VALUE!"}},{"$error":"#VALUE!"},{"$error":"#VALUE!"},{"$error":"#VALUE!"},{"$error":"#VALUE!"},{"$error":"#VALUE!"},{"$error":"#VALUE!"},{"$error":"#VALUE!"},{"$error":"#VALUE!"},{"$error":"#VALUE!"},{"$error":"#VALUE!"},{"$error":"#VALUE!"},{"$f":"SUM(HL193:HL199)","v":{"$error":"#VALUE!"}},{"$f":"SUM(HM193:HM199)","v":{"$error":"#VALUE!"}},{"$error":"#VALUE!"},"Total",{"$f":"SUM(HP193:HP199)","v":0},{"$f":"SUM(HQ193:HQ199)","v":{"$error":"#VALUE!"}},{"$f":"SUM(HR193:HR199)","v":{"$error":"#VALUE!"}},{"$error":"#VALUE!"},{"$error":"#VALUE!"},{"$f":"SUM(HU193:HU199)","v":{"$error":"#VALUE!"}},{"$f":"SUM(HV193:HV199)","v":{"$error":"#VALUE!"}},{"$error":"#VALUE!"},{"$error":"#VALUE!"},{"$error":"#VALUE!"},{"$error":"#VALUE!"},{"$error":"#VALUE!"},{"$error":"#VALUE!"},{"$error":"#VALUE!"},{"$error":"#VALUE!"},{"$error":"#VALUE!"},{"$f":"SUM(IF193:IF199)","v":{"$error":"#VALUE!"}},{"$f":"SUM(IG193:IG199)","v":{"$error":"#VALUE!"}},{"$f":"SUM(IH193:IH199)","v":{"$error":"#VALUE!"}},{"$f":"SUM(II193:II199)","v":{"$error":"#VALUE!"}},{"$error":"#VALUE!"},{"$error":"#VALUE!"},{"$error":"#VALUE!"},{"$error":"#VALUE!"},{"$error":"#VALUE!"},{"$error":"#VALUE!"},{"$error":"#VALUE!"},{"$error":"#VALUE!"},{"$error":"#VALUE!"},{"$error":"#VALUE!"},{"$error":"#VALUE!"},{"$f":"SUM(IU193:IU199)","v":{"$error":"#VALUE!"}},{"$f":"SUM(IV193:IV199)","v":{"$error":"#VALUE!"}},{"$error":"#VALUE!"},"Total",{"$f":"SUM(IY193:IY199)","v":0},{"$f":"SUM(IZ193:IZ199)","v":{"$error":"#VALUE!"}},{"$f":"SUM(JA193:JA199)","v":{"$error":"#VALUE!"}},{"$error":"#VALUE!"},{"$error":"#VALUE!"},{"$f":"SUM(JD193:JD199)","v":{"$error":"#VALUE!"}},{"$f":"SUM(JE193:JE199)","v":{"$error":"#VALUE!"}},{"$error":"#VALUE!"},{"$error":"#VALUE!"},{"$error":"#VALUE!"},{"$error":"#VALUE!"},{"$error":"#VALUE!"},{"$error":"#VALUE!"},{"$error":"#VALUE!"},{"$error":"#VALUE!"},{"$error":"#VALUE!"},{"$f":"SUM(JO193:JO199)","v":{"$error":"#VALUE!"}},{"$f":"SUM(JP193:JP199)","v":{"$error":"#VALUE!"}},{"$f":"SUM(JQ193:JQ199)","v":{"$error":"#VALUE!"}},{"$f":"SUM(JR193:JR199)","v":{"$error":"#VALUE!"}},{"$error":"#VALUE!"},{"$error":"#VALUE!"},{"$error":"#VALUE!"},{"$error":"#VALUE!"},{"$error":"#VALUE!"},{"$error":"#VALUE!"},{"$error":"#VALUE!"},{"$error":"#VALUE!"},{"$error":"#VALUE!"},{"$error":"#VALUE!"},{"$error":"#VALUE!"},{"$f":"SUM(KD193:KD199)","v":{"$error":"#VALUE!"}},{"$f":"SUM(KE193:KE199)","v":{"$error":"#VALUE!"}},{"$error":"#VALUE!"},"Total",{"$f":"SUM(KH193:KH199)","v":0},{"$f":"SUM(KI193:KI199)","v":{"$error":"#VALUE!"}},{"$f":"SUM(KJ193:KJ199)","v":{"$error":"#VALUE!"}},{"$error":"#VALUE!"},{"$error":"#VALUE!"},{"$f":"SUM(KM193:KM199)","v":{"$error":"#VALUE!"}},{"$f":"SUM(KN193:KN199)","v":{"$error":"#VALUE!"}},{"$error":"#VALUE!"},{"$error":"#VALUE!"},{"$error":"#VALUE!"},{"$error":"#VALUE!"},{"$error":"#VALUE!"},{"$error":"#VALUE!"},{"$error":"#VALUE!"},{"$error":"#VALUE!"},{"$error":"#VALUE!"},{"$f":"SUM(KX193:KX199)","v":{"$error":"#VALUE!"}},{"$f":"SUM(KY193:KY199)","v":{"$error":"#VALUE!"}},{"$f":"SUM(KZ193:KZ199)","v":{"$error":"#VALUE!"}},{"$f":"SUM(LA193:LA199)","v":{"$error":"#VALUE!"}},{"$error":"#VALUE!"},{"$error":"#VALUE!"},{"$error":"#VALUE!"},{"$error":"#VALUE!"},{"$error":"#VALUE!"},{"$error":"#VALUE!"},{"$error":"#VALUE!"},{"$error":"#VALUE!"},{"$error":"#VALUE!"},{"$error":"#VALUE!"},{"$error":"#VALUE!"},{"$f":"SUM(LM193:LM199)","v":{"$error":"#VALUE!"}},{"$f":"SUM(LN193:LN199)","v":{"$error":"#VALUE!"}},{"$error":"#VALUE!"},"Total",{"$f":"SUM(LQ193:LQ199)","v":0},{"$f":"SUM(LR193:LR199)","v":{"$error":"#VALUE!"}},{"$f":"SUM(LS193:LS199)","v":{"$error":"#VALUE!"}},{"$error":"#VALUE!"},{"$error":"#VALUE!"},{"$f":"SUM(LV193:LV199)","v":{"$error":"#VALUE!"}},{"$f":"SUM(LW193:LW199)","v":{"$error":"#VALUE!"}},{"$error":"#VALUE!"},{"$error":"#VALUE!"},{"$error":"#VALUE!"},{"$error":"#VALUE!"},{"$error":"#VALUE!"},{"$error":"#VALUE!"},{"$error":"#VALUE!"},{"$error":"#VALUE!"},{"$f":"SUM(MF193:MF199)","v":{"$error":"#VALUE!"}},{"$f":"SUM(MG193:MG199)","v":{"$error":"#VALUE!"}},{"$f":"SUM(MH193:MH199)","v":{"$error":"#VALUE!"}},{"$f":"SUM(MI193:MI199)","v":{"$error":"#VALUE!"}},{"$f":"SUM(MJ193:MJ199)","v":{"$error":"#VALUE!"}},{"$error":"#VALUE!"},{"$error":"#VALUE!"},{"$error":"#VALUE!"},{"$error":"#VALUE!"},{"$error":"#VALUE!"},{"$error":"#VALUE!"},{"$error":"#VALUE!"},{"$error":"#VALUE!"},{"$error":"#VALUE!"},{"$error":"#VALUE!"},{"$error":"#VALUE!"},{"$f":"SUM(MV193:MV199)","v":{"$error":"#VALUE!"}},{"$f":"SUM(MW193:MW199)","v":{"$error":"#VALUE!"}},{"$error":"#VALUE!"}]
[null,{"$f":"B193+1","v":22},{"$f":"'Regional Project List Sheet'!F26","v":0},{"$f":"IF('Regional Project List Sheet'!$G26=\"New\",1,\"\")","v":""},{"$f":"IF('Regional Project List Sheet'!$G26=\"Funded Old\",1,\"\")","v":""},{"$f":"IF('Regional Project List Sheet'!$G26=\"Unfunded Old\",1,\"\")","v":""},{"$f":"'Regional Project List Sheet'!H26","v":0},{"$f":"'Regional Project List Sheet'!I26","v":0},{"$f":"'Regional Project List Sheet'!L26","v":0},{"$f":"'Regional Project List Sheet'!M26","v":0},{"$f":"'Regional Project List Sheet'!N26","v":0},{"$f":"'Regional Project List Sheet'!O26","v":0},{"$f":"'Regional Project List Sheet'!P26","v":0},{"$f":"IF('Regional Project List Sheet'!$Q26=\"N/A\",\"N/A\",IF($Y204<>0,5,IF($Z204<>0,4,IF($AA204<>0,3,IF($AB204<>0,2,1)))))","v":1},{"$f":"VLOOKUP($C201,'[2]Ranking|Priority'!$B$5:$O$40,12,FALSE)","v":{"$error":"#N/A"}},{"$f":"VLOOKUP($C201,'[2]Ranking|Priority'!$B$5:$O$68,13,FALSE)","v":{"$error":"#N/A"}},{"$f":"VLOOKUP($C201,'[2]Ranking|Priority'!$B$5:$O$68,14,FALSE)","v":{"$error":"#N/A"}},{"$f":"'Regional Project List Sheet'!T26","v":0},{"$f":"'Regional Project List Sheet'!U26","v":0},{"$f":"'Regional Project List Sheet'!V26","v":0},{"$f":"'Regional Project List Sheet'!W26","v":0},{"$f":"'Regional Project List Sheet'!X26","v":0},{"$f":"'Regional Project List Sheet'!Y26","v":"Choose from Project List in cell I2"},0,null,null,null,null,null,null,null,{"$f":"'Regional Project List Sheet'!AJ26","v":0},{"$f":"IF(OR('Regional Project List Sheet'!$AA26<>'Regional Project List Sheet'!$A$40,'Regional Project List Sheet'!$AD26<>'Regional Project List Sheet'!$A$40,'Regional Project List Sheet'!$AG26<>'Regional Project List Sheet'!$A$40),_xlfn.CONCAT(IF(ISNUMBER('Regional Project List Sheet'!$AA26),'Regional Project List Sheet'!$A$36,\"\"),\" \",IF(ISNUMBER('Regional Project List Sheet'!$AD26),'Regional Project List Sheet'!$A$37,\"\"),\" \",IF(ISNUMBER('Regional Project List Sheet'!$AG26),'Regional Project List Sheet'!$A$38,\"\")),\"N/A\")","v":"N/A"},"N/A",{"$f":"IF(OR('Regional Project List Sheet'!AC26<>'Regional Project List Sheet'!$A$40,'Regional Project List Sheet'!AF26<>'Regional Project List Sheet'!$A$40,'Regional Project List Sheet'!AI26<>'Regional Project List Sheet'!$A$40),\n\nIF(LEN(_xlfn.CONCAT(IF('Regional Project List Sheet'!AC26=\"Yes\",'Regional Project List Sheet'!$A$36,\"\"),\" \",\n\nIF('Regional Project List Sheet'!AF26=\"Yes\",'Regional Project List Sheet'!$A$37,\"\"),\" \",\n\nIF('Regional Project List Sheet'!AI26=\"Yes\",'Regional Project List Sheet'!$A$38,\"\")))<3,\"No\",\n\n_xlfn.CONCAT(IF('Regional Project List Sheet'!AC26=\"Yes\",'Regional Project List Sheet'!$A$36,\"\"),\" \",\n\nIF('Regional Project List Sheet'!AF26=\"Yes\",'Regional Project List Sheet'!$A$37,\"\"),\" \",\n\nIF('Regional Project List Sheet'!AI26=\"Yes\",'Regional Project List Sheet'!$A$38,\"\"))))","v":false},false,{"$f":"'Regional Project List Sheet'!AK26","v":0},null,{"$f":"'Regional Project List Sheet'!AL26","v":0},null,0,null,null,null,null,null,null,null,null,null,null,1,{"$f":"IF(AND(BB201=\"OK\",BC201=\"OK\",BD201=\"OK\"),\"OK\",\"ERR!\")","v":"ERR!"},{"$f":"IF(AND(Y201>0,SUM(BN201:BX201)<1),\"ERR!\",IF(AND(Z201>0,SUM(BY201:CI201)<1),\"ERR!\",IF(AND(AA201>0,SUM(CJ201:CT201)<1),\"ERR\",IF(AND(AB201>0,SUM(CU201:DE201)<1),\"ERR\",IF(AND(AC201>0,SUM(DF201:DP201)<1),\"ERR\",IF(AND(AD201>0,SUM(DQ201:EA201)<1),\"ERR\",\"OK\"))))))","v":"OK"},{"$f":"IF(OR(SUM(BN201:BX201)<>1,SUM(BY201:CI201)<>1,SUM(CJ201:CT201)<>1,SUM(CU201:DE201)<>1,SUM(DF201:DP201)<>1,SUM(DQ201:EA201)<>1),\"ERR!\",\"OK\")","v":"ERR!"},{"$f":"IF(AND(OR(BE201=BK201,BE201=0),OR(BF201=BK201,BF201=0),OR(BG201=BK201,BG201=0),OR(BH201=BK201,BH201=0),OR(BI201=BK201,BI201=0),OR(BJ201=BK201,BJ201=0)),\"OK\",\"ERR!\")","v":"OK"},{"$f":"(BN201*POWER(10,0)+BO201*POWER(10,1)+BP201*POWER(10,2)+BQ201*POWER(10,3)+BR201*POWER(10,4)+BS201*POWER(10,5)+BT201*POWER(10,6)+BU201*POWER(10,7)+BV201*POWER(10,8)+BW201*POWER(10,9)+BX201*POWER(10,10))","v":0},{"$f":"(BY201*POWER(10,0)+BZ201*POWER(10,1)+CA201*POWER(10,2)+CB201*POWER(10,3)+CC201*POWER(10,4)+CD201*POWER(10,5)+CE201*POWER(10,6)+CF201*POWER(10,7)+CG201*POWER(10,8)+CH201*POWER(10,9)+CI201*POWER(10,10))","v":0},{"$f":"(CJ201*POWER(10,0)+CK201*POWER(10,1)+CL201*POWER(10,2)+CM201*POWER(10,3)+CN201*POWER(10,4)+CO201*POWER(10,5)+CP201*POWER(10,6)+CQ201*POWER(10,7)+CR201*POWER(10,8)+CS201*POWER(10,9)+CT201*POWER(10,10))","v":0},{"$f":"(CU201*POWER(10,0)+CV201*POWER(10,1)+CW201*POWER(10,2)+CX201*POWER(10,3)+CY201*POWER(10,4)+CZ201*POWER(10,5)+DA201*POWER(10,6)+DB201*POWER(10,7)+DC201*POWER(10,8)+DD201*POWER(10,9)+DE201*POWER(10,10))","v":0},{"$f":"(DF201*POWER(10,0)+DG201*POWER(10,1)+DH201*POWER(10,2)+DI201*POWER(10,3)+DJ201*POWER(10,4)+DK201*POWER(10,5)+DL201*POWER(10,6)+DM201*POWER(10,7)+DN201*POWER(10,8)+DO201*POWER(10,9)+DP201*POWER(10,10))","v":0},{"$f":"(DQ201*POWER(10,0)+DR201*POWER(10,1)+DS201*POWER(10,2)+DT201*POWER(10,3)+DU201*POWER(10,4)+DV201*POWER(10,5)+DW201*POWER(10,6)+DX201*POWER(10,7)+DY201*POWER(10,8)+DZ201*POWER(10,9)+EA201*POWER(10,10))","v":0},{"$f":"MAX(BE201:BJ201)","v":0},null,0,null,null,null,null,null,null,null,null,null,null,null,null,null,null,null,null,null,null,null,null,null,null,null,null,null,null,null,null,null,null,null,null,null,null,null,null,null,null,null,null,null,null,null,null,null,null,null,null,null,null,null,null,null,null,null,null,null,null,null,null,null,null,null,null,null,null,null,0,{"$f":"($Y201*D$201)/1000","v":{"$error":"#VALUE!"}},{"$error":"#VALUE!"},{"$error":"#VALUE!"},{"$f":"($Z201*D$201)/1000","v":{"$error":"#VALUE!"}},{"$error":"#VALUE!"},{"$error":"#VALUE!"},{"$f":"($AA201*D$201)/1000","v":{"$error":"#VALUE!"}},{"$error":"#VALUE!"},{"$error":"#VALUE!"},{"$f":"($AB201*D$201)/1000","v":{"$error":"#VALUE!"}},{"$error":"#VALUE!"},{"$error":"#VALUE!"},{"$f":"($AC201*D$201)/1000","v":{"$error":"#VALUE!"}},{"$error":"#VALUE!"},{"$error":"#VALUE!"},{"$f":"($AD201*D$201)/1000","v":{"$error":"#VALUE!"}},{"$error":"#VALUE!"},{"$error":"#VALUE!"},null,0,{"$f":"$AZ$201*$Y201","v":0},{"$f":"($AZ$201*$BN201*D$201*$Y201)/1000","v":{"$error":"#VALUE!"}},{"$error":"#VALUE!"},{"$error":"#VALUE!"},{"$f":"($AZ$201*$BO201*D$201*$Y201)/1000","v":{"$error":"#VALUE!"}},{"$error":"#VALUE!"},{"$error":"#VALUE!"},{"$f":"($AZ$201*$BP201*D$201*$Y201)/1000","v":{"$error":"#VALUE!"}},{"$error":"#VALUE!"},{"$error":"#VALUE!"},{"$f":"($AZ$201*$BQ201*D$201*$Y201)/1000","v":{"$error":"#VALUE!"}},{"$error":"#VALUE!"},{"$error":"#VALUE!"},{"$f":"($AZ$201*$BR201*D$201*$Y201)/1000","v":{"$error":"#VALUE!"}},{"$error":"#VALUE!"},{"$error":"#VALUE!"},{"$f":"($AZ$201*$BS201*D$201*$Y201)/1000","v":{"$error":"#VALUE!"}},{"$error":"#VALUE!"},{"$error":"#VALUE!"},{"$f":"($AZ$201*$BT201*D$201*$Y201)/1000","v":{"$error":"#VALUE!"}},{"$error":"#VALUE!"},{"$error":"#VALUE!"},{"$f":"($AZ$201*$BU201*D$201*$Y201)/1000","v":{"$error":"#VALUE!"}},{"$error":"#VALUE!"},{"$error":"#VALUE!"},{"$f":"($AZ$201*$BV201*D$201*$Y201)/1000","v":{"$error":"#VALUE!"}},{"$error":"#VALUE!"},{"$error":"#VALUE!"},{"$f":"($AZ$201*$BW201*D$201*$Y201)/1000","v":{"$error":"#VALUE!"}},{"$error":"#VALUE!"},{"$error":"#VALUE!"},{"$f":"($AZ$201*$BX201*D$201*$Y201)/1000","v":{"$error":"#VALUE!"}},{"$error":"#VALUE!"},{"$error":"#VALUE!"},0,{"$f":"$AZ$201*$Z201","v":0},{"$f":"($AZ$201*$BY201*D$201*$Z201)/1000","v":{"$error":"#VALUE!"}},{"$error":"#VALUE!"},{"$error":"#VALUE!"},{"$f":"($AZ$201*$BZ201*D$201*$Z201)/1000","v":{"$error":"#VALUE!"}},{"$error":"#VALUE!"},{"$error":"#VALUE!"},{"$f":"($AZ$201*$CA201*D$201*$Z201)/1000","v":{"$error":"#VALUE!"}},{"$error":"#VALUE!"},{"$error":"#VALUE!"},{"$f":"($AZ$201*$CB201*D$201*$Z201)/1000","v":{"$error":"#VALUE!"}},{"$error":"#VALUE!"},{"$error":"#VALUE!"},{"$f":"($AZ$201*$CD201*D$201*$Z201)/1000","v":{"$error":"#VALUE!"}},{"$error":"#VALUE!"},{"$error":"#VALUE!"},{"$f":"($AZ$201*$CD201*D$201*$Z201)/1000","v":{"$error":"#VALUE!"}},{"$error":"#VALUE!"},{"$error":"#VALUE!"},{"$f":"($AZ$201*$CE201*D$201*$Z201)/1000","v":{"$error":"#VALUE!"}},{"$error":"#VALUE!"},{"$error":"#VALUE!"},{"$f":"($AZ$201*$CF201*D$201*$Z201)/1000","v":{"$error":"#VALUE!"}},{"$error":"#VALUE!"},{"$error":"#VALUE!"},{"$f":"($AZ$201*$CG201*D$201*$Z201)/1000","v":{"$error":"#VALUE!"}},{"$error":"#VALUE!"},{"$error":"#VALUE!"},{"$f":"($AZ$201*$CH201*D$201*$Z201)/1000","v":{"$error":"#VALUE!"}},{"$error":"#VALUE!"},{"$error":"#VALUE!"},{"$f":"($AZ$201*$CI201*D$201*$Z201)/1000","v":{"$error":"#VALUE!"}},{"$error":"#VALUE!"},{"$error":"#VALUE!"},0,{"$f":"$AZ$201*$AA201","v":0},{"$f":"($AZ$201*$CJ201*D$201*$AA201)/1000","v":{"$error":"#VALUE!"}},{"$error":"#VALUE!"},{"$error":"#VALUE!"},{"$f":"($AZ$201*$CK201*D$201*$AA201)/1000","v":{"$error":"#VALUE!"}},{"$error":"#VALUE!"},{"$error":"#VALUE!"},{"$f":"($AZ$201*$CL201*D$201*$AA201)/1000","v":{"$error":"#VALUE!"}},{"$error":"#VALUE!"},{"$error":"#VALUE!"},{"$f":"($AZ$201*$CM201*D$201*$AA201)/1000","v":{"$error":"#VALUE!"}},{"$error":"#VALUE!"},{"$error":"#VALUE!"},{"$f":"($AZ$201*$CN201*D$201*$AA201)/1000","v":{"$error":"#VALUE!"}},{"$error":"#VALUE!"},{"$error":"#VALUE!"},{"$f":"($AZ$201*$CO201*D$201*$AA201)/1000","v":{"$error":"#VALUE!"}},{"$error":"#VALUE!"},{"$error":"#VALUE!"},{"$f":"($AZ$201*$CP201*D$201*$AA201)/1000","v":{"$error":"#VALUE!"}},{"$error":"#VALUE!"},{"$error":"#VALUE!"},{"$f":"($AZ$201*$CQ201*D$201*$AA201)/1000","v":{"$error":"#VALUE!"}},{"$error":"#VALUE!"},{"$error":"#VALUE!"},{"$f":"($AZ$201*$CR201*D$201*$AA201)/1000","v":{"$error":"#VALUE!"}},{"$error":"#VALUE!"},{"$error":"#VALUE!"},{"$f":"($AZ$201*$CS201*D$201*$AA201)/1000","v":{"$error":"#VALUE!"}},{"$error":"#VALUE!"},{"$error":"#VALUE!"},{"$f":"($AZ$201*$CT201*D$201*$AA201)/1000","v":{"$error":"#VALUE!"}},{"$error":"#VALUE!"},{"$error":"#VALUE!"},0,{"$f":"$AZ$201*$AB201","v":0},{"$f":"($AZ$201*$CU201*D$201*$AB201)/1000","v":{"$error":"#VALUE!"}},{"$error":"#VALUE!"},{"$error":"#VALUE!"},{"$f":"($AZ$201*$CV201*D$201*$AB201)/1000","v":{"$error":"#VALUE!"}},{"$error":"#VALUE!"},{"$error":"#VALUE!"},{"$f":"($AZ$201*$CW201*D$201*$AB201)/1000","v":{"$error":"#VALUE!"}},{"$error":"#VALUE!"},{"$error":"#VALUE!"},{"$f":"($AZ$201*$CX201*D$201*$AB201)/1000","v":{"$error":"#VALUE!"}},{"$error":"#VALUE!"},{"$error":"#VALUE!"},{"$f":"($AZ$201*$CY201*D$201*$AB201)/1000","v":{"$error":"#VALUE!"}},{"$error":"#VALUE!"},{"$error":"#VALUE!"},{"$f":"($AZ$201*$CZ201*D$201*$AB201)/1000","v":{"$error":"#VALUE!"}},{"$error":"#VALUE!"},{"$error":"#VALUE!"},{"$f":"($AZ$201*$DA201*D$201*$AB201)/1000","v":{"$error":"#VALUE!"}},{"$error":"#VALUE!"},{"$error":"#VALUE!"},{"$f":"($AZ$201*$DB201*D$201*$AB201)/1000","v":{"$error":"#VALUE!"}},{"$error":"#VALUE!"},{"$error":"#VALUE!"},{"$f":"($AZ$201*$DC201*D$201*$AB201)/1000","v":{"$error":"#VALUE!"}},{"$error":"#VALUE!"},{"$error":"#VALUE!"},{"$f":"($AZ$201*$DD201*D$201*$AB201)/1000","v":{"$error":"#VALUE!"}},{"$error":"#VALUE!"},{"$error":"#VALUE!"},{"$f":"($AZ$201*$DE201*D$201*$AB201)/1000","v":{"$error":"#VALUE!"}},{"$error":"#VALUE!"},{"$error":"#VALUE!"},0,{"$f":"$AZ$201*$AC201","v":0},{"$f":"($AZ$201*$DF201*D$201*$AC201)/1000","v":{"$error":"#VALUE!"}},{"$error":"#VALUE!"},{"$error":"#VALUE!"},{"$f":"($AZ$201*$DG201*D$201*$AC201)/1000","v":{"$error":"#VALUE!"}},{"$error":"#VALUE!"},{"$error":"#VALUE!"},{"$f":"($AZ$201*$DH201*D$201*$AC201)/1000","v":{"$error":"#VALUE!"}},{"$error":"#VALUE!"},{"$error":"#VALUE!"},{"$f":"($AZ$201*$DI201*D$201*$AC201)/1000","v":{"$error":"#VALUE!"}},{"$error":"#VALUE!"},{"$error":"#VALUE!"},{"$f":"($AZ$201*$DJ201*D$201*$AC201)/1000","v":{"$error":"#VALUE!"}},{"$error":"#VALUE!"},{"$error":"#VALUE!"},{"$f":"($AZ$201*$DK201*D$201*$AC201)/1000","v":{"$error":"#VALUE!"}},{"$error":"#VALUE!"},{"$error":"#VALUE!"},{"$f":"($AZ$201*$DL201*D$201*$AC201)/1000","v":{"$error":"#VALUE!"}},{"$error":"#VALUE!"},{"$error":"#VALUE!"},{"$f":"($AZ$201*$DM201*D$201*$AC201)/1000","v":{"$error":"#VALUE!"}},{"$error":"#VALUE!"},{"$error":"#VALUE!"},{"$f":"($AZ$201*$DN201*D$201*$AC201)/1000","v":{"$error":"#VALUE!"}},{"$error":"#VALUE!"},{"$error":"#VALUE!"},{"$f":"($AZ$201*$DO201*D$201*$AC201)/1000","v":{"$error":"#VALUE!"}},{"$error":"#VALUE!"},{"$error":"#VALUE!"},{"$f":"($AZ$201*$DP201*D$201*$AC201)/1000","v":{"$error":"#VALUE!"}},{"$error":"#VALUE!"},{"$error":"#VALUE!"},0,{"$f":"$AZ$201*$AD201","v":0},{"$f":"($AZ$201*$DQ201*D$201*$AD201)/1000","v":{"$error":"#VALUE!"}},{"$error":"#VALUE!"},{"$error":"#VALUE!"},{"$f":"($AZ$201*$DR201*D$201*$AD201)/1000","v":{"$error":"#VALUE!"}},{"$error":"#VALUE!"},{"$error":"#VALUE!"},{"$f":"($AZ$201*$DS201*D$201*$AD201)/1000","v":{"$error":"#VALUE!"}},{"$error":"#VALUE!"},{"$error":"#VALUE!"},{"$f":"($AZ$201*$DT201*D$201*$AD201)/1000","v":{"$error":"#VALUE!"}},{"$error":"#VALUE!"},{"$error":"#VALUE!"},{"$f":"($AZ$201*$DU201*D$201*$AD201)/1000","v":{"$error":"#VALUE!"}},{"$error":"#VALUE!"},{"$error":"#VALUE!"},{"$f":"($AZ$201*$DV201*D$201*$AD201)/1000","v":{"$error":"#VALUE!"}},{"$error":"#VALUE!"},{"$error":"#VALUE!"},{"$f":"($AZ$201*$DW201*D$201*$AD201)/1000","v":{"$error":"#VALUE!"}},{"$error":"#VALUE!"},{"$error":"#VALUE!"},{"$f":"($AZ$201*$DX201*D$201*$AD201)/1000","v":{"$error":"#VALUE!"}},{"$error":"#VALUE!"},{"$error":"#VALUE!"},{"$f":"($AZ$201*$DY201*D$201*$AD201)/1000","v":{"$error":"#VALUE!"}},{"$error":"#VALUE!"},{"$error":"#VALUE!"},{"$f":"($AZ$201*$DZ201*D$201*$AD201)/1000","v":{"$error":"#VALUE!"}},{"$error":"#VALUE!"},{"$error":"#VALUE!"},{"$f":"($AZ$201*$EA201*D$201*$AD201)/1000","v":{"$error":"#VALUE!"}},{"$error":"#VALUE!"},{"$error":"#VALUE!"}]
[null,null,null,null,null,null,null,null,null,null,null,null,null,null,null,null,null,null,null,null,null,null,null,2,null,null,null,null,null,null,null,null,null,"N/A",null,false,null,null,null,null,2,null,null,null,null,null,null,null,null,null,null,null,{"$f":"IF(AND(BB202=\"OK\",BC202=\"OK\",BD202=\"OK\"),\"OK\",\"ERR!\")","v":"ERR!"},"OK",{"$f":"IF(OR(SUM(BN202:BX202)<>1,SUM(BY202:CI202)<>1,SUM(CJ202:CT202)<>1,SUM(CU202:DE202)<>1,SUM(DF202:DP202)<>1,SUM(DQ202:EA202)<>1),\"ERR!\",\"OK\")","v":"ERR!"},{"$f":"IF(AND(OR(BE202=BK202,BE202=0),OR(BF202=BK202,BF202=0),OR(BG202=BK202,BG202=0),OR(BH202=BK202,BH202=0),OR(BI202=BK202,BI202=0),OR(BJ202=BK202,BJ202=0)),\"OK\",\"ERR!\")","v":"OK"},{"$f":"(BN202*POWER(10,0)+BO202*POWER(10,1)+BP202*POWER(10,2)+BQ202*POWER(10,3)+BR202*POWER(10,4)+BS202*POWER(10,5)+BT202*POWER(10,6)+BU202*POWER(10,7)+BV202*POWER(10,8)+BW202*POWER(10,9)+BX202*POWER(10,10))","v":0},{"$f":"(BY202*POWER(10,0)+BZ202*POWER(10,1)+CA202*POWER(10,2)+CB202*POWER(10,3)+CC202*POWER(10,4)+CD202*POWER(10,5)+CE202*POWER(10,6)+CF202*POWER(10,7)+CG202*POWER(10,8)+CH202*POWER(10,9)+CI202*POWER(10,10))","v":0},{"$f":"(CJ202*POWER(10,0)+CK202*POWER(10,1)+CL202*POWER(10,2)+CM202*POWER(10,3)+CN202*POWER(10,4)+CO202*POWER(10,5)+CP202*POWER(10,6)+CQ202*POWER(10,7)+CR202*POWER(10,8)+CS202*POWER(10,9)+CT202*POWER(10,10))","v":0},{"$f":"(CU202*POWER(10,0)+CV202*POWER(10,1)+CW202*POWER(10,2)+CX202*POWER(10,3)+CY202*POWER(10,4)+CZ202*POWER(10,5)+DA202*POWER(10,6)+DB202*POWER(10,7)+DC202*POWER(10,8)+DD202*POWER(10,9)+DE202*POWER(10,10))","v":0},{"$f":"(DF202*POWER(10,0)+DG202*POWER(10,1)+DH202*POWER(10,2)+DI202*POWER(10,3)+DJ202*POWER(10,4)+DK202*POWER(10,5)+DL202*POWER(10,6)+DM202*POWER(10,7)+DN202*POWER(10,8)+DO202*POWER(10,9)+DP202*POWER(10,10))","v":0},{"$f":"(DQ202*POWER(10,0)+DR202*POWER(10,1)+DS202*POWER(10,2)+DT202*POWER(10,3)+DU202*POWER(10,4)+DV202*POWER(10,5)+DW202*POWER(10,6)+DX202*POWER(10,7)+DY202*POWER(10,8)+DZ202*POWER(10,9)+EA202*POWER(10,10))","v":0},{"$f":"MAX(BE202:BJ202)","v":0},null,2,null,null,null,null,null,null,null,null,null,null,null,null,null,null,null,null,null,null,null,null,null,null,null,null,null,null,null,null,null,null,null,null,null,null,null,null,null,null,null,null,null,null,null,null,null,null,null,null,null,null,null,null,null,null,null,null,null,null,null,null,null,null,null,null,null,null,null,2,{"$error":"#VALUE!"},{"$error":"#VALUE!"},{"$error":"#VALUE!"},{"$error":"#VALUE!"},{"$error":"#VALUE!"},{"$error":"#VALUE!"},{"$error":"#VALUE!"},{"$error":"#VALUE!"},{"$error":"#VALUE!"},{"$error":"#VALUE!"},{"$error":"#VALUE!"},{"$error":"#VALUE!"},{"$error":"#VALUE!"},{"$error":"#VALUE!"},{"$error":"#VALUE!"},{"$error":"#VALUE!"},{"$error":"#VALUE!"},{"$error":"#VALUE!"},null,2,0,{"$error":"#VALUE!"},{"$error":"#VALUE!"},{"$error":"#VALUE!"},{"$error":"#VALUE!"},{"$error":"#VALUE!"},{"$error":"#VALUE!"},{"$error":"#VALUE!"},{"$error":"#VALUE!"},{"$error":"#VALUE!"},{"$error":"#VALUE!"},{"$error":"#VALUE!"},{"$error":"#VALUE!"},{"$error":"#VALUE!"},{"$error":"#VALUE!"},{"$error":"#VALUE!"},{"$error":"#VALUE!"},{"$error":"#VALUE!"},{"$error":"#VALUE!"},{"$error":"#VALUE!"},{"$error":"#VALUE!"},{"$error":"#VALUE!"},{"$error":"#VALUE!"},{"$error":"#VALUE!"},{"$error":"#VALUE!"},{"$error":"#VALUE!"},{"$error":"#VALUE!"},{"$error":"#VALUE!"},{"$error":"#VALUE!"},{"$error":"#VALUE!"},{"$error":"#VALUE!"},{"$error":"#VALUE!"},{"$error":"#VALUE!"},{"$error":"#VALUE!"},2,0,{"$error":"#VALUE!"},{"$error":"#VALUE!"},{"$error":"#VALUE!"},{"$error":"#VALUE!"},{"$error":"#VALUE!"},{"$error":"#VALUE!"},{"$error":"#VALUE!"},{"$error":"#VALUE!"},{"$error":"#VALUE!"},{"$error":"#VALUE!"},{"$error":"#VALUE!"},{"$error":"#VALUE!"},{"$error":"#VALUE!"},{"$error":"#VALUE!"},{"$error":"#VALUE!"},{"$error":"#VALUE!"},{"$error":"#VALUE!"},{"$error":"#VALUE!"},{"$error":"#VALUE!"},{"$error":"#VALUE!"},{"$error":"#VALUE!"},{"$error":"#VALUE!"},{"$error":"#VALUE!"},{"$error":"#VALUE!"},{"$error":"#VALUE!"},{"$error":"#VALUE!"},{"$error":"#VALUE!"},{"$error":"#VALUE!"},{"$error":"#VALUE!"},{"$error":"#VALUE!"},{"$error":"#VALUE!"},{"$error":"#VALUE!"},{"$error":"#VALUE!"},2,0,{"$error":"#VALUE!"},{"$error":"#VALUE!"},{"$error":"#VALUE!"},{"$error":"#VALUE!"},{"$error":"#VALUE!"},{"$error":"#VALUE!"},{"$error":"#VALUE!"},{"$error":"#VALUE!"},{"$error":"#VALUE!"},{"$error":"#VALUE!"},{"$error":"#VALUE!"},{"$error":"#VALUE!"},{"$error":"#VALUE!"},{"$error":"#VALUE!"},{"$error":"#VALUE!"},{"$error":"#VALUE!"},{"$error":"#VALUE!"},{"$error":"#VALUE!"},{"$error":"#VALUE!"},{"$error":"#VALUE!"},{"$error":"#VALUE!"},{"$error":"#VALUE!"},{"$error":"#VALUE!"},{"$error":"#VALUE!"},{"$error":"#VALUE!"},{"$error":"#VALUE!"},{"$error":"#VALUE!"},{"$error":"#VALUE!"},{"$error":"#VALUE!"},{"$error":"#VALUE!"},{"$error":"#VALUE!"},{"$error":"#VALUE!"},{"$error":"#VALUE!"},2,0,{"$error":"#VALUE!"},{"$error":"#VALUE!"},{"$error":"#VALUE!"},{"$error":"#VALUE!"},{"$error":"#VALUE!"},{"$error":"#VALUE!"},{"$error":"#VALUE!"},{"$error":"#VALUE!"},{"$error":"#VALUE!"},{"$error":"#VALUE!"},{"$error":"#VALUE!"},{"$error":"#VALUE!"},{"$error":"#VALUE!"},{"$error":"#VALUE!"},{"$error":"#VALUE!"},{"$error":"#VALUE!"},{"$error":"#VALUE!"},{"$error":"#VALUE!"},{"$error":"#VALUE!"},{"$error":"#VALUE!"},{"$error":"#VALUE!"},{"$error":"#VALUE!"},{"$error":"#VALUE!"},{"$error":"#VALUE!"},{"$error":"#VALUE!"},{"$error":"#VALUE!"},{"$error":"#VALUE!"},{"$error":"#VALUE!"},{"$error":"#VALUE!"},{"$error":"#VALUE!"},{"$error":"#VALUE!"},{"$error":"#VALUE!"},{"$error":"#VALUE!"},2,0,{"$error":"#VALUE!"},{"$error":"#VALUE!"},{"$error":"#VALUE!"},{"$error":"#VALUE!"},{"$error":"#VALUE!"},{"$error":"#VALUE!"},{"$error":"#VALUE!"},{"$error":"#VALUE!"},{"$error":"#VALUE!"},{"$error":"#VALUE!"},{"$error":"#VALUE!"},{"$error":"#VALUE!"},{"$error":"#VALUE!"},{"$error":"#VALUE!"},{"$error":"#VALUE!"},{"$error":"#VALUE!"},{"$error":"#VALUE!"},{"$error":"#VALUE!"},{"$error":"#VALUE!"},{"$error":"#VALUE!"},{"$error":"#VALUE!"},{"$error":"#VALUE!"},{"$error":"#VALUE!"},{"$error":"#VALUE!"},{"$error":"#VALUE!"},{"$error":"#VALUE!"},{"$error":"#VALUE!"},{"$error":"#VALUE!"},{"$error":"#VALUE!"},{"$error":"#VALUE!"},{"$error":"#VALUE!"},{"$error":"#VALUE!"},{"$error":"#VALUE!"},2,0,{"$error":"#VALUE!"},{"$error":"#VALUE!"},{"$error":"#VALUE!"},{"$error":"#VALUE!"},{"$error":"#VALUE!"},{"$error":"#VALUE!"},{"$error":"#VALUE!"},{"$error":"#VALUE!"},{"$error":"#VALUE!"},{"$error":"#VALUE!"},{"$error":"#VALUE!"},{"$error":"#VALUE!"},{"$error":"#VALUE!"},{"$error":"#VALUE!"},{"$error":"#VALUE!"},{"$error":"#VALUE!"},{"$error":"#VALUE!"},{"$error":"#VALUE!"},{"$error":"#VALUE!"},{"$error":"#VALUE!"},{"$error":"#VALUE!"},{"$error":"#VALUE!"},{"$error":"#VALUE!"},{"$error":"#VALUE!"},{"$error":"#VALUE!"},{"$error":"#VALUE!"},{"$error":"#VALUE!"},{"$error":"#VALUE!"},{"$error":"#VALUE!"},{"$error":"#VALUE!"},{"$error":"#VALUE!"},{"$error":"#VALUE!"},{"$error":"#VALUE!"}]
[null,null,null,null,null,null,null,null,null,null,null,null,null,null,null,null,null,null,null,null,null,null,null,3,null,null,null,null,null,null,null,null,null,"N/A",null,false,null,null,null,null,3,null,null,null,null,null,null,null,null,null,null,null,{"$f":"IF(AND(BB203=\"OK\",BC203=\"OK\",BD203=\"OK\"),\"OK\",\"ERR!\")","v":"ERR!"},"OK",{"$f":"IF(OR(SUM(BN203:BX203)<>1,SUM(BY203:CI203)<>1,SUM(CJ203:CT203)<>1,SUM(CU203:DE203)<>1,SUM(DF203:DP203)<>1,SUM(DQ203:EA203)<>1),\"ERR!\",\"OK\")","v":"ERR!"},{"$f":"IF(AND(OR(BE203=BK203,BE203=0),OR(BF203=BK203,BF203=0),OR(BG203=BK203,BG203=0),OR(BH203=BK203,BH203=0),OR(BI203=BK203,BI203=0),OR(BJ203=BK203,BJ203=0)),\"OK\",\"ERR!\")","v":"OK"},0,0,0,0,0,0,{"$f":"MAX(BE203:BJ203)","v":0},null,3,null,null,null,null,null,null,null,null,null,null,null,null,null,null,null,null,null,null,null,null,null,null,null,null,null,null,null,null,null,null,null,null,null,null,null,null,null,null,null,null,null,null,null,null,null,null,null,null,null,null,null,null,null,null,null,null,null,null,null,null,null,null,null,null,null,null,null,3,{"$error":"#VALUE!"},{"$error":"#VALUE!"},{"$error":"#VALUE!"},{"$error":"#VALUE!"},{"$error":"#VALUE!"},{"$error":"#VALUE!"},{"$error":"#VALUE!"},{"$error":"#VALUE!"},{"$error":"#VALUE!"},{"$error":"#VALUE!"},{"$error":"#VALUE!"},{"$error":"#VALUE!"},{"$error":"#VALUE!"},{"$error":"#VALUE!"},{"$error":"#VALUE!"},{"$error":"#VALUE!"},{"$error":"#VALUE!"},{"$error":"#VALUE!"},null,3,0,{"$error":"#VALUE!"},{"$error":"#VALUE!"},{"$error":"#VALUE!"},{"$error":"#VALUE!"},{"$error":"#VALUE!"},{"$error":"#VALUE!"},{"$error":"#VALUE!"},{"$error":"#VALUE!"},{"$error":"#VALUE!"},{"$error":"#VALUE!"},{"$error":"#VALUE!"},{"$error":"#VALUE!"},{"$error":"#VALUE!"},{"$error":"#VALUE!"},{"$error":"#VALUE!"},{"$error":"#VALUE!"},{"$error":"#VALUE!"},{"$error":"#VALUE!"},{"$error":"#VALUE!"},{"$error":"#VALUE!"},{"$error":"#VALUE!"},{"$error":"#VALUE!"},{"$error":"#VALUE!"},{"$error":"#VALUE!"},{"$error":"#VALUE!"},{"$error":"#VALUE!"},{"$error":"#VALUE!"},{"$error":"#VALUE!"},{"$error":"#VALUE!"},{"$error":"#VALUE!"},{"$error":"#VALUE!"},{"$error":"#VALUE!"},{"$error":"#VALUE!"},3,0,{"$error":"#VALUE!"},{"$error":"#VALUE!"},{"$error":"#VALUE!"},{"$error":"#VALUE!"},{"$error":"#VALUE!"},{"$error":"#VALUE!"},{"$error":"#VALUE!"},{"$error":"#VALUE!"},{"$error":"#VALUE!"},{"$error":"#VALUE!"},{"$error":"#VALUE!"},{"$error":"#VALUE!"},{"$error":"#VALUE!"},{"$error":"#VALUE!"},{"$error":"#VALUE!"},{"$error":"#VALUE!"},{"$error":"#VALUE!"},{"$error":"#VALUE!"},{"$error":"#VALUE!"},{"$error":"#VALUE!"},{"$error":"#VALUE!"},{"$error":"#VALUE!"},{"$error":"#VALUE!"},{"$error":"#VALUE!"},{"$error":"#VALUE!"},{"$error":"#VALUE!"},{"$error":"#VALUE!"},{"$error":"#VALUE!"},{"$error":"#VALUE!"},{"$error":"#VALUE!"},{"$error":"#VALUE!"},{"$error":"#VALUE!"},{"$error":"#VALUE!"},3,0,{"$error":"#VALUE!"},{"$error":"#VALUE!"},{"$error":"#VALUE!"},{"$error":"#VALUE!"},{"$error":"#VALUE!"},{"$error":"#VALUE!"},{"$error":"#VALUE!"},{"$error":"#VALUE!"},{"$error":"#VALUE!"},{"$error":"#VALUE!"},{"$error":"#VALUE!"},{"$error":"#VALUE!"},{"$error":"#VALUE!"},{"$error":"#VALUE!"},{"$error":"#VALUE!"},{"$error":"#VALUE!"},{"$error":"#VALUE!"},{"$error":"#VALUE!"},{"$error":"#VALUE!"},{"$error":"#VALUE!"},{"$error":"#VALUE!"},{"$error":"#VALUE!"},{"$error":"#VALUE!"},{"$error":"#VALUE!"},{"$error":"#VALUE!"},{"$error":"#VALUE!"},{"$error":"#VALUE!"},{"$error":"#VALUE!"},{"$error":"#VALUE!"},{"$error":"#VALUE!"},{"$error":"#VALUE!"},{"$error":"#VALUE!"},{"$error":"#VALUE!"},3,0,{"$error":"#VALUE!"},{"$error":"#VALUE!"},{"$error":"#VALUE!"},{"$error":"#VALUE!"},{"$error":"#VALUE!"},{"$error":"#VALUE!"},{"$error":"#VALUE!"},{"$error":"#VALUE!"},{"$error":"#VALUE!"},{"$error":"#VALUE!"},{"$error":"#VALUE!"},{"$error":"#VALUE!"},{"$error":"#VALUE!"},{"$error":"#VALUE!"},{"$error":"#VALUE!"},{"$error":"#VALUE!"},{"$error":"#VALUE!"},{"$error":"#VALUE!"},{"$error":"#VALUE!"},{"$error":"#VALUE!"},{"$error":"#VALUE!"},{"$error":"#VALUE!"},{"$error":"#VALUE!"},{"$error":"#VALUE!"},{"$error":"#VALUE!"},{"$error":"#VALUE!"},{"$error":"#VALUE!"},{"$error":"#VALUE!"},{"$error":"#VALUE!"},{"$error":"#VALUE!"},{"$error":"#VALUE!"},{"$error":"#VALUE!"},{"$error":"#VALUE!"},3,0,{"$error":"#VALUE!"},{"$error":"#VALUE!"},{"$error":"#VALUE!"},{"$error":"#VALUE!"},{"$error":"#VALUE!"},{"$error":"#VALUE!"},{"$error":"#VALUE!"},{"$error":"#VALUE!"},{"$error":"#VALUE!"},{"$error":"#VALUE!"},{"$error":"#VALUE!"},{"$error":"#VALUE!"},{"$error":"#VALUE!"},{"$error":"#VALUE!"},{"$error":"#VALUE!"},{"$error":"#VALUE!"},{"$error":"#VALUE!"},{"$error":"#VALUE!"},{"$error":"#VALUE!"},{"$error":"#VALUE!"},{"$error":"#VALUE!"},{"$error":"#VALUE!"},{"$error":"#VALUE!"},{"$error":"#VALUE!"},{"$error":"#VALUE!"},{"$error":"#VALUE!"},{"$error":"#VALUE!"},{"$error":"#VALUE!"},{"$error":"#VALUE!"},{"$error":"#VALUE!"},{"$error":"#VALUE!"},{"$error":"#VALUE!"},{"$error":"#VALUE!"},3,0,{"$error":"#VALUE!"},{"$error":"#VALUE!"},{"$error":"#VALUE!"},{"$error":"#VALUE!"},{"$error":"#VALUE!"},{"$error":"#VALUE!"},{"$error":"#VALUE!"},{"$error":"#VALUE!"},{"$error":"#VALUE!"},{"$error":"#VALUE!"},{"$error":"#VALUE!"},{"$error":"#VALUE!"},{"$error":"#VALUE!"},{"$error":"#VALUE!"},{"$error":"#VALUE!"},{"$error":"#VALUE!"},{"$error":"#VALUE!"},{"$error":"#VALUE!"},{"$error":"#VALUE!"},{"$error":"#VALUE!"},{"$error":"#VALUE!"},{"$error":"#VALUE!"},{"$error":"#VALUE!"},{"$error":"#VALUE!"},{"$error":"#VALUE!"},{"$error":"#VALUE!"},{"$error":"#VALUE!"},{"$error":"#VALUE!"},{"$error":"#VALUE!"},{"$error":"#VALUE!"},{"$error":"#VALUE!"},{"$error":"#VALUE!"},{"$error":"#VALUE!"}]
[null,null,null,null,null,null,null,null,null,null,null,null,null,null,null,null,null,null,null,null,null,null,null,4,null,null,null,null,null,null,null,null,null,"N/A",null,false,null,null,null,null,4,null,null,null,null,null,null,null,null,null,null,null,{"$f":"IF(AND(BB204=\"OK\",BC204=\"OK\",BD204=\"OK\"),\"OK\",\"ERR!\")","v":"ERR!"},"OK","ERR!",{"$f":"IF(AND(OR(BE204=BK204,BE204=0),OR(BF204=BK204,BF204=0),OR(BG204=BK204,BG204=0),OR(BH204=BK204,BH204=0),OR(BI204=BK204,BI204=0),OR(BJ204=BK204,BJ204=0)),\"OK\",\"ERR!\")","v":"OK"},0,0,0,0,0,0,0,null,4,null,null,null,null,null,null,null,null,null,null,null,null,null,null,null,null,null,null,null,null,null,null,null,null,null,null,null,null,null,null,null,null,null,null,null,null,null,null,null,null,null,null,null,null,null,null,null,null,null,null,null,null,null,null,null,null,null,null,null,null,null,null,null,null,null,null,null,4,{"$error":"#VALUE!"},{"$error":"#VALUE!"},{"$error":"#VALUE!"},{"$error":"#VALUE!"},{"$error":"#VALUE!"},{"$error":"#VALUE!"},{"$error":"#VALUE!"},{"$error":"#VALUE!"},{"$error":"#VALUE!"},{"$error":"#VALUE!"},{"$error":"#VALUE!"},{"$error":"#VALUE!"},{"$error":"#VALUE!"},{"$error":"#VALUE!"},{"$error":"#VALUE!"},{"$error":"#VALUE!"},{"$error":"#VALUE!"},{"$error":"#VALUE!"},null,4,0,{"$error":"#VALUE!"},{"$error":"#VALUE!"},{"$error":"#VALUE!"},{"$error":"#VALUE!"},{"$error":"#VALUE!"},{"$error":"#VALUE!"},{"$error":"#VALUE!"},{"$error":"#VALUE!"},{"$error":"#VALUE!"},{"$error":"#VALUE!"},{"$error":"#VALUE!"},{"$error":"#VALUE!"},{"$error":"#VALUE!"},{"$error":"#VALUE!"},{"$error":"#VALUE!"},{"$error":"#VALUE!"},{"$error":"#VALUE!"},{"$error":"#VALUE!"},{"$error":"#VALUE!"},{"$error":"#VALUE!"},{"$error":"#VALUE!"},{"$error":"#VALUE!"},{"$error":"#VALUE!"},{"$error":"#VALUE!"},{"$error":"#VALUE!"},{"$error":"#VALUE!"},{"$error":"#VALUE!"},{"$error":"#VALUE!"},{"$error":"#VALUE!"},{"$error":"#VALUE!"},{"$error":"#VALUE!"},{"$error":"#VALUE!"},{"$error":"#VALUE!"},4,0,{"$error":"#VALUE!"},{"$error":"#VALUE!"},{"$error":"#VALUE!"},{"$error":"#VALUE!"},{"$error":"#VALUE!"},{"$error":"#VALUE!"},{"$error":"#VALUE!"},{"$error":"#VALUE!"},{"$error":"#VALUE!"},{"$error":"#VALUE!"},{"$error":"#VALUE!"},{"$error":"#VALUE!"},{"$error":"#VALUE!"},{"$error":"#VALUE!"},{"$error":"#VALUE!"},{"$error":"#VALUE!"},{"$error":"#VALUE!"},{"$error":"#VALUE!"},{"$error":"#VALUE!"},{"$error":"#VALUE!"},{"$error":"#VALUE!"},{"$error":"#VALUE!"},{"$error":"#VALUE!"},{"$error":"#VALUE!"},{"$error":"#VALUE!"},{"$error":"#VALUE!"},{"$error":"#VALUE!"},{"$error":"#VALUE!"},{"$error":"#VALUE!"},{"$error":"#VALUE!"},{"$error":"#VALUE!"},{"$error":"#VALUE!"},{"$error":"#VALUE!"},4,0,{"$error":"#VALUE!"},{"$error":"#VALUE!"},{"$error":"#VALUE!"},{"$error":"#VALUE!"},{"$error":"#VALUE!"},{"$error":"#VALUE!"},{"$error":"#VALUE!"},{"$error":"#VALUE!"},{"$error":"#VALUE!"},{"$error":"#VALUE!"},{"$error":"#VALUE!"},{"$error":"#VALUE!"},{"$error":"#VALUE!"},{"$error":"#VALUE!"},{"$error":"#VALUE!"},{"$error":"#VALUE!"},{"$error":"#VALUE!"},{"$error":"#VALUE!"},{"$error":"#VALUE!"},{"$error":"#VALUE!"},{"$error":"#VALUE!"},{"$error":"#VALUE!"},{"$error":"#VALUE!"},{"$error":"#VALUE!"},{"$error":"#VALUE!"},{"$error":"#VALUE!"},{"$error":"#VALUE!"},{"$error":"#VALUE!"},{"$error":"#VALUE!"},{"$error":"#VALUE!"},{"$error":"#VALUE!"},{"$error":"#VALUE!"},{"$error":"#VALUE!"},4,0,{"$error":"#VALUE!"},{"$error":"#VALUE!"},{"$error":"#VALUE!"},{"$error":"#VALUE!"},{"$error":"#VALUE!"},{"$error":"#VALUE!"},{"$error":"#VALUE!"},{"$error":"#VALUE!"},{"$error":"#VALUE!"},{"$error":"#VALUE!"},{"$error":"#VALUE!"},{"$error":"#VALUE!"},{"$error":"#VALUE!"},{"$error":"#VALUE!"},{"$error":"#VALUE!"},{"$error":"#VALUE!"},{"$error":"#VALUE!"},{"$error":"#VALUE!"},{"$error":"#VALUE!"},{"$error":"#VALUE!"},{"$error":"#VALUE!"},{"$error":"#VALUE!"},{"$error":"#VALUE!"},{"$error":"#VALUE!"},{"$error":"#VALUE!"},{"$error":"#VALUE!"},{"$error":"#VALUE!"},{"$error":"#VALUE!"},{"$error":"#VALUE!"},{"$error":"#VALUE!"},{"$error":"#VALUE!"},{"$error":"#VALUE!"},{"$error":"#VALUE!"},4,0,{"$error":"#VALUE!"},{"$error":"#VALUE!"},{"$error":"#VALUE!"},{"$error":"#VALUE!"},{"$error":"#VALUE!"},{"$error":"#VALUE!"},{"$error":"#VALUE!"},{"$error":"#VALUE!"},{"$error":"#VALUE!"},{"$error":"#VALUE!"},{"$error":"#VALUE!"},{"$error":"#VALUE!"},{"$error":"#VALUE!"},{"$error":"#VALUE!"},{"$error":"#VALUE!"},{"$error":"#VALUE!"},{"$error":"#VALUE!"},{"$error":"#VALUE!"},{"$error":"#VALUE!"},{"$error":"#VALUE!"},{"$error":"#VALUE!"},{"$error":"#VALUE!"},{"$error":"#VALUE!"},{"$error":"#VALUE!"},{"$error":"#VALUE!"},{"$error":"#VALUE!"},{"$error":"#VALUE!"},{"$error":"#VALUE!"},{"$error":"#VALUE!"},{"$error":"#VALUE!"},{"$error":"#VALUE!"},{"$error":"#VALUE!"},{"$error":"#VALUE!"},4,0,{"$error":"#VALUE!"},{"$error":"#VALUE!"},{"$error":"#VALUE!"},{"$error":"#VALUE!"},{"$error":"#VALUE!"},{"$error":"#VALUE!"},{"$error":"#VALUE!"},{"$error":"#VALUE!"},{"$error":"#VALUE!"},{"$error":"#VALUE!"},{"$error":"#VALUE!"},{"$error":"#VALUE!"},{"$error":"#VALUE!"},{"$error":"#VALUE!"},{"$error":"#VALUE!"},{"$error":"#VALUE!"},{"$error":"#VALUE!"},{"$error":"#VALUE!"},{"$error":"#VALUE!"},{"$error":"#VALUE!"},{"$error":"#VALUE!"},{"$error":"#VALUE!"},{"$error":"#VALUE!"},{"$error":"#VALUE!"},{"$error":"#VALUE!"},{"$error":"#VALUE!"},{"$error":"#VALUE!"},{"$error":"#VALUE!"},{"$error":"#VALUE!"},{"$error":"#VALUE!"},{"$error":"#VALUE!"},{"$error":"#VALUE!"},{"$error":"#VALUE!"}]
[null,null,null,null,null,null,null,null,null,null,null,null,null,null,null,null,null,null,null,null,null,null,null,7,null,null,null,null,null,null,null,null,null,"N/A",null,false,null,null,null,null,7,null,null,null,null,null,null,null,null,null,null,null,{"$f":"IF(AND(BB205=\"OK\",BC205=\"OK\",BD205=\"OK\"),\"OK\",\"ERR!\")","v":"ERR!"},"OK","ERR!","OK",0,0,0,0,0,0,0,null,7,null,null,null,null,null,null,null,null,null,null,null,null,null,null,null,null,null,null,null,null,null,null,null,null,null,null,null,null,null,null,null,null,null,null,null,null,null,null,null,null,null,null,null,null,null,null,null,null,null,null,null,null,null,null,null,null,null,null,null,null,null,null,null,null,null,null,null,7,{"$error":"#VALUE!"},{"$error":"#VALUE!"},{"$error":"#VALUE!"},{"$error":"#VALUE!"},{"$error":"#VALUE!"},{"$error":"#VALUE!"},{"$error":"#VALUE!"},{"$error":"#VALUE!"},{"$error":"#VALUE!"},{"$error":"#VALUE!"},{"$error":"#VALUE!"},{"$error":"#VALUE!"},{"$error":"#VALUE!"},{"$error":"#VALUE!"},{"$error":"#VALUE!"},{"$error":"#VALUE!"},{"$error":"#VALUE!"},{"$error":"#VALUE!"},null,7,0,{"$error":"#VALUE!"},{"$error":"#VALUE!"},{"$error":"#VALUE!"},{"$error":"#VALUE!"},{"$error":"#VALUE!"},{"$error":"#VALUE!"},{"$error":"#VALUE!"},{"$error":"#VALUE!"},{"$error":"#VALUE!"},{"$error":"#VALUE!"},{"$error":"#VALUE!"},{"$error":"#VALUE!"},{"$error":"#VALUE!"},{"$error":"#VALUE!"},{"$error":"#VALUE!"},{"$error":"#VALUE!"},{"$error":"#VALUE!"},{"$error":"#VALUE!"},{"$error":"#VALUE!"},{"$error":"#VALUE!"},{"$error":"#VALUE!"},{"$error":"#VALUE!"},{"$error":"#VALUE!"},{"$error":"#VALUE!"},{"$error":"#VALUE!"},{"$error":"#VALUE!"},{"$error":"#VALUE!"},{"$error":"#VALUE!"},{"$error":"#VALUE!"},{"$error":"#VALUE!"},{"$error":"#VALUE!"},{"$error":"#VALUE!"},{"$error":"#VALUE!"},7,0,{"$error":"#VALUE!"},{"$error":"#VALUE!"},{"$error":"#VALUE!"},{"$error":"#VALUE!"},{"$error":"#VALUE!"},{"$error":"#VALUE!"},{"$error":"#VALUE!"},{"$error":"#VALUE!"},{"$error":"#VALUE!"},{"$error":"#VALUE!"},{"$error":"#VALUE!"},{"$error":"#VALUE!"},{"$error":"#VALUE!"},{"$error":"#VALUE!"},{"$error":"#VALUE!"},{"$error":"#VALUE!"},{"$error":"#VALUE!"},{"$error":"#VALUE!"},{"$error":"#VALUE!"},{"$error":"#VALUE!"},{"$error":"#VALUE!"},{"$error":"#VALUE!"},{"$error":"#VALUE!"},{"$error":"#VALUE!"},{"$error":"#VALUE!"},{"$error":"#VALUE!"},{"$error":"#VALUE!"},{"$error":"#VALUE!"},{"$error":"#VALUE!"},{"$error":"#VALUE!"},{"$error":"#VALUE!"},{"$error":"#VALUE!"},{"$error":"#VALUE!"},7,0,{"$error":"#VALUE!"},{"$error":"#VALUE!"},{"$error":"#VALUE!"},{"$error":"#VALUE!"},{"$error":"#VALUE!"},{"$error":"#VALUE!"},{"$error":"#VALUE!"},{"$error":"#VALUE!"},{"$error":"#VALUE!"},{"$error":"#VALUE!"},{"$error":"#VALUE!"},{"$error":"#VALUE!"},{"$error":"#VALUE!"},{"$error":"#VALUE!"},{"$error":"#VALUE!"},{"$error":"#VALUE!"},{"$error":"#VALUE!"},{"$error":"#VALUE!"},{"$error":"#VALUE!"},{"$error":"#VALUE!"},{"$error":"#VALUE!"},{"$error":"#VALUE!"},{"$error":"#VALUE!"},{"$error":"#VALUE!"},{"$error":"#VALUE!"},{"$error":"#VALUE!"},{"$error":"#VALUE!"},{"$error":"#VALUE!"},{"$error":"#VALUE!"},{"$error":"#VALUE!"},{"$error":"#VALUE!"},{"$error":"#VALUE!"},{"$error":"#VALUE!"},7,0,{"$error":"#VALUE!"},{"$error":"#VALUE!"},{"$error":"#VALUE!"},{"$error":"#VALUE!"},{"$error":"#VALUE!"},{"$error":"#VALUE!"},{"$error":"#VALUE!"},{"$error":"#VALUE!"},{"$error":"#VALUE!"},{"$error":"#VALUE!"},{"$error":"#VALUE!"},{"$error":"#VALUE!"},{"$error":"#VALUE!"},{"$error":"#VALUE!"},{"$error":"#VALUE!"},{"$error":"#VALUE!"},{"$error":"#VALUE!"},{"$error":"#VALUE!"},{"$error":"#VALUE!"},{"$error":"#VALUE!"},{"$error":"#VALUE!"},{"$error":"#VALUE!"},{"$error":"#VALUE!"},{"$error":"#VALUE!"},{"$error":"#VALUE!"},{"$error":"#VALUE!"},{"$error":"#VALUE!"},{"$error":"#VALUE!"},{"$error":"#VALUE!"},{"$error":"#VALUE!"},{"$error":"#VALUE!"},{"$error":"#VALUE!"},{"$error":"#VALUE!"},7,0,{"$error":"#VALUE!"},{"$error":"#VALUE!"},{"$error":"#VALUE!"},{"$error":"#VALUE!"},{"$error":"#VALUE!"},{"$error":"#VALUE!"},{"$error":"#VALUE!"},{"$error":"#VALUE!"},{"$error":"#VALUE!"},{"$error":"#VALUE!"},{"$error":"#VALUE!"},{"$error":"#VALUE!"},{"$error":"#VALUE!"},{"$error":"#VALUE!"},{"$error":"#VALUE!"},{"$error":"#VALUE!"},{"$error":"#VALUE!"},{"$error":"#VALUE!"},{"$error":"#VALUE!"},{"$error":"#VALUE!"},{"$error":"#VALUE!"},{"$error":"#VALUE!"},{"$error":"#VALUE!"},{"$error":"#VALUE!"},{"$error":"#VALUE!"},{"$error":"#VALUE!"},{"$error":"#VALUE!"},{"$error":"#VALUE!"},{"$error":"#VALUE!"},{"$error":"#VALUE!"},{"$error":"#VALUE!"},{"$error":"#VALUE!"},{"$error":"#VALUE!"},7,0,{"$error":"#VALUE!"},{"$error":"#VALUE!"},{"$error":"#VALUE!"},{"$error":"#VALUE!"},{"$error":"#VALUE!"},{"$error":"#VALUE!"},{"$error":"#VALUE!"},{"$error":"#VALUE!"},{"$error":"#VALUE!"},{"$error":"#VALUE!"},{"$error":"#VALUE!"},{"$error":"#VALUE!"},{"$error":"#VALUE!"},{"$error":"#VALUE!"},{"$error":"#VALUE!"},{"$error":"#VALUE!"},{"$error":"#VALUE!"},{"$error":"#VALUE!"},{"$error":"#VALUE!"},{"$error":"#VALUE!"},{"$error":"#VALUE!"},{"$error":"#VALUE!"},{"$error":"#VALUE!"},{"$error":"#VALUE!"},{"$error":"#VALUE!"},{"$error":"#VALUE!"},{"$error":"#VALUE!"},{"$error":"#VALUE!"},{"$error":"#VALUE!"},{"$error":"#VALUE!"},{"$error":"#VALUE!"},{"$error":"#VALUE!"},{"$error":"#VALUE!"}]
[null,null,null,null,null,null,null,null,null,null,null,null,null,null,null,null,null,null,null,null,null,null,null,8,null,null,null,null,null,null,null,null,null,"N/A",null,false,null,null,null,null,8,null,null,null,null,null,null,null,null,null,null,null,"ERR!","OK","ERR!","OK",0,0,0,0,0,0,0,null,8,null,null,null,null,null,null,null,null,null,null,null,null,null,null,null,null,null,null,null,null,null,null,null,null,null,null,null,null,null,null,null,null,null,null,null,null,null,null,null,null,null,null,null,null,null,null,null,null,null,null,null,null,null,null,null,null,null,null,null,null,null,null,null,null,null,null,null,8,{"$error":"#VALUE!"},{"$error":"#VALUE!"},{"$error":"#VALUE!"},{"$error":"#VALUE!"},{"$error":"#VALUE!"},{"$error":"#VALUE!"},{"$error":"#VALUE!"},{"$error":"#VALUE!"},{"$error":"#VALUE!"},{"$error":"#VALUE!"},{"$error":"#VALUE!"},{"$error":"#VALUE!"},{"$error":"#VALUE!"},{"$error":"#VALUE!"},{"$error":"#VALUE!"},{"$error":"#VALUE!"},{"$error":"#VALUE!"},{"$error":"#VALUE!"},null,8,0,{"$error":"#VALUE!"},{"$error":"#VALUE!"},{"$error":"#VALUE!"},{"$error":"#VALUE!"},{"$error":"#VALUE!"},{"$error":"#VALUE!"},{"$error":"#VALUE!"},{"$error":"#VALUE!"},{"$error":"#VALUE!"},{"$error":"#VALUE!"},{"$error":"#VALUE!"},{"$error":"#VALUE!"},{"$error":"#VALUE!"},{"$error":"#VALUE!"},{"$error":"#VALUE!"},{"$error":"#VALUE!"},{"$error":"#VALUE!"},{"$error":"#VALUE!"},{"$error":"#VALUE!"},{"$error":"#VALUE!"},{"$error":"#VALUE!"},{"$error":"#VALUE!"},{"$error":"#VALUE!"},{"$error":"#VALUE!"},{"$error":"#VALUE!"},{"$error":"#VALUE!"},{"$error":"#VALUE!"},{"$error":"#VALUE!"},{"$error":"#VALUE!"},{"$error":"#VALUE!"},{"$error":"#VALUE!"},{"$error":"#VALUE!"},{"$error":"#VALUE!"},8,0,{"$error":"#VALUE!"},{"$error":"#VALUE!"},{"$error":"#VALUE!"},{"$error":"#VALUE!"},{"$error":"#VALUE!"},{"$error":"#VALUE!"},{"$error":"#VALUE!"},{"$error":"#VALUE!"},{"$error":"#VALUE!"},{"$error":"#VALUE!"},{"$error":"#VALUE!"},{"$error":"#VALUE!"},{"$error":"#VALUE!"},{"$error":"#VALUE!"},{"$error":"#VALUE!"},{"$error":"#VALUE!"},{"$error":"#VALUE!"},{"$error":"#VALUE!"},{"$error":"#VALUE!"},{"$error":"#VALUE!"},{"$error":"#VALUE!"},{"$error":"#VALUE!"},{"$error":"#VALUE!"},{"$error":"#VALUE!"},{"$error":"#VALUE!"},{"$error":"#VALUE!"},{"$error":"#VALUE!"},{"$error":"#VALUE!"},{"$error":"#VALUE!"},{"$error":"#VALUE!"},{"$error":"#VALUE!"},{"$error":"#VALUE!"},{"$error":"#VALUE!"},8,0,{"$error":"#VALUE!"},{"$error":"#VALUE!"},{"$error":"#VALUE!"},{"$error":"#VALUE!"},{"$error":"#VALUE!"},{"$error":"#VALUE!"},{"$error":"#VALUE!"},{"$error":"#VALUE!"},{"$error":"#VALUE!"},{"$error":"#VALUE!"},{"$error":"#VALUE!"},{"$error":"#VALUE!"},{"$error":"#VALUE!"},{"$error":"#VALUE!"},{"$error":"#VALUE!"},{"$error":"#VALUE!"},{"$error":"#VALUE!"},{"$error":"#VALUE!"},{"$error":"#VALUE!"},{"$error":"#VALUE!"},{"$error":"#VALUE!"},{"$error":"#VALUE!"},{"$error":"#VALUE!"},{"$error":"#VALUE!"},{"$error":"#VALUE!"},{"$error":"#VALUE!"},{"$error":"#VALUE!"},{"$error":"#VALUE!"},{"$error":"#VALUE!"},{"$error":"#VALUE!"},{"$error":"#VALUE!"},{"$error":"#VALUE!"},{"$error":"#VALUE!"},8,0,{"$error":"#VALUE!"},{"$error":"#VALUE!"},{"$error":"#VALUE!"},{"$error":"#VALUE!"},{"$error":"#VALUE!"},{"$error":"#VALUE!"},{"$error":"#VALUE!"},{"$error":"#VALUE!"},{"$error":"#VALUE!"},{"$error":"#VALUE!"},{"$error":"#VALUE!"},{"$error":"#VALUE!"},{"$error":"#VALUE!"},{"$error":"#VALUE!"},{"$error":"#VALUE!"},{"$error":"#VALUE!"},{"$error":"#VALUE!"},{"$error":"#VALUE!"},{"$error":"#VALUE!"},{"$error":"#VALUE!"},{"$error":"#VALUE!"},{"$error":"#VALUE!"},{"$error":"#VALUE!"},{"$error":"#VALUE!"},{"$error":"#VALUE!"},{"$error":"#VALUE!"},{"$error":"#VALUE!"},{"$error":"#VALUE!"},{"$error":"#VALUE!"},{"$error":"#VALUE!"},{"$error":"#VALUE!"},{"$error":"#VALUE!"},{"$error":"#VALUE!"},8,0,{"$error":"#VALUE!"},{"$error":"#VALUE!"},{"$error":"#VALUE!"},{"$error":"#VALUE!"},{"$error":"#VALUE!"},{"$error":"#VALUE!"},{"$error":"#VALUE!"},{"$error":"#VALUE!"},{"$error":"#VALUE!"},{"$error":"#VALUE!"},{"$error":"#VALUE!"},{"$error":"#VALUE!"},{"$error":"#VALUE!"},{"$error":"#VALUE!"},{"$error":"#VALUE!"},{"$error":"#VALUE!"},{"$error":"#VALUE!"},{"$error":"#VALUE!"},{"$error":"#VALUE!"},{"$error":"#VALUE!"},{"$error":"#VALUE!"},{"$error":"#VALUE!"},{"$error":"#VALUE!"},{"$error":"#VALUE!"},{"$error":"#VALUE!"},{"$error":"#VALUE!"},{"$error":"#VALUE!"},{"$error":"#VALUE!"},{"$error":"#VALUE!"},{"$error":"#VALUE!"},{"$error":"#VALUE!"},{"$error":"#VALUE!"},{"$error":"#VALUE!"},8,0,{"$error":"#VALUE!"},{"$error":"#VALUE!"},{"$error":"#VALUE!"},{"$error":"#VALUE!"},{"$error":"#VALUE!"},{"$error":"#VALUE!"},{"$error":"#VALUE!"},{"$error":"#VALUE!"},{"$error":"#VALUE!"},{"$error":"#VALUE!"},{"$error":"#VALUE!"},{"$error":"#VALUE!"},{"$error":"#VALUE!"},{"$error":"#VALUE!"},{"$error":"#VALUE!"},{"$error":"#VALUE!"},{"$error":"#VALUE!"},{"$error":"#VALUE!"},{"$error":"#VALUE!"},{"$error":"#VALUE!"},{"$error":"#VALUE!"},{"$error":"#VALUE!"},{"$error":"#VALUE!"},{"$error":"#VALUE!"},{"$error":"#VALUE!"},{"$error":"#VALUE!"},{"$error":"#VALUE!"},{"$error":"#VALUE!"},{"$error":"#VALUE!"},{"$error":"#VALUE!"},{"$error":"#VALUE!"},{"$error":"#VALUE!"},{"$error":"#VALUE!"}]
[null,null,null,null,null,null,null,null,null,null,null,null,null,null,null,null,null,null,null,null,null,null,null,9,null,null,null,null,null,null,null,null,null,"N/A",null,false,null,null,null,null,9,null,null,null,null,null,null,null,null,null,null,null,"ERR!","OK","ERR!","OK",0,0,0,{"$f":"(CU207*POWER(10,0)+CV207*POWER(10,1)+CW207*POWER(10,2)+CX207*POWER(10,3)+CY207*POWER(10,4)+CZ207*POWER(10,5)+DA207*POWER(10,6)+DB207*POWER(10,7)+DC207*POWER(10,8)+DD207*POWER(10,9)+DE207*POWER(10,10))","v":0},{"$f":"(DF207*POWER(10,0)+DG207*POWER(10,1)+DH207*POWER(10,2)+DI207*POWER(10,3)+DJ207*POWER(10,4)+DK207*POWER(10,5)+DL207*POWER(10,6)+DM207*POWER(10,7)+DN207*POWER(10,8)+DO207*POWER(10,9)+DP207*POWER(10,10))","v":0},0,0,null,9,null,null,null,null,null,null,null,null,null,null,null,null,null,null,null,null,null,null,null,null,null,null,null,null,null,null,null,null,null,null,null,null,null,null,null,null,null,null,null,null,null,null,null,null,null,null,null,null,null,null,null,null,null,null,null,null,null,null,null,null,null,null,null,null,null,null,null,9,{"$error":"#VALUE!"},{"$error":"#VALUE!"},{"$error":"#VALUE!"},{"$error":"#VALUE!"},{"$error":"#VALUE!"},{"$error":"#VALUE!"},{"$error":"#VALUE!"},{"$error":"#VALUE!"},{"$error":"#VALUE!"},{"$error":"#VALUE!"},{"$error":"#VALUE!"},{"$error":"#VALUE!"},{"$error":"#VALUE!"},{"$error":"#VALUE!"},{"$error":"#VALUE!"},{"$error":"#VALUE!"},{"$error":"#VALUE!"},{"$error":"#VALUE!"},null,9,0,{"$error":"#VALUE!"},{"$error":"#VALUE!"},{"$error":"#VALUE!"},{"$error":"#VALUE!"},{"$error":"#VALUE!"},{"$error":"#VALUE!"},{"$error":"#VALUE!"},{"$error":"#VALUE!"},{"$error":"#VALUE!"},{"$error":"#VALUE!"},{"$error":"#VALUE!"},{"$error":"#VALUE!"},{"$error":"#VALUE!"},{"$error":"#VALUE!"},{"$error":"#VALUE!"},{"$error":"#VALUE!"},{"$error":"#VALUE!"},{"$error":"#VALUE!"},{"$error":"#VALUE!"},{"$error":"#VALUE!"},{"$error":"#VALUE!"},{"$error":"#VALUE!"},{"$error":"#VALUE!"},{"$error":"#VALUE!"},{"$error":"#VALUE!"},{"$error":"#VALUE!"},{"$error":"#VALUE!"},{"$error":"#VALUE!"},{"$error":"#VALUE!"},{"$error":"#VALUE!"},{"$error":"#VALUE!"},{"$error":"#VALUE!"},{"$error":"#VALUE!"},9,0,{"$error":"#VALUE!"},{"$error":"#VALUE!"},{"$error":"#VALUE!"},{"$error":"#VALUE!"},{"$error":"#VALUE!"},{"$error":"#VALUE!"},{"$error":"#VALUE!"},{"$error":"#VALUE!"},{"$error":"#VALUE!"},{"$error":"#VALUE!"},{"$error":"#VALUE!"},{"$error":"#VALUE!"},{"$error":"#VALUE!"},{"$error":"#VALUE!"},{"$error":"#VALUE!"},{"$error":"#VALUE!"},{"$error":"#VALUE!"},{"$error":"#VALUE!"},{"$error":"#VALUE!"},{"$error":"#VALUE!"},{"$error":"#VALUE!"},{"$error":"#VALUE!"},{"$error":"#VALUE!"},{"$error":"#VALUE!"},{"$error":"#VALUE!"},{"$error":"#VALUE!"},{"$error":"#VALUE!"},{"$error":"#VALUE!"},{"$error":"#VALUE!"},{"$error":"#VALUE!"},{"$error":"#VALUE!"},{"$error":"#VALUE!"},{"$error":"#VALUE!"},9,0,{"$error":"#VALUE!"},{"$error":"#VALUE!"},{"$error":"#VALUE!"},{"$error":"#VALUE!"},{"$error":"#VALUE!"},{"$error":"#VALUE!"},{"$error":"#VALUE!"},{"$error":"#VALUE!"},{"$error":"#VALUE!"},{"$error":"#VALUE!"},{"$error":"#VALUE!"},{"$error":"#VALUE!"},{"$error":"#VALUE!"},{"$error":"#VALUE!"},{"$error":"#VALUE!"},{"$error":"#VALUE!"},{"$error":"#VALUE!"},{"$error":"#VALUE!"},{"$error":"#VALUE!"},{"$error":"#VALUE!"},{"$error":"#VALUE!"},{"$error":"#VALUE!"},{"$error":"#VALUE!"},{"$error":"#VALUE!"},{"$error":"#VALUE!"},{"$error":"#VALUE!"},{"$error":"#VALUE!"},{"$error":"#VALUE!"},{"$error":"#VALUE!"},{"$error":"#VALUE!"},{"$error":"#VALUE!"},{"$error":"#VALUE!"},{"$error":"#VALUE!"},9,0,{"$error":"#VALUE!"},{"$error":"#VALUE!"},{"$error":"#VALUE!"},{"$error":"#VALUE!"},{"$error":"#VALUE!"},{"$error":"#VALUE!"},{"$error":"#VALUE!"},{"$error":"#VALUE!"},{"$error":"#VALUE!"},{"$error":"#VALUE!"},{"$error":"#VALUE!"},{"$error":"#VALUE!"},{"$error":"#VALUE!"},{"$error":"#VALUE!"},{"$error":"#VALUE!"},{"$error":"#VALUE!"},{"$error":"#VALUE!"},{"$error":"#VALUE!"},{"$error":"#VALUE!"},{"$error":"#VALUE!"},{"$error":"#VALUE!"},{"$error":"#VALUE!"},{"$error":"#VALUE!"},{"$error":"#VALUE!"},{"$error":"#VALUE!"},{"$error":"#VALUE!"},{"$error":"#VALUE!"},{"$error":"#VALUE!"},{"$error":"#VALUE!"},{"$error":"#VALUE!"},{"$error":"#VALUE!"},{"$error":"#VALUE!"},{"$error":"#VALUE!"},9,0,{"$error":"#VALUE!"},{"$error":"#VALUE!"},{"$error":"#VALUE!"},{"$error":"#VALUE!"},{"$error":"#VALUE!"},{"$error":"#VALUE!"},{"$error":"#VALUE!"},{"$error":"#VALUE!"},{"$error":"#VALUE!"},{"$error":"#VALUE!"},{"$error":"#VALUE!"},{"$error":"#VALUE!"},{"$error":"#VALUE!"},{"$error":"#VALUE!"},{"$error":"#VALUE!"},{"$error":"#VALUE!"},{"$error":"#VALUE!"},{"$error":"#VALUE!"},{"$error":"#VALUE!"},{"$error":"#VALUE!"},{"$error":"#VALUE!"},{"$error":"#VALUE!"},{"$error":"#VALUE!"},{"$error":"#VALUE!"},{"$error":"#VALUE!"},{"$error":"#VALUE!"},{"$error":"#VALUE!"},{"$error":"#VALUE!"},{"$error":"#VALUE!"},{"$error":"#VALUE!"},{"$error":"#VALUE!"},{"$error":"#VALUE!"},{"$error":"#VALUE!"},9,0,{"$error":"#VALUE!"},{"$error":"#VALUE!"},{"$error":"#VALUE!"},{"$error":"#VALUE!"},{"$error":"#VALUE!"},{"$error":"#VALUE!"},{"$error":"#VALUE!"},{"$error":"#VALUE!"},{"$error":"#VALUE!"},{"$error":"#VALUE!"},{"$error":"#VALUE!"},{"$error":"#VALUE!"},{"$error":"#VALUE!"},{"$error":"#VALUE!"},{"$error":"#VALUE!"},{"$error":"#VALUE!"},{"$error":"#VALUE!"},{"$error":"#VALUE!"},{"$error":"#VALUE!"},{"$error":"#VALUE!"},{"$error":"#VALUE!"},{"$error":"#VALUE!"},{"$error":"#VALUE!"},{"$error":"#VALUE!"},{"$error":"#VALUE!"},{"$error":"#VALUE!"},{"$error":"#VALUE!"},{"$error":"#VALUE!"},{"$error":"#VALUE!"},{"$error":"#VALUE!"},{"$error":"#VALUE!"},{"$error":"#VALUE!"},{"$error":"#VALUE!"}]
[null,null,null,null,null,null,null,null,null,null,null,null,null,null,null,null,null,null,null,null,null,null,null,"Total",{"$f":"SUM(Y201:Y207)","v":0},{"$f":"SUM(Z201:Z207)","v":0},0,0,0,0,null,null,null,"N/A",null,false,null,null,null,null,"Total",null,null,null,null,null,null,null,null,null,null,null,null,null,null,null,null,null,null,null,null,null,null,null,"Total",null,null,null,null,null,null,null,null,null,null,null,null,null,null,null,null,null,null,null,null,null,null,null,null,null,null,null,null,null,null,null,null,null,null,null,null,null,null,null,null,null,null,null,null,null,null,null,null,null,null,null,null,null,null,null,null,null,null,null,null,null,null,null,null,null,null,null,"Total",{"$f":"SUM(ED201:ED207)","v":{"$error":"#VALUE!"}},{"$f":"SUM(EE201:EE207)","v":{"$error":"#VALUE!"}},{"$f":"SUM(EF201:EF207)","v":{"$error":"#VALUE!"}},{"$f":"SUM(EG201:EG207)","v":{"$error":"#VALUE!"}},{"$f":"SUM(EH201:EH207)","v":{"$error":"#VALUE!"}},{"$f":"SUM(EI201:EI207)","v":{"$error":"#VALUE!"}},{"$error":"#VALUE!"},{"$error":"#VALUE!"},{"$error":"#VALUE!"},{"$error":"#VALUE!"},{"$error":"#VALUE!"},{"$error":"#VALUE!"},{"$error":"#VALUE!"},{"$error":"#VALUE!"},{"$error":"#VALUE!"},{"$error":"#VALUE!"},{"$error":"#VALUE!"},{"$error":"#VALUE!"},null,"Total",{"$f":"SUM(EX201:EX207)","v":0},{"$f":"SUM(EY201:EY207)","v":{"$error":"#VALUE!"}},{"$f":"SUM(EZ201:EZ207)","v":{"$error":"#VALUE!"}},{"$error":"#VALUE!"},{"$error":"#VALUE!"},{"$f":"SUM(FC201:FC207)","v":{"$error":"#VALUE!"}},{"$f":"SUM(FD201:FD207)","v":{"$error":"#VALUE!"}},{"$error":"#VALUE!"},{"$error":"#VALUE!"},{"$error":"#VALUE!"},{"$error":"#VALUE!"},{"$error":"#VALUE!"},{"$error":"#VALUE!"},{"$error":"#VALUE!"},{"$error":"#VALUE!"},{"$error":"#VALUE!"},{"$f":"SUM(FN201:FN207)","v":{"$error":"#VALUE!"}},{"$f":"SUM(FO201:FO207)","v":{"$error":"#VALUE!"}},{"$f":"SUM(FP201:FP207)","v":{"$error":"#VALUE!"}},{"$f":"SUM(FQ201:FQ207)","v":{"$error":"#VALUE!"}},{"$error":"#VALUE!"},{"$error":"#VALUE!"},{"$error":"#VALUE!"},{"$error":"#VALUE!"},{"$error":"#VALUE!"},{"$error":"#VALUE!"},{"$error":"#VALUE!"},{"$error":"#VALUE!"},{"$error":"#VALUE!"},{"$error":"#VALUE!"},{"$error":"#VALUE!"},{"$f":"SUM(GC201:GC207)","v":{"$error":"#VALUE!"}},{"$f":"SUM(GD201:GD207)","v":{"$error":"#VALUE!"}},{"$error":"#VALUE!"},"Total",{"$f":"SUM(GG201:GG207)","v":0},{"$f":"SUM(GH201:GH207)","v":{"$error":"#VALUE!"}},{"$f":"SUM(GI201:GI207)","v":{"$error":"#VALUE!"}},{"$error":"#VALUE!"},{"$error":"#VALUE!"},{"$f":"SUM(GL201:GL207)","v":{"$error":"#VALUE!"}},{"$f":"SUM(GM201:GM207)","v":{"$error":"#VALUE!"}},{"$f":"SUM(GN201:GN207)","v":{"$error":"#VALUE!"}},{"$error":"#VALUE!"},{"$error":"#VALUE!"},{"$error":"#VALUE!"},{"$error":"#VALUE!"},{"$error":"#VALUE!"},{"$error":"#VALUE!"},{"$error":"#VALUE!"},{"$error":"#VALUE!"},{"$f":"SUM(GW201:GW207)","v":{"$error":"#VALUE!"}},{"$f":"SUM(GX201:GX207)","v":{"$error":"#VALUE!"}},{"$f":"SUM(GY201:GY207)","v":{"$error":"#VALUE!"}},{"$f":"SUM(GZ201:GZ207)","v":{"$error":"#VALUE!"}},{"$error":"#VALUE!"},{"$error":"#VALUE!"},{"$error":"#VALUE!"},{"$error":"#VALUE!"},{"$error":"#VALUE!"},{"$error":"#VALUE!"},{"$error":"#VALUE!"},{"$error":"#VALUE!"},{"$error":"#VALUE!"},{"$error":"#VALUE!"},{"$error":"#VALUE!"},{"$f":"SUM(HL201:HL207)","v":{"$error":"#VALUE!"}},{"$f":"SUM(HM201:HM207)","v":{"$error":"#VALUE!"}},{"$error":"#VALUE!"},"Total",{"$f":"SUM(HP201:HP207)","v":0},{"$f":"SUM(HQ201:HQ207)","v":{"$error":"#VALUE!"}},{"$f":"SUM(HR201:HR207)","v":{"$error":"#VALUE!"}},{"$error":"#VALUE!"},{"$error":"#VALUE!"},{"$f":"SUM(HU201:HU207)","v":{"$error":"#VALUE!"}},{"$f":"SUM(HV201:HV207)","v":{"$error":"#VALUE!"}},{"$error":"#VALUE!"},{"$error":"#VALUE!"},{"$error":"#VALUE!"},{"$error":"#VALUE!"},{"$error":"#VALUE!"},{"$error":"#VALUE!"},{"$error":"#VALUE!"},{"$error":"#VALUE!"},{"$error":"#VALUE!"},{"$f":"SUM(IF201:IF207)","v":{"$error":"#VALUE!"}},{"$f":"SUM(IG201:IG207)","v":{"$error":"#VALUE!"}},{"$f":"SUM(IH201:IH207)","v":{"$error":"#VALUE!"}},{"$f":"SUM(II201:II207)","v":{"$error":"#VALUE!"}},{"$error":"#VALUE!"},{"$error":"#VALUE!"},{"$error":"#VALUE!"},{"$error":"#VALUE!"},{"$error":"#VALUE!"},{"$error":"#VALUE!"},{"$error":"#VALUE!"},{"$error":"#VALUE!"},{"$error":"#VALUE!"},{"$error":"#VALUE!"},{"$error":"#VALUE!"},{"$f":"SUM(IU201:IU207)","v":{"$error":"#VALUE!"}},{"$f":"SUM(IV201:IV207)","v":{"$error":"#VALUE!"}},{"$error":"#VALUE!"},"Total",{"$f":"SUM(IY201:IY207)","v":0},{"$f":"SUM(IZ201:IZ207)","v":{"$error":"#VALUE!"}},{"$f":"SUM(JA201:JA207)","v":{"$error":"#VALUE!"}},{"$error":"#VALUE!"},{"$error":"#VALUE!"},{"$f":"SUM(JD201:JD207)","v":{"$error":"#VALUE!"}},{"$f":"SUM(JE201:JE207)","v":{"$error":"#VALUE!"}},{"$error":"#VALUE!"},{"$error":"#VALUE!"},{"$error":"#VALUE!"},{"$error":"#VALUE!"},{"$error":"#VALUE!"},{"$error":"#VALUE!"},{"$error":"#VALUE!"},{"$error":"#VALUE!"},{"$error":"#VALUE!"},{"$f":"SUM(JO201:JO207)","v":{"$error":"#VALUE!"}},{"$f":"SUM(JP201:JP207)","v":{"$error":"#VALUE!"}},{"$f":"SUM(JQ201:JQ207)","v":{"$error":"#VALUE!"}},{"$f":"SUM(JR201:JR207)","v":{"$error":"#VALUE!"}},{"$error":"#VALUE!"},{"$error":"#VALUE!"},{"$error":"#VALUE!"},{"$error":"#VALUE!"},{"$error":"#VALUE!"},{"$error":"#VALUE!"},{"$error":"#VALUE!"},{"$error":"#VALUE!"},{"$error":"#VALUE!"},{"$error":"#VALUE!"},{"$error":"#VALUE!"},{"$f":"SUM(KD201:KD207)","v":{"$error":"#VALUE!"}},{"$f":"SUM(KE201:KE207)","v":{"$error":"#VALUE!"}},{"$error":"#VALUE!"},"Total",{"$f":"SUM(KH201:KH207)","v":0},{"$f":"SUM(KI201:KI207)","v":{"$error":"#VALUE!"}},{"$f":"SUM(KJ201:KJ207)","v":{"$error":"#VALUE!"}},{"$error":"#VALUE!"},{"$error":"#VALUE!"},{"$f":"SUM(KM201:KM207)","v":{"$error":"#VALUE!"}},{"$f":"SUM(KN201:KN207)","v":{"$error":"#VALUE!"}},{"$error":"#VALUE!"},{"$error":"#VALUE!"},{"$error":"#VALUE!"},{"$error":"#VALUE!"},{"$error":"#VALUE!"},{"$error":"#VALUE!"},{"$error":"#VALUE!"},{"$error":"#VALUE!"},{"$error":"#VALUE!"},{"$f":"SUM(KX201:KX207)","v":{"$error":"#VALUE!"}},{"$f":"SUM(KY201:KY207)","v":{"$error":"#VALUE!"}},{"$f":"SUM(KZ201:KZ207)","v":{"$error":"#VALUE!"}},{"$f":"SUM(LA201:LA207)","v":{"$error":"#VALUE!"}},{"$error":"#VALUE!"},{"$error":"#VALUE!"},{"$error":"#VALUE!"},{"$error":"#VALUE!"},{"$error":"#VALUE!"},{"$error":"#VALUE!"},{"$error":"#VALUE!"},{"$error":"#VALUE!"},{"$error":"#VALUE!"},{"$error":"#VALUE!"},{"$error":"#VALUE!"},{"$f":"SUM(LM201:LM207)","v":{"$error":"#VALUE!"}},{"$f":"SUM(LN201:LN207)","v":{"$error":"#VALUE!"}},{"$error":"#VALUE!"},"Total",{"$f":"SUM(LQ201:LQ207)","v":0},{"$f":"SUM(LR201:LR207)","v":{"$error":"#VALUE!"}},{"$f":"SUM(LS201:LS207)","v":{"$error":"#VALUE!"}},{"$error":"#VALUE!"},{"$error":"#VALUE!"},{"$f":"SUM(LV201:LV207)","v":{"$error":"#VALUE!"}},{"$f":"SUM(LW201:LW207)","v":{"$error":"#VALUE!"}},{"$error":"#VALUE!"},{"$error":"#VALUE!"},{"$error":"#VALUE!"},{"$error":"#VALUE!"},{"$error":"#VALUE!"},{"$error":"#VALUE!"},{"$error":"#VALUE!"},{"$error":"#VALUE!"},{"$f":"SUM(MF201:MF207)","v":{"$error":"#VALUE!"}},{"$f":"SUM(MG201:MG207)","v":{"$error":"#VALUE!"}},{"$f":"SUM(MH201:MH207)","v":{"$error":"#VALUE!"}},{"$f":"SUM(MI201:MI207)","v":{"$error":"#VALUE!"}},{"$f":"SUM(MJ201:MJ207)","v":{"$error":"#VALUE!"}},{"$error":"#VALUE!"},{"$error":"#VALUE!"},{"$error":"#VALUE!"},{"$error":"#VALUE!"},{"$error":"#VALUE!"},{"$error":"#VALUE!"},{"$error":"#VALUE!"},{"$error":"#VALUE!"},{"$error":"#VALUE!"},{"$error":"#VALUE!"},{"$error":"#VALUE!"},{"$f":"SUM(MV201:MV207)","v":{"$error":"#VALUE!"}},{"$f":"SUM(MW201:MW207)","v":{"$error":"#VALUE!"}},{"$error":"#VALUE!"}]
[null,{"$f":"B201+1","v":23},{"$f":"'Regional Project List Sheet'!F27","v":0},{"$f":"IF('Regional Project List Sheet'!$G27=\"New\",1,\"\")","v":""},{"$f":"IF('Regional Project List Sheet'!$G27=\"Funded Old\",1,\"\")","v":""},{"$f":"IF('Regional Project List Sheet'!$G27=\"Unfunded Old\",1,\"\")","v":""},{"$f":"'Regional Project List Sheet'!H27","v":0},{"$f":"'Regional Project List Sheet'!I27","v":0},{"$f":"'Regional Project List Sheet'!L27","v":0},{"$f":"'Regional Project List Sheet'!M27","v":0},{"$f":"'Regional Project List Sheet'!N27","v":0},{"$f":"'Regional Project List Sheet'!O27","v":0},{"$f":"'Regional Project List Sheet'!P27","v":0},{"$f":"IF('Regional Project List Sheet'!$Q27=\"N/A\",\"N/A\",IF($Y212<>0,5,IF($Z212<>0,4,IF($AA212<>0,3,IF($AB212<>0,2,1)))))","v":1},{"$f":"VLOOKUP($C209,'[2]Ranking|Priority'!$B$5:$O$40,12,FALSE)","v":{"$error":"#N/A"}},{"$f":"VLOOKUP($C209,'[2]Ranking|Priority'!$B$5:$O$68,13,FALSE)","v":{"$error":"#N/A"}},{"$f":"VLOOKUP($C209,'[2]Ranking|Priority'!$B$5:$O$68,14,FALSE)","v":{"$error":"#N/A"}},{"$f":"'Regional Project List Sheet'!T27","v":0},{"$f":"'Regional Project List Sheet'!U27","v":0},{"$f":"'Regional Project List Sheet'!V27","v":0},{"$f":"'Regional Project List Sheet'!W27","v":0},{"$f":"'Regional Project List Sheet'!X27","v":0},{"$f":"'Regional Project List Sheet'!Y27","v":"Choose from Project List in cell I2"},0,null,null,null,null,null,null,null,{"$f":"'Regional Project List Sheet'!AJ27","v":0},{"$f":"IF(OR('Regional Project List Sheet'!$AA27<>'Regional Project List Sheet'!$A$40,'Regional Project List Sheet'!$AD27<>'Regional Project List Sheet'!$A$40,'Regional Project List Sheet'!$AG27<>'Regional Project List Sheet'!$A$40),_xlfn.CONCAT(IF(ISNUMBER('Regional Project List Sheet'!$AA27),'Regional Project List Sheet'!$A$36,\"\"),\" \",IF(ISNUMBER('Regional Project List Sheet'!$AD27),'Regional Project List Sheet'!$A$37,\"\"),\" \",IF(ISNUMBER('Regional Project List Sheet'!$AG27),'Regional Project List Sheet'!$A$38,\"\")),\"N/A\")","v":"N/A"},"N/A",{"$f":"IF(OR('Regional Project List Sheet'!AC27<>'Regional Project List Sheet'!$A$40,'Regional Project List Sheet'!AF27<>'Regional Project List Sheet'!$A$40,'Regional Project List Sheet'!AI27<>'Regional Project List Sheet'!$A$40),\n\nIF(LEN(_xlfn.CONCAT(IF('Regional Project List Sheet'!AC27=\"Yes\",'Regional Project List Sheet'!$A$36,\"\"),\" \",\n\nIF('Regional Project List Sheet'!AF27=\"Yes\",'Regional Project List Sheet'!$A$37,\"\"),\" \",\n\nIF('Regional Project List Sheet'!AI27=\"Yes\",'Regional Project List Sheet'!$A$38,\"\")))<3,\"No\",\n\n_xlfn.CONCAT(IF('Regional Project List Sheet'!AC27=\"Yes\",'Regional Project List Sheet'!$A$36,\"\"),\" \",\n\nIF('Regional Project List Sheet'!AF27=\"Yes\",'Regional Project List Sheet'!$A$37,\"\"),\" \",\n\nIF('Regional Project List Sheet'!AI27=\"Yes\",'Regional Project List Sheet'!$A$38,\"\"))))","v":false},false,{"$f":"'Regional Project List Sheet'!AK27","v":0},null,{"$f":"'Regional Project List Sheet'!AL27","v":0},null,0,null,null,null,null,null,null,null,null,null,null,1,{"$f":"IF(AND(BB209=\"OK\",BC209=\"OK\",BD209=\"OK\"),\"OK\",\"ERR!\")","v":"ERR!"},{"$f":"IF(AND(Y209>0,SUM(BN209:BX209)<1),\"ERR!\",IF(AND(Z209>0,SUM(BY209:CI209)<1),\"ERR!\",IF(AND(AA209>0,SUM(CJ209:CT209)<1),\"ERR\",IF(AND(AB209>0,SUM(CU209:DE209)<1),\"ERR\",IF(AND(AC209>0,SUM(DF209:DP209)<1),\"ERR\",IF(AND(AD209>0,SUM(DQ209:EA209)<1),\"ERR\",\"OK\"))))))","v":"OK"},{"$f":"IF(OR(SUM(BN209:BX209)<>1,SUM(BY209:CI209)<>1,SUM(CJ209:CT209)<>1,SUM(CU209:DE209)<>1,SUM(DF209:DP209)<>1,SUM(DQ209:EA209)<>1),\"ERR!\",\"OK\")","v":"ERR!"},{"$f":"IF(AND(OR(BE209=BK209,BE209=0),OR(BF209=BK209,BF209=0),OR(BG209=BK209,BG209=0),OR(BH209=BK209,BH209=0),OR(BI209=BK209,BI209=0),OR(BJ209=BK209,BJ209=0)),\"OK\",\"ERR!\")","v":"OK"},{"$f":"(BN209*POWER(10,0)+BO209*POWER(10,1)+BP209*POWER(10,2)+BQ209*POWER(10,3)+BR209*POWER(10,4)+BS209*POWER(10,5)+BT209*POWER(10,6)+BU209*POWER(10,7)+BV209*POWER(10,8)+BW209*POWER(10,9)+BX209*POWER(10,10))","v":0},{"$f":"(BY209*POWER(10,0)+BZ209*POWER(10,1)+CA209*POWER(10,2)+CB209*POWER(10,3)+CC209*POWER(10,4)+CD209*POWER(10,5)+CE209*POWER(10,6)+CF209*POWER(10,7)+CG209*POWER(10,8)+CH209*POWER(10,9)+CI209*POWER(10,10))","v":0},{"$f":"(CJ209*POWER(10,0)+CK209*POWER(10,1)+CL209*POWER(10,2)+CM209*POWER(10,3)+CN209*POWER(10,4)+CO209*POWER(10,5)+CP209*POWER(10,6)+CQ209*POWER(10,7)+CR209*POWER(10,8)+CS209*POWER(10,9)+CT209*POWER(10,10))","v":0},{"$f":"(CU209*POWER(10,0)+CV209*POWER(10,1)+CW209*POWER(10,2)+CX209*POWER(10,3)+CY209*POWER(10,4)+CZ209*POWER(10,5)+DA209*POWER(10,6)+DB209*POWER(10,7)+DC209*POWER(10,8)+DD209*POWER(10,9)+DE209*POWER(10,10))","v":0},{"$f":"(DF209*POWER(10,0)+DG209*POWER(10,1)+DH209*POWER(10,2)+DI209*POWER(10,3)+DJ209*POWER(10,4)+DK209*POWER(10,5)+DL209*POWER(10,6)+DM209*POWER(10,7)+DN209*POWER(10,8)+DO209*POWER(10,9)+DP209*POWER(10,10))","v":0},{"$f":"(DQ209*POWER(10,0)+DR209*POWER(10,1)+DS209*POWER(10,2)+DT209*POWER(10,3)+DU209*POWER(10,4)+DV209*POWER(10,5)+DW209*POWER(10,6)+DX209*POWER(10,7)+DY209*POWER(10,8)+DZ209*POWER(10,9)+EA209*POWER(10,10))","v":0},{"$f":"MAX(BE209:BJ209)","v":0},null,0,null,null,null,null,null,null,null,null,null,null,null,null,null,null,null,null,null,null,null,null,null,null,null,null,null,null,null,null,null,null,null,null,null,null,null,null,null,null,null,null,null,null,null,null,null,null,null,null,null,null,null,null,null,null,null,null,null,null,null,null,null,null,null,null,null,null,null,0,{"$f":"($Y209*D$209)/1000","v":{"$error":"#VALUE!"}},{"$error":"#VALUE!"},{"$error":"#VALUE!"},{"$f":"($Z209*D$209)/1000","v":{"$error":"#VALUE!"}},{"$error":"#VALUE!"},{"$error":"#VALUE!"},{"$f":"($AA209*D$209)/1000","v":{"$error":"#VALUE!"}},{"$error":"#VALUE!"},{"$error":"#VALUE!"},{"$f":"($AB209*D$209)/1000","v":{"$error":"#VALUE!"}},{"$error":"#VALUE!"},{"$error":"#VALUE!"},{"$f":"($AC209*D$209)/1000","v":{"$error":"#VALUE!"}},{"$error":"#VALUE!"},{"$error":"#VALUE!"},{"$f":"($AD209*D$209)/1000","v":{"$error":"#VALUE!"}},{"$error":"#VALUE!"},{"$error":"#VALUE!"},null,0,{"$f":"$AZ$209*$Y209","v":0},{"$f":"($AZ$209*$BN209*D$209*$Y209)/1000","v":{"$error":"#VALUE!"}},{"$error":"#VALUE!"},{"$error":"#VALUE!"},{"$f":"($AZ$209*$BO209*D$209*$Y209)/1000","v":{"$error":"#VALUE!"}},{"$error":"#VALUE!"},{"$error":"#VALUE!"},{"$f":"($AZ$209*$BP209*D$209*$Y209)/1000","v":{"$error":"#VALUE!"}},{"$error":"#VALUE!"},{"$error":"#VALUE!"},{"$f":"($AZ$209*$BQ209*D$209*$Y209)/1000","v":{"$error":"#VALUE!"}},{"$error":"#VALUE!"},{"$error":"#VALUE!"},{"$f":"($AZ$209*$BR209*D$209*$Y209)/1000","v":{"$error":"#VALUE!"}},{"$error":"#VALUE!"},{"$error":"#VALUE!"},{"$f":"($AZ$209*$BS209*D$209*$Y209)/1000","v":{"$error":"#VALUE!"}},{"$error":"#VALUE!"},{"$error":"#VALUE!"},{"$f":"($AZ$209*$BT209*D$209*$Y209)/1000","v":{"$error":"#VALUE!"}},{"$error":"#VALUE!"},{"$error":"#VALUE!"},{"$f":"($AZ$209*$BU209*D$209*$Y209)/1000","v":{"$error":"#VALUE!"}},{"$error":"#VALUE!"},{"$error":"#VALUE!"},{"$f":"($AZ$209*$BV209*D$209*$Y209)/1000","v":{"$error":"#VALUE!"}},{"$error":"#VALUE!"},{"$error":"#VALUE!"},{"$f":"($AZ$209*$BW209*D$209*$Y209)/1000","v":{"$error":"#VALUE!"}},{"$error":"#VALUE!"},{"$error":"#VALUE!"},{"$f":"($AZ$209*$BX209*D$209*$Y209)/1000","v":{"$error":"#VALUE!"}},{"$error":"#VALUE!"},{"$error":"#VALUE!"},0,{"$f":"$AZ$209*$Z209","v":0},{"$f":"($AZ$209*$BY209*D$209*$Z209)/1000","v":{"$error":"#VALUE!"}},{"$error":"#VALUE!"},{"$error":"#VALUE!"},{"$f":"($AZ$209*$BZ209*D$209*$Z209)/1000","v":{"$error":"#VALUE!"}},{"$error":"#VALUE!"},{"$error":"#VALUE!"},{"$f":"($AZ$209*$CA209*D$209*$Z209)/1000","v":{"$error":"#VALUE!"}},{"$error":"#VALUE!"},{"$error":"#VALUE!"},{"$f":"($AZ$209*$CB209*D$209*$Z209)/1000","v":{"$error":"#VALUE!"}},{"$error":"#VALUE!"},{"$error":"#VALUE!"},{"$f":"($AZ$209*$CD209*D$209*$Z209)/1000","v":{"$error":"#VALUE!"}},{"$error":"#VALUE!"},{"$error":"#VALUE!"},{"$f":"($AZ$209*$CD209*D$209*$Z209)/1000","v":{"$error":"#VALUE!"}},{"$error":"#VALUE!"},{"$error":"#VALUE!"},{"$f":"($AZ$209*$CE209*D$209*$Z209)/1000","v":{"$error":"#VALUE!"}},{"$error":"#VALUE!"},{"$error":"#VALUE!"},{"$f":"($AZ$209*$CF209*D$209*$Z209)/1000","v":{"$error":"#VALUE!"}},{"$error":"#VALUE!"},{"$error":"#VALUE!"},{"$f":"($AZ$209*$CG209*D$209*$Z209)/1000","v":{"$error":"#VALUE!"}},{"$error":"#VALUE!"},{"$error":"#VALUE!"},{"$f":"($AZ$209*$CH209*D$209*$Z209)/1000","v":{"$error":"#VALUE!"}},{"$error":"#VALUE!"},{"$error":"#VALUE!"},{"$f":"($AZ$209*$CI209*D$209*$Z209)/1000","v":{"$error":"#VALUE!"}},{"$error":"#VALUE!"},{"$error":"#VALUE!"},0,{"$f":"$AZ$209*$AA209","v":0},{"$f":"($AZ$209*$CJ209*D$209*$AA209)/1000","v":{"$error":"#VALUE!"}},{"$error":"#VALUE!"},{"$error":"#VALUE!"},{"$f":"($AZ$209*$CK209*D$209*$AA209)/1000","v":{"$error":"#VALUE!"}},{"$error":"#VALUE!"},{"$error":"#VALUE!"},{"$f":"($AZ$209*$CL209*D$209*$AA209)/1000","v":{"$error":"#VALUE!"}},{"$error":"#VALUE!"},{"$error":"#VALUE!"},{"$f":"($AZ$209*$CM209*D$209*$AA209)/1000","v":{"$error":"#VALUE!"}},{"$error":"#VALUE!"},{"$error":"#VALUE!"},{"$f":"($AZ$209*$CN209*D$209*$AA209)/1000","v":{"$error":"#VALUE!"}},{"$error":"#VALUE!"},{"$error":"#VALUE!"},{"$f":"($AZ$209*$CO209*D$209*$AA209)/1000","v":{"$error":"#VALUE!"}},{"$error":"#VALUE!"},{"$error":"#VALUE!"},{"$f":"($AZ$209*$CP209*D$209*$AA209)/1000","v":{"$error":"#VALUE!"}},{"$error":"#VALUE!"},{"$error":"#VALUE!"},{"$f":"($AZ$209*$CQ209*D$209*$AA209)/1000","v":{"$error":"#VALUE!"}},{"$error":"#VALUE!"},{"$error":"#VALUE!"},{"$f":"($AZ$209*$CR209*D$209*$AA209)/1000","v":{"$error":"#VALUE!"}},{"$error":"#VALUE!"},{"$error":"#VALUE!"},{"$f":"($AZ$209*$CS209*D$209*$AA209)/1000","v":{"$error":"#VALUE!"}},{"$error":"#VALUE!"},{"$error":"#VALUE!"},{"$f":"($AZ$209*$CT209*D$209*$AA209)/1000","v":{"$error":"#VALUE!"}},{"$error":"#VALUE!"},{"$error":"#VALUE!"},0,{"$f":"$AZ$209*$AB209","v":0},{"$f":"($AZ$209*$CU209*D$209*$AB209)/1000","v":{"$error":"#VALUE!"}},{"$error":"#VALUE!"},{"$error":"#VALUE!"},{"$f":"($AZ$209*$CV209*D$209*$AB209)/1000","v":{"$error":"#VALUE!"}},{"$error":"#VALUE!"},{"$error":"#VALUE!"},{"$f":"($AZ$209*$CW209*D$209*$AB209)/1000","v":{"$error":"#VALUE!"}},{"$error":"#VALUE!"},{"$error":"#VALUE!"},{"$f":"($AZ$209*$CX209*D$209*$AB209)/1000","v":{"$error":"#VALUE!"}},{"$error":"#VALUE!"},{"$error":"#VALUE!"},{"$f":"($AZ$209*$CY209*D$209*$AB209)/1000","v":{"$error":"#VALUE!"}},{"$error":"#VALUE!"},{"$error":"#VALUE!"},{"$f":"($AZ$209*$CZ209*D$209*$AB209)/1000","v":{"$error":"#VALUE!"}},{"$error":"#VALUE!"},{"$error":"#VALUE!"},{"$f":"($AZ$209*$DA209*D$209*$AB209)/1000","v":{"$error":"#VALUE!"}},{"$error":"#VALUE!"},{"$error":"#VALUE!"},{"$f":"($AZ$209*$DB209*D$209*$AB209)/1000","v":{"$error":"#VALUE!"}},{"$error":"#VALUE!"},{"$error":"#VALUE!"},{"$f":"($AZ$209*$DC209*D$209*$AB209)/1000","v":{"$error":"#VALUE!"}},{"$error":"#VALUE!"},{"$error":"#VALUE!"},{"$f":"($AZ$209*$DD209*D$209*$AB209)/1000","v":{"$error":"#VALUE!"}},{"$error":"#VALUE!"},{"$error":"#VALUE!"},{"$f":"($AZ$209*$DE209*D$209*$AB209)/1000","v":{"$error":"#VALUE!"}},{"$error":"#VALUE!"},{"$error":"#VALUE!"},0,{"$f":"$AZ$209*$AC209","v":0},{"$f":"($AZ$209*$DF209*D$209*$AC209)/1000","v":{"$error":"#VALUE!"}},{"$error":"#VALUE!"},{"$error":"#VALUE!"},{"$f":"($AZ$209*$DG209*D$209*$AC209)/1000","v":{"$error":"#VALUE!"}},{"$error":"#VALUE!"},{"$error":"#VALUE!"},{"$f":"($AZ$209*$DH209*D$209*$AC209)/1000","v":{"$error":"#VALUE!"}},{"$error":"#VALUE!"},{"$error":"#VALUE!"},{"$f":"($AZ$209*$DI209*D$209*$AC209)/1000","v":{"$error":"#VALUE!"}},{"$error":"#VALUE!"},{"$error":"#VALUE!"},{"$f":"($AZ$209*$DJ209*D$209*$AC209)/1000","v":{"$error":"#VALUE!"}},{"$error":"#VALUE!"},{"$error":"#VALUE!"},{"$f":"($AZ$209*$DK209*D$209*$AC209)/1000","v":{"$error":"#VALUE!"}},{"$error":"#VALUE!"},{"$error":"#VALUE!"},{"$f":"($AZ$209*$DL209*D$209*$AC209)/1000","v":{"$error":"#VALUE!"}},{"$error":"#VALUE!"},{"$error":"#VALUE!"},{"$f":"($AZ$209*$DM209*D$209*$AC209)/1000","v":{"$error":"#VALUE!"}},{"$error":"#VALUE!"},{"$error":"#VALUE!"},{"$f":"($AZ$209*$DN209*D$209*$AC209)/1000","v":{"$error":"#VALUE!"}},{"$error":"#VALUE!"},{"$error":"#VALUE!"},{"$f":"($AZ$209*$DO209*D$209*$AC209)/1000","v":{"$error":"#VALUE!"}},{"$error":"#VALUE!"},{"$error":"#VALUE!"},{"$f":"($AZ$209*$DP209*D$209*$AC209)/1000","v":{"$error":"#VALUE!"}},{"$error":"#VALUE!"},{"$error":"#VALUE!"},0,{"$f":"$AZ$209*$AD209","v":0},{"$f":"($AZ$209*$DQ209*D$209*$AD209)/1000","v":{"$error":"#VALUE!"}},{"$error":"#VALUE!"},{"$error":"#VALUE!"},{"$f":"($AZ$209*$DR209*D$209*$AD209)/1000","v":{"$error":"#VALUE!"}},{"$error":"#VALUE!"},{"$error":"#VALUE!"},{"$f":"($AZ$209*$DS209*D$209*$AD209)/1000","v":{"$error":"#VALUE!"}},{"$error":"#VALUE!"},{"$error":"#VALUE!"},{"$f":"($AZ$209*$DT209*D$209*$AD209)/1000","v":{"$error":"#VALUE!"}},{"$error":"#VALUE!"},{"$error":"#VALUE!"},{"$f":"($AZ$209*$DU209*D$209*$AD209)/1000","v":{"$error":"#VALUE!"}},{"$error":"#VALUE!"},{"$error":"#VALUE!"},{"$f":"($AZ$209*$DV209*D$209*$AD209)/1000","v":{"$error":"#VALUE!"}},{"$error":"#VALUE!"},{"$error":"#VALUE!"},{"$f":"($AZ$209*$DW209*D$209*$AD209)/1000","v":{"$error":"#VALUE!"}},{"$error":"#VALUE!"},{"$error":"#VALUE!"},{"$f":"($AZ$209*$DX209*D$209*$AD209)/1000","v":{"$error":"#VALUE!"}},{"$error":"#VALUE!"},{"$error":"#VALUE!"},{"$f":"($AZ$209*$DY209*D$209*$AD209)/1000","v":{"$error":"#VALUE!"}},{"$error":"#VALUE!"},{"$error":"#VALUE!"},{"$f":"($AZ$209*$DZ209*D$209*$AD209)/1000","v":{"$error":"#VALUE!"}},{"$error":"#VALUE!"},{"$error":"#VALUE!"},{"$f":"($AZ$209*$EA209*D$209*$AD209)/1000","v":{"$error":"#VALUE!"}},{"$error":"#VALUE!"},{"$error":"#VALUE!"}]
[null,null,null,null,null,null,null,null,null,null,null,null,null,null,null,null,null,null,null,null,null,null,null,2,null,null,null,null,null,null,null,null,null,"N/A",null,false,null,null,null,null,2,null,null,null,null,null,null,null,null,null,null,null,{"$f":"IF(AND(BB210=\"OK\",BC210=\"OK\",BD210=\"OK\"),\"OK\",\"ERR!\")","v":"ERR!"},"OK",{"$f":"IF(OR(SUM(BN210:BX210)<>1,SUM(BY210:CI210)<>1,SUM(CJ210:CT210)<>1,SUM(CU210:DE210)<>1,SUM(DF210:DP210)<>1,SUM(DQ210:EA210)<>1),\"ERR!\",\"OK\")","v":"ERR!"},{"$f":"IF(AND(OR(BE210=BK210,BE210=0),OR(BF210=BK210,BF210=0),OR(BG210=BK210,BG210=0),OR(BH210=BK210,BH210=0),OR(BI210=BK210,BI210=0),OR(BJ210=BK210,BJ210=0)),\"OK\",\"ERR!\")","v":"OK"},{"$f":"(BN210*POWER(10,0)+BO210*POWER(10,1)+BP210*POWER(10,2)+BQ210*POWER(10,3)+BR210*POWER(10,4)+BS210*POWER(10,5)+BT210*POWER(10,6)+BU210*POWER(10,7)+BV210*POWER(10,8)+BW210*POWER(10,9)+BX210*POWER(10,10))","v":0},{"$f":"(BY210*POWER(10,0)+BZ210*POWER(10,1)+CA210*POWER(10,2)+CB210*POWER(10,3)+CC210*POWER(10,4)+CD210*POWER(10,5)+CE210*POWER(10,6)+CF210*POWER(10,7)+CG210*POWER(10,8)+CH210*POWER(10,9)+CI210*POWER(10,10))","v":0},{"$f":"(CJ210*POWER(10,0)+CK210*POWER(10,1)+CL210*POWER(10,2)+CM210*POWER(10,3)+CN210*POWER(10,4)+CO210*POWER(10,5)+CP210*POWER(10,6)+CQ210*POWER(10,7)+CR210*POWER(10,8)+CS210*POWER(10,9)+CT210*POWER(10,10))","v":0},{"$f":"(CU210*POWER(10,0)+CV210*POWER(10,1)+CW210*POWER(10,2)+CX210*POWER(10,3)+CY210*POWER(10,4)+CZ210*POWER(10,5)+DA210*POWER(10,6)+DB210*POWER(10,7)+DC210*POWER(10,8)+DD210*POWER(10,9)+DE210*POWER(10,10))","v":0},{"$f":"(DF210*POWER(10,0)+DG210*POWER(10,1)+DH210*POWER(10,2)+DI210*POWER(10,3)+DJ210*POWER(10,4)+DK210*POWER(10,5)+DL210*POWER(10,6)+DM210*POWER(10,7)+DN210*POWER(10,8)+DO210*POWER(10,9)+DP210*POWER(10,10))","v":0},{"$f":"(DQ210*POWER(10,0)+DR210*POWER(10,1)+DS210*POWER(10,2)+DT210*POWER(10,3)+DU210*POWER(10,4)+DV210*POWER(10,5)+DW210*POWER(10,6)+DX210*POWER(10,7)+DY210*POWER(10,8)+DZ210*POWER(10,9)+EA210*POWER(10,10))","v":0},{"$f":"MAX(BE210:BJ210)","v":0},null,2,null,null,null,null,null,null,null,null,null,null,null,null,null,null,null,null,null,null,null,null,null,null,null,null,null,null,null,null,null,null,null,null,null,null,null,null,null,null,null,null,null,null,null,null,null,null,null,null,null,null,null,null,null,null,null,null,null,null,null,null,null,null,null,null,null,null,null,2,{"$error":"#VALUE!"},{"$error":"#VALUE!"},{"$error":"#VALUE!"},{"$error":"#VALUE!"},{"$error":"#VALUE!"},{"$error":"#VALUE!"},{"$error":"#VALUE!"},{"$error":"#VALUE!"},{"$error":"#VALUE!"},{"$error":"#VALUE!"},{"$error":"#VALUE!"},{"$error":"#VALUE!"},{"$error":"#VALUE!"},{"$error":"#VALUE!"},{"$error":"#VALUE!"},{"$error":"#VALUE!"},{"$error":"#VALUE!"},{"$error":"#VALUE!"},null,2,0,{"$error":"#VALUE!"},{"$error":"#VALUE!"},{"$error":"#VALUE!"},{"$error":"#VALUE!"},{"$error":"#VALUE!"},{"$error":"#VALUE!"},{"$error":"#VALUE!"},{"$error":"#VALUE!"},{"$error":"#VALUE!"},{"$error":"#VALUE!"},{"$error":"#VALUE!"},{"$error":"#VALUE!"},{"$error":"#VALUE!"},{"$error":"#VALUE!"},{"$error":"#VALUE!"},{"$error":"#VALUE!"},{"$error":"#VALUE!"},{"$error":"#VALUE!"},{"$error":"#VALUE!"},{"$error":"#VALUE!"},{"$error":"#VALUE!"},{"$error":"#VALUE!"},{"$error":"#VALUE!"},{"$error":"#VALUE!"},{"$error":"#VALUE!"},{"$error":"#VALUE!"},{"$error":"#VALUE!"},{"$error":"#VALUE!"},{"$error":"#VALUE!"},{"$error":"#VALUE!"},{"$error":"#VALUE!"},{"$error":"#VALUE!"},{"$error":"#VALUE!"},2,0,{"$error":"#VALUE!"},{"$error":"#VALUE!"},{"$error":"#VALUE!"},{"$error":"#VALUE!"},{"$error":"#VALUE!"},{"$error":"#VALUE!"},{"$error":"#VALUE!"},{"$error":"#VALUE!"},{"$error":"#VALUE!"},{"$error":"#VALUE!"},{"$error":"#VALUE!"},{"$error":"#VALUE!"},{"$error":"#VALUE!"},{"$error":"#VALUE!"},{"$error":"#VALUE!"},{"$error":"#VALUE!"},{"$error":"#VALUE!"},{"$error":"#VALUE!"},{"$error":"#VALUE!"},{"$error":"#VALUE!"},{"$error":"#VALUE!"},{"$error":"#VALUE!"},{"$error":"#VALUE!"},{"$error":"#VALUE!"},{"$error":"#VALUE!"},{"$error":"#VALUE!"},{"$error":"#VALUE!"},{"$error":"#VALUE!"},{"$error":"#VALUE!"},{"$error":"#VALUE!"},{"$error":"#VALUE!"},{"$error":"#VALUE!"},{"$error":"#VALUE!"},2,0,{"$error":"#VALUE!"},{"$error":"#VALUE!"},{"$error":"#VALUE!"},{"$error":"#VALUE!"},{"$error":"#VALUE!"},{"$error":"#VALUE!"},{"$error":"#VALUE!"},{"$error":"#VALUE!"},{"$error":"#VALUE!"},{"$error":"#VALUE!"},{"$error":"#VALUE!"},{"$error":"#VALUE!"},{"$error":"#VALUE!"},{"$error":"#VALUE!"},{"$error":"#VALUE!"},{"$error":"#VALUE!"},{"$error":"#VALUE!"},{"$error":"#VALUE!"},{"$error":"#VALUE!"},{"$error":"#VALUE!"},{"$error":"#VALUE!"},{"$error":"#VALUE!"},{"$error":"#VALUE!"},{"$error":"#VALUE!"},{"$error":"#VALUE!"},{"$error":"#VALUE!"},{"$error":"#VALUE!"},{"$error":"#VALUE!"},{"$error":"#VALUE!"},{"$error":"#VALUE!"},{"$error":"#VALUE!"},{"$error":"#VALUE!"},{"$error":"#VALUE!"},2,0,{"$error":"#VALUE!"},{"$error":"#VALUE!"},{"$error":"#VALUE!"},{"$error":"#VALUE!"},{"$error":"#VALUE!"},{"$error":"#VALUE!"},{"$error":"#VALUE!"},{"$error":"#VALUE!"},{"$error":"#VALUE!"},{"$error":"#VALUE!"},{"$error":"#VALUE!"},{"$error":"#VALUE!"},{"$error":"#VALUE!"},{"$error":"#VALUE!"},{"$error":"#VALUE!"},{"$error":"#VALUE!"},{"$error":"#VALUE!"},{"$error":"#VALUE!"},{"$error":"#VALUE!"},{"$error":"#VALUE!"},{"$error":"#VALUE!"},{"$error":"#VALUE!"},{"$error":"#VALUE!"},{"$error":"#VALUE!"},{"$error":"#VALUE!"},{"$error":"#VALUE!"},{"$error":"#VALUE!"},{"$error":"#VALUE!"},{"$error":"#VALUE!"},{"$error":"#VALUE!"},{"$error":"#VALUE!"},{"$error":"#VALUE!"},{"$error":"#VALUE!"},2,0,{"$error":"#VALUE!"},{"$error":"#VALUE!"},{"$error":"#VALUE!"},{"$error":"#VALUE!"},{"$error":"#VALUE!"},{"$error":"#VALUE!"},{"$error":"#VALUE!"},{"$error":"#VALUE!"},{"$error":"#VALUE!"},{"$error":"#VALUE!"},{"$error":"#VALUE!"},{"$error":"#VALUE!"},{"$error":"#VALUE!"},{"$error":"#VALUE!"},{"$error":"#VALUE!"},{"$error":"#VALUE!"},{"$error":"#VALUE!"},{"$error":"#VALUE!"},{"$error":"#VALUE!"},{"$error":"#VALUE!"},{"$error":"#VALUE!"},{"$error":"#VALUE!"},{"$error":"#VALUE!"},{"$error":"#VALUE!"},{"$error":"#VALUE!"},{"$error":"#VALUE!"},{"$error":"#VALUE!"},{"$error":"#VALUE!"},{"$error":"#VALUE!"},{"$error":"#VALUE!"},{"$error":"#VALUE!"},{"$error":"#VALUE!"},{"$error":"#VALUE!"},2,0,{"$error":"#VALUE!"},{"$error":"#VALUE!"},{"$error":"#VALUE!"},{"$error":"#VALUE!"},{"$error":"#VALUE!"},{"$error":"#VALUE!"},{"$error":"#VALUE!"},{"$error":"#VALUE!"},{"$error":"#VALUE!"},{"$error":"#VALUE!"},{"$error":"#VALUE!"},{"$error":"#VALUE!"},{"$error":"#VALUE!"},{"$error":"#VALUE!"},{"$error":"#VALUE!"},{"$error":"#VALUE!"},{"$error":"#VALUE!"},{"$error":"#VALUE!"},{"$error":"#VALUE!"},{"$error":"#VALUE!"},{"$error":"#VALUE!"},{"$error":"#VALUE!"},{"$error":"#VALUE!"},{"$error":"#VALUE!"},{"$error":"#VALUE!"},{"$error":"#VALUE!"},{"$error":"#VALUE!"},{"$error":"#VALUE!"},{"$error":"#VALUE!"},{"$error":"#VALUE!"},{"$error":"#VALUE!"},{"$error":"#VALUE!"},{"$error":"#VALUE!"}]
[null,null,null,null,null,null,null,null,null,null,null,null,null,null,null,null,null,null,null,null,null,null,null,3,null,null,null,null,null,null,null,null,null,"N/A",null,false,null,null,null,null,3,null,null,null,null,null,null,null,null,null,null,null,{"$f":"IF(AND(BB211=\"OK\",BC211=\"OK\",BD211=\"OK\"),\"OK\",\"ERR!\")","v":"ERR!"},"OK",{"$f":"IF(OR(SUM(BN211:BX211)<>1,SUM(BY211:CI211)<>1,SUM(CJ211:CT211)<>1,SUM(CU211:DE211)<>1,SUM(DF211:DP211)<>1,SUM(DQ211:EA211)<>1),\"ERR!\",\"OK\")","v":"ERR!"},{"$f":"IF(AND(OR(BE211=BK211,BE211=0),OR(BF211=BK211,BF211=0),OR(BG211=BK211,BG211=0),OR(BH211=BK211,BH211=0),OR(BI211=BK211,BI211=0),OR(BJ211=BK211,BJ211=0)),\"OK\",\"ERR!\")","v":"OK"},0,0,0,0,0,0,{"$f":"MAX(BE211:BJ211)","v":0},null,3,null,null,null,null,null,null,null,null,null,null,null,null,null,null,null,null,null,null,null,null,null,null,null,null,null,null,null,null,null,null,null,null,null,null,null,null,null,null,null,null,null,null,null,null,null,null,null,null,null,null,null,null,null,null,null,null,null,null,null,null,null,null,null,null,null,null,null,3,{"$error":"#VALUE!"},{"$error":"#VALUE!"},{"$error":"#VALUE!"},{"$error":"#VALUE!"},{"$error":"#VALUE!"},{"$error":"#VALUE!"},{"$error":"#VALUE!"},{"$error":"#VALUE!"},{"$error":"#VALUE!"},{"$error":"#VALUE!"},{"$error":"#VALUE!"},{"$error":"#VALUE!"},{"$error":"#VALUE!"},{"$error":"#VALUE!"},{"$error":"#VALUE!"},{"$error":"#VALUE!"},{"$error":"#VALUE!"},{"$error":"#VALUE!"},null,3,0,{"$error":"#VALUE!"},{"$error":"#VALUE!"},{"$error":"#VALUE!"},{"$error":"#VALUE!"},{"$error":"#VALUE!"},{"$error":"#VALUE!"},{"$error":"#VALUE!"},{"$error":"#VALUE!"},{"$error":"#VALUE!"},{"$error":"#VALUE!"},{"$error":"#VALUE!"},{"$error":"#VALUE!"},{"$error":"#VALUE!"},{"$error":"#VALUE!"},{"$error":"#VALUE!"},{"$error":"#VALUE!"},{"$error":"#VALUE!"},{"$error":"#VALUE!"},{"$error":"#VALUE!"},{"$error":"#VALUE!"},{"$error":"#VALUE!"},{"$error":"#VALUE!"},{"$error":"#VALUE!"},{"$error":"#VALUE!"},{"$error":"#VALUE!"},{"$error":"#VALUE!"},{"$error":"#VALUE!"},{"$error":"#VALUE!"},{"$error":"#VALUE!"},{"$error":"#VALUE!"},{"$error":"#VALUE!"},{"$error":"#VALUE!"},{"$error":"#VALUE!"},3,0,{"$error":"#VALUE!"},{"$error":"#VALUE!"},{"$error":"#VALUE!"},{"$error":"#VALUE!"},{"$error":"#VALUE!"},{"$error":"#VALUE!"},{"$error":"#VALUE!"},{"$error":"#VALUE!"},{"$error":"#VALUE!"},{"$error":"#VALUE!"},{"$error":"#VALUE!"},{"$error":"#VALUE!"},{"$error":"#VALUE!"},{"$error":"#VALUE!"},{"$error":"#VALUE!"},{"$error":"#VALUE!"},{"$error":"#VALUE!"},{"$error":"#VALUE!"},{"$error":"#VALUE!"},{"$error":"#VALUE!"},{"$error":"#VALUE!"},{"$error":"#VALUE!"},{"$error":"#VALUE!"},{"$error":"#VALUE!"},{"$error":"#VALUE!"},{"$error":"#VALUE!"},{"$error":"#VALUE!"},{"$error":"#VALUE!"},{"$error":"#VALUE!"},{"$error":"#VALUE!"},{"$error":"#VALUE!"},{"$error":"#VALUE!"},{"$error":"#VALUE!"},3,0,{"$error":"#VALUE!"},{"$error":"#VALUE!"},{"$error":"#VALUE!"},{"$error":"#VALUE!"},{"$error":"#VALUE!"},{"$error":"#VALUE!"},{"$error":"#VALUE!"},{"$error":"#VALUE!"},{"$error":"#VALUE!"},{"$error":"#VALUE!"},{"$error":"#VALUE!"},{"$error":"#VALUE!"},{"$error":"#VALUE!"},{"$error":"#VALUE!"},{"$error":"#VALUE!"},{"$error":"#VALUE!"},{"$error":"#VALUE!"},{"$error":"#VALUE!"},{"$error":"#VALUE!"},{"$error":"#VALUE!"},{"$error":"#VALUE!"},{"$error":"#VALUE!"},{"$error":"#VALUE!"},{"$error":"#VALUE!"},{"$error":"#VALUE!"},{"$error":"#VALUE!"},{"$error":"#VALUE!"},{"$error":"#VALUE!"},{"$error":"#VALUE!"},{"$error":"#VALUE!"},{"$error":"#VALUE!"},{"$error":"#VALUE!"},{"$error":"#VALUE!"},3,0,{"$error":"#VALUE!"},{"$error":"#VALUE!"},{"$error":"#VALUE!"},{"$error":"#VALUE!"},{"$error":"#VALUE!"},{"$error":"#VALUE!"},{"$error":"#VALUE!"},{"$error":"#VALUE!"},{"$error":"#VALUE!"},{"$error":"#VALUE!"},{"$error":"#VALUE!"},{"$error":"#VALUE!"},{"$error":"#VALUE!"},{"$error":"#VALUE!"},{"$error":"#VALUE!"},{"$error":"#VALUE!"},{"$error":"#VALUE!"},{"$error":"#VALUE!"},{"$error":"#VALUE!"},{"$error":"#VALUE!"},{"$error":"#VALUE!"},{"$error":"#VALUE!"},{"$error":"#VALUE!"},{"$error":"#VALUE!"},{"$error":"#VALUE!"},{"$error":"#VALUE!"},{"$error":"#VALUE!"},{"$error":"#VALUE!"},{"$error":"#VALUE!"},{"$error":"#VALUE!"},{"$error":"#VALUE!"},{"$error":"#VALUE!"},{"$error":"#VALUE!"},3,0,{"$error":"#VALUE!"},{"$error":"#VALUE!"},{"$error":"#VALUE!"},{"$error":"#VALUE!"},{"$error":"#VALUE!"},{"$error":"#VALUE!"},{"$error":"#VALUE!"},{"$error":"#VALUE!"},{"$error":"#VALUE!"},{"$error":"#VALUE!"},{"$error":"#VALUE!"},{"$error":"#VALUE!"},{"$error":"#VALUE!"},{"$error":"#VALUE!"},{"$error":"#VALUE!"},{"$error":"#VALUE!"},{"$error":"#VALUE!"},{"$error":"#VALUE!"},{"$error":"#VALUE!"},{"$error":"#VALUE!"},{"$error":"#VALUE!"},{"$error":"#VALUE!"},{"$error":"#VALUE!"},{"$error":"#VALUE!"},{"$error":"#VALUE!"},{"$error":"#VALUE!"},{"$error":"#VALUE!"},{"$error":"#VALUE!"},{"$error":"#VALUE!"},{"$error":"#VALUE!"},{"$error":"#VALUE!"},{"$error":"#VALUE!"},{"$error":"#VALUE!"},3,0,{"$error":"#VALUE!"},{"$error":"#VALUE!"},{"$error":"#VALUE!"},{"$error":"#VALUE!"},{"$error":"#VALUE!"},{"$error":"#VALUE!"},{"$error":"#VALUE!"},{"$error":"#VALUE!"},{"$error":"#VALUE!"},{"$error":"#VALUE!"},{"$error":"#VALUE!"},{"$error":"#VALUE!"},{"$error":"#VALUE!"},{"$error":"#VALUE!"},{"$error":"#VALUE!"},{"$error":"#VALUE!"},{"$error":"#VALUE!"},{"$error":"#VALUE!"},{"$error":"#VALUE!"},{"$error":"#VALUE!"},{"$error":"#VALUE!"},{"$error":"#VALUE!"},{"$error":"#VALUE!"},{"$error":"#VALUE!"},{"$error":"#VALUE!"},{"$error":"#VALUE!"},{"$error":"#VALUE!"},{"$error":"#VALUE!"},{"$error":"#VALUE!"},{"$error":"#VALUE!"},{"$error":"#VALUE!"},{"$error":"#VALUE!"},{"$error":"#VALUE!"}]
[null,null,null,null,null,null,null,null,null,null,null,null,null,null,null,null,null,null,null,null,null,null,null,4,null,null,null,null,null,null,null,null,null,"N/A",null,false,null,null,null,null,4,null,null,null,null,null,null,null,null,null,null,null,{"$f":"IF(AND(BB212=\"OK\",BC212=\"OK\",BD212=\"OK\"),\"OK\",\"ERR!\")","v":"ERR!"},"OK","ERR!",{"$f":"IF(AND(OR(BE212=BK212,BE212=0),OR(BF212=BK212,BF212=0),OR(BG212=BK212,BG212=0),OR(BH212=BK212,BH212=0),OR(BI212=BK212,BI212=0),OR(BJ212=BK212,BJ212=0)),\"OK\",\"ERR!\")","v":"OK"},0,0,0,0,0,0,0,null,4,null,null,null,null,null,null,null,null,null,null,null,null,null,null,null,null,null,null,null,null,null,null,null,null,null,null,null,null,null,null,null,null,null,null,null,null,null,null,null,null,null,null,null,null,null,null,null,null,null,null,null,null,null,null,null,null,null,null,null,null,null,null,null,null,null,null,null,4,{"$error":"#VALUE!"},{"$error":"#VALUE!"},{"$error":"#VALUE!"},{"$error":"#VALUE!"},{"$error":"#VALUE!"},{"$error":"#VALUE!"},{"$error":"#VALUE!"},{"$error":"#VALUE!"},{"$error":"#VALUE!"},{"$error":"#VALUE!"},{"$error":"#VALUE!"},{"$error":"#VALUE!"},{"$error":"#VALUE!"},{"$error":"#VALUE!"},{"$error":"#VALUE!"},{"$error":"#VALUE!"},{"$error":"#VALUE!"},{"$error":"#VALUE!"},null,4,0,{"$error":"#VALUE!"},{"$error":"#VALUE!"},{"$error":"#VALUE!"},{"$error":"#VALUE!"},{"$error":"#VALUE!"},{"$error":"#VALUE!"},{"$error":"#VALUE!"},{"$error":"#VALUE!"},{"$error":"#VALUE!"},{"$error":"#VALUE!"},{"$error":"#VALUE!"},{"$error":"#VALUE!"},{"$error":"#VALUE!"},{"$error":"#VALUE!"},{"$error":"#VALUE!"},{"$error":"#VALUE!"},{"$error":"#VALUE!"},{"$error":"#VALUE!"},{"$error":"#VALUE!"},{"$error":"#VALUE!"},{"$error":"#VALUE!"},{"$error":"#VALUE!"},{"$error":"#VALUE!"},{"$error":"#VALUE!"},{"$error":"#VALUE!"},{"$error":"#VALUE!"},{"$error":"#VALUE!"},{"$error":"#VALUE!"},{"$error":"#VALUE!"},{"$error":"#VALUE!"},{"$error":"#VALUE!"},{"$error":"#VALUE!"},{"$error":"#VALUE!"},4,0,{"$error":"#VALUE!"},{"$error":"#VALUE!"},{"$error":"#VALUE!"},{"$error":"#VALUE!"},{"$error":"#VALUE!"},{"$error":"#VALUE!"},{"$error":"#VALUE!"},{"$error":"#VALUE!"},{"$error":"#VALUE!"},{"$error":"#VALUE!"},{"$error":"#VALUE!"},{"$error":"#VALUE!"},{"$error":"#VALUE!"},{"$error":"#VALUE!"},{"$error":"#VALUE!"},{"$error":"#VALUE!"},{"$error":"#VALUE!"},{"$error":"#VALUE!"},{"$error":"#VALUE!"},{"$error":"#VALUE!"},{"$error":"#VALUE!"},{"$error":"#VALUE!"},{"$error":"#VALUE!"},{"$error":"#VALUE!"},{"$error":"#VALUE!"},{"$error":"#VALUE!"},{"$error":"#VALUE!"},{"$error":"#VALUE!"},{"$error":"#VALUE!"},{"$error":"#VALUE!"},{"$error":"#VALUE!"},{"$error":"#VALUE!"},{"$error":"#VALUE!"},4,0,{"$error":"#VALUE!"},{"$error":"#VALUE!"},{"$error":"#VALUE!"},{"$error":"#VALUE!"},{"$error":"#VALUE!"},{"$error":"#VALUE!"},{"$error":"#VALUE!"},{"$error":"#VALUE!"},{"$error":"#VALUE!"},{"$error":"#VALUE!"},{"$error":"#VALUE!"},{"$error":"#VALUE!"},{"$error":"#VALUE!"},{"$error":"#VALUE!"},{"$error":"#VALUE!"},{"$error":"#VALUE!"},{"$error":"#VALUE!"},{"$error":"#VALUE!"},{"$error":"#VALUE!"},{"$error":"#VALUE!"},{"$error":"#VALUE!"},{"$error":"#VALUE!"},{"$error":"#VALUE!"},{"$error":"#VALUE!"},{"$error":"#VALUE!"},{"$error":"#VALUE!"},{"$error":"#VALUE!"},{"$error":"#VALUE!"},{"$error":"#VALUE!"},{"$error":"#VALUE!"},{"$error":"#VALUE!"},{"$error":"#VALUE!"},{"$error":"#VALUE!"},4,0,{"$error":"#VALUE!"},{"$error":"#VALUE!"},{"$error":"#VALUE!"},{"$error":"#VALUE!"},{"$error":"#VALUE!"},{"$error":"#VALUE!"},{"$error":"#VALUE!"},{"$error":"#VALUE!"},{"$error":"#VALUE!"},{"$error":"#VALUE!"},{"$error":"#VALUE!"},{"$error":"#VALUE!"},{"$error":"#VALUE!"},{"$error":"#VALUE!"},{"$error":"#VALUE!"},{"$error":"#VALUE!"},{"$error":"#VALUE!"},{"$error":"#VALUE!"},{"$error":"#VALUE!"},{"$error":"#VALUE!"},{"$error":"#VALUE!"},{"$error":"#VALUE!"},{"$error":"#VALUE!"},{"$error":"#VALUE!"},{"$error":"#VALUE!"},{"$error":"#VALUE!"},{"$error":"#VALUE!"},{"$error":"#VALUE!"},{"$error":"#VALUE!"},{"$error":"#VALUE!"},{"$error":"#VALUE!"},{"$error":"#VALUE!"},{"$error":"#VALUE!"},4,0,{"$error":"#VALUE!"},{"$error":"#VALUE!"},{"$error":"#VALUE!"},{"$error":"#VALUE!"},{"$error":"#VALUE!"},{"$error":"#VALUE!"},{"$error":"#VALUE!"},{"$error":"#VALUE!"},{"$error":"#VALUE!"},{"$error":"#VALUE!"},{"$error":"#VALUE!"},{"$error":"#VALUE!"},{"$error":"#VALUE!"},{"$error":"#VALUE!"},{"$error":"#VALUE!"},{"$error":"#VALUE!"},{"$error":"#VALUE!"},{"$error":"#VALUE!"},{"$error":"#VALUE!"},{"$error":"#VALUE!"},{"$error":"#VALUE!"},{"$error":"#VALUE!"},{"$error":"#VALUE!"},{"$error":"#VALUE!"},{"$error":"#VALUE!"},{"$error":"#VALUE!"},{"$error":"#VALUE!"},{"$error":"#VALUE!"},{"$error":"#VALUE!"},{"$error":"#VALUE!"},{"$error":"#VALUE!"},{"$error":"#VALUE!"},{"$error":"#VALUE!"},4,0,{"$error":"#VALUE!"},{"$error":"#VALUE!"},{"$error":"#VALUE!"},{"$error":"#VALUE!"},{"$error":"#VALUE!"},{"$error":"#VALUE!"},{"$error":"#VALUE!"},{"$error":"#VALUE!"},{"$error":"#VALUE!"},{"$error":"#VALUE!"},{"$error":"#VALUE!"},{"$error":"#VALUE!"},{"$error":"#VALUE!"},{"$error":"#VALUE!"},{"$error":"#VALUE!"},{"$error":"#VALUE!"},{"$error":"#VALUE!"},{"$error":"#VALUE!"},{"$error":"#VALUE!"},{"$error":"#VALUE!"},{"$error":"#VALUE!"},{"$error":"#VALUE!"},{"$error":"#VALUE!"},{"$error":"#VALUE!"},{"$error":"#VALUE!"},{"$error":"#VALUE!"},{"$error":"#VALUE!"},{"$error":"#VALUE!"},{"$error":"#VALUE!"},{"$error":"#VALUE!"},{"$error":"#VALUE!"},{"$error":"#VALUE!"},{"$error":"#VALUE!"}]
[null,null,null,null,null,null,null,null,null,null,null,null,null,null,null,null,null,null,null,null,null,null,null,7,null,null,null,null,null,null,null,null,null,"N/A",null,false,null,null,null,null,7,null,null,null,null,null,null,null,null,null,null,null,{"$f":"IF(AND(BB213=\"OK\",BC213=\"OK\",BD213=\"OK\"),\"OK\",\"ERR!\")","v":"ERR!"},"OK","ERR!","OK",0,0,0,0,0,0,0,null,7,null,null,null,null,null,null,null,null,null,null,null,null,null,null,null,null,null,null,null,null,null,null,null,null,null,null,null,null,null,null,null,null,null,null,null,null,null,null,null,null,null,null,null,null,null,null,null,null,null,null,null,null,null,null,null,null,null,null,null,null,null,null,null,null,null,null,null,7,{"$error":"#VALUE!"},{"$error":"#VALUE!"},{"$error":"#VALUE!"},{"$error":"#VALUE!"},{"$error":"#VALUE!"},{"$error":"#VALUE!"},{"$error":"#VALUE!"},{"$error":"#VALUE!"},{"$error":"#VALUE!"},{"$error":"#VALUE!"},{"$error":"#VALUE!"},{"$error":"#VALUE!"},{"$error":"#VALUE!"},{"$error":"#VALUE!"},{"$error":"#VALUE!"},{"$error":"#VALUE!"},{"$error":"#VALUE!"},{"$error":"#VALUE!"},null,7,0,{"$error":"#VALUE!"},{"$error":"#VALUE!"},{"$error":"#VALUE!"},{"$error":"#VALUE!"},{"$error":"#VALUE!"},{"$error":"#VALUE!"},{"$error":"#VALUE!"},{"$error":"#VALUE!"},{"$error":"#VALUE!"},{"$error":"#VALUE!"},{"$error":"#VALUE!"},{"$error":"#VALUE!"},{"$error":"#VALUE!"},{"$error":"#VALUE!"},{"$error":"#VALUE!"},{"$error":"#VALUE!"},{"$error":"#VALUE!"},{"$error":"#VALUE!"},{"$error":"#VALUE!"},{"$error":"#VALUE!"},{"$error":"#VALUE!"},{"$error":"#VALUE!"},{"$error":"#VALUE!"},{"$error":"#VALUE!"},{"$error":"#VALUE!"},{"$error":"#VALUE!"},{"$error":"#VALUE!"},{"$error":"#VALUE!"},{"$error":"#VALUE!"},{"$error":"#VALUE!"},{"$error":"#VALUE!"},{"$error":"#VALUE!"},{"$error":"#VALUE!"},7,0,{"$error":"#VALUE!"},{"$error":"#VALUE!"},{"$error":"#VALUE!"},{"$error":"#VALUE!"},{"$error":"#VALUE!"},{"$error":"#VALUE!"},{"$error":"#VALUE!"},{"$error":"#VALUE!"},{"$error":"#VALUE!"},{"$error":"#VALUE!"},{"$error":"#VALUE!"},{"$error":"#VALUE!"},{"$error":"#VALUE!"},{"$error":"#VALUE!"},{"$error":"#VALUE!"},{"$error":"#VALUE!"},{"$error":"#VALUE!"},{"$error":"#VALUE!"},{"$error":"#VALUE!"},{"$error":"#VALUE!"},{"$error":"#VALUE!"},{"$error":"#VALUE!"},{"$error":"#VALUE!"},{"$error":"#VALUE!"},{"$error":"#VALUE!"},{"$error":"#VALUE!"},{"$error":"#VALUE!"},{"$error":"#VALUE!"},{"$error":"#VALUE!"},{"$error":"#VALUE!"},{"$error":"#VALUE!"},{"$error":"#VALUE!"},{"$error":"#VALUE!"},7,0,{"$error":"#VALUE!"},{"$error":"#VALUE!"},{"$error":"#VALUE!"},{"$error":"#VALUE!"},{"$error":"#VALUE!"},{"$error":"#VALUE!"},{"$error":"#VALUE!"},{"$error":"#VALUE!"},{"$error":"#VALUE!"},{"$error":"#VALUE!"},{"$error":"#VALUE!"},{"$error":"#VALUE!"},{"$error":"#VALUE!"},{"$error":"#VALUE!"},{"$error":"#VALUE!"},{"$error":"#VALUE!"},{"$error":"#VALUE!"},{"$error":"#VALUE!"},{"$error":"#VALUE!"},{"$error":"#VALUE!"},{"$error":"#VALUE!"},{"$error":"#VALUE!"},{"$error":"#VALUE!"},{"$error":"#VALUE!"},{"$error":"#VALUE!"},{"$error":"#VALUE!"},{"$error":"#VALUE!"},{"$error":"#VALUE!"},{"$error":"#VALUE!"},{"$error":"#VALUE!"},{"$error":"#VALUE!"},{"$error":"#VALUE!"},{"$error":"#VALUE!"},7,0,{"$error":"#VALUE!"},{"$error":"#VALUE!"},{"$error":"#VALUE!"},{"$error":"#VALUE!"},{"$error":"#VALUE!"},{"$error":"#VALUE!"},{"$error":"#VALUE!"},{"$error":"#VALUE!"},{"$error":"#VALUE!"},{"$error":"#VALUE!"},{"$error":"#VALUE!"},{"$error":"#VALUE!"},{"$error":"#VALUE!"},{"$error":"#VALUE!"},{"$error":"#VALUE!"},{"$error":"#VALUE!"},{"$error":"#VALUE!"},{"$error":"#VALUE!"},{"$error":"#VALUE!"},{"$error":"#VALUE!"},{"$error":"#VALUE!"},{"$error":"#VALUE!"},{"$error":"#VALUE!"},{"$error":"#VALUE!"},{"$error":"#VALUE!"},{"$error":"#VALUE!"},{"$error":"#VALUE!"},{"$error":"#VALUE!"},{"$error":"#VALUE!"},{"$error":"#VALUE!"},{"$error":"#VALUE!"},{"$error":"#VALUE!"},{"$error":"#VALUE!"},7,0,{"$error":"#VALUE!"},{"$error":"#VALUE!"},{"$error":"#VALUE!"},{"$error":"#VALUE!"},{"$error":"#VALUE!"},{"$error":"#VALUE!"},{"$error":"#VALUE!"},{"$error":"#VALUE!"},{"$error":"#VALUE!"},{"$error":"#VALUE!"},{"$error":"#VALUE!"},{"$error":"#VALUE!"},{"$error":"#VALUE!"},{"$error":"#VALUE!"},{"$error":"#VALUE!"},{"$error":"#VALUE!"},{"$error":"#VALUE!"},{"$error":"#VALUE!"},{"$error":"#VALUE!"},{"$error":"#VALUE!"},{"$error":"#VALUE!"},{"$error":"#VALUE!"},{"$error":"#VALUE!"},{"$error":"#VALUE!"},{"$error":"#VALUE!"},{"$error":"#VALUE!"},{"$error":"#VALUE!"},{"$error":"#VALUE!"},{"$error":"#VALUE!"},{"$error":"#VALUE!"},{"$error":"#VALUE!"},{"$error":"#VALUE!"},{"$error":"#VALUE!"},7,0,{"$error":"#VALUE!"},{"$error":"#VALUE!"},{"$error":"#VALUE!"},{"$error":"#VALUE!"},{"$error":"#VALUE!"},{"$error":"#VALUE!"},{"$error":"#VALUE!"},{"$error":"#VALUE!"},{"$error":"#VALUE!"},{"$error":"#VALUE!"},{"$error":"#VALUE!"},{"$error":"#VALUE!"},{"$error":"#VALUE!"},{"$error":"#VALUE!"},{"$error":"#VALUE!"},{"$error":"#VALUE!"},{"$error":"#VALUE!"},{"$error":"#VALUE!"},{"$error":"#VALUE!"},{"$error":"#VALUE!"},{"$error":"#VALUE!"},{"$error":"#VALUE!"},{"$error":"#VALUE!"},{"$error":"#VALUE!"},{"$error":"#VALUE!"},{"$error":"#VALUE!"},{"$error":"#VALUE!"},{"$error":"#VALUE!"},{"$error":"#VALUE!"},{"$error":"#VALUE!"},{"$error":"#VALUE!"},{"$error":"#VALUE!"},{"$error":"#VALUE!"}]
[null,null,null,null,null,null,null,null,null,null,null,null,null,null,null,null,null,null,null,null,null,null,null,8,null,null,null,null,null,null,null,null,null,"N/A",null,false,null,null,null,null,8,null,null,null,null,null,null,null,null,null,null,null,"ERR!","OK","ERR!","OK",0,0,0,0,0,0,0,null,8,null,null,null,null,null,null,null,null,null,null,null,null,null,null,null,null,null,null,null,null,null,null,null,null,null,null,null,null,null,null,null,null,null,null,null,null,null,null,null,null,null,null,null,null,null,null,null,null,null,null,null,null,null,null,null,null,null,null,null,null,null,null,null,null,null,null,null,8,{"$error":"#VALUE!"},{"$error":"#VALUE!"},{"$error":"#VALUE!"},{"$error":"#VALUE!"},{"$error":"#VALUE!"},{"$error":"#VALUE!"},{"$error":"#VALUE!"},{"$error":"#VALUE!"},{"$error":"#VALUE!"},{"$error":"#VALUE!"},{"$error":"#VALUE!"},{"$error":"#VALUE!"},{"$error":"#VALUE!"},{"$error":"#VALUE!"},{"$error":"#VALUE!"},{"$error":"#VALUE!"},{"$error":"#VALUE!"},{"$error":"#VALUE!"},null,8,0,{"$error":"#VALUE!"},{"$error":"#VALUE!"},{"$error":"#VALUE!"},{"$error":"#VALUE!"},{"$error":"#VALUE!"},{"$error":"#VALUE!"},{"$error":"#VALUE!"},{"$error":"#VALUE!"},{"$error":"#VALUE!"},{"$error":"#VALUE!"},{"$error":"#VALUE!"},{"$error":"#VALUE!"},{"$error":"#VALUE!"},{"$error":"#VALUE!"},{"$error":"#VALUE!"},{"$error":"#VALUE!"},{"$error":"#VALUE!"},{"$error":"#VALUE!"},{"$error":"#VALUE!"},{"$error":"#VALUE!"},{"$error":"#VALUE!"},{"$error":"#VALUE!"},{"$error":"#VALUE!"},{"$error":"#VALUE!"},{"$error":"#VALUE!"},{"$error":"#VALUE!"},{"$error":"#VALUE!"},{"$error":"#VALUE!"},{"$error":"#VALUE!"},{"$error":"#VALUE!"},{"$error":"#VALUE!"},{"$error":"#VALUE!"},{"$error":"#VALUE!"},8,0,{"$error":"#VALUE!"},{"$error":"#VALUE!"},{"$error":"#VALUE!"},{"$error":"#VALUE!"},{"$error":"#VALUE!"},{"$error":"#VALUE!"},{"$error":"#VALUE!"},{"$error":"#VALUE!"},{"$error":"#VALUE!"},{"$error":"#VALUE!"},{"$error":"#VALUE!"},{"$error":"#VALUE!"},{"$error":"#VALUE!"},{"$error":"#VALUE!"},{"$error":"#VALUE!"},{"$error":"#VALUE!"},{"$error":"#VALUE!"},{"$error":"#VALUE!"},{"$error":"#VALUE!"},{"$error":"#VALUE!"},{"$error":"#VALUE!"},{"$error":"#VALUE!"},{"$error":"#VALUE!"},{"$error":"#VALUE!"},{"$error":"#VALUE!"},{"$error":"#VALUE!"},{"$error":"#VALUE!"},{"$error":"#VALUE!"},{"$error":"#VALUE!"},{"$error":"#VALUE!"},{"$error":"#VALUE!"},{"$error":"#VALUE!"},{"$error":"#VALUE!"},8,0,{"$error":"#VALUE!"},{"$error":"#VALUE!"},{"$error":"#VALUE!"},{"$error":"#VALUE!"},{"$error":"#VALUE!"},{"$error":"#VALUE!"},{"$error":"#VALUE!"},{"$error":"#VALUE!"},{"$error":"#VALUE!"},{"$error":"#VALUE!"},{"$error":"#VALUE!"},{"$error":"#VALUE!"},{"$error":"#VALUE!"},{"$error":"#VALUE!"},{"$error":"#VALUE!"},{"$error":"#VALUE!"},{"$error":"#VALUE!"},{"$error":"#VALUE!"},{"$error":"#VALUE!"},{"$error":"#VALUE!"},{"$error":"#VALUE!"},{"$error":"#VALUE!"},{"$error":"#VALUE!"},{"$error":"#VALUE!"},{"$error":"#VALUE!"},{"$error":"#VALUE!"},{"$error":"#VALUE!"},{"$error":"#VALUE!"},{"$error":"#VALUE!"},{"$error":"#VALUE!"},{"$error":"#VALUE!"},{"$error":"#VALUE!"},{"$error":"#VALUE!"},8,0,{"$error":"#VALUE!"},{"$error":"#VALUE!"},{"$error":"#VALUE!"},{"$error":"#VALUE!"},{"$error":"#VALUE!"},{"$error":"#VALUE!"},{"$error":"#VALUE!"},{"$error":"#VALUE!"},{"$error":"#VALUE!"},{"$error":"#VALUE!"},{"$error":"#VALUE!"},{"$error":"#VALUE!"},{"$error":"#VALUE!"},{"$error":"#VALUE!"},{"$error":"#VALUE!"},{"$error":"#VALUE!"},{"$error":"#VALUE!"},{"$error":"#VALUE!"},{"$error":"#VALUE!"},{"$error":"#VALUE!"},{"$error":"#VALUE!"},{"$error":"#VALUE!"},{"$error":"#VALUE!"},{"$error":"#VALUE!"},{"$error":"#VALUE!"},{"$error":"#VALUE!"},{"$error":"#VALUE!"},{"$error":"#VALUE!"},{"$error":"#VALUE!"},{"$error":"#VALUE!"},{"$error":"#VALUE!"},{"$error":"#VALUE!"},{"$error":"#VALUE!"},8,0,{"$error":"#VALUE!"},{"$error":"#VALUE!"},{"$error":"#VALUE!"},{"$error":"#VALUE!"},{"$error":"#VALUE!"},{"$error":"#VALUE!"},{"$error":"#VALUE!"},{"$error":"#VALUE!"},{"$error":"#VALUE!"},{"$error":"#VALUE!"},{"$error":"#VALUE!"},{"$error":"#VALUE!"},{"$error":"#VALUE!"},{"$error":"#VALUE!"},{"$error":"#VALUE!"},{"$error":"#VALUE!"},{"$error":"#VALUE!"},{"$error":"#VALUE!"},{"$error":"#VALUE!"},{"$error":"#VALUE!"},{"$error":"#VALUE!"},{"$error":"#VALUE!"},{"$error":"#VALUE!"},{"$error":"#VALUE!"},{"$error":"#VALUE!"},{"$error":"#VALUE!"},{"$error":"#VALUE!"},{"$error":"#VALUE!"},{"$error":"#VALUE!"},{"$error":"#VALUE!"},{"$error":"#VALUE!"},{"$error":"#VALUE!"},{"$error":"#VALUE!"},8,0,{"$error":"#VALUE!"},{"$error":"#VALUE!"},{"$error":"#VALUE!"},{"$error":"#VALUE!"},{"$error":"#VALUE!"},{"$error":"#VALUE!"},{"$error":"#VALUE!"},{"$error":"#VALUE!"},{"$error":"#VALUE!"},{"$error":"#VALUE!"},{"$error":"#VALUE!"},{"$error":"#VALUE!"},{"$error":"#VALUE!"},{"$error":"#VALUE!"},{"$error":"#VALUE!"},{"$error":"#VALUE!"},{"$error":"#VALUE!"},{"$error":"#VALUE!"},{"$error":"#VALUE!"},{"$error":"#VALUE!"},{"$error":"#VALUE!"},{"$error":"#VALUE!"},{"$error":"#VALUE!"},{"$error":"#VALUE!"},{"$error":"#VALUE!"},{"$error":"#VALUE!"},{"$error":"#VALUE!"},{"$error":"#VALUE!"},{"$error":"#VALUE!"},{"$error":"#VALUE!"},{"$error":"#VALUE!"},{"$error":"#VALUE!"},{"$error":"#VALUE!"}]
[null,null,null,null,null,null,null,null,null,null,null,null,null,null,null,null,null,null,null,null,null,null,null,9,null,null,null,null,null,null,null,null,null,"N/A",null,false,null,null,null,null,9,null,null,null,null,null,null,null,null,null,null,null,"ERR!","OK","ERR!","OK",0,0,0,{"$f":"(CU215*POWER(10,0)+CV215*POWER(10,1)+CW215*POWER(10,2)+CX215*POWER(10,3)+CY215*POWER(10,4)+CZ215*POWER(10,5)+DA215*POWER(10,6)+DB215*POWER(10,7)+DC215*POWER(10,8)+DD215*POWER(10,9)+DE215*POWER(10,10))","v":0},{"$f":"(DF215*POWER(10,0)+DG215*POWER(10,1)+DH215*POWER(10,2)+DI215*POWER(10,3)+DJ215*POWER(10,4)+DK215*POWER(10,5)+DL215*POWER(10,6)+DM215*POWER(10,7)+DN215*POWER(10,8)+DO215*POWER(10,9)+DP215*POWER(10,10))","v":0},0,0,null,9,null,null,null,null,null,null,null,null,null,null,null,null,null,null,null,null,null,null,null,null,null,null,null,null,null,null,null,null,null,null,null,null,null,null,null,null,null,null,null,null,null,null,null,null,null,null,null,null,null,null,null,null,null,null,null,null,null,null,null,null,null,null,null,null,null,null,null,9,{"$error":"#VALUE!"},{"$error":"#VALUE!"},{"$error":"#VALUE!"},{"$error":"#VALUE!"},{"$error":"#VALUE!"},{"$error":"#VALUE!"},{"$error":"#VALUE!"},{"$error":"#VALUE!"},{"$error":"#VALUE!"},{"$error":"#VALUE!"},{"$error":"#VALUE!"},{"$error":"#VALUE!"},{"$error":"#VALUE!"},{"$error":"#VALUE!"},{"$error":"#VALUE!"},{"$error":"#VALUE!"},{"$error":"#VALUE!"},{"$error":"#VALUE!"},null,9,0,{"$error":"#VALUE!"},{"$error":"#VALUE!"},{"$error":"#VALUE!"},{"$error":"#VALUE!"},{"$error":"#VALUE!"},{"$error":"#VALUE!"},{"$error":"#VALUE!"},{"$error":"#VALUE!"},{"$error":"#VALUE!"},{"$error":"#VALUE!"},{"$error":"#VALUE!"},{"$error":"#VALUE!"},{"$error":"#VALUE!"},{"$error":"#VALUE!"},{"$error":"#VALUE!"},{"$error":"#VALUE!"},{"$error":"#VALUE!"},{"$error":"#VALUE!"},{"$error":"#VALUE!"},{"$error":"#VALUE!"},{"$error":"#VALUE!"},{"$error":"#VALUE!"},{"$error":"#VALUE!"},{"$error":"#VALUE!"},{"$error":"#VALUE!"},{"$error":"#VALUE!"},{"$error":"#VALUE!"},{"$error":"#VALUE!"},{"$error":"#VALUE!"},{"$error":"#VALUE!"},{"$error":"#VALUE!"},{"$error":"#VALUE!"},{"$error":"#VALUE!"},9,0,{"$error":"#VALUE!"},{"$error":"#VALUE!"},{"$error":"#VALUE!"},{"$error":"#VALUE!"},{"$error":"#VALUE!"},{"$error":"#VALUE!"},{"$error":"#VALUE!"},{"$error":"#VALUE!"},{"$error":"#VALUE!"},{"$error":"#VALUE!"},{"$error":"#VALUE!"},{"$error":"#VALUE!"},{"$error":"#VALUE!"},{"$error":"#VALUE!"},{"$error":"#VALUE!"},{"$error":"#VALUE!"},{"$error":"#VALUE!"},{"$error":"#VALUE!"},{"$error":"#VALUE!"},{"$error":"#VALUE!"},{"$error":"#VALUE!"},{"$error":"#VALUE!"},{"$error":"#VALUE!"},{"$error":"#VALUE!"},{"$error":"#VALUE!"},{"$error":"#VALUE!"},{"$error":"#VALUE!"},{"$error":"#VALUE!"},{"$error":"#VALUE!"},{"$error":"#VALUE!"},{"$error":"#VALUE!"},{"$error":"#VALUE!"},{"$error":"#VALUE!"},9,0,{"$error":"#VALUE!"},{"$error":"#VALUE!"},{"$error":"#VALUE!"},{"$error":"#VALUE!"},{"$error":"#VALUE!"},{"$error":"#VALUE!"},{"$error":"#VALUE!"},{"$error":"#VALUE!"},{"$error":"#VALUE!"},{"$error":"#VALUE!"},{"$error":"#VALUE!"},{"$error":"#VALUE!"},{"$error":"#VALUE!"},{"$error":"#VALUE!"},{"$error":"#VALUE!"},{"$error":"#VALUE!"},{"$error":"#VALUE!"},{"$error":"#VALUE!"},{"$error":"#VALUE!"},{"$error":"#VALUE!"},{"$error":"#VALUE!"},{"$error":"#VALUE!"},{"$error":"#VALUE!"},{"$error":"#VALUE!"},{"$error":"#VALUE!"},{"$error":"#VALUE!"},{"$error":"#VALUE!"},{"$error":"#VALUE!"},{"$error":"#VALUE!"},{"$error":"#VALUE!"},{"$error":"#VALUE!"},{"$error":"#VALUE!"},{"$error":"#VALUE!"},9,0,{"$error":"#VALUE!"},{"$error":"#VALUE!"},{"$error":"#VALUE!"},{"$error":"#VALUE!"},{"$error":"#VALUE!"},{"$error":"#VALUE!"},{"$error":"#VALUE!"},{"$error":"#VALUE!"},{"$error":"#VALUE!"},{"$error":"#VALUE!"},{"$error":"#VALUE!"},{"$error":"#VALUE!"},{"$error":"#VALUE!"},{"$error":"#VALUE!"},{"$error":"#VALUE!"},{"$error":"#VALUE!"},{"$error":"#VALUE!"},{"$error":"#VALUE!"},{"$error":"#VALUE!"},{"$error":"#VALUE!"},{"$error":"#VALUE!"},{"$error":"#VALUE!"},{"$error":"#VALUE!"},{"$error":"#VALUE!"},{"$error":"#VALUE!"},{"$error":"#VALUE!"},{"$error":"#VALUE!"},{"$error":"#VALUE!"},{"$error":"#VALUE!"},{"$error":"#VALUE!"},{"$error":"#VALUE!"},{"$error":"#VALUE!"},{"$error":"#VALUE!"},9,0,{"$error":"#VALUE!"},{"$error":"#VALUE!"},{"$error":"#VALUE!"},{"$error":"#VALUE!"},{"$error":"#VALUE!"},{"$error":"#VALUE!"},{"$error":"#VALUE!"},{"$error":"#VALUE!"},{"$error":"#VALUE!"},{"$error":"#VALUE!"},{"$error":"#VALUE!"},{"$error":"#VALUE!"},{"$error":"#VALUE!"},{"$error":"#VALUE!"},{"$error":"#VALUE!"},{"$error":"#VALUE!"},{"$error":"#VALUE!"},{"$error":"#VALUE!"},{"$error":"#VALUE!"},{"$error":"#VALUE!"},{"$error":"#VALUE!"},{"$error":"#VALUE!"},{"$error":"#VALUE!"},{"$error":"#VALUE!"},{"$error":"#VALUE!"},{"$error":"#VALUE!"},{"$error":"#VALUE!"},{"$error":"#VALUE!"},{"$error":"#VALUE!"},{"$error":"#VALUE!"},{"$error":"#VALUE!"},{"$error":"#VALUE!"},{"$error":"#VALUE!"},9,0,{"$error":"#VALUE!"},{"$error":"#VALUE!"},{"$error":"#VALUE!"},{"$error":"#VALUE!"},{"$error":"#VALUE!"},{"$error":"#VALUE!"},{"$error":"#VALUE!"},{"$error":"#VALUE!"},{"$error":"#VALUE!"},{"$error":"#VALUE!"},{"$error":"#VALUE!"},{"$error":"#VALUE!"},{"$error":"#VALUE!"},{"$error":"#VALUE!"},{"$error":"#VALUE!"},{"$error":"#VALUE!"},{"$error":"#VALUE!"},{"$error":"#VALUE!"},{"$error":"#VALUE!"},{"$error":"#VALUE!"},{"$error":"#VALUE!"},{"$error":"#VALUE!"},{"$error":"#VALUE!"},{"$error":"#VALUE!"},{"$error":"#VALUE!"},{"$error":"#VALUE!"},{"$error":"#VALUE!"},{"$error":"#VALUE!"},{"$error":"#VALUE!"},{"$error":"#VALUE!"},{"$error":"#VALUE!"},{"$error":"#VALUE!"},{"$error":"#VALUE!"}]
[null,null,null,null,null,null,null,null,null,null,null,null,null,null,null,null,null,null,null,null,null,null,null,"Total",{"$f":"SUM(Y209:Y215)","v":0},{"$f":"SUM(Z209:Z215)","v":0},0,0,0,0,null,null,null,"N/A",null,false,null,null,null,null,"Total",null,null,null,null,null,null,null,null,null,null,null,null,null,null,null,null,null,null,null,null,null,null,null,"Total",null,null,null,null,null,null,null,null,null,null,null,null,null,null,null,null,null,null,null,null,null,null,null,null,null,null,null,null,null,null,null,null,null,null,null,null,null,null,null,null,null,null,null,null,null,null,null,null,null,null,null,null,null,null,null,null,null,null,null,null,null,null,null,null,null,null,null,"Total",{"$f":"SUM(ED209:ED215)","v":{"$error":"#VALUE!"}},{"$f":"SUM(EE209:EE215)","v":{"$error":"#VALUE!"}},{"$f":"SUM(EF209:EF215)","v":{"$error":"#VALUE!"}},{"$f":"SUM(EG209:EG215)","v":{"$error":"#VALUE!"}},{"$f":"SUM(EH209:EH215)","v":{"$error":"#VALUE!"}},{"$f":"SUM(EI209:EI215)","v":{"$error":"#VALUE!"}},{"$error":"#VALUE!"},{"$error":"#VALUE!"},{"$error":"#VALUE!"},{"$error":"#VALUE!"},{"$error":"#VALUE!"},{"$error":"#VALUE!"},{"$error":"#VALUE!"},{"$error":"#VALUE!"},{"$error":"#VALUE!"},{"$error":"#VALUE!"},{"$error":"#VALUE!"},{"$error":"#VALUE!"},null,"Total",{"$f":"SUM(EX209:EX215)","v":0},{"$f":"SUM(EY209:EY215)","v":{"$error":"#VALUE!"}},{"$f":"SUM(EZ209:EZ215)","v":{"$error":"#VALUE!"}},{"$error":"#VALUE!"},{"$error":"#VALUE!"},{"$f":"SUM(FC209:FC215)","v":{"$error":"#VALUE!"}},{"$f":"SUM(FD209:FD215)","v":{"$error":"#VALUE!"}},{"$error":"#VALUE!"},{"$error":"#VALUE!"},{"$error":"#VALUE!"},{"$error":"#VALUE!"},{"$error":"#VALUE!"},{"$error":"#VALUE!"},{"$error":"#VALUE!"},{"$error":"#VALUE!"},{"$error":"#VALUE!"},{"$f":"SUM(FN209:FN215)","v":{"$error":"#VALUE!"}},{"$f":"SUM(FO209:FO215)","v":{"$error":"#VALUE!"}},{"$f":"SUM(FP209:FP215)","v":{"$error":"#VALUE!"}},{"$f":"SUM(FQ209:FQ215)","v":{"$error":"#VALUE!"}},{"$error":"#VALUE!"},{"$error":"#VALUE!"},{"$error":"#VALUE!"},{"$error":"#VALUE!"},{"$error":"#VALUE!"},{"$error":"#VALUE!"},{"$error":"#VALUE!"},{"$error":"#VALUE!"},{"$error":"#VALUE!"},{"$error":"#VALUE!"},{"$error":"#VALUE!"},{"$f":"SUM(GC209:GC215)","v":{"$error":"#VALUE!"}},{"$f":"SUM(GD209:GD215)","v":{"$error":"#VALUE!"}},{"$error":"#VALUE!"},"Total",{"$f":"SUM(GG209:GG215)","v":0},{"$f":"SUM(GH209:GH215)","v":{"$error":"#VALUE!"}},{"$f":"SUM(GI209:GI215)","v":{"$error":"#VALUE!"}},{"$error":"#VALUE!"},{"$error":"#VALUE!"},{"$f":"SUM(GL209:GL215)","v":{"$error":"#VALUE!"}},{"$f":"SUM(GM209:GM215)","v":{"$error":"#VALUE!"}},{"$f":"SUM(GN209:GN215)","v":{"$error":"#VALUE!"}},{"$error":"#VALUE!"},{"$error":"#VALUE!"},{"$error":"#VALUE!"},{"$error":"#VALUE!"},{"$error":"#VALUE!"},{"$error":"#VALUE!"},{"$error":"#VALUE!"},{"$error":"#VALUE!"},{"$f":"SUM(GW209:GW215)","v":{"$error":"#VALUE!"}},{"$f":"SUM(GX209:GX215)","v":{"$error":"#VALUE!"}},{"$f":"SUM(GY209:GY215)","v":{"$error":"#VALUE!"}},{"$f":"SUM(GZ209:GZ215)","v":{"$error":"#VALUE!"}},{"$error":"#VALUE!"},{"$error":"#VALUE!"},{"$error":"#VALUE!"},{"$error":"#VALUE!"},{"$error":"#VALUE!"},{"$error":"#VALUE!"},{"$error":"#VALUE!"},{"$error":"#VALUE!"},{"$error":"#VALUE!"},{"$error":"#VALUE!"},{"$error":"#VALUE!"},{"$f":"SUM(HL209:HL215)","v":{"$error":"#VALUE!"}},{"$f":"SUM(HM209:HM215)","v":{"$error":"#VALUE!"}},{"$error":"#VALUE!"},"Total",{"$f":"SUM(HP209:HP215)","v":0},{"$f":"SUM(HQ209:HQ215)","v":{"$error":"#VALUE!"}},{"$f":"SUM(HR209:HR215)","v":{"$error":"#VALUE!"}},{"$error":"#VALUE!"},{"$error":"#VALUE!"},{"$f":"SUM(HU209:HU215)","v":{"$error":"#VALUE!"}},{"$f":"SUM(HV209:HV215)","v":{"$error":"#VALUE!"}},{"$error":"#VALUE!"},{"$error":"#VALUE!"},{"$error":"#VALUE!"},{"$error":"#VALUE!"},{"$error":"#VALUE!"},{"$error":"#VALUE!"},{"$error":"#VALUE!"},{"$error":"#VALUE!"},{"$error":"#VALUE!"},{"$f":"SUM(IF209:IF215)","v":{"$error":"#VALUE!"}},{"$f":"SUM(IG209:IG215)","v":{"$error":"#VALUE!"}},{"$f":"SUM(IH209:IH215)","v":{"$error":"#VALUE!"}},{"$f":"SUM(II209:II215)","v":{"$error":"#VALUE!"}},{"$error":"#VALUE!"},{"$error":"#VALUE!"},{"$error":"#VALUE!"},{"$error":"#VALUE!"},{"$error":"#VALUE!"},{"$error":"#VALUE!"},{"$error":"#VALUE!"},{"$error":"#VALUE!"},{"$error":"#VALUE!"},{"$error":"#VALUE!"},{"$error":"#VALUE!"},{"$f":"SUM(IU209:IU215)","v":{"$error":"#VALUE!"}},{"$f":"SUM(IV209:IV215)","v":{"$error":"#VALUE!"}},{"$error":"#VALUE!"},"Total",{"$f":"SUM(IY209:IY215)","v":0},{"$f":"SUM(IZ209:IZ215)","v":{"$error":"#VALUE!"}},{"$f":"SUM(JA209:JA215)","v":{"$error":"#VALUE!"}},{"$error":"#VALUE!"},{"$error":"#VALUE!"},{"$f":"SUM(JD209:JD215)","v":{"$error":"#VALUE!"}},{"$f":"SUM(JE209:JE215)","v":{"$error":"#VALUE!"}},{"$error":"#VALUE!"},{"$error":"#VALUE!"},{"$error":"#VALUE!"},{"$error":"#VALUE!"},{"$error":"#VALUE!"},{"$error":"#VALUE!"},{"$error":"#VALUE!"},{"$error":"#VALUE!"},{"$error":"#VALUE!"},{"$f":"SUM(JO209:JO215)","v":{"$error":"#VALUE!"}},{"$f":"SUM(JP209:JP215)","v":{"$error":"#VALUE!"}},{"$f":"SUM(JQ209:JQ215)","v":{"$error":"#VALUE!"}},{"$f":"SUM(JR209:JR215)","v":{"$error":"#VALUE!"}},{"$error":"#VALUE!"},{"$error":"#VALUE!"},{"$error":"#VALUE!"},{"$error":"#VALUE!"},{"$error":"#VALUE!"},{"$error":"#VALUE!"},{"$error":"#VALUE!"},{"$error":"#VALUE!"},{"$error":"#VALUE!"},{"$error":"#VALUE!"},{"$error":"#VALUE!"},{"$f":"SUM(KD209:KD215)","v":{"$error":"#VALUE!"}},{"$f":"SUM(KE209:KE215)","v":{"$error":"#VALUE!"}},{"$error":"#VALUE!"},"Total",{"$f":"SUM(KH209:KH215)","v":0},{"$f":"SUM(KI209:KI215)","v":{"$error":"#VALUE!"}},{"$f":"SUM(KJ209:KJ215)","v":{"$error":"#VALUE!"}},{"$error":"#VALUE!"},{"$error":"#VALUE!"},{"$f":"SUM(KM209:KM215)","v":{"$error":"#VALUE!"}},{"$f":"SUM(KN209:KN215)","v":{"$error":"#VALUE!"}},{"$error":"#VALUE!"},{"$error":"#VALUE!"},{"$error":"#VALUE!"},{"$error":"#VALUE!"},{"$error":"#VALUE!"},{"$error":"#VALUE!"},{"$error":"#VALUE!"},{"$error":"#VALUE!"},{"$error":"#VALUE!"},{"$f":"SUM(KX209:KX215)","v":{"$error":"#VALUE!"}},{"$f":"SUM(KY209:KY215)","v":{"$error":"#VALUE!"}},{"$f":"SUM(KZ209:KZ215)","v":{"$error":"#VALUE!"}},{"$f":"SUM(LA209:LA215)","v":{"$error":"#VALUE!"}},{"$error":"#VALUE!"},{"$error":"#VALUE!"},{"$error":"#VALUE!"},{"$error":"#VALUE!"},{"$error":"#VALUE!"},{"$error":"#VALUE!"},{"$error":"#VALUE!"},{"$error":"#VALUE!"},{"$error":"#VALUE!"},{"$error":"#VALUE!"},{"$error":"#VALUE!"},{"$f":"SUM(LM209:LM215)","v":{"$error":"#VALUE!"}},{"$f":"SUM(LN209:LN215)","v":{"$error":"#VALUE!"}},{"$error":"#VALUE!"},"Total",{"$f":"SUM(LQ209:LQ215)","v":0},{"$f":"SUM(LR209:LR215)","v":{"$error":"#VALUE!"}},{"$f":"SUM(LS209:LS215)","v":{"$error":"#VALUE!"}},{"$error":"#VALUE!"},{"$error":"#VALUE!"},{"$f":"SUM(LV209:LV215)","v":{"$error":"#VALUE!"}},{"$f":"SUM(LW209:LW215)","v":{"$error":"#VALUE!"}},{"$error":"#VALUE!"},{"$error":"#VALUE!"},{"$error":"#VALUE!"},{"$error":"#VALUE!"},{"$error":"#VALUE!"},{"$error":"#VALUE!"},{"$error":"#VALUE!"},{"$error":"#VALUE!"},{"$f":"SUM(MF209:MF215)","v":{"$error":"#VALUE!"}},{"$f":"SUM(MG209:MG215)","v":{"$error":"#VALUE!"}},{"$f":"SUM(MH209:MH215)","v":{"$error":"#VALUE!"}},{"$f":"SUM(MI209:MI215)","v":{"$error":"#VALUE!"}},{"$f":"SUM(MJ209:MJ215)","v":{"$error":"#VALUE!"}},{"$error":"#VALUE!"},{"$error":"#VALUE!"},{"$error":"#VALUE!"},{"$error":"#VALUE!"},{"$error":"#VALUE!"},{"$error":"#VALUE!"},{"$error":"#VALUE!"},{"$error":"#VALUE!"},{"$error":"#VALUE!"},{"$error":"#VALUE!"},{"$error":"#VALUE!"},{"$f":"SUM(MV209:MV215)","v":{"$error":"#VALUE!"}},{"$f":"SUM(MW209:MW215)","v":{"$error":"#VALUE!"}},{"$error":"#VALUE!"}]
[null,{"$f":"B209+1","v":24},{"$f":"'Regional Project List Sheet'!F28","v":0},{"$f":"IF('Regional Project List Sheet'!$G28=\"New\",1,\"\")","v":""},{"$f":"IF('Regional Project List Sheet'!$G28=\"Funded Old\",1,\"\")","v":""},{"$f":"IF('Regional Project List Sheet'!$G28=\"Unfunded Old\",1,\"\")","v":""},{"$f":"'Regional Project List Sheet'!H28","v":0},{"$f":"'Regional Project List Sheet'!I28","v":0},{"$f":"'Regional Project List Sheet'!L28","v":0},{"$f":"'Regional Project List Sheet'!M28","v":0},{"$f":"'Regional Project List Sheet'!N28","v":0},{"$f":"'Regional Project List Sheet'!O28","v":0},{"$f":"'Regional Project List Sheet'!P28","v":0},{"$f":"IF('Regional Project List Sheet'!$Q28=\"N/A\",\"N/A\",IF($Y220<>0,5,IF($Z220<>0,4,IF($AA220<>0,3,IF($AB220<>0,2,1)))))","v":1},{"$f":"VLOOKUP($C217,'[2]Ranking|Priority'!$B$5:$O$40,12,FALSE)","v":{"$error":"#N/A"}},{"$f":"VLOOKUP($C217,'[2]Ranking|Priority'!$B$5:$O$68,13,FALSE)","v":{"$error":"#N/A"}},{"$f":"VLOOKUP($C217,'[2]Ranking|Priority'!$B$5:$O$68,14,FALSE)","v":{"$error":"#N/A"}},{"$f":"'Regional Project List Sheet'!T28","v":0},{"$f":"'Regional Project List Sheet'!U28","v":0},{"$f":"'Regional Project List Sheet'!V28","v":0},{"$f":"'Regional Project List Sheet'!W28","v":0},{"$f":"'Regional Project List Sheet'!X28","v":0},{"$f":"'Regional Project List Sheet'!Y28","v":"Choose from Project List in cell I2"},0,null,null,null,null,null,null,null,{"$f":"'Regional Project List Sheet'!AJ28","v":0},{"$f":"IF(OR('Regional Project List Sheet'!$AA28<>'Regional Project List Sheet'!$A$40,'Regional Project List Sheet'!$AD28<>'Regional Project List Sheet'!$A$40,'Regional Project List Sheet'!$AG28<>'Regional Project List Sheet'!$A$40),_xlfn.CONCAT(IF(ISNUMBER('Regional Project List Sheet'!$AA28),'Regional Project List Sheet'!$A$36,\"\"),\" \",IF(ISNUMBER('Regional Project List Sheet'!$AD28),'Regional Project List Sheet'!$A$37,\"\"),\" \",IF(ISNUMBER('Regional Project List Sheet'!$AG28),'Regional Project List Sheet'!$A$38,\"\")),\"N/A\")","v":"N/A"},"N/A",{"$f":"IF(OR('Regional Project List Sheet'!AC28<>'Regional Project List Sheet'!$A$40,'Regional Project List Sheet'!AF28<>'Regional Project List Sheet'!$A$40,'Regional Project List Sheet'!AI28<>'Regional Project List Sheet'!$A$40),\n\nIF(LEN(_xlfn.CONCAT(IF('Regional Project List Sheet'!AC28=\"Yes\",'Regional Project List Sheet'!$A$36,\"\"),\" \",\n\nIF('Regional Project List Sheet'!AF28=\"Yes\",'Regional Project List Sheet'!$A$37,\"\"),\" \",\n\nIF('Regional Project List Sheet'!AI28=\"Yes\",'Regional Project List Sheet'!$A$38,\"\")))<3,\"No\",\n\n_xlfn.CONCAT(IF('Regional Project List Sheet'!AC28=\"Yes\",'Regional Project List Sheet'!$A$36,\"\"),\" \",\n\nIF('Regional Project List Sheet'!AF28=\"Yes\",'Regional Project List Sheet'!$A$37,\"\"),\" \",\n\nIF('Regional Project List Sheet'!AI28=\"Yes\",'Regional Project List Sheet'!$A$38,\"\"))))","v":false},false,{"$f":"'Regional Project List Sheet'!AK28","v":0},null,{"$f":"'Regional Project List Sheet'!AL28","v":0},null,0,null,null,null,null,null,null,null,null,null,null,1,{"$f":"IF(AND(BB217=\"OK\",BC217=\"OK\",BD217=\"OK\"),\"OK\",\"ERR!\")","v":"ERR!"},{"$f":"IF(AND(Y217>0,SUM(BN217:BX217)<1),\"ERR!\",IF(AND(Z217>0,SUM(BY217:CI217)<1),\"ERR!\",IF(AND(AA217>0,SUM(CJ217:CT217)<1),\"ERR\",IF(AND(AB217>0,SUM(CU217:DE217)<1),\"ERR\",IF(AND(AC217>0,SUM(DF217:DP217)<1),\"ERR\",IF(AND(AD217>0,SUM(DQ217:EA217)<1),\"ERR\",\"OK\"))))))","v":"OK"},{"$f":"IF(OR(SUM(BN217:BX217)<>1,SUM(BY217:CI217)<>1,SUM(CJ217:CT217)<>1,SUM(CU217:DE217)<>1,SUM(DF217:DP217)<>1,SUM(DQ217:EA217)<>1),\"ERR!\",\"OK\")","v":"ERR!"},{"$f":"IF(AND(OR(BE217=BK217,BE217=0),OR(BF217=BK217,BF217=0),OR(BG217=BK217,BG217=0),OR(BH217=BK217,BH217=0),OR(BI217=BK217,BI217=0),OR(BJ217=BK217,BJ217=0)),\"OK\",\"ERR!\")","v":"OK"},{"$f":"(BN217*POWER(10,0)+BO217*POWER(10,1)+BP217*POWER(10,2)+BQ217*POWER(10,3)+BR217*POWER(10,4)+BS217*POWER(10,5)+BT217*POWER(10,6)+BU217*POWER(10,7)+BV217*POWER(10,8)+BW217*POWER(10,9)+BX217*POWER(10,10))","v":0},{"$f":"(BY217*POWER(10,0)+BZ217*POWER(10,1)+CA217*POWER(10,2)+CB217*POWER(10,3)+CC217*POWER(10,4)+CD217*POWER(10,5)+CE217*POWER(10,6)+CF217*POWER(10,7)+CG217*POWER(10,8)+CH217*POWER(10,9)+CI217*POWER(10,10))","v":0},{"$f":"(CJ217*POWER(10,0)+CK217*POWER(10,1)+CL217*POWER(10,2)+CM217*POWER(10,3)+CN217*POWER(10,4)+CO217*POWER(10,5)+CP217*POWER(10,6)+CQ217*POWER(10,7)+CR217*POWER(10,8)+CS217*POWER(10,9)+CT217*POWER(10,10))","v":0},{"$f":"(CU217*POWER(10,0)+CV217*POWER(10,1)+CW217*POWER(10,2)+CX217*POWER(10,3)+CY217*POWER(10,4)+CZ217*POWER(10,5)+DA217*POWER(10,6)+DB217*POWER(10,7)+DC217*POWER(10,8)+DD217*POWER(10,9)+DE217*POWER(10,10))","v":0},{"$f":"(DF217*POWER(10,0)+DG217*POWER(10,1)+DH217*POWER(10,2)+DI217*POWER(10,3)+DJ217*POWER(10,4)+DK217*POWER(10,5)+DL217*POWER(10,6)+DM217*POWER(10,7)+DN217*POWER(10,8)+DO217*POWER(10,9)+DP217*POWER(10,10))","v":0},{"$f":"(DQ217*POWER(10,0)+DR217*POWER(10,1)+DS217*POWER(10,2)+DT217*POWER(10,3)+DU217*POWER(10,4)+DV217*POWER(10,5)+DW217*POWER(10,6)+DX217*POWER(10,7)+DY217*POWER(10,8)+DZ217*POWER(10,9)+EA217*POWER(10,10))","v":0},{"$f":"MAX(BE217:BJ217)","v":0},null,0,null,null,null,null,null,null,null,null,null,null,null,null,null,null,null,null,null,null,null,null,null,null,null,null,null,null,null,null,null,null,null,null,null,null,null,null,null,null,null,null,null,null,null,null,null,null,null,null,null,null,null,null,null,null,null,null,null,null,null,null,null,null,null,null,null,null,null,0,{"$f":"($Y217*D$217)/1000","v":{"$error":"#VALUE!"}},{"$error":"#VALUE!"},{"$error":"#VALUE!"},{"$f":"($Z217*D$217)/1000","v":{"$error":"#VALUE!"}},{"$error":"#VALUE!"},{"$error":"#VALUE!"},{"$f":"($AA217*D$217)/1000","v":{"$error":"#VALUE!"}},{"$error":"#VALUE!"},{"$error":"#VALUE!"},{"$f":"($AB217*D$217)/1000","v":{"$error":"#VALUE!"}},{"$error":"#VALUE!"},{"$error":"#VALUE!"},{"$f":"($AC217*D$217)/1000","v":{"$error":"#VALUE!"}},{"$error":"#VALUE!"},{"$error":"#VALUE!"},{"$f":"($AD217*D$217)/1000","v":{"$error":"#VALUE!"}},{"$error":"#VALUE!"},{"$error":"#VALUE!"},null,0,{"$f":"$AZ$217*$Y217","v":0},{"$f":"($AZ$217*$BN217*D$217*$Y217)/1000","v":{"$error":"#VALUE!"}},{"$error":"#VALUE!"},{"$error":"#VALUE!"},{"$f":"($AZ$217*$BO217*D$217*$Y217)/1000","v":{"$error":"#VALUE!"}},{"$error":"#VALUE!"},{"$error":"#VALUE!"},{"$f":"($AZ$217*$BP217*D$217*$Y217)/1000","v":{"$error":"#VALUE!"}},{"$error":"#VALUE!"},{"$error":"#VALUE!"},{"$f":"($AZ$217*$BQ217*D$217*$Y217)/1000","v":{"$error":"#VALUE!"}},{"$error":"#VALUE!"},{"$error":"#VALUE!"},{"$f":"($AZ$217*$BR217*D$217*$Y217)/1000","v":{"$error":"#VALUE!"}},{"$error":"#VALUE!"},{"$error":"#VALUE!"},{"$f":"($AZ$217*$BS217*D$217*$Y217)/1000","v":{"$error":"#VALUE!"}},{"$error":"#VALUE!"},{"$error":"#VALUE!"},{"$f":"($AZ$217*$BT217*D$217*$Y217)/1000","v":{"$error":"#VALUE!"}},{"$error":"#VALUE!"},{"$error":"#VALUE!"},{"$f":"($AZ$217*$BU217*D$217*$Y217)/1000","v":{"$error":"#VALUE!"}},{"$error":"#VALUE!"},{"$error":"#VALUE!"},{"$f":"($AZ$217*$BV217*D$217*$Y217)/1000","v":{"$error":"#VALUE!"}},{"$error":"#VALUE!"},{"$error":"#VALUE!"},{"$f":"($AZ$217*$BW217*D$217*$Y217)/1000","v":{"$error":"#VALUE!"}},{"$error":"#VALUE!"},{"$error":"#VALUE!"},{"$f":"($AZ$217*$BX217*D$217*$Y217)/1000","v":{"$error":"#VALUE!"}},{"$error":"#VALUE!"},{"$error":"#VALUE!"},0,{"$f":"$AZ$217*$Z217","v":0},{"$f":"($AZ$217*$BY217*D$217*$Z217)/1000","v":{"$error":"#VALUE!"}},{"$error":"#VALUE!"},{"$error":"#VALUE!"},{"$f":"($AZ$217*$BZ217*D$217*$Z217)/1000","v":{"$error":"#VALUE!"}},{"$error":"#VALUE!"},{"$error":"#VALUE!"},{"$f":"($AZ$217*$CA217*D$217*$Z217)/1000","v":{"$error":"#VALUE!"}},{"$error":"#VALUE!"},{"$error":"#VALUE!"},{"$f":"($AZ$217*$CB217*D$217*$Z217)/1000","v":{"$error":"#VALUE!"}},{"$error":"#VALUE!"},{"$error":"#VALUE!"},{"$f":"($AZ$217*$CD217*D$217*$Z217)/1000","v":{"$error":"#VALUE!"}},{"$error":"#VALUE!"},{"$error":"#VALUE!"},{"$f":"($AZ$217*$CD217*D$217*$Z217)/1000","v":{"$error":"#VALUE!"}},{"$error":"#VALUE!"},{"$error":"#VALUE!"},{"$f":"($AZ$217*$CE217*D$217*$Z217)/1000","v":{"$error":"#VALUE!"}},{"$error":"#VALUE!"},{"$error":"#VALUE!"},{"$f":"($AZ$217*$CF217*D$217*$Z217)/1000","v":{"$error":"#VALUE!"}},{"$error":"#VALUE!"},{"$error":"#VALUE!"},{"$f":"($AZ$217*$CG217*D$217*$Z217)/1000","v":{"$error":"#VALUE!"}},{"$error":"#VALUE!"},{"$error":"#VALUE!"},{"$f":"($AZ$217*$CH217*D$217*$Z217)/1000","v":{"$error":"#VALUE!"}},{"$error":"#VALUE!"},{"$error":"#VALUE!"},{"$f":"($AZ$217*$CI217*D$217*$Z217)/1000","v":{"$error":"#VALUE!"}},{"$error":"#VALUE!"},{"$error":"#VALUE!"},0,{"$f":"$AZ$217*$AA217","v":0},{"$f":"($AZ$217*$CJ217*D$217*$AA217)/1000","v":{"$error":"#VALUE!"}},{"$error":"#VALUE!"},{"$error":"#VALUE!"},{"$f":"($AZ$217*$CK217*D$217*$AA217)/1000","v":{"$error":"#VALUE!"}},{"$error":"#VALUE!"},{"$error":"#VALUE!"},{"$f":"($AZ$217*$CL217*D$217*$AA217)/1000","v":{"$error":"#VALUE!"}},{"$error":"#VALUE!"},{"$error":"#VALUE!"},{"$f":"($AZ$217*$CM217*D$217*$AA217)/1000","v":{"$error":"#VALUE!"}},{"$error":"#VALUE!"},{"$error":"#VALUE!"},{"$f":"($AZ$217*$CN217*D$217*$AA217)/1000","v":{"$error":"#VALUE!"}},{"$error":"#VALUE!"},{"$error":"#VALUE!"},{"$f":"($AZ$217*$CO217*D$217*$AA217)/1000","v":{"$error":"#VALUE!"}},{"$error":"#VALUE!"},{"$error":"#VALUE!"},{"$f":"($AZ$217*$CP217*D$217*$AA217)/1000","v":{"$error":"#VALUE!"}},{"$error":"#VALUE!"},{"$error":"#VALUE!"},{"$f":"($AZ$217*$CQ217*D$217*$AA217)/1000","v":{"$error":"#VALUE!"}},{"$error":"#VALUE!"},{"$error":"#VALUE!"},{"$f":"($AZ$217*$CR217*D$217*$AA217)/1000","v":{"$error":"#VALUE!"}},{"$error":"#VALUE!"},{"$error":"#VALUE!"},{"$f":"($AZ$217*$CS217*D$217*$AA217)/1000","v":{"$error":"#VALUE!"}},{"$error":"#VALUE!"},{"$error":"#VALUE!"},{"$f":"($AZ$217*$CT217*D$217*$AA217)/1000","v":{"$error":"#VALUE!"}},{"$error":"#VALUE!"},{"$error":"#VALUE!"},0,{"$f":"$AZ$217*$AB217","v":0},{"$f":"($AZ$217*$CU217*D$217*$AB217)/1000","v":{"$error":"#VALUE!"}},{"$error":"#VALUE!"},{"$error":"#VALUE!"},{"$f":"($AZ$217*$CV217*D$217*$AB217)/1000","v":{"$error":"#VALUE!"}},{"$error":"#VALUE!"},{"$error":"#VALUE!"},{"$f":"($AZ$217*$CW217*D$217*$AB217)/1000","v":{"$error":"#VALUE!"}},{"$error":"#VALUE!"},{"$error":"#VALUE!"},{"$f":"($AZ$217*$CX217*D$217*$AB217)/1000","v":{"$error":"#VALUE!"}},{"$error":"#VALUE!"},{"$error":"#VALUE!"},{"$f":"($AZ$217*$CY217*D$217*$AB217)/1000","v":{"$error":"#VALUE!"}},{"$error":"#VALUE!"},{"$error":"#VALUE!"},{"$f":"($AZ$217*$CZ217*D$217*$AB217)/1000","v":{"$error":"#VALUE!"}},{"$error":"#VALUE!"},{"$error":"#VALUE!"},{"$f":"($AZ$217*$DA217*D$217*$AB217)/1000","v":{"$error":"#VALUE!"}},{"$error":"#VALUE!"},{"$error":"#VALUE!"},{"$f":"($AZ$217*$DB217*D$217*$AB217)/1000","v":{"$error":"#VALUE!"}},{"$error":"#VALUE!"},{"$error":"#VALUE!"},{"$f":"($AZ$217*$DC217*D$217*$AB217)/1000","v":{"$error":"#VALUE!"}},{"$error":"#VALUE!"},{"$error":"#VALUE!"},{"$f":"($AZ$217*$DD217*D$217*$AB217)/1000","v":{"$error":"#VALUE!"}},{"$error":"#VALUE!"},{"$error":"#VALUE!"},{"$f":"($AZ$217*$DE217*D$217*$AB217)/1000","v":{"$error":"#VALUE!"}},{"$error":"#VALUE!"},{"$error":"#VALUE!"},0,{"$f":"$AZ$217*$AC217","v":0},{"$f":"($AZ$217*$DF217*D$217*$AC217)/1000","v":{"$error":"#VALUE!"}},{"$error":"#VALUE!"},{"$error":"#VALUE!"},{"$f":"($AZ$217*$DG217*D$217*$AC217)/1000","v":{"$error":"#VALUE!"}},{"$error":"#VALUE!"},{"$error":"#VALUE!"},{"$f":"($AZ$217*$DH217*D$217*$AC217)/1000","v":{"$error":"#VALUE!"}},{"$error":"#VALUE!"},{"$error":"#VALUE!"},{"$f":"($AZ$217*$DI217*D$217*$AC217)/1000","v":{"$error":"#VALUE!"}},{"$error":"#VALUE!"},{"$error":"#VALUE!"},{"$f":"($AZ$217*$DJ217*D$217*$AC217)/1000","v":{"$error":"#VALUE!"}},{"$error":"#VALUE!"},{"$error":"#VALUE!"},{"$f":"($AZ$217*$DK217*D$217*$AC217)/1000","v":{"$error":"#VALUE!"}},{"$error":"#VALUE!"},{"$error":"#VALUE!"},{"$f":"($AZ$217*$DL217*D$217*$AC217)/1000","v":{"$error":"#VALUE!"}},{"$error":"#VALUE!"},{"$error":"#VALUE!"},{"$f":"($AZ$217*$DM217*D$217*$AC217)/1000","v":{"$error":"#VALUE!"}},{"$error":"#VALUE!"},{"$error":"#VALUE!"},{"$f":"($AZ$217*$DN217*D$217*$AC217)/1000","v":{"$error":"#VALUE!"}},{"$error":"#VALUE!"},{"$error":"#VALUE!"},{"$f":"($AZ$217*$DO217*D$217*$AC217)/1000","v":{"$error":"#VALUE!"}},{"$error":"#VALUE!"},{"$error":"#VALUE!"},{"$f":"($AZ$217*$DP217*D$217*$AC217)/1000","v":{"$error":"#VALUE!"}},{"$error":"#VALUE!"},{"$error":"#VALUE!"},0,{"$f":"$AZ$217*$AD217","v":0},{"$f":"($AZ$217*$DQ217*D$217*$AD217)/1000","v":{"$error":"#VALUE!"}},{"$error":"#VALUE!"},{"$error":"#VALUE!"},{"$f":"($AZ$217*$DR217*D$217*$AD217)/1000","v":{"$error":"#VALUE!"}},{"$error":"#VALUE!"},{"$error":"#VALUE!"},{"$f":"($AZ$217*$DS217*D$217*$AD217)/1000","v":{"$error":"#VALUE!"}},{"$error":"#VALUE!"},{"$error":"#VALUE!"},{"$f":"($AZ$217*$DT217*D$217*$AD217)/1000","v":{"$error":"#VALUE!"}},{"$error":"#VALUE!"},{"$error":"#VALUE!"},{"$f":"($AZ$217*$DU217*D$217*$AD217)/1000","v":{"$error":"#VALUE!"}},{"$error":"#VALUE!"},{"$error":"#VALUE!"},{"$f":"($AZ$217*$DV217*D$217*$AD217)/1000","v":{"$error":"#VALUE!"}},{"$error":"#VALUE!"},{"$error":"#VALUE!"},{"$f":"($AZ$217*$DW217*D$217*$AD217)/1000","v":{"$error":"#VALUE!"}},{"$error":"#VALUE!"},{"$error":"#VALUE!"},{"$f":"($AZ$217*$DX217*D$217*$AD217)/1000","v":{"$error":"#VALUE!"}},{"$error":"#VALUE!"},{"$error":"#VALUE!"},{"$f":"($AZ$217*$DY217*D$217*$AD217)/1000","v":{"$error":"#VALUE!"}},{"$error":"#VALUE!"},{"$error":"#VALUE!"},{"$f":"($AZ$217*$DZ217*D$217*$AD217)/1000","v":{"$error":"#VALUE!"}},{"$error":"#VALUE!"},{"$error":"#VALUE!"},{"$f":"($AZ$217*$EA217*D$217*$AD217)/1000","v":{"$error":"#VALUE!"}},{"$error":"#VALUE!"},{"$error":"#VALUE!"}]
[null,null,null,null,null,null,null,null,null,null,null,null,null,null,null,null,null,null,null,null,null,null,null,2,null,null,null,null,null,null,null,null,null,"N/A",null,false,null,null,null,null,2,null,null,null,null,null,null,null,null,null,null,null,{"$f":"IF(AND(BB218=\"OK\",BC218=\"OK\",BD218=\"OK\"),\"OK\",\"ERR!\")","v":"ERR!"},"OK",{"$f":"IF(OR(SUM(BN218:BX218)<>1,SUM(BY218:CI218)<>1,SUM(CJ218:CT218)<>1,SUM(CU218:DE218)<>1,SUM(DF218:DP218)<>1,SUM(DQ218:EA218)<>1),\"ERR!\",\"OK\")","v":"ERR!"},{"$f":"IF(AND(OR(BE218=BK218,BE218=0),OR(BF218=BK218,BF218=0),OR(BG218=BK218,BG218=0),OR(BH218=BK218,BH218=0),OR(BI218=BK218,BI218=0),OR(BJ218=BK218,BJ218=0)),\"OK\",\"ERR!\")","v":"OK"},{"$f":"(BN218*POWER(10,0)+BO218*POWER(10,1)+BP218*POWER(10,2)+BQ218*POWER(10,3)+BR218*POWER(10,4)+BS218*POWER(10,5)+BT218*POWER(10,6)+BU218*POWER(10,7)+BV218*POWER(10,8)+BW218*POWER(10,9)+BX218*POWER(10,10))","v":0},{"$f":"(BY218*POWER(10,0)+BZ218*POWER(10,1)+CA218*POWER(10,2)+CB218*POWER(10,3)+CC218*POWER(10,4)+CD218*POWER(10,5)+CE218*POWER(10,6)+CF218*POWER(10,7)+CG218*POWER(10,8)+CH218*POWER(10,9)+CI218*POWER(10,10))","v":0},{"$f":"(CJ218*POWER(10,0)+CK218*POWER(10,1)+CL218*POWER(10,2)+CM218*POWER(10,3)+CN218*POWER(10,4)+CO218*POWER(10,5)+CP218*POWER(10,6)+CQ218*POWER(10,7)+CR218*POWER(10,8)+CS218*POWER(10,9)+CT218*POWER(10,10))","v":0},{"$f":"(CU218*POWER(10,0)+CV218*POWER(10,1)+CW218*POWER(10,2)+CX218*POWER(10,3)+CY218*POWER(10,4)+CZ218*POWER(10,5)+DA218*POWER(10,6)+DB218*POWER(10,7)+DC218*POWER(10,8)+DD218*POWER(10,9)+DE218*POWER(10,10))","v":0},{"$f":"(DF218*POWER(10,0)+DG218*POWER(10,1)+DH218*POWER(10,2)+DI218*POWER(10,3)+DJ218*POWER(10,4)+DK218*POWER(10,5)+DL218*POWER(10,6)+DM218*POWER(10,7)+DN218*POWER(10,8)+DO218*POWER(10,9)+DP218*POWER(10,10))","v":0},{"$f":"(DQ218*POWER(10,0)+DR218*POWER(10,1)+DS218*POWER(10,2)+DT218*POWER(10,3)+DU218*POWER(10,4)+DV218*POWER(10,5)+DW218*POWER(10,6)+DX218*POWER(10,7)+DY218*POWER(10,8)+DZ218*POWER(10,9)+EA218*POWER(10,10))","v":0},{"$f":"MAX(BE218:BJ218)","v":0},null,2,null,null,null,null,null,null,null,null,null,null,null,null,null,null,null,null,null,null,null,null,null,null,null,null,null,null,null,null,null,null,null,null,null,null,null,null,null,null,null,null,null,null,null,null,null,null,null,null,null,null,null,null,null,null,null,null,null,null,null,null,null,null,null,null,null,null,null,2,{"$error":"#VALUE!"},{"$error":"#VALUE!"},{"$error":"#VALUE!"},{"$error":"#VALUE!"},{"$error":"#VALUE!"},{"$error":"#VALUE!"},{"$error":"#VALUE!"},{"$error":"#VALUE!"},{"$error":"#VALUE!"},{"$error":"#VALUE!"},{"$error":"#VALUE!"},{"$error":"#VALUE!"},{"$error":"#VALUE!"},{"$error":"#VALUE!"},{"$error":"#VALUE!"},{"$error":"#VALUE!"},{"$error":"#VALUE!"},{"$error":"#VALUE!"},null,2,0,{"$error":"#VALUE!"},{"$error":"#VALUE!"},{"$error":"#VALUE!"},{"$error":"#VALUE!"},{"$error":"#VALUE!"},{"$error":"#VALUE!"},{"$error":"#VALUE!"},{"$error":"#VALUE!"},{"$error":"#VALUE!"},{"$error":"#VALUE!"},{"$error":"#VALUE!"},{"$error":"#VALUE!"},{"$error":"#VALUE!"},{"$error":"#VALUE!"},{"$error":"#VALUE!"},{"$error":"#VALUE!"},{"$error":"#VALUE!"},{"$error":"#VALUE!"},{"$error":"#VALUE!"},{"$error":"#VALUE!"},{"$error":"#VALUE!"},{"$error":"#VALUE!"},{"$error":"#VALUE!"},{"$error":"#VALUE!"},{"$error":"#VALUE!"},{"$error":"#VALUE!"},{"$error":"#VALUE!"},{"$error":"#VALUE!"},{"$error":"#VALUE!"},{"$error":"#VALUE!"},{"$error":"#VALUE!"},{"$error":"#VALUE!"},{"$error":"#VALUE!"},2,0,{"$error":"#VALUE!"},{"$error":"#VALUE!"},{"$error":"#VALUE!"},{"$error":"#VALUE!"},{"$error":"#VALUE!"},{"$error":"#VALUE!"},{"$error":"#VALUE!"},{"$error":"#VALUE!"},{"$error":"#VALUE!"},{"$error":"#VALUE!"},{"$error":"#VALUE!"},{"$error":"#VALUE!"},{"$error":"#VALUE!"},{"$error":"#VALUE!"},{"$error":"#VALUE!"},{"$error":"#VALUE!"},{"$error":"#VALUE!"},{"$error":"#VALUE!"},{"$error":"#VALUE!"},{"$error":"#VALUE!"},{"$error":"#VALUE!"},{"$error":"#VALUE!"},{"$error":"#VALUE!"},{"$error":"#VALUE!"},{"$error":"#VALUE!"},{"$error":"#VALUE!"},{"$error":"#VALUE!"},{"$error":"#VALUE!"},{"$error":"#VALUE!"},{"$error":"#VALUE!"},{"$error":"#VALUE!"},{"$error":"#VALUE!"},{"$error":"#VALUE!"},2,0,{"$error":"#VALUE!"},{"$error":"#VALUE!"},{"$error":"#VALUE!"},{"$error":"#VALUE!"},{"$error":"#VALUE!"},{"$error":"#VALUE!"},{"$error":"#VALUE!"},{"$error":"#VALUE!"},{"$error":"#VALUE!"},{"$error":"#VALUE!"},{"$error":"#VALUE!"},{"$error":"#VALUE!"},{"$error":"#VALUE!"},{"$error":"#VALUE!"},{"$error":"#VALUE!"},{"$error":"#VALUE!"},{"$error":"#VALUE!"},{"$error":"#VALUE!"},{"$error":"#VALUE!"},{"$error":"#VALUE!"},{"$error":"#VALUE!"},{"$error":"#VALUE!"},{"$error":"#VALUE!"},{"$error":"#VALUE!"},{"$error":"#VALUE!"},{"$error":"#VALUE!"},{"$error":"#VALUE!"},{"$error":"#VALUE!"},{"$error":"#VALUE!"},{"$error":"#VALUE!"},{"$error":"#VALUE!"},{"$error":"#VALUE!"},{"$error":"#VALUE!"},2,0,{"$error":"#VALUE!"},{"$error":"#VALUE!"},{"$error":"#VALUE!"},{"$error":"#VALUE!"},{"$error":"#VALUE!"},{"$error":"#VALUE!"},{"$error":"#VALUE!"},{"$error":"#VALUE!"},{"$error":"#VALUE!"},{"$error":"#VALUE!"},{"$error":"#VALUE!"},{"$error":"#VALUE!"},{"$error":"#VALUE!"},{"$error":"#VALUE!"},{"$error":"#VALUE!"},{"$error":"#VALUE!"},{"$error":"#VALUE!"},{"$error":"#VALUE!"},{"$error":"#VALUE!"},{"$error":"#VALUE!"},{"$error":"#VALUE!"},{"$error":"#VALUE!"},{"$error":"#VALUE!"},{"$error":"#VALUE!"},{"$error":"#VALUE!"},{"$error":"#VALUE!"},{"$error":"#VALUE!"},{"$error":"#VALUE!"},{"$error":"#VALUE!"},{"$error":"#VALUE!"},{"$error":"#VALUE!"},{"$error":"#VALUE!"},{"$error":"#VALUE!"},2,0,{"$error":"#VALUE!"},{"$error":"#VALUE!"},{"$error":"#VALUE!"},{"$error":"#VALUE!"},{"$error":"#VALUE!"},{"$error":"#VALUE!"},{"$error":"#VALUE!"},{"$error":"#VALUE!"},{"$error":"#VALUE!"},{"$error":"#VALUE!"},{"$error":"#VALUE!"},{"$error":"#VALUE!"},{"$error":"#VALUE!"},{"$error":"#VALUE!"},{"$error":"#VALUE!"},{"$error":"#VALUE!"},{"$error":"#VALUE!"},{"$error":"#VALUE!"},{"$error":"#VALUE!"},{"$error":"#VALUE!"},{"$error":"#VALUE!"},{"$error":"#VALUE!"},{"$error":"#VALUE!"},{"$error":"#VALUE!"},{"$error":"#VALUE!"},{"$error":"#VALUE!"},{"$error":"#VALUE!"},{"$error":"#VALUE!"},{"$error":"#VALUE!"},{"$error":"#VALUE!"},{"$error":"#VALUE!"},{"$error":"#VALUE!"},{"$error":"#VALUE!"},2,0,{"$error":"#VALUE!"},{"$error":"#VALUE!"},{"$error":"#VALUE!"},{"$error":"#VALUE!"},{"$error":"#VALUE!"},{"$error":"#VALUE!"},{"$error":"#VALUE!"},{"$error":"#VALUE!"},{"$error":"#VALUE!"},{"$error":"#VALUE!"},{"$error":"#VALUE!"},{"$error":"#VALUE!"},{"$error":"#VALUE!"},{"$error":"#VALUE!"},{"$error":"#VALUE!"},{"$error":"#VALUE!"},{"$error":"#VALUE!"},{"$error":"#VALUE!"},{"$error":"#VALUE!"},{"$error":"#VALUE!"},{"$error":"#VALUE!"},{"$error":"#VALUE!"},{"$error":"#VALUE!"},{"$error":"#VALUE!"},{"$error":"#VALUE!"},{"$error":"#VALUE!"},{"$error":"#VALUE!"},{"$error":"#VALUE!"},{"$error":"#VALUE!"},{"$error":"#VALUE!"},{"$error":"#VALUE!"},{"$error":"#VALUE!"},{"$error":"#VALUE!"}]
[null,null,null,null,null,null,null,null,null,null,null,null,null,null,null,null,null,null,null,null,null,null,null,3,null,null,null,null,null,null,null,null,null,"N/A",null,false,null,null,null,null,3,null,null,null,null,null,null,null,null,null,null,null,{"$f":"IF(AND(BB219=\"OK\",BC219=\"OK\",BD219=\"OK\"),\"OK\",\"ERR!\")","v":"ERR!"},"OK",{"$f":"IF(OR(SUM(BN219:BX219)<>1,SUM(BY219:CI219)<>1,SUM(CJ219:CT219)<>1,SUM(CU219:DE219)<>1,SUM(DF219:DP219)<>1,SUM(DQ219:EA219)<>1),\"ERR!\",\"OK\")","v":"ERR!"},{"$f":"IF(AND(OR(BE219=BK219,BE219=0),OR(BF219=BK219,BF219=0),OR(BG219=BK219,BG219=0),OR(BH219=BK219,BH219=0),OR(BI219=BK219,BI219=0),OR(BJ219=BK219,BJ219=0)),\"OK\",\"ERR!\")","v":"OK"},0,0,0,0,0,0,{"$f":"MAX(BE219:BJ219)","v":0},null,3,null,null,null,null,null,null,null,null,null,null,null,null,null,null,null,null,null,null,null,null,null,null,null,null,null,null,null,null,null,null,null,null,null,null,null,null,null,null,null,null,null,null,null,null,null,null,null,null,null,null,null,null,null,null,null,null,null,null,null,null,null,null,null,null,null,null,null,3,{"$error":"#VALUE!"},{"$error":"#VALUE!"},{"$error":"#VALUE!"},{"$error":"#VALUE!"},{"$error":"#VALUE!"},{"$error":"#VALUE!"},{"$error":"#VALUE!"},{"$error":"#VALUE!"},{"$error":"#VALUE!"},{"$error":"#VALUE!"},{"$error":"#VALUE!"},{"$error":"#VALUE!"},{"$error":"#VALUE!"},{"$error":"#VALUE!"},{"$error":"#VALUE!"},{"$error":"#VALUE!"},{"$error":"#VALUE!"},{"$error":"#VALUE!"},null,3,0,{"$error":"#VALUE!"},{"$error":"#VALUE!"},{"$error":"#VALUE!"},{"$error":"#VALUE!"},{"$error":"#VALUE!"},{"$error":"#VALUE!"},{"$error":"#VALUE!"},{"$error":"#VALUE!"},{"$error":"#VALUE!"},{"$error":"#VALUE!"},{"$error":"#VALUE!"},{"$error":"#VALUE!"},{"$error":"#VALUE!"},{"$error":"#VALUE!"},{"$error":"#VALUE!"},{"$error":"#VALUE!"},{"$error":"#VALUE!"},{"$error":"#VALUE!"},{"$error":"#VALUE!"},{"$error":"#VALUE!"},{"$error":"#VALUE!"},{"$error":"#VALUE!"},{"$error":"#VALUE!"},{"$error":"#VALUE!"},{"$error":"#VALUE!"},{"$error":"#VALUE!"},{"$error":"#VALUE!"},{"$error":"#VALUE!"},{"$error":"#VALUE!"},{"$error":"#VALUE!"},{"$error":"#VALUE!"},{"$error":"#VALUE!"},{"$error":"#VALUE!"},3,0,{"$error":"#VALUE!"},{"$error":"#VALUE!"},{"$error":"#VALUE!"},{"$error":"#VALUE!"},{"$error":"#VALUE!"},{"$error":"#VALUE!"},{"$error":"#VALUE!"},{"$error":"#VALUE!"},{"$error":"#VALUE!"},{"$error":"#VALUE!"},{"$error":"#VALUE!"},{"$error":"#VALUE!"},{"$error":"#VALUE!"},{"$error":"#VALUE!"},{"$error":"#VALUE!"},{"$error":"#VALUE!"},{"$error":"#VALUE!"},{"$error":"#VALUE!"},{"$error":"#VALUE!"},{"$error":"#VALUE!"},{"$error":"#VALUE!"},{"$error":"#VALUE!"},{"$error":"#VALUE!"},{"$error":"#VALUE!"},{"$error":"#VALUE!"},{"$error":"#VALUE!"},{"$error":"#VALUE!"},{"$error":"#VALUE!"},{"$error":"#VALUE!"},{"$error":"#VALUE!"},{"$error":"#VALUE!"},{"$error":"#VALUE!"},{"$error":"#VALUE!"},3,0,{"$error":"#VALUE!"},{"$error":"#VALUE!"},{"$error":"#VALUE!"},{"$error":"#VALUE!"},{"$error":"#VALUE!"},{"$error":"#VALUE!"},{"$error":"#VALUE!"},{"$error":"#VALUE!"},{"$error":"#VALUE!"},{"$error":"#VALUE!"},{"$error":"#VALUE!"},{"$error":"#VALUE!"},{"$error":"#VALUE!"},{"$error":"#VALUE!"},{"$error":"#VALUE!"},{"$error":"#VALUE!"},{"$error":"#VALUE!"},{"$error":"#VALUE!"},{"$error":"#VALUE!"},{"$error":"#VALUE!"},{"$error":"#VALUE!"},{"$error":"#VALUE!"},{"$error":"#VALUE!"},{"$error":"#VALUE!"},{"$error":"#VALUE!"},{"$error":"#VALUE!"},{"$error":"#VALUE!"},{"$error":"#VALUE!"},{"$error":"#VALUE!"},{"$error":"#VALUE!"},{"$error":"#VALUE!"},{"$error":"#VALUE!"},{"$error":"#VALUE!"},3,0,{"$error":"#VALUE!"},{"$error":"#VALUE!"},{"$error":"#VALUE!"},{"$error":"#VALUE!"},{"$error":"#VALUE!"},{"$error":"#VALUE!"},{"$error":"#VALUE!"},{"$error":"#VALUE!"},{"$error":"#VALUE!"},{"$error":"#VALUE!"},{"$error":"#VALUE!"},{"$error":"#VALUE!"},{"$error":"#VALUE!"},{"$error":"#VALUE!"},{"$error":"#VALUE!"},{"$error":"#VALUE!"},{"$error":"#VALUE!"},{"$error":"#VALUE!"},{"$error":"#VALUE!"},{"$error":"#VALUE!"},{"$error":"#VALUE!"},{"$error":"#VALUE!"},{"$error":"#VALUE!"},{"$error":"#VALUE!"},{"$error":"#VALUE!"},{"$error":"#VALUE!"},{"$error":"#VALUE!"},{"$error":"#VALUE!"},{"$error":"#VALUE!"},{"$error":"#VALUE!"},{"$error":"#VALUE!"},{"$error":"#VALUE!"},{"$error":"#VALUE!"},3,0,{"$error":"#VALUE!"},{"$error":"#VALUE!"},{"$error":"#VALUE!"},{"$error":"#VALUE!"},{"$error":"#VALUE!"},{"$error":"#VALUE!"},{"$error":"#VALUE!"},{"$error":"#VALUE!"},{"$error":"#VALUE!"},{"$error":"#VALUE!"},{"$error":"#VALUE!"},{"$error":"#VALUE!"},{"$error":"#VALUE!"},{"$error":"#VALUE!"},{"$error":"#VALUE!"},{"$error":"#VALUE!"},{"$error":"#VALUE!"},{"$error":"#VALUE!"},{"$error":"#VALUE!"},{"$error":"#VALUE!"},{"$error":"#VALUE!"},{"$error":"#VALUE!"},{"$error":"#VALUE!"},{"$error":"#VALUE!"},{"$error":"#VALUE!"},{"$error":"#VALUE!"},{"$error":"#VALUE!"},{"$error":"#VALUE!"},{"$error":"#VALUE!"},{"$error":"#VALUE!"},{"$error":"#VALUE!"},{"$error":"#VALUE!"},{"$error":"#VALUE!"},3,0,{"$error":"#VALUE!"},{"$error":"#VALUE!"},{"$error":"#VALUE!"},{"$error":"#VALUE!"},{"$error":"#VALUE!"},{"$error":"#VALUE!"},{"$error":"#VALUE!"},{"$error":"#VALUE!"},{"$error":"#VALUE!"},{"$error":"#VALUE!"},{"$error":"#VALUE!"},{"$error":"#VALUE!"},{"$error":"#VALUE!"},{"$error":"#VALUE!"},{"$error":"#VALUE!"},{"$error":"#VALUE!"},{"$error":"#VALUE!"},{"$error":"#VALUE!"},{"$error":"#VALUE!"},{"$error":"#VALUE!"},{"$error":"#VALUE!"},{"$error":"#VALUE!"},{"$error":"#VALUE!"},{"$error":"#VALUE!"},{"$error":"#VALUE!"},{"$error":"#VALUE!"},{"$error":"#VALUE!"},{"$error":"#VALUE!"},{"$error":"#VALUE!"},{"$error":"#VALUE!"},{"$error":"#VALUE!"},{"$error":"#VALUE!"},{"$error":"#VALUE!"}]
[null,null,null,null,null,null,null,null,null,null,null,null,null,null,null,null,null,null,null,null,null,null,null,4,null,null,null,null,null,null,null,null,null,"N/A",null,false,null,null,null,null,4,null,null,null,null,null,null,null,null,null,null,null,{"$f":"IF(AND(BB220=\"OK\",BC220=\"OK\",BD220=\"OK\"),\"OK\",\"ERR!\")","v":"ERR!"},"OK","ERR!",{"$f":"IF(AND(OR(BE220=BK220,BE220=0),OR(BF220=BK220,BF220=0),OR(BG220=BK220,BG220=0),OR(BH220=BK220,BH220=0),OR(BI220=BK220,BI220=0),OR(BJ220=BK220,BJ220=0)),\"OK\",\"ERR!\")","v":"OK"},0,0,0,0,0,0,0,null,4,null,null,null,null,null,null,null,null,null,null,null,null,null,null,null,null,null,null,null,null,null,null,null,null,null,null,null,null,null,null,null,null,null,null,null,null,null,null,null,null,null,null,null,null,null,null,null,null,null,null,null,null,null,null,null,null,null,null,null,null,null,null,null,null,null,null,null,4,{"$error":"#VALUE!"},{"$error":"#VALUE!"},{"$error":"#VALUE!"},{"$error":"#VALUE!"},{"$error":"#VALUE!"},{"$error":"#VALUE!"},{"$error":"#VALUE!"},{"$error":"#VALUE!"},{"$error":"#VALUE!"},{"$error":"#VALUE!"},{"$error":"#VALUE!"},{"$error":"#VALUE!"},{"$error":"#VALUE!"},{"$error":"#VALUE!"},{"$error":"#VALUE!"},{"$error":"#VALUE!"},{"$error":"#VALUE!"},{"$error":"#VALUE!"},null,4,0,{"$error":"#VALUE!"},{"$error":"#VALUE!"},{"$error":"#VALUE!"},{"$error":"#VALUE!"},{"$error":"#VALUE!"},{"$error":"#VALUE!"},{"$error":"#VALUE!"},{"$error":"#VALUE!"},{"$error":"#VALUE!"},{"$error":"#VALUE!"},{"$error":"#VALUE!"},{"$error":"#VALUE!"},{"$error":"#VALUE!"},{"$error":"#VALUE!"},{"$error":"#VALUE!"},{"$error":"#VALUE!"},{"$error":"#VALUE!"},{"$error":"#VALUE!"},{"$error":"#VALUE!"},{"$error":"#VALUE!"},{"$error":"#VALUE!"},{"$error":"#VALUE!"},{"$error":"#VALUE!"},{"$error":"#VALUE!"},{"$error":"#VALUE!"},{"$error":"#VALUE!"},{"$error":"#VALUE!"},{"$error":"#VALUE!"},{"$error":"#VALUE!"},{"$error":"#VALUE!"},{"$error":"#VALUE!"},{"$error":"#VALUE!"},{"$error":"#VALUE!"},4,0,{"$error":"#VALUE!"},{"$error":"#VALUE!"},{"$error":"#VALUE!"},{"$error":"#VALUE!"},{"$error":"#VALUE!"},{"$error":"#VALUE!"},{"$error":"#VALUE!"},{"$error":"#VALUE!"},{"$error":"#VALUE!"},{"$error":"#VALUE!"},{"$error":"#VALUE!"},{"$error":"#VALUE!"},{"$error":"#VALUE!"},{"$error":"#VALUE!"},{"$error":"#VALUE!"},{"$error":"#VALUE!"},{"$error":"#VALUE!"},{"$error":"#VALUE!"},{"$error":"#VALUE!"},{"$error":"#VALUE!"},{"$error":"#VALUE!"},{"$error":"#VALUE!"},{"$error":"#VALUE!"},{"$error":"#VALUE!"},{"$error":"#VALUE!"},{"$error":"#VALUE!"},{"$error":"#VALUE!"},{"$error":"#VALUE!"},{"$error":"#VALUE!"},{"$error":"#VALUE!"},{"$error":"#VALUE!"},{"$error":"#VALUE!"},{"$error":"#VALUE!"},4,0,{"$error":"#VALUE!"},{"$error":"#VALUE!"},{"$error":"#VALUE!"},{"$error":"#VALUE!"},{"$error":"#VALUE!"},{"$error":"#VALUE!"},{"$error":"#VALUE!"},{"$error":"#VALUE!"},{"$error":"#VALUE!"},{"$error":"#VALUE!"},{"$error":"#VALUE!"},{"$error":"#VALUE!"},{"$error":"#VALUE!"},{"$error":"#VALUE!"},{"$error":"#VALUE!"},{"$error":"#VALUE!"},{"$error":"#VALUE!"},{"$error":"#VALUE!"},{"$error":"#VALUE!"},{"$error":"#VALUE!"},{"$error":"#VALUE!"},{"$error":"#VALUE!"},{"$error":"#VALUE!"},{"$error":"#VALUE!"},{"$error":"#VALUE!"},{"$error":"#VALUE!"},{"$error":"#VALUE!"},{"$error":"#VALUE!"},{"$error":"#VALUE!"},{"$error":"#VALUE!"},{"$error":"#VALUE!"},{"$error":"#VALUE!"},{"$error":"#VALUE!"},4,0,{"$error":"#VALUE!"},{"$error":"#VALUE!"},{"$error":"#VALUE!"},{"$error":"#VALUE!"},{"$error":"#VALUE!"},{"$error":"#VALUE!"},{"$error":"#VALUE!"},{"$error":"#VALUE!"},{"$error":"#VALUE!"},{"$error":"#VALUE!"},{"$error":"#VALUE!"},{"$error":"#VALUE!"},{"$error":"#VALUE!"},{"$error":"#VALUE!"},{"$error":"#VALUE!"},{"$error":"#VALUE!"},{"$error":"#VALUE!"},{"$error":"#VALUE!"},{"$error":"#VALUE!"},{"$error":"#VALUE!"},{"$error":"#VALUE!"},{"$error":"#VALUE!"},{"$error":"#VALUE!"},{"$error":"#VALUE!"},{"$error":"#VALUE!"},{"$error":"#VALUE!"},{"$error":"#VALUE!"},{"$error":"#VALUE!"},{"$error":"#VALUE!"},{"$error":"#VALUE!"},{"$error":"#VALUE!"},{"$error":"#VALUE!"},{"$error":"#VALUE!"},4,0,{"$error":"#VALUE!"},{"$error":"#VALUE!"},{"$error":"#VALUE!"},{"$error":"#VALUE!"},{"$error":"#VALUE!"},{"$error":"#VALUE!"},{"$error":"#VALUE!"},{"$error":"#VALUE!"},{"$error":"#VALUE!"},{"$error":"#VALUE!"},{"$error":"#VALUE!"},{"$error":"#VALUE!"},{"$error":"#VALUE!"},{"$error":"#VALUE!"},{"$error":"#VALUE!"},{"$error":"#VALUE!"},{"$error":"#VALUE!"},{"$error":"#VALUE!"},{"$error":"#VALUE!"},{"$error":"#VALUE!"},{"$error":"#VALUE!"},{"$error":"#VALUE!"},{"$error":"#VALUE!"},{"$error":"#VALUE!"},{"$error":"#VALUE!"},{"$error":"#VALUE!"},{"$error":"#VALUE!"},{"$error":"#VALUE!"},{"$error":"#VALUE!"},{"$error":"#VALUE!"},{"$error":"#VALUE!"},{"$error":"#VALUE!"},{"$error":"#VALUE!"},4,0,{"$error":"#VALUE!"},{"$error":"#VALUE!"},{"$error":"#VALUE!"},{"$error":"#VALUE!"},{"$error":"#VALUE!"},{"$error":"#VALUE!"},{"$error":"#VALUE!"},{"$error":"#VALUE!"},{"$error":"#VALUE!"},{"$error":"#VALUE!"},{"$error":"#VALUE!"},{"$error":"#VALUE!"},{"$error":"#VALUE!"},{"$error":"#VALUE!"},{"$error":"#VALUE!"},{"$error":"#VALUE!"},{"$error":"#VALUE!"},{"$error":"#VALUE!"},{"$error":"#VALUE!"},{"$error":"#VALUE!"},{"$error":"#VALUE!"},{"$error":"#VALUE!"},{"$error":"#VALUE!"},{"$error":"#VALUE!"},{"$error":"#VALUE!"},{"$error":"#VALUE!"},{"$error":"#VALUE!"},{"$error":"#VALUE!"},{"$error":"#VALUE!"},{"$error":"#VALUE!"},{"$error":"#VALUE!"},{"$error":"#VALUE!"},{"$error":"#VALUE!"}]
[null,null,null,null,null,null,null,null,null,null,null,null,null,null,null,null,null,null,null,null,null,null,null,7,null,null,null,null,null,null,null,null,null,"N/A",null,false,null,null,null,null,7,null,null,null,null,null,null,null,null,null,null,null,{"$f":"IF(AND(BB221=\"OK\",BC221=\"OK\",BD221=\"OK\"),\"OK\",\"ERR!\")","v":"ERR!"},"OK","ERR!","OK",0,0,0,0,0,0,0,null,7,null,null,null,null,null,null,null,null,null,null,null,null,null,null,null,null,null,null,null,null,null,null,null,null,null,null,null,null,null,null,null,null,null,null,null,null,null,null,null,null,null,null,null,null,null,null,null,null,null,null,null,null,null,null,null,null,null,null,null,null,null,null,null,null,null,null,null,7,{"$error":"#VALUE!"},{"$error":"#VALUE!"},{"$error":"#VALUE!"},{"$error":"#VALUE!"},{"$error":"#VALUE!"},{"$error":"#VALUE!"},{"$error":"#VALUE!"},{"$error":"#VALUE!"},{"$error":"#VALUE!"},{"$error":"#VALUE!"},{"$error":"#VALUE!"},{"$error":"#VALUE!"},{"$error":"#VALUE!"},{"$error":"#VALUE!"},{"$error":"#VALUE!"},{"$error":"#VALUE!"},{"$error":"#VALUE!"},{"$error":"#VALUE!"},null,7,0,{"$error":"#VALUE!"},{"$error":"#VALUE!"},{"$error":"#VALUE!"},{"$error":"#VALUE!"},{"$error":"#VALUE!"},{"$error":"#VALUE!"},{"$error":"#VALUE!"},{"$error":"#VALUE!"},{"$error":"#VALUE!"},{"$error":"#VALUE!"},{"$error":"#VALUE!"},{"$error":"#VALUE!"},{"$error":"#VALUE!"},{"$error":"#VALUE!"},{"$error":"#VALUE!"},{"$error":"#VALUE!"},{"$error":"#VALUE!"},{"$error":"#VALUE!"},{"$error":"#VALUE!"},{"$error":"#VALUE!"},{"$error":"#VALUE!"},{"$error":"#VALUE!"},{"$error":"#VALUE!"},{"$error":"#VALUE!"},{"$error":"#VALUE!"},{"$error":"#VALUE!"},{"$error":"#VALUE!"},{"$error":"#VALUE!"},{"$error":"#VALUE!"},{"$error":"#VALUE!"},{"$error":"#VALUE!"},{"$error":"#VALUE!"},{"$error":"#VALUE!"},7,0,{"$error":"#VALUE!"},{"$error":"#VALUE!"},{"$error":"#VALUE!"},{"$error":"#VALUE!"},{"$error":"#VALUE!"},{"$error":"#VALUE!"},{"$error":"#VALUE!"},{"$error":"#VALUE!"},{"$error":"#VALUE!"},{"$error":"#VALUE!"},{"$error":"#VALUE!"},{"$error":"#VALUE!"},{"$error":"#VALUE!"},{"$error":"#VALUE!"},{"$error":"#VALUE!"},{"$error":"#VALUE!"},{"$error":"#VALUE!"},{"$error":"#VALUE!"},{"$error":"#VALUE!"},{"$error":"#VALUE!"},{"$error":"#VALUE!"},{"$error":"#VALUE!"},{"$error":"#VALUE!"},{"$error":"#VALUE!"},{"$error":"#VALUE!"},{"$error":"#VALUE!"},{"$error":"#VALUE!"},{"$error":"#VALUE!"},{"$error":"#VALUE!"},{"$error":"#VALUE!"},{"$error":"#VALUE!"},{"$error":"#VALUE!"},{"$error":"#VALUE!"},7,0,{"$error":"#VALUE!"},{"$error":"#VALUE!"},{"$error":"#VALUE!"},{"$error":"#VALUE!"},{"$error":"#VALUE!"},{"$error":"#VALUE!"},{"$error":"#VALUE!"},{"$error":"#VALUE!"},{"$error":"#VALUE!"},{"$error":"#VALUE!"},{"$error":"#VALUE!"},{"$error":"#VALUE!"},{"$error":"#VALUE!"},{"$error":"#VALUE!"},{"$error":"#VALUE!"},{"$error":"#VALUE!"},{"$error":"#VALUE!"},{"$error":"#VALUE!"},{"$error":"#VALUE!"},{"$error":"#VALUE!"},{"$error":"#VALUE!"},{"$error":"#VALUE!"},{"$error":"#VALUE!"},{"$error":"#VALUE!"},{"$error":"#VALUE!"},{"$error":"#VALUE!"},{"$error":"#VALUE!"},{"$error":"#VALUE!"},{"$error":"#VALUE!"},{"$error":"#VALUE!"},{"$error":"#VALUE!"},{"$error":"#VALUE!"},{"$error":"#VALUE!"},7,0,{"$error":"#VALUE!"},{"$error":"#VALUE!"},{"$error":"#VALUE!"},{"$error":"#VALUE!"},{"$error":"#VALUE!"},{"$error":"#VALUE!"},{"$error":"#VALUE!"},{"$error":"#VALUE!"},{"$error":"#VALUE!"},{"$error":"#VALUE!"},{"$error":"#VALUE!"},{"$error":"#VALUE!"},{"$error":"#VALUE!"},{"$error":"#VALUE!"},{"$error":"#VALUE!"},{"$error":"#VALUE!"},{"$error":"#VALUE!"},{"$error":"#VALUE!"},{"$error":"#VALUE!"},{"$error":"#VALUE!"},{"$error":"#VALUE!"},{"$error":"#VALUE!"},{"$error":"#VALUE!"},{"$error":"#VALUE!"},{"$error":"#VALUE!"},{"$error":"#VALUE!"},{"$error":"#VALUE!"},{"$error":"#VALUE!"},{"$error":"#VALUE!"},{"$error":"#VALUE!"},{"$error":"#VALUE!"},{"$error":"#VALUE!"},{"$error":"#VALUE!"},7,0,{"$error":"#VALUE!"},{"$error":"#VALUE!"},{"$error":"#VALUE!"},{"$error":"#VALUE!"},{"$error":"#VALUE!"},{"$error":"#VALUE!"},{"$error":"#VALUE!"},{"$error":"#VALUE!"},{"$error":"#VALUE!"},{"$error":"#VALUE!"},{"$error":"#VALUE!"},{"$error":"#VALUE!"},{"$error":"#VALUE!"},{"$error":"#VALUE!"},{"$error":"#VALUE!"},{"$error":"#VALUE!"},{"$error":"#VALUE!"},{"$error":"#VALUE!"},{"$error":"#VALUE!"},{"$error":"#VALUE!"},{"$error":"#VALUE!"},{"$error":"#VALUE!"},{"$error":"#VALUE!"},{"$error":"#VALUE!"},{"$error":"#VALUE!"},{"$error":"#VALUE!"},{"$error":"#VALUE!"},{"$error":"#VALUE!"},{"$error":"#VALUE!"},{"$error":"#VALUE!"},{"$error":"#VALUE!"},{"$error":"#VALUE!"},{"$error":"#VALUE!"},7,0,{"$error":"#VALUE!"},{"$error":"#VALUE!"},{"$error":"#VALUE!"},{"$error":"#VALUE!"},{"$error":"#VALUE!"},{"$error":"#VALUE!"},{"$error":"#VALUE!"},{"$error":"#VALUE!"},{"$error":"#VALUE!"},{"$error":"#VALUE!"},{"$error":"#VALUE!"},{"$error":"#VALUE!"},{"$error":"#VALUE!"},{"$error":"#VALUE!"},{"$error":"#VALUE!"},{"$error":"#VALUE!"},{"$error":"#VALUE!"},{"$error":"#VALUE!"},{"$error":"#VALUE!"},{"$error":"#VALUE!"},{"$error":"#VALUE!"},{"$error":"#VALUE!"},{"$error":"#VALUE!"},{"$error":"#VALUE!"},{"$error":"#VALUE!"},{"$error":"#VALUE!"},{"$error":"#VALUE!"},{"$error":"#VALUE!"},{"$error":"#VALUE!"},{"$error":"#VALUE!"},{"$error":"#VALUE!"},{"$error":"#VALUE!"},{"$error":"#VALUE!"}]
[null,null,null,null,null,null,null,null,null,null,null,null,null,null,null,null,null,null,null,null,null,null,null,8,null,null,null,null,null,null,null,null,null,"N/A",null,false,null,null,null,null,8,null,null,null,null,null,null,null,null,null,null,null,"ERR!","OK","ERR!","OK",0,0,0,0,0,0,0,null,8,null,null,null,null,null,null,null,null,null,null,null,null,null,null,null,null,null,null,null,null,null,null,null,null,null,null,null,null,null,null,null,null,null,null,null,null,null,null,null,null,null,null,null,null,null,null,null,null,null,null,null,null,null,null,null,null,null,null,null,null,null,null,null,null,null,null,null,8,{"$error":"#VALUE!"},{"$error":"#VALUE!"},{"$error":"#VALUE!"},{"$error":"#VALUE!"},{"$error":"#VALUE!"},{"$error":"#VALUE!"},{"$error":"#VALUE!"},{"$error":"#VALUE!"},{"$error":"#VALUE!"},{"$error":"#VALUE!"},{"$error":"#VALUE!"},{"$error":"#VALUE!"},{"$error":"#VALUE!"},{"$error":"#VALUE!"},{"$error":"#VALUE!"},{"$error":"#VALUE!"},{"$error":"#VALUE!"},{"$error":"#VALUE!"},null,8,0,{"$error":"#VALUE!"},{"$error":"#VALUE!"},{"$error":"#VALUE!"},{"$error":"#VALUE!"},{"$error":"#VALUE!"},{"$error":"#VALUE!"},{"$error":"#VALUE!"},{"$error":"#VALUE!"},{"$error":"#VALUE!"},{"$error":"#VALUE!"},{"$error":"#VALUE!"},{"$error":"#VALUE!"},{"$error":"#VALUE!"},{"$error":"#VALUE!"},{"$error":"#VALUE!"},{"$error":"#VALUE!"},{"$error":"#VALUE!"},{"$error":"#VALUE!"},{"$error":"#VALUE!"},{"$error":"#VALUE!"},{"$error":"#VALUE!"},{"$error":"#VALUE!"},{"$error":"#VALUE!"},{"$error":"#VALUE!"},{"$error":"#VALUE!"},{"$error":"#VALUE!"},{"$error":"#VALUE!"},{"$error":"#VALUE!"},{"$error":"#VALUE!"},{"$error":"#VALUE!"},{"$error":"#VALUE!"},{"$error":"#VALUE!"},{"$error":"#VALUE!"},8,0,{"$error":"#VALUE!"},{"$error":"#VALUE!"},{"$error":"#VALUE!"},{"$error":"#VALUE!"},{"$error":"#VALUE!"},{"$error":"#VALUE!"},{"$error":"#VALUE!"},{"$error":"#VALUE!"},{"$error":"#VALUE!"},{"$error":"#VALUE!"},{"$error":"#VALUE!"},{"$error":"#VALUE!"},{"$error":"#VALUE!"},{"$error":"#VALUE!"},{"$error":"#VALUE!"},{"$error":"#VALUE!"},{"$error":"#VALUE!"},{"$error":"#VALUE!"},{"$error":"#VALUE!"},{"$error":"#VALUE!"},{"$error":"#VALUE!"},{"$error":"#VALUE!"},{"$error":"#VALUE!"},{"$error":"#VALUE!"},{"$error":"#VALUE!"},{"$error":"#VALUE!"},{"$error":"#VALUE!"},{"$error":"#VALUE!"},{"$error":"#VALUE!"},{"$error":"#VALUE!"},{"$error":"#VALUE!"},{"$error":"#VALUE!"},{"$error":"#VALUE!"},8,0,{"$error":"#VALUE!"},{"$error":"#VALUE!"},{"$error":"#VALUE!"},{"$error":"#VALUE!"},{"$error":"#VALUE!"},{"$error":"#VALUE!"},{"$error":"#VALUE!"},{"$error":"#VALUE!"},{"$error":"#VALUE!"},{"$error":"#VALUE!"},{"$error":"#VALUE!"},{"$error":"#VALUE!"},{"$error":"#VALUE!"},{"$error":"#VALUE!"},{"$error":"#VALUE!"},{"$error":"#VALUE!"},{"$error":"#VALUE!"},{"$error":"#VALUE!"},{"$error":"#VALUE!"},{"$error":"#VALUE!"},{"$error":"#VALUE!"},{"$error":"#VALUE!"},{"$error":"#VALUE!"},{"$error":"#VALUE!"},{"$error":"#VALUE!"},{"$error":"#VALUE!"},{"$error":"#VALUE!"},{"$error":"#VALUE!"},{"$error":"#VALUE!"},{"$error":"#VALUE!"},{"$error":"#VALUE!"},{"$error":"#VALUE!"},{"$error":"#VALUE!"},8,0,{"$error":"#VALUE!"},{"$error":"#VALUE!"},{"$error":"#VALUE!"},{"$error":"#VALUE!"},{"$error":"#VALUE!"},{"$error":"#VALUE!"},{"$error":"#VALUE!"},{"$error":"#VALUE!"},{"$error":"#VALUE!"},{"$error":"#VALUE!"},{"$error":"#VALUE!"},{"$error":"#VALUE!"},{"$error":"#VALUE!"},{"$error":"#VALUE!"},{"$error":"#VALUE!"},{"$error":"#VALUE!"},{"$error":"#VALUE!"},{"$error":"#VALUE!"},{"$error":"#VALUE!"},{"$error":"#VALUE!"},{"$error":"#VALUE!"},{"$error":"#VALUE!"},{"$error":"#VALUE!"},{"$error":"#VALUE!"},{"$error":"#VALUE!"},{"$error":"#VALUE!"},{"$error":"#VALUE!"},{"$error":"#VALUE!"},{"$error":"#VALUE!"},{"$error":"#VALUE!"},{"$error":"#VALUE!"},{"$error":"#VALUE!"},{"$error":"#VALUE!"},8,0,{"$error":"#VALUE!"},{"$error":"#VALUE!"},{"$error":"#VALUE!"},{"$error":"#VALUE!"},{"$error":"#VALUE!"},{"$error":"#VALUE!"},{"$error":"#VALUE!"},{"$error":"#VALUE!"},{"$error":"#VALUE!"},{"$error":"#VALUE!"},{"$error":"#VALUE!"},{"$error":"#VALUE!"},{"$error":"#VALUE!"},{"$error":"#VALUE!"},{"$error":"#VALUE!"},{"$error":"#VALUE!"},{"$error":"#VALUE!"},{"$error":"#VALUE!"},{"$error":"#VALUE!"},{"$error":"#VALUE!"},{"$error":"#VALUE!"},{"$error":"#VALUE!"},{"$error":"#VALUE!"},{"$error":"#VALUE!"},{"$error":"#VALUE!"},{"$error":"#VALUE!"},{"$error":"#VALUE!"},{"$error":"#VALUE!"},{"$error":"#VALUE!"},{"$error":"#VALUE!"},{"$error":"#VALUE!"},{"$error":"#VALUE!"},{"$error":"#VALUE!"},8,0,{"$error":"#VALUE!"},{"$error":"#VALUE!"},{"$error":"#VALUE!"},{"$error":"#VALUE!"},{"$error":"#VALUE!"},{"$error":"#VALUE!"},{"$error":"#VALUE!"},{"$error":"#VALUE!"},{"$error":"#VALUE!"},{"$error":"#VALUE!"},{"$error":"#VALUE!"},{"$error":"#VALUE!"},{"$error":"#VALUE!"},{"$error":"#VALUE!"},{"$error":"#VALUE!"},{"$error":"#VALUE!"},{"$error":"#VALUE!"},{"$error":"#VALUE!"},{"$error":"#VALUE!"},{"$error":"#VALUE!"},{"$error":"#VALUE!"},{"$error":"#VALUE!"},{"$error":"#VALUE!"},{"$error":"#VALUE!"},{"$error":"#VALUE!"},{"$error":"#VALUE!"},{"$error":"#VALUE!"},{"$error":"#VALUE!"},{"$error":"#VALUE!"},{"$error":"#VALUE!"},{"$error":"#VALUE!"},{"$error":"#VALUE!"},{"$error":"#VALUE!"}]
[null,null,null,null,null,null,null,null,null,null,null,null,null,null,null,null,null,null,null,null,null,null,null,9,null,null,null,null,null,null,null,null,null,"N/A",null,false,null,null,null,null,9,null,null,null,null,null,null,null,null,null,null,null,"ERR!","OK","ERR!","OK",0,0,0,{"$f":"(CU223*POWER(10,0)+CV223*POWER(10,1)+CW223*POWER(10,2)+CX223*POWER(10,3)+CY223*POWER(10,4)+CZ223*POWER(10,5)+DA223*POWER(10,6)+DB223*POWER(10,7)+DC223*POWER(10,8)+DD223*POWER(10,9)+DE223*POWER(10,10))","v":0},{"$f":"(DF223*POWER(10,0)+DG223*POWER(10,1)+DH223*POWER(10,2)+DI223*POWER(10,3)+DJ223*POWER(10,4)+DK223*POWER(10,5)+DL223*POWER(10,6)+DM223*POWER(10,7)+DN223*POWER(10,8)+DO223*POWER(10,9)+DP223*POWER(10,10))","v":0},0,0,null,9,null,null,null,null,null,null,null,null,null,null,null,null,null,null,null,null,null,null,null,null,null,null,null,null,null,null,null,null,null,null,null,null,null,null,null,null,null,null,null,null,null,null,null,null,null,null,null,null,null,null,null,null,null,null,null,null,null,null,null,null,null,null,null,null,null,null,null,9,{"$error":"#VALUE!"},{"$error":"#VALUE!"},{"$error":"#VALUE!"},{"$error":"#VALUE!"},{"$error":"#VALUE!"},{"$error":"#VALUE!"},{"$error":"#VALUE!"},{"$error":"#VALUE!"},{"$error":"#VALUE!"},{"$error":"#VALUE!"},{"$error":"#VALUE!"},{"$error":"#VALUE!"},{"$error":"#VALUE!"},{"$error":"#VALUE!"},{"$error":"#VALUE!"},{"$error":"#VALUE!"},{"$error":"#VALUE!"},{"$error":"#VALUE!"},null,9,0,{"$error":"#VALUE!"},{"$error":"#VALUE!"},{"$error":"#VALUE!"},{"$error":"#VALUE!"},{"$error":"#VALUE!"},{"$error":"#VALUE!"},{"$error":"#VALUE!"},{"$error":"#VALUE!"},{"$error":"#VALUE!"},{"$error":"#VALUE!"},{"$error":"#VALUE!"},{"$error":"#VALUE!"},{"$error":"#VALUE!"},{"$error":"#VALUE!"},{"$error":"#VALUE!"},{"$error":"#VALUE!"},{"$error":"#VALUE!"},{"$error":"#VALUE!"},{"$error":"#VALUE!"},{"$error":"#VALUE!"},{"$error":"#VALUE!"},{"$error":"#VALUE!"},{"$error":"#VALUE!"},{"$error":"#VALUE!"},{"$error":"#VALUE!"},{"$error":"#VALUE!"},{"$error":"#VALUE!"},{"$error":"#VALUE!"},{"$error":"#VALUE!"},{"$error":"#VALUE!"},{"$error":"#VALUE!"},{"$error":"#VALUE!"},{"$error":"#VALUE!"},9,0,{"$error":"#VALUE!"},{"$error":"#VALUE!"},{"$error":"#VALUE!"},{"$error":"#VALUE!"},{"$error":"#VALUE!"},{"$error":"#VALUE!"},{"$error":"#VALUE!"},{"$error":"#VALUE!"},{"$error":"#VALUE!"},{"$error":"#VALUE!"},{"$error":"#VALUE!"},{"$error":"#VALUE!"},{"$error":"#VALUE!"},{"$error":"#VALUE!"},{"$error":"#VALUE!"},{"$error":"#VALUE!"},{"$error":"#VALUE!"},{"$error":"#VALUE!"},{"$error":"#VALUE!"},{"$error":"#VALUE!"},{"$error":"#VALUE!"},{"$error":"#VALUE!"},{"$error":"#VALUE!"},{"$error":"#VALUE!"},{"$error":"#VALUE!"},{"$error":"#VALUE!"},{"$error":"#VALUE!"},{"$error":"#VALUE!"},{"$error":"#VALUE!"},{"$error":"#VALUE!"},{"$error":"#VALUE!"},{"$error":"#VALUE!"},{"$error":"#VALUE!"},9,0,{"$error":"#VALUE!"},{"$error":"#VALUE!"},{"$error":"#VALUE!"},{"$error":"#VALUE!"},{"$error":"#VALUE!"},{"$error":"#VALUE!"},{"$error":"#VALUE!"},{"$error":"#VALUE!"},{"$error":"#VALUE!"},{"$error":"#VALUE!"},{"$error":"#VALUE!"},{"$error":"#VALUE!"},{"$error":"#VALUE!"},{"$error":"#VALUE!"},{"$error":"#VALUE!"},{"$error":"#VALUE!"},{"$error":"#VALUE!"},{"$error":"#VALUE!"},{"$error":"#VALUE!"},{"$error":"#VALUE!"},{"$error":"#VALUE!"},{"$error":"#VALUE!"},{"$error":"#VALUE!"},{"$error":"#VALUE!"},{"$error":"#VALUE!"},{"$error":"#VALUE!"},{"$error":"#VALUE!"},{"$error":"#VALUE!"},{"$error":"#VALUE!"},{"$error":"#VALUE!"},{"$error":"#VALUE!"},{"$error":"#VALUE!"},{"$error":"#VALUE!"},9,0,{"$error":"#VALUE!"},{"$error":"#VALUE!"},{"$error":"#VALUE!"},{"$error":"#VALUE!"},{"$error":"#VALUE!"},{"$error":"#VALUE!"},{"$error":"#VALUE!"},{"$error":"#VALUE!"},{"$error":"#VALUE!"},{"$error":"#VALUE!"},{"$error":"#VALUE!"},{"$error":"#VALUE!"},{"$error":"#VALUE!"},{"$error":"#VALUE!"},{"$error":"#VALUE!"},{"$error":"#VALUE!"},{"$error":"#VALUE!"},{"$error":"#VALUE!"},{"$error":"#VALUE!"},{"$error":"#VALUE!"},{"$error":"#VALUE!"},{"$error":"#VALUE!"},{"$error":"#VALUE!"},{"$error":"#VALUE!"},{"$error":"#VALUE!"},{"$error":"#VALUE!"},{"$error":"#VALUE!"},{"$error":"#VALUE!"},{"$error":"#VALUE!"},{"$error":"#VALUE!"},{"$error":"#VALUE!"},{"$error":"#VALUE!"},{"$error":"#VALUE!"},9,0,{"$error":"#VALUE!"},{"$error":"#VALUE!"},{"$error":"#VALUE!"},{"$error":"#VALUE!"},{"$error":"#VALUE!"},{"$error":"#VALUE!"},{"$error":"#VALUE!"},{"$error":"#VALUE!"},{"$error":"#VALUE!"},{"$error":"#VALUE!"},{"$error":"#VALUE!"},{"$error":"#VALUE!"},{"$error":"#VALUE!"},{"$error":"#VALUE!"},{"$error":"#VALUE!"},{"$error":"#VALUE!"},{"$error":"#VALUE!"},{"$error":"#VALUE!"},{"$error":"#VALUE!"},{"$error":"#VALUE!"},{"$error":"#VALUE!"},{"$error":"#VALUE!"},{"$error":"#VALUE!"},{"$error":"#VALUE!"},{"$error":"#VALUE!"},{"$error":"#VALUE!"},{"$error":"#VALUE!"},{"$error":"#VALUE!"},{"$error":"#VALUE!"},{"$error":"#VALUE!"},{"$error":"#VALUE!"},{"$error":"#VALUE!"},{"$error":"#VALUE!"},9,0,{"$error":"#VALUE!"},{"$error":"#VALUE!"},{"$error":"#VALUE!"},{"$error":"#VALUE!"},{"$error":"#VALUE!"},{"$error":"#VALUE!"},{"$error":"#VALUE!"},{"$error":"#VALUE!"},{"$error":"#VALUE!"},{"$error":"#VALUE!"},{"$error":"#VALUE!"},{"$error":"#VALUE!"},{"$error":"#VALUE!"},{"$error":"#VALUE!"},{"$error":"#VALUE!"},{"$error":"#VALUE!"},{"$error":"#VALUE!"},{"$error":"#VALUE!"},{"$error":"#VALUE!"},{"$error":"#VALUE!"},{"$error":"#VALUE!"},{"$error":"#VALUE!"},{"$error":"#VALUE!"},{"$error":"#VALUE!"},{"$error":"#VALUE!"},{"$error":"#VALUE!"},{"$error":"#VALUE!"},{"$error":"#VALUE!"},{"$error":"#VALUE!"},{"$error":"#VALUE!"},{"$error":"#VALUE!"},{"$error":"#VALUE!"},{"$error":"#VALUE!"}]
[null,null,null,null,null,null,null,null,null,null,null,null,null,null,null,null,null,null,null,null,null,null,null,"Total",{"$f":"SUM(Y217:Y223)","v":0},{"$f":"SUM(Z217:Z223)","v":0},0,0,0,0,null,null,null,"N/A",null,false,null,null,null,null,"Total",null,null,null,null,null,null,null,null,null,null,null,null,null,null,null,null,null,null,null,null,null,null,null,"Total",null,null,null,null,null,null,null,null,null,null,null,null,null,null,null,null,null,null,null,null,null,null,null,null,null,null,null,null,null,null,null,null,null,null,null,null,null,null,null,null,null,null,null,null,null,null,null,null,null,null,null,null,null,null,null,null,null,null,null,null,null,null,null,null,null,null,null,"Total",{"$f":"SUM(ED217:ED223)","v":{"$error":"#VALUE!"}},{"$f":"SUM(EE217:EE223)","v":{"$error":"#VALUE!"}},{"$f":"SUM(EF217:EF223)","v":{"$error":"#VALUE!"}},{"$f":"SUM(EG217:EG223)","v":{"$error":"#VALUE!"}},{"$f":"SUM(EH217:EH223)","v":{"$error":"#VALUE!"}},{"$f":"SUM(EI217:EI223)","v":{"$error":"#VALUE!"}},{"$error":"#VALUE!"},{"$error":"#VALUE!"},{"$error":"#VALUE!"},{"$error":"#VALUE!"},{"$error":"#VALUE!"},{"$error":"#VALUE!"},{"$error":"#VALUE!"},{"$error":"#VALUE!"},{"$error":"#VALUE!"},{"$error":"#VALUE!"},{"$error":"#VALUE!"},{"$error":"#VALUE!"},null,"Total",{"$f":"SUM(EX217:EX223)","v":0},{"$f":"SUM(EY217:EY223)","v":{"$error":"#VALUE!"}},{"$f":"SUM(EZ217:EZ223)","v":{"$error":"#VALUE!"}},{"$error":"#VALUE!"},{"$error":"#VALUE!"},{"$f":"SUM(FC217:FC223)","v":{"$error":"#VALUE!"}},{"$f":"SUM(FD217:FD223)","v":{"$error":"#VALUE!"}},{"$error":"#VALUE!"},{"$error":"#VALUE!"},{"$error":"#VALUE!"},{"$error":"#VALUE!"},{"$error":"#VALUE!"},{"$error":"#VALUE!"},{"$error":"#VALUE!"},{"$error":"#VALUE!"},{"$error":"#VALUE!"},{"$f":"SUM(FN217:FN223)","v":{"$error":"#VALUE!"}},{"$f":"SUM(FO217:FO223)","v":{"$error":"#VALUE!"}},{"$f":"SUM(FP217:FP223)","v":{"$error":"#VALUE!"}},{"$f":"SUM(FQ217:FQ223)","v":{"$error":"#VALUE!"}},{"$error":"#VALUE!"},{"$error":"#VALUE!"},{"$error":"#VALUE!"},{"$error":"#VALUE!"},{"$error":"#VALUE!"},{"$error":"#VALUE!"},{"$error":"#VALUE!"},{"$error":"#VALUE!"},{"$error":"#VALUE!"},{"$error":"#VALUE!"},{"$error":"#VALUE!"},{"$f":"SUM(GC217:GC223)","v":{"$error":"#VALUE!"}},{"$f":"SUM(GD217:GD223)","v":{"$error":"#VALUE!"}},{"$error":"#VALUE!"},"Total",{"$f":"SUM(GG217:GG223)","v":0},{"$f":"SUM(GH217:GH223)","v":{"$error":"#VALUE!"}},{"$f":"SUM(GI217:GI223)","v":{"$error":"#VALUE!"}},{"$error":"#VALUE!"},{"$error":"#VALUE!"},{"$f":"SUM(GL217:GL223)","v":{"$error":"#VALUE!"}},{"$f":"SUM(GM217:GM223)","v":{"$error":"#VALUE!"}},{"$f":"SUM(GN217:GN223)","v":{"$error":"#VALUE!"}},{"$error":"#VALUE!"},{"$error":"#VALUE!"},{"$error":"#VALUE!"},{"$error":"#VALUE!"},{"$error":"#VALUE!"},{"$error":"#VALUE!"},{"$error":"#VALUE!"},{"$error":"#VALUE!"},{"$f":"SUM(GW217:GW223)","v":{"$error":"#VALUE!"}},{"$f":"SUM(GX217:GX223)","v":{"$error":"#VALUE!"}},{"$f":"SUM(GY217:GY223)","v":{"$error":"#VALUE!"}},{"$f":"SUM(GZ217:GZ223)","v":{"$error":"#VALUE!"}},{"$error":"#VALUE!"},{"$error":"#VALUE!"},{"$error":"#VALUE!"},{"$error":"#VALUE!"},{"$error":"#VALUE!"},{"$error":"#VALUE!"},{"$error":"#VALUE!"},{"$error":"#VALUE!"},{"$error":"#VALUE!"},{"$error":"#VALUE!"},{"$error":"#VALUE!"},{"$f":"SUM(HL217:HL223)","v":{"$error":"#VALUE!"}},{"$f":"SUM(HM217:HM223)","v":{"$error":"#VALUE!"}},{"$error":"#VALUE!"},"Total",{"$f":"SUM(HP217:HP223)","v":0},{"$f":"SUM(HQ217:HQ223)","v":{"$error":"#VALUE!"}},{"$f":"SUM(HR217:HR223)","v":{"$error":"#VALUE!"}},{"$error":"#VALUE!"},{"$error":"#VALUE!"},{"$f":"SUM(HU217:HU223)","v":{"$error":"#VALUE!"}},{"$f":"SUM(HV217:HV223)","v":{"$error":"#VALUE!"}},{"$error":"#VALUE!"},{"$error":"#VALUE!"},{"$error":"#VALUE!"},{"$error":"#VALUE!"},{"$error":"#VALUE!"},{"$error":"#VALUE!"},{"$error":"#VALUE!"},{"$error":"#VALUE!"},{"$error":"#VALUE!"},{"$f":"SUM(IF217:IF223)","v":{"$error":"#VALUE!"}},{"$f":"SUM(IG217:IG223)","v":{"$error":"#VALUE!"}},{"$f":"SUM(IH217:IH223)","v":{"$error":"#VALUE!"}},{"$f":"SUM(II217:II223)","v":{"$error":"#VALUE!"}},{"$error":"#VALUE!"},{"$error":"#VALUE!"},{"$error":"#VALUE!"},{"$error":"#VALUE!"},{"$error":"#VALUE!"},{"$error":"#VALUE!"},{"$error":"#VALUE!"},{"$error":"#VALUE!"},{"$error":"#VALUE!"},{"$error":"#VALUE!"},{"$error":"#VALUE!"},{"$f":"SUM(IU217:IU223)","v":{"$error":"#VALUE!"}},{"$f":"SUM(IV217:IV223)","v":{"$error":"#VALUE!"}},{"$error":"#VALUE!"},"Total",{"$f":"SUM(IY217:IY223)","v":0},{"$f":"SUM(IZ217:IZ223)","v":{"$error":"#VALUE!"}},{"$f":"SUM(JA217:JA223)","v":{"$error":"#VALUE!"}},{"$error":"#VALUE!"},{"$error":"#VALUE!"},{"$f":"SUM(JD217:JD223)","v":{"$error":"#VALUE!"}},{"$f":"SUM(JE217:JE223)","v":{"$error":"#VALUE!"}},{"$error":"#VALUE!"},{"$error":"#VALUE!"},{"$error":"#VALUE!"},{"$error":"#VALUE!"},{"$error":"#VALUE!"},{"$error":"#VALUE!"},{"$error":"#VALUE!"},{"$error":"#VALUE!"},{"$error":"#VALUE!"},{"$f":"SUM(JO217:JO223)","v":{"$error":"#VALUE!"}},{"$f":"SUM(JP217:JP223)","v":{"$error":"#VALUE!"}},{"$f":"SUM(JQ217:JQ223)","v":{"$error":"#VALUE!"}},{"$f":"SUM(JR217:JR223)","v":{"$error":"#VALUE!"}},{"$error":"#VALUE!"},{"$error":"#VALUE!"},{"$error":"#VALUE!"},{"$error":"#VALUE!"},{"$error":"#VALUE!"},{"$error":"#VALUE!"},{"$error":"#VALUE!"},{"$error":"#VALUE!"},{"$error":"#VALUE!"},{"$error":"#VALUE!"},{"$error":"#VALUE!"},{"$f":"SUM(KD217:KD223)","v":{"$error":"#VALUE!"}},{"$f":"SUM(KE217:KE223)","v":{"$error":"#VALUE!"}},{"$error":"#VALUE!"},"Total",{"$f":"SUM(KH217:KH223)","v":0},{"$f":"SUM(KI217:KI223)","v":{"$error":"#VALUE!"}},{"$f":"SUM(KJ217:KJ223)","v":{"$error":"#VALUE!"}},{"$error":"#VALUE!"},{"$error":"#VALUE!"},{"$f":"SUM(KM217:KM223)","v":{"$error":"#VALUE!"}},{"$f":"SUM(KN217:KN223)","v":{"$error":"#VALUE!"}},{"$error":"#VALUE!"},{"$error":"#VALUE!"},{"$error":"#VALUE!"},{"$error":"#VALUE!"},{"$error":"#VALUE!"},{"$error":"#VALUE!"},{"$error":"#VALUE!"},{"$error":"#VALUE!"},{"$error":"#VALUE!"},{"$f":"SUM(KX217:KX223)","v":{"$error":"#VALUE!"}},{"$f":"SUM(KY217:KY223)","v":{"$error":"#VALUE!"}},{"$f":"SUM(KZ217:KZ223)","v":{"$error":"#VALUE!"}},{"$f":"SUM(LA217:LA223)","v":{"$error":"#VALUE!"}},{"$error":"#VALUE!"},{"$error":"#VALUE!"},{"$error":"#VALUE!"},{"$error":"#VALUE!"},{"$error":"#VALUE!"},{"$error":"#VALUE!"},{"$error":"#VALUE!"},{"$error":"#VALUE!"},{"$error":"#VALUE!"},{"$error":"#VALUE!"},{"$error":"#VALUE!"},{"$f":"SUM(LM217:LM223)","v":{"$error":"#VALUE!"}},{"$f":"SUM(LN217:LN223)","v":{"$error":"#VALUE!"}},{"$error":"#VALUE!"},"Total",{"$f":"SUM(LQ217:LQ223)","v":0},{"$f":"SUM(LR217:LR223)","v":{"$error":"#VALUE!"}},{"$f":"SUM(LS217:LS223)","v":{"$error":"#VALUE!"}},{"$error":"#VALUE!"},{"$error":"#VALUE!"},{"$f":"SUM(LV217:LV223)","v":{"$error":"#VALUE!"}},{"$f":"SUM(LW217:LW223)","v":{"$error":"#VALUE!"}},{"$error":"#VALUE!"},{"$error":"#VALUE!"},{"$error":"#VALUE!"},{"$error":"#VALUE!"},{"$error":"#VALUE!"},{"$error":"#VALUE!"},{"$error":"#VALUE!"},{"$error":"#VALUE!"},{"$f":"SUM(MF217:MF223)","v":{"$error":"#VALUE!"}},{"$f":"SUM(MG217:MG223)","v":{"$error":"#VALUE!"}},{"$f":"SUM(MH217:MH223)","v":{"$error":"#VALUE!"}},{"$f":"SUM(MI217:MI223)","v":{"$error":"#VALUE!"}},{"$f":"SUM(MJ217:MJ223)","v":{"$error":"#VALUE!"}},{"$error":"#VALUE!"},{"$error":"#VALUE!"},{"$error":"#VALUE!"},{"$error":"#VALUE!"},{"$error":"#VALUE!"},{"$error":"#VALUE!"},{"$error":"#VALUE!"},{"$error":"#VALUE!"},{"$error":"#VALUE!"},{"$error":"#VALUE!"},{"$error":"#VALUE!"},{"$f":"SUM(MV217:MV223)","v":{"$error":"#VALUE!"}},{"$f":"SUM(MW217:MW223)","v":{"$error":"#VALUE!"}},{"$error":"#VALUE!"}]
[null,{"$f":"B217+1","v":25},{"$f":"'Regional Project List Sheet'!F29","v":0},{"$f":"IF('Regional Project List Sheet'!$G29=\"New\",1,\"\")","v":""},{"$f":"IF('Regional Project List Sheet'!$G29=\"Funded Old\",1,\"\")","v":""},{"$f":"IF('Regional Project List Sheet'!$G29=\"Unfunded Old\",1,\"\")","v":""},{"$f":"'Regional Project List Sheet'!H29","v":0},{"$f":"'Regional Project List Sheet'!I29","v":0},{"$f":"'Regional Project List Sheet'!L29","v":0},{"$f":"'Regional Project List Sheet'!M29","v":0},{"$f":"'Regional Project List Sheet'!N29","v":0},{"$f":"'Regional Project List Sheet'!O29","v":0},{"$f":"'Regional Project List Sheet'!P29","v":0},{"$f":"IF('Regional Project List Sheet'!$Q29=\"N/A\",\"N/A\",IF($Y228<>0,5,IF($Z228<>0,4,IF($AA228<>0,3,IF($AB228<>0,2,1)))))","v":1},{"$f":"VLOOKUP($C225,'[2]Ranking|Priority'!$B$5:$O$40,12,FALSE)","v":{"$error":"#N/A"}},{"$f":"VLOOKUP($C225,'[2]Ranking|Priority'!$B$5:$O$68,13,FALSE)","v":{"$error":"#N/A"}},{"$f":"VLOOKUP($C225,'[2]Ranking|Priority'!$B$5:$O$68,14,FALSE)","v":{"$error":"#N/A"}},{"$f":"'Regional Project List Sheet'!T29","v":0},{"$f":"'Regional Project List Sheet'!U29","v":0},{"$f":"'Regional Project List Sheet'!V29","v":0},{"$f":"'Regional Project List Sheet'!W29","v":0},{"$f":"'Regional Project List Sheet'!X29","v":0},{"$f":"'Regional Project List Sheet'!Y29","v":"Choose from Project List in cell I2"},0,null,null,null,null,null,null,null,{"$f":"'Regional Project List Sheet'!AJ29","v":0},{"$f":"IF(OR('Regional Project List Sheet'!$AA29<>'Regional Project List Sheet'!$A$40,'Regional Project List Sheet'!$AD29<>'Regional Project List Sheet'!$A$40,'Regional Project List Sheet'!$AG29<>'Regional Project List Sheet'!$A$40),_xlfn.CONCAT(IF(ISNUMBER('Regional Project List Sheet'!$AA29),'Regional Project List Sheet'!$A$36,\"\"),\" \",IF(ISNUMBER('Regional Project List Sheet'!$AD29),'Regional Project List Sheet'!$A$37,\"\"),\" \",IF(ISNUMBER('Regional Project List Sheet'!$AG29),'Regional Project List Sheet'!$A$38,\"\")),\"N/A\")","v":"N/A"},"N/A",{"$f":"IF(OR('Regional Project List Sheet'!AC29<>'Regional Project List Sheet'!$A$40,'Regional Project List Sheet'!AF29<>'Regional Project List Sheet'!$A$40,'Regional Project List Sheet'!AI29<>'Regional Project List Sheet'!$A$40),\n\nIF(LEN(_xlfn.CONCAT(IF('Regional Project List Sheet'!AC29=\"Yes\",'Regional Project List Sheet'!$A$36,\"\"),\" \",\n\nIF('Regional Project List Sheet'!AF29=\"Yes\",'Regional Project List Sheet'!$A$37,\"\"),\" \",\n\nIF('Regional Project List Sheet'!AI29=\"Yes\",'Regional Project List Sheet'!$A$38,\"\")))<3,\"No\",\n\n_xlfn.CONCAT(IF('Regional Project List Sheet'!AC29=\"Yes\",'Regional Project List Sheet'!$A$36,\"\"),\" \",\n\nIF('Regional Project List Sheet'!AF29=\"Yes\",'Regional Project List Sheet'!$A$37,\"\"),\" \",\n\nIF('Regional Project List Sheet'!AI29=\"Yes\",'Regional Project List Sheet'!$A$38,\"\"))))","v":false},{"$f":"IF(X225=0,AI225,AJ224)","v":false},{"$f":"'Regional Project List Sheet'!AK29","v":0},null,{"$f":"'Regional Project List Sheet'!AL29","v":0},null,0,null,null,null,null,null,null,null,null,null,null,1,{"$f":"IF(AND(BB225=\"OK\",BC225=\"OK\",BD225=\"OK\"),\"OK\",\"ERR!\")","v":"ERR!"},{"$f":"IF(AND(Y225>0,SUM(BN225:BX225)<1),\"ERR!\",IF(AND(Z225>0,SUM(BY225:CI225)<1),\"ERR!\",IF(AND(AA225>0,SUM(CJ225:CT225)<1),\"ERR\",IF(AND(AB225>0,SUM(CU225:DE225)<1),\"ERR\",IF(AND(AC225>0,SUM(DF225:DP225)<1),\"ERR\",IF(AND(AD225>0,SUM(DQ225:EA225)<1),\"ERR\",\"OK\"))))))","v":"OK"},{"$f":"IF(OR(SUM(BN225:BX225)<>1,SUM(BY225:CI225)<>1,SUM(CJ225:CT225)<>1,SUM(CU225:DE225)<>1,SUM(DF225:DP225)<>1,SUM(DQ225:EA225)<>1),\"ERR!\",\"OK\")","v":"ERR!"},{"$f":"IF(AND(OR(BE225=BK225,BE225=0),OR(BF225=BK225,BF225=0),OR(BG225=BK225,BG225=0),OR(BH225=BK225,BH225=0),OR(BI225=BK225,BI225=0),OR(BJ225=BK225,BJ225=0)),\"OK\",\"ERR!\")","v":"OK"},{"$f":"(BN225*POWER(10,0)+BO225*POWER(10,1)+BP225*POWER(10,2)+BQ225*POWER(10,3)+BR225*POWER(10,4)+BS225*POWER(10,5)+BT225*POWER(10,6)+BU225*POWER(10,7)+BV225*POWER(10,8)+BW225*POWER(10,9)+BX225*POWER(10,10))","v":0},{"$f":"(BY225*POWER(10,0)+BZ225*POWER(10,1)+CA225*POWER(10,2)+CB225*POWER(10,3)+CC225*POWER(10,4)+CD225*POWER(10,5)+CE225*POWER(10,6)+CF225*POWER(10,7)+CG225*POWER(10,8)+CH225*POWER(10,9)+CI225*POWER(10,10))","v":0},{"$f":"(CJ225*POWER(10,0)+CK225*POWER(10,1)+CL225*POWER(10,2)+CM225*POWER(10,3)+CN225*POWER(10,4)+CO225*POWER(10,5)+CP225*POWER(10,6)+CQ225*POWER(10,7)+CR225*POWER(10,8)+CS225*POWER(10,9)+CT225*POWER(10,10))","v":0},{"$f":"(CU225*POWER(10,0)+CV225*POWER(10,1)+CW225*POWER(10,2)+CX225*POWER(10,3)+CY225*POWER(10,4)+CZ225*POWER(10,5)+DA225*POWER(10,6)+DB225*POWER(10,7)+DC225*POWER(10,8)+DD225*POWER(10,9)+DE225*POWER(10,10))","v":0},{"$f":"(DF225*POWER(10,0)+DG225*POWER(10,1)+DH225*POWER(10,2)+DI225*POWER(10,3)+DJ225*POWER(10,4)+DK225*POWER(10,5)+DL225*POWER(10,6)+DM225*POWER(10,7)+DN225*POWER(10,8)+DO225*POWER(10,9)+DP225*POWER(10,10))","v":0},{"$f":"(DQ225*POWER(10,0)+DR225*POWER(10,1)+DS225*POWER(10,2)+DT225*POWER(10,3)+DU225*POWER(10,4)+DV225*POWER(10,5)+DW225*POWER(10,6)+DX225*POWER(10,7)+DY225*POWER(10,8)+DZ225*POWER(10,9)+EA225*POWER(10,10))","v":0},{"$f":"MAX(BE225:BJ225)","v":0},null,0,null,null,null,null,null,null,null,null,null,null,null,null,null,null,null,null,null,null,null,null,null,null,null,null,null,null,null,null,null,null,null,null,null,null,null,null,null,null,null,null,null,null,null,null,null,null,null,null,null,null,null,null,null,null,null,null,null,null,null,null,null,null,null,null,null,null,null,0,{"$f":"($Y225*D$225)/1000","v":{"$error":"#VALUE!"}},{"$error":"#VALUE!"},{"$error":"#VALUE!"},{"$f":"($Z225*D$225)/1000","v":{"$error":"#VALUE!"}},{"$error":"#VALUE!"},{"$error":"#VALUE!"},{"$f":"($AA225*D$225)/1000","v":{"$error":"#VALUE!"}},{"$error":"#VALUE!"},{"$error":"#VALUE!"},{"$f":"($AB225*D$225)/1000","v":{"$error":"#VALUE!"}},{"$error":"#VALUE!"},{"$error":"#VALUE!"},{"$f":"($AC225*D$225)/1000","v":{"$error":"#VALUE!"}},{"$error":"#VALUE!"},{"$error":"#VALUE!"},{"$f":"($AD225*D$225)/1000","v":{"$error":"#VALUE!"}},{"$error":"#VALUE!"},{"$error":"#VALUE!"},null,0,{"$f":"$AZ$225*$Y225","v":0},{"$f":"($AZ$225*$BN225*D$225*$Y225)/1000","v":{"$error":"#VALUE!"}},{"$error":"#VALUE!"},{"$error":"#VALUE!"},{"$f":"($AZ$225*$BO225*D$225*$Y225)/1000","v":{"$error":"#VALUE!"}},{"$error":"#VALUE!"},{"$error":"#VALUE!"},{"$f":"($AZ$225*$BP225*D$225*$Y225)/1000","v":{"$error":"#VALUE!"}},{"$error":"#VALUE!"},{"$error":"#VALUE!"},{"$f":"($AZ$225*$BQ225*D$225*$Y225)/1000","v":{"$error":"#VALUE!"}},{"$error":"#VALUE!"},{"$error":"#VALUE!"},{"$f":"($AZ$225*$BR225*D$225*$Y225)/1000","v":{"$error":"#VALUE!"}},{"$error":"#VALUE!"},{"$error":"#VALUE!"},{"$f":"($AZ$225*$BS225*D$225*$Y225)/1000","v":{"$error":"#VALUE!"}},{"$error":"#VALUE!"},{"$error":"#VALUE!"},{"$f":"($AZ$225*$BT225*D$225*$Y225)/1000","v":{"$error":"#VALUE!"}},{"$error":"#VALUE!"},{"$error":"#VALUE!"},{"$f":"($AZ$225*$BU225*D$225*$Y225)/1000","v":{"$error":"#VALUE!"}},{"$error":"#VALUE!"},{"$error":"#VALUE!"},{"$f":"($AZ$225*$BV225*D$225*$Y225)/1000","v":{"$error":"#VALUE!"}},{"$error":"#VALUE!"},{"$error":"#VALUE!"},{"$f":"($AZ$225*$BW225*D$225*$Y225)/1000","v":{"$error":"#VALUE!"}},{"$error":"#VALUE!"},{"$error":"#VALUE!"},{"$f":"($AZ$225*$BX225*D$225*$Y225)/1000","v":{"$error":"#VALUE!"}},{"$error":"#VALUE!"},{"$error":"#VALUE!"},0,{"$f":"$AZ$225*$Z225","v":0},{"$f":"($AZ$225*$BY225*D$225*$Z225)/1000","v":{"$error":"#VALUE!"}},{"$error":"#VALUE!"},{"$error":"#VALUE!"},{"$f":"($AZ$225*$BZ225*D$225*$Z225)/1000","v":{"$error":"#VALUE!"}},{"$error":"#VALUE!"},{"$error":"#VALUE!"},{"$f":"($AZ$225*$CA225*D$225*$Z225)/1000","v":{"$error":"#VALUE!"}},{"$error":"#VALUE!"},{"$error":"#VALUE!"},{"$f":"($AZ$225*$CB225*D$225*$Z225)/1000","v":{"$error":"#VALUE!"}},{"$error":"#VALUE!"},{"$error":"#VALUE!"},{"$f":"($AZ$225*$CD225*D$225*$Z225)/1000","v":{"$error":"#VALUE!"}},{"$error":"#VALUE!"},{"$error":"#VALUE!"},{"$f":"($AZ$225*$CD225*D$225*$Z225)/1000","v":{"$error":"#VALUE!"}},{"$error":"#VALUE!"},{"$error":"#VALUE!"},{"$f":"($AZ$225*$CE225*D$225*$Z225)/1000","v":{"$error":"#VALUE!"}},{"$error":"#VALUE!"},{"$error":"#VALUE!"},{"$f":"($AZ$225*$CF225*D$225*$Z225)/1000","v":{"$error":"#VALUE!"}},{"$error":"#VALUE!"},{"$error":"#VALUE!"},{"$f":"($AZ$225*$CG225*D$225*$Z225)/1000","v":{"$error":"#VALUE!"}},{"$error":"#VALUE!"},{"$error":"#VALUE!"},{"$f":"($AZ$225*$CH225*D$225*$Z225)/1000","v":{"$error":"#VALUE!"}},{"$error":"#VALUE!"},{"$error":"#VALUE!"},{"$f":"($AZ$225*$CI225*D$225*$Z225)/1000","v":{"$error":"#VALUE!"}},{"$error":"#VALUE!"},{"$error":"#VALUE!"},0,{"$f":"$AZ$225*$AA225","v":0},{"$f":"($AZ$225*$CJ225*D$225*$AA225)/1000","v":{"$error":"#VALUE!"}},{"$error":"#VALUE!"},{"$error":"#VALUE!"},{"$f":"($AZ$225*$CK225*D$225*$AA225)/1000","v":{"$error":"#VALUE!"}},{"$error":"#VALUE!"},{"$error":"#VALUE!"},{"$f":"($AZ$225*$CL225*D$225*$AA225)/1000","v":{"$error":"#VALUE!"}},{"$error":"#VALUE!"},{"$error":"#VALUE!"},{"$f":"($AZ$225*$CM225*D$225*$AA225)/1000","v":{"$error":"#VALUE!"}},{"$error":"#VALUE!"},{"$error":"#VALUE!"},{"$f":"($AZ$225*$CN225*D$225*$AA225)/1000","v":{"$error":"#VALUE!"}},{"$error":"#VALUE!"},{"$error":"#VALUE!"},{"$f":"($AZ$225*$CO225*D$225*$AA225)/1000","v":{"$error":"#VALUE!"}},{"$error":"#VALUE!"},{"$error":"#VALUE!"},{"$f":"($AZ$225*$CP225*D$225*$AA225)/1000","v":{"$error":"#VALUE!"}},{"$error":"#VALUE!"},{"$error":"#VALUE!"},{"$f":"($AZ$225*$CQ225*D$225*$AA225)/1000","v":{"$error":"#VALUE!"}},{"$error":"#VALUE!"},{"$error":"#VALUE!"},{"$f":"($AZ$225*$CR225*D$225*$AA225)/1000","v":{"$error":"#VALUE!"}},{"$error":"#VALUE!"},{"$error":"#VALUE!"},{"$f":"($AZ$225*$CS225*D$225*$AA225)/1000","v":{"$error":"#VALUE!"}},{"$error":"#VALUE!"},{"$error":"#VALUE!"},{"$f":"($AZ$225*$CT225*D$225*$AA225)/1000","v":{"$error":"#VALUE!"}},{"$error":"#VALUE!"},{"$error":"#VALUE!"},0,{"$f":"$AZ$225*$AB225","v":0},{"$f":"($AZ$225*$CU225*D$225*$AB225)/1000","v":{"$error":"#VALUE!"}},{"$error":"#VALUE!"},{"$error":"#VALUE!"},{"$f":"($AZ$225*$CV225*D$225*$AB225)/1000","v":{"$error":"#VALUE!"}},{"$error":"#VALUE!"},{"$error":"#VALUE!"},{"$f":"($AZ$225*$CW225*D$225*$AB225)/1000","v":{"$error":"#VALUE!"}},{"$error":"#VALUE!"},{"$error":"#VALUE!"},{"$f":"($AZ$225*$CX225*D$225*$AB225)/1000","v":{"$error":"#VALUE!"}},{"$error":"#VALUE!"},{"$error":"#VALUE!"},{"$f":"($AZ$225*$CY225*D$225*$AB225)/1000","v":{"$error":"#VALUE!"}},{"$error":"#VALUE!"},{"$error":"#VALUE!"},{"$f":"($AZ$225*$CZ225*D$225*$AB225)/1000","v":{"$error":"#VALUE!"}},{"$error":"#VALUE!"},{"$error":"#VALUE!"},{"$f":"($AZ$225*$DA225*D$225*$AB225)/1000","v":{"$error":"#VALUE!"}},{"$error":"#VALUE!"},{"$error":"#VALUE!"},{"$f":"($AZ$225*$DB225*D$225*$AB225)/1000","v":{"$error":"#VALUE!"}},{"$error":"#VALUE!"},{"$error":"#VALUE!"},{"$f":"($AZ$225*$DC225*D$225*$AB225)/1000","v":{"$error":"#VALUE!"}},{"$error":"#VALUE!"},{"$error":"#VALUE!"},{"$f":"($AZ$225*$DD225*D$225*$AB225)/1000","v":{"$error":"#VALUE!"}},{"$error":"#VALUE!"},{"$error":"#VALUE!"},{"$f":"($AZ$225*$DE225*D$225*$AB225)/1000","v":{"$error":"#VALUE!"}},{"$error":"#VALUE!"},{"$error":"#VALUE!"},0,{"$f":"$AZ$225*$AC225","v":0},{"$f":"($AZ$225*$DF225*D$225*$AC225)/1000","v":{"$error":"#VALUE!"}},{"$error":"#VALUE!"},{"$error":"#VALUE!"},{"$f":"($AZ$225*$DG225*D$225*$AC225)/1000","v":{"$error":"#VALUE!"}},{"$error":"#VALUE!"},{"$error":"#VALUE!"},{"$f":"($AZ$225*$DH225*D$225*$AC225)/1000","v":{"$error":"#VALUE!"}},{"$error":"#VALUE!"},{"$error":"#VALUE!"},{"$f":"($AZ$225*$DI225*D$225*$AC225)/1000","v":{"$error":"#VALUE!"}},{"$error":"#VALUE!"},{"$error":"#VALUE!"},{"$f":"($AZ$225*$DJ225*D$225*$AC225)/1000","v":{"$error":"#VALUE!"}},{"$error":"#VALUE!"},{"$error":"#VALUE!"},{"$f":"($AZ$225*$DK225*D$225*$AC225)/1000","v":{"$error":"#VALUE!"}},{"$error":"#VALUE!"},{"$error":"#VALUE!"},{"$f":"($AZ$225*$DL225*D$225*$AC225)/1000","v":{"$error":"#VALUE!"}},{"$error":"#VALUE!"},{"$error":"#VALUE!"},{"$f":"($AZ$225*$DM225*D$225*$AC225)/1000","v":{"$error":"#VALUE!"}},{"$error":"#VALUE!"},{"$error":"#VALUE!"},{"$f":"($AZ$225*$DN225*D$225*$AC225)/1000","v":{"$error":"#VALUE!"}},{"$error":"#VALUE!"},{"$error":"#VALUE!"},{"$f":"($AZ$225*$DO225*D$225*$AC225)/1000","v":{"$error":"#VALUE!"}},{"$error":"#VALUE!"},{"$error":"#VALUE!"},{"$f":"($AZ$225*$DP225*D$225*$AC225)/1000","v":{"$error":"#VALUE!"}},{"$error":"#VALUE!"},{"$error":"#VALUE!"},0,{"$f":"$AZ$225*$AD225","v":0},{"$f":"($AZ$225*$DQ225*D$225*$AD225)/1000","v":{"$error":"#VALUE!"}},{"$error":"#VALUE!"},{"$error":"#VALUE!"},{"$f":"($AZ$225*$DR225*D$225*$AD225)/1000","v":{"$error":"#VALUE!"}},{"$error":"#VALUE!"},{"$error":"#VALUE!"},{"$f":"($AZ$225*$DS225*D$225*$AD225)/1000","v":{"$error":"#VALUE!"}},{"$error":"#VALUE!"},{"$error":"#VALUE!"},{"$f":"($AZ$225*$DT225*D$225*$AD225)/1000","v":{"$error":"#VALUE!"}},{"$error":"#VALUE!"},{"$error":"#VALUE!"},{"$f":"($AZ$225*$DU225*D$225*$AD225)/1000","v":{"$error":"#VALUE!"}},{"$error":"#VALUE!"},{"$error":"#VALUE!"},{"$f":"($AZ$225*$DV225*D$225*$AD225)/1000","v":{"$error":"#VALUE!"}},{"$error":"#VALUE!"},{"$error":"#VALUE!"},{"$f":"($AZ$225*$DW225*D$225*$AD225)/1000","v":{"$error":"#VALUE!"}},{"$error":"#VALUE!"},{"$error":"#VALUE!"},{"$f":"($AZ$225*$DX225*D$225*$AD225)/1000","v":{"$error":"#VALUE!"}},{"$error":"#VALUE!"},{"$error":"#VALUE!"},{"$f":"($AZ$225*$DY225*D$225*$AD225)/1000","v":{"$error":"#VALUE!"}},{"$error":"#VALUE!"},{"$error":"#VALUE!"},{"$f":"($AZ$225*$DZ225*D$225*$AD225)/1000","v":{"$error":"#VALUE!"}},{"$error":"#VALUE!"},{"$error":"#VALUE!"},{"$f":"($AZ$225*$EA225*D$225*$AD225)/1000","v":{"$error":"#VALUE!"}},{"$error":"#VALUE!"},{"$error":"#VALUE!"}]
[null,null,null,null,null,null,null,null,null,null,null,null,null,null,null,null,null,null,null,null,null,null,null,2,null,null,null,null,null,null,null,null,null,{"$f":"IF(X226=0,AG226,AH225)","v":"N/A"},null,false,null,null,null,null,2,null,null,null,null,null,null,null,null,null,null,null,{"$f":"IF(AND(BB226=\"OK\",BC226=\"OK\",BD226=\"OK\"),\"OK\",\"ERR!\")","v":"ERR!"},"OK",{"$f":"IF(OR(SUM(BN226:BX226)<>1,SUM(BY226:CI226)<>1,SUM(CJ226:CT226)<>1,SUM(CU226:DE226)<>1,SUM(DF226:DP226)<>1,SUM(DQ226:EA226)<>1),\"ERR!\",\"OK\")","v":"ERR!"},{"$f":"IF(AND(OR(BE226=BK226,BE226=0),OR(BF226=BK226,BF226=0),OR(BG226=BK226,BG226=0),OR(BH226=BK226,BH226=0),OR(BI226=BK226,BI226=0),OR(BJ226=BK226,BJ226=0)),\"OK\",\"ERR!\")","v":"OK"},{"$f":"(BN226*POWER(10,0)+BO226*POWER(10,1)+BP226*POWER(10,2)+BQ226*POWER(10,3)+BR226*POWER(10,4)+BS226*POWER(10,5)+BT226*POWER(10,6)+BU226*POWER(10,7)+BV226*POWER(10,8)+BW226*POWER(10,9)+BX226*POWER(10,10))","v":0},{"$f":"(BY226*POWER(10,0)+BZ226*POWER(10,1)+CA226*POWER(10,2)+CB226*POWER(10,3)+CC226*POWER(10,4)+CD226*POWER(10,5)+CE226*POWER(10,6)+CF226*POWER(10,7)+CG226*POWER(10,8)+CH226*POWER(10,9)+CI226*POWER(10,10))","v":0},{"$f":"(CJ226*POWER(10,0)+CK226*POWER(10,1)+CL226*POWER(10,2)+CM226*POWER(10,3)+CN226*POWER(10,4)+CO226*POWER(10,5)+CP226*POWER(10,6)+CQ226*POWER(10,7)+CR226*POWER(10,8)+CS226*POWER(10,9)+CT226*POWER(10,10))","v":0},{"$f":"(CU226*POWER(10,0)+CV226*POWER(10,1)+CW226*POWER(10,2)+CX226*POWER(10,3)+CY226*POWER(10,4)+CZ226*POWER(10,5)+DA226*POWER(10,6)+DB226*POWER(10,7)+DC226*POWER(10,8)+DD226*POWER(10,9)+DE226*POWER(10,10))","v":0},{"$f":"(DF226*POWER(10,0)+DG226*POWER(10,1)+DH226*POWER(10,2)+DI226*POWER(10,3)+DJ226*POWER(10,4)+DK226*POWER(10,5)+DL226*POWER(10,6)+DM226*POWER(10,7)+DN226*POWER(10,8)+DO226*POWER(10,9)+DP226*POWER(10,10))","v":0},{"$f":"(DQ226*POWER(10,0)+DR226*POWER(10,1)+DS226*POWER(10,2)+DT226*POWER(10,3)+DU226*POWER(10,4)+DV226*POWER(10,5)+DW226*POWER(10,6)+DX226*POWER(10,7)+DY226*POWER(10,8)+DZ226*POWER(10,9)+EA226*POWER(10,10))","v":0},{"$f":"MAX(BE226:BJ226)","v":0},null,2,null,null,null,null,null,null,null,null,null,null,null,null,null,null,null,null,null,null,null,null,null,null,null,null,null,null,null,null,null,null,null,null,null,null,null,null,null,null,null,null,null,null,null,null,null,null,null,null,null,null,null,null,null,null,null,null,null,null,null,null,null,null,null,null,null,null,null,2,{"$error":"#VALUE!"},{"$error":"#VALUE!"},{"$error":"#VALUE!"},{"$error":"#VALUE!"},{"$error":"#VALUE!"},{"$error":"#VALUE!"},{"$error":"#VALUE!"},{"$error":"#VALUE!"},{"$error":"#VALUE!"},{"$error":"#VALUE!"},{"$error":"#VALUE!"},{"$error":"#VALUE!"},{"$error":"#VALUE!"},{"$error":"#VALUE!"},{"$error":"#VALUE!"},{"$error":"#VALUE!"},{"$error":"#VALUE!"},{"$error":"#VALUE!"},null,2,0,{"$error":"#VALUE!"},{"$error":"#VALUE!"},{"$error":"#VALUE!"},{"$error":"#VALUE!"},{"$error":"#VALUE!"},{"$error":"#VALUE!"},{"$error":"#VALUE!"},{"$error":"#VALUE!"},{"$error":"#VALUE!"},{"$error":"#VALUE!"},{"$error":"#VALUE!"},{"$error":"#VALUE!"},{"$error":"#VALUE!"},{"$error":"#VALUE!"},{"$error":"#VALUE!"},{"$error":"#VALUE!"},{"$error":"#VALUE!"},{"$error":"#VALUE!"},{"$error":"#VALUE!"},{"$error":"#VALUE!"},{"$error":"#VALUE!"},{"$error":"#VALUE!"},{"$error":"#VALUE!"},{"$error":"#VALUE!"},{"$error":"#VALUE!"},{"$error":"#VALUE!"},{"$error":"#VALUE!"},{"$error":"#VALUE!"},{"$error":"#VALUE!"},{"$error":"#VALUE!"},{"$error":"#VALUE!"},{"$error":"#VALUE!"},{"$error":"#VALUE!"},2,0,{"$error":"#VALUE!"},{"$error":"#VALUE!"},{"$error":"#VALUE!"},{"$error":"#VALUE!"},{"$error":"#VALUE!"},{"$error":"#VALUE!"},{"$error":"#VALUE!"},{"$error":"#VALUE!"},{"$error":"#VALUE!"},{"$error":"#VALUE!"},{"$error":"#VALUE!"},{"$error":"#VALUE!"},{"$error":"#VALUE!"},{"$error":"#VALUE!"},{"$error":"#VALUE!"},{"$error":"#VALUE!"},{"$error":"#VALUE!"},{"$error":"#VALUE!"},{"$error":"#VALUE!"},{"$error":"#VALUE!"},{"$error":"#VALUE!"},{"$error":"#VALUE!"},{"$error":"#VALUE!"},{"$error":"#VALUE!"},{"$error":"#VALUE!"},{"$error":"#VALUE!"},{"$error":"#VALUE!"},{"$error":"#VALUE!"},{"$error":"#VALUE!"},{"$error":"#VALUE!"},{"$error":"#VALUE!"},{"$error":"#VALUE!"},{"$error":"#VALUE!"},2,0,{"$error":"#VALUE!"},{"$error":"#VALUE!"},{"$error":"#VALUE!"},{"$error":"#VALUE!"},{"$error":"#VALUE!"},{"$error":"#VALUE!"},{"$error":"#VALUE!"},{"$error":"#VALUE!"},{"$error":"#VALUE!"},{"$error":"#VALUE!"},{"$error":"#VALUE!"},{"$error":"#VALUE!"},{"$error":"#VALUE!"},{"$error":"#VALUE!"},{"$error":"#VALUE!"},{"$error":"#VALUE!"},{"$error":"#VALUE!"},{"$error":"#VALUE!"},{"$error":"#VALUE!"},{"$error":"#VALUE!"},{"$error":"#VALUE!"},{"$error":"#VALUE!"},{"$error":"#VALUE!"},{"$error":"#VALUE!"},{"$error":"#VALUE!"},{"$error":"#VALUE!"},{"$error":"#VALUE!"},{"$error":"#VALUE!"},{"$error":"#VALUE!"},{"$error":"#VALUE!"},{"$error":"#VALUE!"},{"$error":"#VALUE!"},{"$error":"#VALUE!"},2,0,{"$error":"#VALUE!"},{"$error":"#VALUE!"},{"$error":"#VALUE!"},{"$error":"#VALUE!"},{"$error":"#VALUE!"},{"$error":"#VALUE!"},{"$error":"#VALUE!"},{"$error":"#VALUE!"},{"$error":"#VALUE!"},{"$error":"#VALUE!"},{"$error":"#VALUE!"},{"$error":"#VALUE!"},{"$error":"#VALUE!"},{"$error":"#VALUE!"},{"$error":"#VALUE!"},{"$error":"#VALUE!"},{"$error":"#VALUE!"},{"$error":"#VALUE!"},{"$error":"#VALUE!"},{"$error":"#VALUE!"},{"$error":"#VALUE!"},{"$error":"#VALUE!"},{"$error":"#VALUE!"},{"$error":"#VALUE!"},{"$error":"#VALUE!"},{"$error":"#VALUE!"},{"$error":"#VALUE!"},{"$error":"#VALUE!"},{"$error":"#VALUE!"},{"$error":"#VALUE!"},{"$error":"#VALUE!"},{"$error":"#VALUE!"},{"$error":"#VALUE!"},2,0,{"$error":"#VALUE!"},{"$error":"#VALUE!"},{"$error":"#VALUE!"},{"$error":"#VALUE!"},{"$error":"#VALUE!"},{"$error":"#VALUE!"},{"$error":"#VALUE!"},{"$error":"#VALUE!"},{"$error":"#VALUE!"},{"$error":"#VALUE!"},{"$error":"#VALUE!"},{"$error":"#VALUE!"},{"$error":"#VALUE!"},{"$error":"#VALUE!"},{"$error":"#VALUE!"},{"$error":"#VALUE!"},{"$error":"#VALUE!"},{"$error":"#VALUE!"},{"$error":"#VALUE!"},{"$error":"#VALUE!"},{"$error":"#VALUE!"},{"$error":"#VALUE!"},{"$error":"#VALUE!"},{"$error":"#VALUE!"},{"$error":"#VALUE!"},{"$error":"#VALUE!"},{"$error":"#VALUE!"},{"$error":"#VALUE!"},{"$error":"#VALUE!"},{"$error":"#VALUE!"},{"$error":"#VALUE!"},{"$error":"#VALUE!"},{"$error":"#VALUE!"},2,0,{"$error":"#VALUE!"},{"$error":"#VALUE!"},{"$error":"#VALUE!"},{"$error":"#VALUE!"},{"$error":"#VALUE!"},{"$error":"#VALUE!"},{"$error":"#VALUE!"},{"$error":"#VALUE!"},{"$error":"#VALUE!"},{"$error":"#VALUE!"},{"$error":"#VALUE!"},{"$error":"#VALUE!"},{"$error":"#VALUE!"},{"$error":"#VALUE!"},{"$error":"#VALUE!"},{"$error":"#VALUE!"},{"$error":"#VALUE!"},{"$error":"#VALUE!"},{"$error":"#VALUE!"},{"$error":"#VALUE!"},{"$error":"#VALUE!"},{"$error":"#VALUE!"},{"$error":"#VALUE!"},{"$error":"#VALUE!"},{"$error":"#VALUE!"},{"$error":"#VALUE!"},{"$error":"#VALUE!"},{"$error":"#VALUE!"},{"$error":"#VALUE!"},{"$error":"#VALUE!"},{"$error":"#VALUE!"},{"$error":"#VALUE!"},{"$error":"#VALUE!"}]
[null,null,null,null,null,null,null,null,null,null,null,null,null,null,null,null,null,null,null,null,null,null,null,3,null,null,null,null,null,null,null,null,null,"N/A",null,false,null,null,null,null,3,null,null,null,null,null,null,null,null,null,null,null,{"$f":"IF(AND(BB227=\"OK\",BC227=\"OK\",BD227=\"OK\"),\"OK\",\"ERR!\")","v":"ERR!"},"OK",{"$f":"IF(OR(SUM(BN227:BX227)<>1,SUM(BY227:CI227)<>1,SUM(CJ227:CT227)<>1,SUM(CU227:DE227)<>1,SUM(DF227:DP227)<>1,SUM(DQ227:EA227)<>1),\"ERR!\",\"OK\")","v":"ERR!"},{"$f":"IF(AND(OR(BE227=BK227,BE227=0),OR(BF227=BK227,BF227=0),OR(BG227=BK227,BG227=0),OR(BH227=BK227,BH227=0),OR(BI227=BK227,BI227=0),OR(BJ227=BK227,BJ227=0)),\"OK\",\"ERR!\")","v":"OK"},0,0,0,0,0,0,{"$f":"MAX(BE227:BJ227)","v":0},null,3,null,null,null,null,null,null,null,null,null,null,null,null,null,null,null,null,null,null,null,null,null,null,null,null,null,null,null,null,null,null,null,null,null,null,null,null,null,null,null,null,null,null,null,null,null,null,null,null,null,null,null,null,null,null,null,null,null,null,null,null,null,null,null,null,null,null,null,3,{"$error":"#VALUE!"},{"$error":"#VALUE!"},{"$error":"#VALUE!"},{"$error":"#VALUE!"},{"$error":"#VALUE!"},{"$error":"#VALUE!"},{"$error":"#VALUE!"},{"$error":"#VALUE!"},{"$error":"#VALUE!"},{"$error":"#VALUE!"},{"$error":"#VALUE!"},{"$error":"#VALUE!"},{"$error":"#VALUE!"},{"$error":"#VALUE!"},{"$error":"#VALUE!"},{"$error":"#VALUE!"},{"$error":"#VALUE!"},{"$error":"#VALUE!"},null,3,0,{"$error":"#VALUE!"},{"$error":"#VALUE!"},{"$error":"#VALUE!"},{"$error":"#VALUE!"},{"$error":"#VALUE!"},{"$error":"#VALUE!"},{"$error":"#VALUE!"},{"$error":"#VALUE!"},{"$error":"#VALUE!"},{"$error":"#VALUE!"},{"$error":"#VALUE!"},{"$error":"#VALUE!"},{"$error":"#VALUE!"},{"$error":"#VALUE!"},{"$error":"#VALUE!"},{"$error":"#VALUE!"},{"$error":"#VALUE!"},{"$error":"#VALUE!"},{"$error":"#VALUE!"},{"$error":"#VALUE!"},{"$error":"#VALUE!"},{"$error":"#VALUE!"},{"$error":"#VALUE!"},{"$error":"#VALUE!"},{"$error":"#VALUE!"},{"$error":"#VALUE!"},{"$error":"#VALUE!"},{"$error":"#VALUE!"},{"$error":"#VALUE!"},{"$error":"#VALUE!"},{"$error":"#VALUE!"},{"$error":"#VALUE!"},{"$error":"#VALUE!"},3,0,{"$error":"#VALUE!"},{"$error":"#VALUE!"},{"$error":"#VALUE!"},{"$error":"#VALUE!"},{"$error":"#VALUE!"},{"$error":"#VALUE!"},{"$error":"#VALUE!"},{"$error":"#VALUE!"},{"$error":"#VALUE!"},{"$error":"#VALUE!"},{"$error":"#VALUE!"},{"$error":"#VALUE!"},{"$error":"#VALUE!"},{"$error":"#VALUE!"},{"$error":"#VALUE!"},{"$error":"#VALUE!"},{"$error":"#VALUE!"},{"$error":"#VALUE!"},{"$error":"#VALUE!"},{"$error":"#VALUE!"},{"$error":"#VALUE!"},{"$error":"#VALUE!"},{"$error":"#VALUE!"},{"$error":"#VALUE!"},{"$error":"#VALUE!"},{"$error":"#VALUE!"},{"$error":"#VALUE!"},{"$error":"#VALUE!"},{"$error":"#VALUE!"},{"$error":"#VALUE!"},{"$error":"#VALUE!"},{"$error":"#VALUE!"},{"$error":"#VALUE!"},3,0,{"$error":"#VALUE!"},{"$error":"#VALUE!"},{"$error":"#VALUE!"},{"$error":"#VALUE!"},{"$error":"#VALUE!"},{"$error":"#VALUE!"},{"$error":"#VALUE!"},{"$error":"#VALUE!"},{"$error":"#VALUE!"},{"$error":"#VALUE!"},{"$error":"#VALUE!"},{"$error":"#VALUE!"},{"$error":"#VALUE!"},{"$error":"#VALUE!"},{"$error":"#VALUE!"},{"$error":"#VALUE!"},{"$error":"#VALUE!"},{"$error":"#VALUE!"},{"$error":"#VALUE!"},{"$error":"#VALUE!"},{"$error":"#VALUE!"},{"$error":"#VALUE!"},{"$error":"#VALUE!"},{"$error":"#VALUE!"},{"$error":"#VALUE!"},{"$error":"#VALUE!"},{"$error":"#VALUE!"},{"$error":"#VALUE!"},{"$error":"#VALUE!"},{"$error":"#VALUE!"},{"$error":"#VALUE!"},{"$error":"#VALUE!"},{"$error":"#VALUE!"},3,0,{"$error":"#VALUE!"},{"$error":"#VALUE!"},{"$error":"#VALUE!"},{"$error":"#VALUE!"},{"$error":"#VALUE!"},{"$error":"#VALUE!"},{"$error":"#VALUE!"},{"$error":"#VALUE!"},{"$error":"#VALUE!"},{"$error":"#VALUE!"},{"$error":"#VALUE!"},{"$error":"#VALUE!"},{"$error":"#VALUE!"},{"$error":"#VALUE!"},{"$error":"#VALUE!"},{"$error":"#VALUE!"},{"$error":"#VALUE!"},{"$error":"#VALUE!"},{"$error":"#VALUE!"},{"$error":"#VALUE!"},{"$error":"#VALUE!"},{"$error":"#VALUE!"},{"$error":"#VALUE!"},{"$error":"#VALUE!"},{"$error":"#VALUE!"},{"$error":"#VALUE!"},{"$error":"#VALUE!"},{"$error":"#VALUE!"},{"$error":"#VALUE!"},{"$error":"#VALUE!"},{"$error":"#VALUE!"},{"$error":"#VALUE!"},{"$error":"#VALUE!"},3,0,{"$error":"#VALUE!"},{"$error":"#VALUE!"},{"$error":"#VALUE!"},{"$error":"#VALUE!"},{"$error":"#VALUE!"},{"$error":"#VALUE!"},{"$error":"#VALUE!"},{"$error":"#VALUE!"},{"$error":"#VALUE!"},{"$error":"#VALUE!"},{"$error":"#VALUE!"},{"$error":"#VALUE!"},{"$error":"#VALUE!"},{"$error":"#VALUE!"},{"$error":"#VALUE!"},{"$error":"#VALUE!"},{"$error":"#VALUE!"},{"$error":"#VALUE!"},{"$error":"#VALUE!"},{"$error":"#VALUE!"},{"$error":"#VALUE!"},{"$error":"#VALUE!"},{"$error":"#VALUE!"},{"$error":"#VALUE!"},{"$error":"#VALUE!"},{"$error":"#VALUE!"},{"$error":"#VALUE!"},{"$error":"#VALUE!"},{"$error":"#VALUE!"},{"$error":"#VALUE!"},{"$error":"#VALUE!"},{"$error":"#VALUE!"},{"$error":"#VALUE!"},3,0,{"$error":"#VALUE!"},{"$error":"#VALUE!"},{"$error":"#VALUE!"},{"$error":"#VALUE!"},{"$error":"#VALUE!"},{"$error":"#VALUE!"},{"$error":"#VALUE!"},{"$error":"#VALUE!"},{"$error":"#VALUE!"},{"$error":"#VALUE!"},{"$error":"#VALUE!"},{"$error":"#VALUE!"},{"$error":"#VALUE!"},{"$error":"#VALUE!"},{"$error":"#VALUE!"},{"$error":"#VALUE!"},{"$error":"#VALUE!"},{"$error":"#VALUE!"},{"$error":"#VALUE!"},{"$error":"#VALUE!"},{"$error":"#VALUE!"},{"$error":"#VALUE!"},{"$error":"#VALUE!"},{"$error":"#VALUE!"},{"$error":"#VALUE!"},{"$error":"#VALUE!"},{"$error":"#VALUE!"},{"$error":"#VALUE!"},{"$error":"#VALUE!"},{"$error":"#VALUE!"},{"$error":"#VALUE!"},{"$error":"#VALUE!"},{"$error":"#VALUE!"}]
[null,null,null,null,null,null,null,null,null,null,null,null,null,null,null,null,null,null,null,null,null,null,null,4,null,null,null,null,null,null,null,null,null,"N/A",null,false,null,null,null,null,4,null,null,null,null,null,null,null,null,null,null,null,{"$f":"IF(AND(BB228=\"OK\",BC228=\"OK\",BD228=\"OK\"),\"OK\",\"ERR!\")","v":"ERR!"},"OK","ERR!",{"$f":"IF(AND(OR(BE228=BK228,BE228=0),OR(BF228=BK228,BF228=0),OR(BG228=BK228,BG228=0),OR(BH228=BK228,BH228=0),OR(BI228=BK228,BI228=0),OR(BJ228=BK228,BJ228=0)),\"OK\",\"ERR!\")","v":"OK"},0,0,0,0,0,0,0,null,4,null,null,null,null,null,null,null,null,null,null,null,null,null,null,null,null,null,null,null,null,null,null,null,null,null,null,null,null,null,null,null,null,null,null,null,null,null,null,null,null,null,null,null,null,null,null,null,null,null,null,null,null,null,null,null,null,null,null,null,null,null,null,null,null,null,null,null,4,{"$error":"#VALUE!"},{"$error":"#VALUE!"},{"$error":"#VALUE!"},{"$error":"#VALUE!"},{"$error":"#VALUE!"},{"$error":"#VALUE!"},{"$error":"#VALUE!"},{"$error":"#VALUE!"},{"$error":"#VALUE!"},{"$error":"#VALUE!"},{"$error":"#VALUE!"},{"$error":"#VALUE!"},{"$error":"#VALUE!"},{"$error":"#VALUE!"},{"$error":"#VALUE!"},{"$error":"#VALUE!"},{"$error":"#VALUE!"},{"$error":"#VALUE!"},null,4,0,{"$error":"#VALUE!"},{"$error":"#VALUE!"},{"$error":"#VALUE!"},{"$error":"#VALUE!"},{"$error":"#VALUE!"},{"$error":"#VALUE!"},{"$error":"#VALUE!"},{"$error":"#VALUE!"},{"$error":"#VALUE!"},{"$error":"#VALUE!"},{"$error":"#VALUE!"},{"$error":"#VALUE!"},{"$error":"#VALUE!"},{"$error":"#VALUE!"},{"$error":"#VALUE!"},{"$error":"#VALUE!"},{"$error":"#VALUE!"},{"$error":"#VALUE!"},{"$error":"#VALUE!"},{"$error":"#VALUE!"},{"$error":"#VALUE!"},{"$error":"#VALUE!"},{"$error":"#VALUE!"},{"$error":"#VALUE!"},{"$error":"#VALUE!"},{"$error":"#VALUE!"},{"$error":"#VALUE!"},{"$error":"#VALUE!"},{"$error":"#VALUE!"},{"$error":"#VALUE!"},{"$error":"#VALUE!"},{"$error":"#VALUE!"},{"$error":"#VALUE!"},4,0,{"$error":"#VALUE!"},{"$error":"#VALUE!"},{"$error":"#VALUE!"},{"$error":"#VALUE!"},{"$error":"#VALUE!"},{"$error":"#VALUE!"},{"$error":"#VALUE!"},{"$error":"#VALUE!"},{"$error":"#VALUE!"},{"$error":"#VALUE!"},{"$error":"#VALUE!"},{"$error":"#VALUE!"},{"$error":"#VALUE!"},{"$error":"#VALUE!"},{"$error":"#VALUE!"},{"$error":"#VALUE!"},{"$error":"#VALUE!"},{"$error":"#VALUE!"},{"$error":"#VALUE!"},{"$error":"#VALUE!"},{"$error":"#VALUE!"},{"$error":"#VALUE!"},{"$error":"#VALUE!"},{"$error":"#VALUE!"},{"$error":"#VALUE!"},{"$error":"#VALUE!"},{"$error":"#VALUE!"},{"$error":"#VALUE!"},{"$error":"#VALUE!"},{"$error":"#VALUE!"},{"$error":"#VALUE!"},{"$error":"#VALUE!"},{"$error":"#VALUE!"},4,0,{"$error":"#VALUE!"},{"$error":"#VALUE!"},{"$error":"#VALUE!"},{"$error":"#VALUE!"},{"$error":"#VALUE!"},{"$error":"#VALUE!"},{"$error":"#VALUE!"},{"$error":"#VALUE!"},{"$error":"#VALUE!"},{"$error":"#VALUE!"},{"$error":"#VALUE!"},{"$error":"#VALUE!"},{"$error":"#VALUE!"},{"$error":"#VALUE!"},{"$error":"#VALUE!"},{"$error":"#VALUE!"},{"$error":"#VALUE!"},{"$error":"#VALUE!"},{"$error":"#VALUE!"},{"$error":"#VALUE!"},{"$error":"#VALUE!"},{"$error":"#VALUE!"},{"$error":"#VALUE!"},{"$error":"#VALUE!"},{"$error":"#VALUE!"},{"$error":"#VALUE!"},{"$error":"#VALUE!"},{"$error":"#VALUE!"},{"$error":"#VALUE!"},{"$error":"#VALUE!"},{"$error":"#VALUE!"},{"$error":"#VALUE!"},{"$error":"#VALUE!"},4,0,{"$error":"#VALUE!"},{"$error":"#VALUE!"},{"$error":"#VALUE!"},{"$error":"#VALUE!"},{"$error":"#VALUE!"},{"$error":"#VALUE!"},{"$error":"#VALUE!"},{"$error":"#VALUE!"},{"$error":"#VALUE!"},{"$error":"#VALUE!"},{"$error":"#VALUE!"},{"$error":"#VALUE!"},{"$error":"#VALUE!"},{"$error":"#VALUE!"},{"$error":"#VALUE!"},{"$error":"#VALUE!"},{"$error":"#VALUE!"},{"$error":"#VALUE!"},{"$error":"#VALUE!"},{"$error":"#VALUE!"},{"$error":"#VALUE!"},{"$error":"#VALUE!"},{"$error":"#VALUE!"},{"$error":"#VALUE!"},{"$error":"#VALUE!"},{"$error":"#VALUE!"},{"$error":"#VALUE!"},{"$error":"#VALUE!"},{"$error":"#VALUE!"},{"$error":"#VALUE!"},{"$error":"#VALUE!"},{"$error":"#VALUE!"},{"$error":"#VALUE!"},4,0,{"$error":"#VALUE!"},{"$error":"#VALUE!"},{"$error":"#VALUE!"},{"$error":"#VALUE!"},{"$error":"#VALUE!"},{"$error":"#VALUE!"},{"$error":"#VALUE!"},{"$error":"#VALUE!"},{"$error":"#VALUE!"},{"$error":"#VALUE!"},{"$error":"#VALUE!"},{"$error":"#VALUE!"},{"$error":"#VALUE!"},{"$error":"#VALUE!"},{"$error":"#VALUE!"},{"$error":"#VALUE!"},{"$error":"#VALUE!"},{"$error":"#VALUE!"},{"$error":"#VALUE!"},{"$error":"#VALUE!"},{"$error":"#VALUE!"},{"$error":"#VALUE!"},{"$error":"#VALUE!"},{"$error":"#VALUE!"},{"$error":"#VALUE!"},{"$error":"#VALUE!"},{"$error":"#VALUE!"},{"$error":"#VALUE!"},{"$error":"#VALUE!"},{"$error":"#VALUE!"},{"$error":"#VALUE!"},{"$error":"#VALUE!"},{"$error":"#VALUE!"},4,0,{"$error":"#VALUE!"},{"$error":"#VALUE!"},{"$error":"#VALUE!"},{"$error":"#VALUE!"},{"$error":"#VALUE!"},{"$error":"#VALUE!"},{"$error":"#VALUE!"},{"$error":"#VALUE!"},{"$error":"#VALUE!"},{"$error":"#VALUE!"},{"$error":"#VALUE!"},{"$error":"#VALUE!"},{"$error":"#VALUE!"},{"$error":"#VALUE!"},{"$error":"#VALUE!"},{"$error":"#VALUE!"},{"$error":"#VALUE!"},{"$error":"#VALUE!"},{"$error":"#VALUE!"},{"$error":"#VALUE!"},{"$error":"#VALUE!"},{"$error":"#VALUE!"},{"$error":"#VALUE!"},{"$error":"#VALUE!"},{"$error":"#VALUE!"},{"$error":"#VALUE!"},{"$error":"#VALUE!"},{"$error":"#VALUE!"},{"$error":"#VALUE!"},{"$error":"#VALUE!"},{"$error":"#VALUE!"},{"$error":"#VALUE!"},{"$error":"#VALUE!"}]
[null,null,null,null,null,null,null,null,null,null,null,null,null,null,null,null,null,null,null,null,null,null,null,7,null,null,null,null,null,null,null,null,null,"N/A",null,false,null,null,null,null,7,null,null,null,null,null,null,null,null,null,null,null,{"$f":"IF(AND(BB229=\"OK\",BC229=\"OK\",BD229=\"OK\"),\"OK\",\"ERR!\")","v":"ERR!"},"OK","ERR!","OK",0,0,0,0,0,0,0,null,7,null,null,null,null,null,null,null,null,null,null,null,null,null,null,null,null,null,null,null,null,null,null,null,null,null,null,null,null,null,null,null,null,null,null,null,null,null,null,null,null,null,null,null,null,null,null,null,null,null,null,null,null,null,null,null,null,null,null,null,null,null,null,null,null,null,null,null,7,{"$error":"#VALUE!"},{"$error":"#VALUE!"},{"$error":"#VALUE!"},{"$error":"#VALUE!"},{"$error":"#VALUE!"},{"$error":"#VALUE!"},{"$error":"#VALUE!"},{"$error":"#VALUE!"},{"$error":"#VALUE!"},{"$error":"#VALUE!"},{"$error":"#VALUE!"},{"$error":"#VALUE!"},{"$error":"#VALUE!"},{"$error":"#VALUE!"},{"$error":"#VALUE!"},{"$error":"#VALUE!"},{"$error":"#VALUE!"},{"$error":"#VALUE!"},null,7,0,{"$error":"#VALUE!"},{"$error":"#VALUE!"},{"$error":"#VALUE!"},{"$error":"#VALUE!"},{"$error":"#VALUE!"},{"$error":"#VALUE!"},{"$error":"#VALUE!"},{"$error":"#VALUE!"},{"$error":"#VALUE!"},{"$error":"#VALUE!"},{"$error":"#VALUE!"},{"$error":"#VALUE!"},{"$error":"#VALUE!"},{"$error":"#VALUE!"},{"$error":"#VALUE!"},{"$error":"#VALUE!"},{"$error":"#VALUE!"},{"$error":"#VALUE!"},{"$error":"#VALUE!"},{"$error":"#VALUE!"},{"$error":"#VALUE!"},{"$error":"#VALUE!"},{"$error":"#VALUE!"},{"$error":"#VALUE!"},{"$error":"#VALUE!"},{"$error":"#VALUE!"},{"$error":"#VALUE!"},{"$error":"#VALUE!"},{"$error":"#VALUE!"},{"$error":"#VALUE!"},{"$error":"#VALUE!"},{"$error":"#VALUE!"},{"$error":"#VALUE!"},7,0,{"$error":"#VALUE!"},{"$error":"#VALUE!"},{"$error":"#VALUE!"},{"$error":"#VALUE!"},{"$error":"#VALUE!"},{"$error":"#VALUE!"},{"$error":"#VALUE!"},{"$error":"#VALUE!"},{"$error":"#VALUE!"},{"$error":"#VALUE!"},{"$error":"#VALUE!"},{"$error":"#VALUE!"},{"$error":"#VALUE!"},{"$error":"#VALUE!"},{"$error":"#VALUE!"},{"$error":"#VALUE!"},{"$error":"#VALUE!"},{"$error":"#VALUE!"},{"$error":"#VALUE!"},{"$error":"#VALUE!"},{"$error":"#VALUE!"},{"$error":"#VALUE!"},{"$error":"#VALUE!"},{"$error":"#VALUE!"},{"$error":"#VALUE!"},{"$error":"#VALUE!"},{"$error":"#VALUE!"},{"$error":"#VALUE!"},{"$error":"#VALUE!"},{"$error":"#VALUE!"},{"$error":"#VALUE!"},{"$error":"#VALUE!"},{"$error":"#VALUE!"},7,0,{"$error":"#VALUE!"},{"$error":"#VALUE!"},{"$error":"#VALUE!"},{"$error":"#VALUE!"},{"$error":"#VALUE!"},{"$error":"#VALUE!"},{"$error":"#VALUE!"},{"$error":"#VALUE!"},{"$error":"#VALUE!"},{"$error":"#VALUE!"},{"$error":"#VALUE!"},{"$error":"#VALUE!"},{"$error":"#VALUE!"},{"$error":"#VALUE!"},{"$error":"#VALUE!"},{"$error":"#VALUE!"},{"$error":"#VALUE!"},{"$error":"#VALUE!"},{"$error":"#VALUE!"},{"$error":"#VALUE!"},{"$error":"#VALUE!"},{"$error":"#VALUE!"},{"$error":"#VALUE!"},{"$error":"#VALUE!"},{"$error":"#VALUE!"},{"$error":"#VALUE!"},{"$error":"#VALUE!"},{"$error":"#VALUE!"},{"$error":"#VALUE!"},{"$error":"#VALUE!"},{"$error":"#VALUE!"},{"$error":"#VALUE!"},{"$error":"#VALUE!"},7,0,{"$error":"#VALUE!"},{"$error":"#VALUE!"},{"$error":"#VALUE!"},{"$error":"#VALUE!"},{"$error":"#VALUE!"},{"$error":"#VALUE!"},{"$error":"#VALUE!"},{"$error":"#VALUE!"},{"$error":"#VALUE!"},{"$error":"#VALUE!"},{"$error":"#VALUE!"},{"$error":"#VALUE!"},{"$error":"#VALUE!"},{"$error":"#VALUE!"},{"$error":"#VALUE!"},{"$error":"#VALUE!"},{"$error":"#VALUE!"},{"$error":"#VALUE!"},{"$error":"#VALUE!"},{"$error":"#VALUE!"},{"$error":"#VALUE!"},{"$error":"#VALUE!"},{"$error":"#VALUE!"},{"$error":"#VALUE!"},{"$error":"#VALUE!"},{"$error":"#VALUE!"},{"$error":"#VALUE!"},{"$error":"#VALUE!"},{"$error":"#VALUE!"},{"$error":"#VALUE!"},{"$error":"#VALUE!"},{"$error":"#VALUE!"},{"$error":"#VALUE!"},7,0,{"$error":"#VALUE!"},{"$error":"#VALUE!"},{"$error":"#VALUE!"},{"$error":"#VALUE!"},{"$error":"#VALUE!"},{"$error":"#VALUE!"},{"$error":"#VALUE!"},{"$error":"#VALUE!"},{"$error":"#VALUE!"},{"$error":"#VALUE!"},{"$error":"#VALUE!"},{"$error":"#VALUE!"},{"$error":"#VALUE!"},{"$error":"#VALUE!"},{"$error":"#VALUE!"},{"$error":"#VALUE!"},{"$error":"#VALUE!"},{"$error":"#VALUE!"},{"$error":"#VALUE!"},{"$error":"#VALUE!"},{"$error":"#VALUE!"},{"$error":"#VALUE!"},{"$error":"#VALUE!"},{"$error":"#VALUE!"},{"$error":"#VALUE!"},{"$error":"#VALUE!"},{"$error":"#VALUE!"},{"$error":"#VALUE!"},{"$error":"#VALUE!"},{"$error":"#VALUE!"},{"$error":"#VALUE!"},{"$error":"#VALUE!"},{"$error":"#VALUE!"},7,0,{"$error":"#VALUE!"},{"$error":"#VALUE!"},{"$error":"#VALUE!"},{"$error":"#VALUE!"},{"$error":"#VALUE!"},{"$error":"#VALUE!"},{"$error":"#VALUE!"},{"$error":"#VALUE!"},{"$error":"#VALUE!"},{"$error":"#VALUE!"},{"$error":"#VALUE!"},{"$error":"#VALUE!"},{"$error":"#VALUE!"},{"$error":"#VALUE!"},{"$error":"#VALUE!"},{"$error":"#VALUE!"},{"$error":"#VALUE!"},{"$error":"#VALUE!"},{"$error":"#VALUE!"},{"$error":"#VALUE!"},{"$error":"#VALUE!"},{"$error":"#VALUE!"},{"$error":"#VALUE!"},{"$error":"#VALUE!"},{"$error":"#VALUE!"},{"$error":"#VALUE!"},{"$error":"#VALUE!"},{"$error":"#VALUE!"},{"$error":"#VALUE!"},{"$error":"#VALUE!"},{"$error":"#VALUE!"},{"$error":"#VALUE!"},{"$error":"#VALUE!"}]
[null,null,null,null,null,null,null,null,null,null,null,null,null,null,null,null,null,null,null,null,null,null,null,8,null,null,null,null,null,null,null,null,null,"N/A",null,false,null,null,null,null,8,null,null,null,null,null,null,null,null,null,null,null,"ERR!","OK","ERR!","OK",0,0,0,0,0,0,0,null,8,null,null,null,null,null,null,null,null,null,null,null,null,null,null,null,null,null,null,null,null,null,null,null,null,null,null,null,null,null,null,null,null,null,null,null,null,null,null,null,null,null,null,null,null,null,null,null,null,null,null,null,null,null,null,null,null,null,null,null,null,null,null,null,null,null,null,null,8,{"$error":"#VALUE!"},{"$error":"#VALUE!"},{"$error":"#VALUE!"},{"$error":"#VALUE!"},{"$error":"#VALUE!"},{"$error":"#VALUE!"},{"$error":"#VALUE!"},{"$error":"#VALUE!"},{"$error":"#VALUE!"},{"$error":"#VALUE!"},{"$error":"#VALUE!"},{"$error":"#VALUE!"},{"$error":"#VALUE!"},{"$error":"#VALUE!"},{"$error":"#VALUE!"},{"$error":"#VALUE!"},{"$error":"#VALUE!"},{"$error":"#VALUE!"},null,8,0,{"$error":"#VALUE!"},{"$error":"#VALUE!"},{"$error":"#VALUE!"},{"$error":"#VALUE!"},{"$error":"#VALUE!"},{"$error":"#VALUE!"},{"$error":"#VALUE!"},{"$error":"#VALUE!"},{"$error":"#VALUE!"},{"$error":"#VALUE!"},{"$error":"#VALUE!"},{"$error":"#VALUE!"},{"$error":"#VALUE!"},{"$error":"#VALUE!"},{"$error":"#VALUE!"},{"$error":"#VALUE!"},{"$error":"#VALUE!"},{"$error":"#VALUE!"},{"$error":"#VALUE!"},{"$error":"#VALUE!"},{"$error":"#VALUE!"},{"$error":"#VALUE!"},{"$error":"#VALUE!"},{"$error":"#VALUE!"},{"$error":"#VALUE!"},{"$error":"#VALUE!"},{"$error":"#VALUE!"},{"$error":"#VALUE!"},{"$error":"#VALUE!"},{"$error":"#VALUE!"},{"$error":"#VALUE!"},{"$error":"#VALUE!"},{"$error":"#VALUE!"},8,0,{"$error":"#VALUE!"},{"$error":"#VALUE!"},{"$error":"#VALUE!"},{"$error":"#VALUE!"},{"$error":"#VALUE!"},{"$error":"#VALUE!"},{"$error":"#VALUE!"},{"$error":"#VALUE!"},{"$error":"#VALUE!"},{"$error":"#VALUE!"},{"$error":"#VALUE!"},{"$error":"#VALUE!"},{"$error":"#VALUE!"},{"$error":"#VALUE!"},{"$error":"#VALUE!"},{"$error":"#VALUE!"},{"$error":"#VALUE!"},{"$error":"#VALUE!"},{"$error":"#VALUE!"},{"$error":"#VALUE!"},{"$error":"#VALUE!"},{"$error":"#VALUE!"},{"$error":"#VALUE!"},{"$error":"#VALUE!"},{"$error":"#VALUE!"},{"$error":"#VALUE!"},{"$error":"#VALUE!"},{"$error":"#VALUE!"},{"$error":"#VALUE!"},{"$error":"#VALUE!"},{"$error":"#VALUE!"},{"$error":"#VALUE!"},{"$error":"#VALUE!"},8,0,{"$error":"#VALUE!"},{"$error":"#VALUE!"},{"$error":"#VALUE!"},{"$error":"#VALUE!"},{"$error":"#VALUE!"},{"$error":"#VALUE!"},{"$error":"#VALUE!"},{"$error":"#VALUE!"},{"$error":"#VALUE!"},{"$error":"#VALUE!"},{"$error":"#VALUE!"},{"$error":"#VALUE!"},{"$error":"#VALUE!"},{"$error":"#VALUE!"},{"$error":"#VALUE!"},{"$error":"#VALUE!"},{"$error":"#VALUE!"},{"$error":"#VALUE!"},{"$error":"#VALUE!"},{"$error":"#VALUE!"},{"$error":"#VALUE!"},{"$error":"#VALUE!"},{"$error":"#VALUE!"},{"$error":"#VALUE!"},{"$error":"#VALUE!"},{"$error":"#VALUE!"},{"$error":"#VALUE!"},{"$error":"#VALUE!"},{"$error":"#VALUE!"},{"$error":"#VALUE!"},{"$error":"#VALUE!"},{"$error":"#VALUE!"},{"$error":"#VALUE!"},8,0,{"$error":"#VALUE!"},{"$error":"#VALUE!"},{"$error":"#VALUE!"},{"$error":"#VALUE!"},{"$error":"#VALUE!"},{"$error":"#VALUE!"},{"$error":"#VALUE!"},{"$error":"#VALUE!"},{"$error":"#VALUE!"},{"$error":"#VALUE!"},{"$error":"#VALUE!"},{"$error":"#VALUE!"},{"$error":"#VALUE!"},{"$error":"#VALUE!"},{"$error":"#VALUE!"},{"$error":"#VALUE!"},{"$error":"#VALUE!"},{"$error":"#VALUE!"},{"$error":"#VALUE!"},{"$error":"#VALUE!"},{"$error":"#VALUE!"},{"$error":"#VALUE!"},{"$error":"#VALUE!"},{"$error":"#VALUE!"},{"$error":"#VALUE!"},{"$error":"#VALUE!"},{"$error":"#VALUE!"},{"$error":"#VALUE!"},{"$error":"#VALUE!"},{"$error":"#VALUE!"},{"$error":"#VALUE!"},{"$error":"#VALUE!"},{"$error":"#VALUE!"},8,0,{"$error":"#VALUE!"},{"$error":"#VALUE!"},{"$error":"#VALUE!"},{"$error":"#VALUE!"},{"$error":"#VALUE!"},{"$error":"#VALUE!"},{"$error":"#VALUE!"},{"$error":"#VALUE!"},{"$error":"#VALUE!"},{"$error":"#VALUE!"},{"$error":"#VALUE!"},{"$error":"#VALUE!"},{"$error":"#VALUE!"},{"$error":"#VALUE!"},{"$error":"#VALUE!"},{"$error":"#VALUE!"},{"$error":"#VALUE!"},{"$error":"#VALUE!"},{"$error":"#VALUE!"},{"$error":"#VALUE!"},{"$error":"#VALUE!"},{"$error":"#VALUE!"},{"$error":"#VALUE!"},{"$error":"#VALUE!"},{"$error":"#VALUE!"},{"$error":"#VALUE!"},{"$error":"#VALUE!"},{"$error":"#VALUE!"},{"$error":"#VALUE!"},{"$error":"#VALUE!"},{"$error":"#VALUE!"},{"$error":"#VALUE!"},{"$error":"#VALUE!"},8,0,{"$error":"#VALUE!"},{"$error":"#VALUE!"},{"$error":"#VALUE!"},{"$error":"#VALUE!"},{"$error":"#VALUE!"},{"$error":"#VALUE!"},{"$error":"#VALUE!"},{"$error":"#VALUE!"},{"$error":"#VALUE!"},{"$error":"#VALUE!"},{"$error":"#VALUE!"},{"$error":"#VALUE!"},{"$error":"#VALUE!"},{"$error":"#VALUE!"},{"$error":"#VALUE!"},{"$error":"#VALUE!"},{"$error":"#VALUE!"},{"$error":"#VALUE!"},{"$error":"#VALUE!"},{"$error":"#VALUE!"},{"$error":"#VALUE!"},{"$error":"#VALUE!"},{"$error":"#VALUE!"},{"$error":"#VALUE!"},{"$error":"#VALUE!"},{"$error":"#VALUE!"},{"$error":"#VALUE!"},{"$error":"#VALUE!"},{"$error":"#VALUE!"},{"$error":"#VALUE!"},{"$error":"#VALUE!"},{"$error":"#VALUE!"},{"$error":"#VALUE!"}]
[null,null,null,null,null,null,null,null,null,null,null,null,null,null,null,null,null,null,null,null,null,null,null,9,null,null,null,null,null,null,null,null,null,"N/A",null,false,null,null,null,null,9,null,null,null,null,null,null,null,null,null,null,null,"ERR!","OK","ERR!","OK",0,0,0,{"$f":"(CU231*POWER(10,0)+CV231*POWER(10,1)+CW231*POWER(10,2)+CX231*POWER(10,3)+CY231*POWER(10,4)+CZ231*POWER(10,5)+DA231*POWER(10,6)+DB231*POWER(10,7)+DC231*POWER(10,8)+DD231*POWER(10,9)+DE231*POWER(10,10))","v":0},{"$f":"(DF231*POWER(10,0)+DG231*POWER(10,1)+DH231*POWER(10,2)+DI231*POWER(10,3)+DJ231*POWER(10,4)+DK231*POWER(10,5)+DL231*POWER(10,6)+DM231*POWER(10,7)+DN231*POWER(10,8)+DO231*POWER(10,9)+DP231*POWER(10,10))","v":0},0,0,null,9,null,null,null,null,null,null,null,null,null,null,null,null,null,null,null,null,null,null,null,null,null,null,null,null,null,null,null,null,null,null,null,null,null,null,null,null,null,null,null,null,null,null,null,null,null,null,null,null,null,null,null,null,null,null,null,null,null,null,null,null,null,null,null,null,null,null,null,9,{"$error":"#VALUE!"},{"$error":"#VALUE!"},{"$error":"#VALUE!"},{"$error":"#VALUE!"},{"$error":"#VALUE!"},{"$error":"#VALUE!"},{"$error":"#VALUE!"},{"$error":"#VALUE!"},{"$error":"#VALUE!"},{"$error":"#VALUE!"},{"$error":"#VALUE!"},{"$error":"#VALUE!"},{"$error":"#VALUE!"},{"$error":"#VALUE!"},{"$error":"#VALUE!"},{"$error":"#VALUE!"},{"$error":"#VALUE!"},{"$error":"#VALUE!"},null,9,0,{"$error":"#VALUE!"},{"$error":"#VALUE!"},{"$error":"#VALUE!"},{"$error":"#VALUE!"},{"$error":"#VALUE!"},{"$error":"#VALUE!"},{"$error":"#VALUE!"},{"$error":"#VALUE!"},{"$error":"#VALUE!"},{"$error":"#VALUE!"},{"$error":"#VALUE!"},{"$error":"#VALUE!"},{"$error":"#VALUE!"},{"$error":"#VALUE!"},{"$error":"#VALUE!"},{"$error":"#VALUE!"},{"$error":"#VALUE!"},{"$error":"#VALUE!"},{"$error":"#VALUE!"},{"$error":"#VALUE!"},{"$error":"#VALUE!"},{"$error":"#VALUE!"},{"$error":"#VALUE!"},{"$error":"#VALUE!"},{"$error":"#VALUE!"},{"$error":"#VALUE!"},{"$error":"#VALUE!"},{"$error":"#VALUE!"},{"$error":"#VALUE!"},{"$error":"#VALUE!"},{"$error":"#VALUE!"},{"$error":"#VALUE!"},{"$error":"#VALUE!"},9,0,{"$error":"#VALUE!"},{"$error":"#VALUE!"},{"$error":"#VALUE!"},{"$error":"#VALUE!"},{"$error":"#VALUE!"},{"$error":"#VALUE!"},{"$error":"#VALUE!"},{"$error":"#VALUE!"},{"$error":"#VALUE!"},{"$error":"#VALUE!"},{"$error":"#VALUE!"},{"$error":"#VALUE!"},{"$error":"#VALUE!"},{"$error":"#VALUE!"},{"$error":"#VALUE!"},{"$error":"#VALUE!"},{"$error":"#VALUE!"},{"$error":"#VALUE!"},{"$error":"#VALUE!"},{"$error":"#VALUE!"},{"$error":"#VALUE!"},{"$error":"#VALUE!"},{"$error":"#VALUE!"},{"$error":"#VALUE!"},{"$error":"#VALUE!"},{"$error":"#VALUE!"},{"$error":"#VALUE!"},{"$error":"#VALUE!"},{"$error":"#VALUE!"},{"$error":"#VALUE!"},{"$error":"#VALUE!"},{"$error":"#VALUE!"},{"$error":"#VALUE!"},9,0,{"$error":"#VALUE!"},{"$error":"#VALUE!"},{"$error":"#VALUE!"},{"$error":"#VALUE!"},{"$error":"#VALUE!"},{"$error":"#VALUE!"},{"$error":"#VALUE!"},{"$error":"#VALUE!"},{"$error":"#VALUE!"},{"$error":"#VALUE!"},{"$error":"#VALUE!"},{"$error":"#VALUE!"},{"$error":"#VALUE!"},{"$error":"#VALUE!"},{"$error":"#VALUE!"},{"$error":"#VALUE!"},{"$error":"#VALUE!"},{"$error":"#VALUE!"},{"$error":"#VALUE!"},{"$error":"#VALUE!"},{"$error":"#VALUE!"},{"$error":"#VALUE!"},{"$error":"#VALUE!"},{"$error":"#VALUE!"},{"$error":"#VALUE!"},{"$error":"#VALUE!"},{"$error":"#VALUE!"},{"$error":"#VALUE!"},{"$error":"#VALUE!"},{"$error":"#VALUE!"},{"$error":"#VALUE!"},{"$error":"#VALUE!"},{"$error":"#VALUE!"},9,0,{"$error":"#VALUE!"},{"$error":"#VALUE!"},{"$error":"#VALUE!"},{"$error":"#VALUE!"},{"$error":"#VALUE!"},{"$error":"#VALUE!"},{"$error":"#VALUE!"},{"$error":"#VALUE!"},{"$error":"#VALUE!"},{"$error":"#VALUE!"},{"$error":"#VALUE!"},{"$error":"#VALUE!"},{"$error":"#VALUE!"},{"$error":"#VALUE!"},{"$error":"#VALUE!"},{"$error":"#VALUE!"},{"$error":"#VALUE!"},{"$error":"#VALUE!"},{"$error":"#VALUE!"},{"$error":"#VALUE!"},{"$error":"#VALUE!"},{"$error":"#VALUE!"},{"$error":"#VALUE!"},{"$error":"#VALUE!"},{"$error":"#VALUE!"},{"$error":"#VALUE!"},{"$error":"#VALUE!"},{"$error":"#VALUE!"},{"$error":"#VALUE!"},{"$error":"#VALUE!"},{"$error":"#VALUE!"},{"$error":"#VALUE!"},{"$error":"#VALUE!"},9,0,{"$error":"#VALUE!"},{"$error":"#VALUE!"},{"$error":"#VALUE!"},{"$error":"#VALUE!"},{"$error":"#VALUE!"},{"$error":"#VALUE!"},{"$error":"#VALUE!"},{"$error":"#VALUE!"},{"$error":"#VALUE!"},{"$error":"#VALUE!"},{"$error":"#VALUE!"},{"$error":"#VALUE!"},{"$error":"#VALUE!"},{"$error":"#VALUE!"},{"$error":"#VALUE!"},{"$error":"#VALUE!"},{"$error":"#VALUE!"},{"$error":"#VALUE!"},{"$error":"#VALUE!"},{"$error":"#VALUE!"},{"$error":"#VALUE!"},{"$error":"#VALUE!"},{"$error":"#VALUE!"},{"$error":"#VALUE!"},{"$error":"#VALUE!"},{"$error":"#VALUE!"},{"$error":"#VALUE!"},{"$error":"#VALUE!"},{"$error":"#VALUE!"},{"$error":"#VALUE!"},{"$error":"#VALUE!"},{"$error":"#VALUE!"},{"$error":"#VALUE!"},9,0,{"$error":"#VALUE!"},{"$error":"#VALUE!"},{"$error":"#VALUE!"},{"$error":"#VALUE!"},{"$error":"#VALUE!"},{"$error":"#VALUE!"},{"$error":"#VALUE!"},{"$error":"#VALUE!"},{"$error":"#VALUE!"},{"$error":"#VALUE!"},{"$error":"#VALUE!"},{"$error":"#VALUE!"},{"$error":"#VALUE!"},{"$error":"#VALUE!"},{"$error":"#VALUE!"},{"$error":"#VALUE!"},{"$error":"#VALUE!"},{"$error":"#VALUE!"},{"$error":"#VALUE!"},{"$error":"#VALUE!"},{"$error":"#VALUE!"},{"$error":"#VALUE!"},{"$error":"#VALUE!"},{"$error":"#VALUE!"},{"$error":"#VALUE!"},{"$error":"#VALUE!"},{"$error":"#VALUE!"},{"$error":"#VALUE!"},{"$error":"#VALUE!"},{"$error":"#VALUE!"},{"$error":"#VALUE!"},{"$error":"#VALUE!"},{"$error":"#VALUE!"}]
[null,null,null,null,null,null,null,null,null,null,null,null,null,null,null,null,null,null,null,null,null,null,null,"Total",{"$f":"SUM(Y225:Y231)","v":0},{"$f":"SUM(Z225:Z231)","v":0},0,0,0,0,null,null,null,"N/A",null,false,null,null,null,null,"Total",null,null,null,null,null,null,null,null,null,null,null,null,null,null,null,null,null,null,null,null,null,null,null,"Total",null,null,null,null,null,null,null,null,null,null,null,null,null,null,null,null,null,null,null,null,null,null,null,null,null,null,null,null,null,null,null,null,null,null,null,null,null,null,null,null,null,null,null,null,null,null,null,null,null,null,null,null,null,null,null,null,null,null,null,null,null,null,null,null,null,null,null,"Total",{"$f":"SUM(ED225:ED231)","v":{"$error":"#VALUE!"}},{"$f":"SUM(EE225:EE231)","v":{"$error":"#VALUE!"}},{"$f":"SUM(EF225:EF231)","v":{"$error":"#VALUE!"}},{"$f":"SUM(EG225:EG231)","v":{"$error":"#VALUE!"}},{"$f":"SUM(EH225:EH231)","v":{"$error":"#VALUE!"}},{"$f":"SUM(EI225:EI231)","v":{"$error":"#VALUE!"}},{"$error":"#VALUE!"},{"$error":"#VALUE!"},{"$error":"#VALUE!"},{"$error":"#VALUE!"},{"$error":"#VALUE!"},{"$error":"#VALUE!"},{"$error":"#VALUE!"},{"$error":"#VALUE!"},{"$error":"#VALUE!"},{"$error":"#VALUE!"},{"$error":"#VALUE!"},{"$error":"#VALUE!"},null,"Total",{"$f":"SUM(EX225:EX231)","v":0},{"$f":"SUM(EY225:EY231)","v":{"$error":"#VALUE!"}},{"$f":"SUM(EZ225:EZ231)","v":{"$error":"#VALUE!"}},{"$error":"#VALUE!"},{"$error":"#VALUE!"},{"$f":"SUM(FC225:FC231)","v":{"$error":"#VALUE!"}},{"$f":"SUM(FD225:FD231)","v":{"$error":"#VALUE!"}},{"$error":"#VALUE!"},{"$error":"#VALUE!"},{"$error":"#VALUE!"},{"$error":"#VALUE!"},{"$error":"#VALUE!"},{"$error":"#VALUE!"},{"$error":"#VALUE!"},{"$error":"#VALUE!"},{"$error":"#VALUE!"},{"$f":"SUM(FN225:FN231)","v":{"$error":"#VALUE!"}},{"$f":"SUM(FO225:FO231)","v":{"$error":"#VALUE!"}},{"$f":"SUM(FP225:FP231)","v":{"$error":"#VALUE!"}},{"$f":"SUM(FQ225:FQ231)","v":{"$error":"#VALUE!"}},{"$error":"#VALUE!"},{"$error":"#VALUE!"},{"$error":"#VALUE!"},{"$error":"#VALUE!"},{"$error":"#VALUE!"},{"$error":"#VALUE!"},{"$error":"#VALUE!"},{"$error":"#VALUE!"},{"$error":"#VALUE!"},{"$error":"#VALUE!"},{"$error":"#VALUE!"},{"$f":"SUM(GC225:GC231)","v":{"$error":"#VALUE!"}},{"$f":"SUM(GD225:GD231)","v":{"$error":"#VALUE!"}},{"$error":"#VALUE!"},"Total",{"$f":"SUM(GG225:GG231)","v":0},{"$f":"SUM(GH225:GH231)","v":{"$error":"#VALUE!"}},{"$f":"SUM(GI225:GI231)","v":{"$error":"#VALUE!"}},{"$error":"#VALUE!"},{"$error":"#VALUE!"},{"$f":"SUM(GL225:GL231)","v":{"$error":"#VALUE!"}},{"$f":"SUM(GM225:GM231)","v":{"$error":"#VALUE!"}},{"$f":"SUM(GN225:GN231)","v":{"$error":"#VALUE!"}},{"$error":"#VALUE!"},{"$error":"#VALUE!"},{"$error":"#VALUE!"},{"$error":"#VALUE!"},{"$error":"#VALUE!"},{"$error":"#VALUE!"},{"$error":"#VALUE!"},{"$error":"#VALUE!"},{"$f":"SUM(GW225:GW231)","v":{"$error":"#VALUE!"}},{"$f":"SUM(GX225:GX231)","v":{"$error":"#VALUE!"}},{"$f":"SUM(GY225:GY231)","v":{"$error":"#VALUE!"}},{"$f":"SUM(GZ225:GZ231)","v":{"$error":"#VALUE!"}},{"$error":"#VALUE!"},{"$error":"#VALUE!"},{"$error":"#VALUE!"},{"$error":"#VALUE!"},{"$error":"#VALUE!"},{"$error":"#VALUE!"},{"$error":"#VALUE!"},{"$error":"#VALUE!"},{"$error":"#VALUE!"},{"$error":"#VALUE!"},{"$error":"#VALUE!"},{"$f":"SUM(HL225:HL231)","v":{"$error":"#VALUE!"}},{"$f":"SUM(HM225:HM231)","v":{"$error":"#VALUE!"}},{"$error":"#VALUE!"},"Total",{"$f":"SUM(HP225:HP231)","v":0},{"$f":"SUM(HQ225:HQ231)","v":{"$error":"#VALUE!"}},{"$f":"SUM(HR225:HR231)","v":{"$error":"#VALUE!"}},{"$error":"#VALUE!"},{"$error":"#VALUE!"},{"$f":"SUM(HU225:HU231)","v":{"$error":"#VALUE!"}},{"$f":"SUM(HV225:HV231)","v":{"$error":"#VALUE!"}},{"$error":"#VALUE!"},{"$error":"#VALUE!"},{"$error":"#VALUE!"},{"$error":"#VALUE!"},{"$error":"#VALUE!"},{"$error":"#VALUE!"},{"$error":"#VALUE!"},{"$error":"#VALUE!"},{"$error":"#VALUE!"},{"$f":"SUM(IF225:IF231)","v":{"$error":"#VALUE!"}},{"$f":"SUM(IG225:IG231)","v":{"$error":"#VALUE!"}},{"$f":"SUM(IH225:IH231)","v":{"$error":"#VALUE!"}},{"$f":"SUM(II225:II231)","v":{"$error":"#VALUE!"}},{"$error":"#VALUE!"},{"$error":"#VALUE!"},{"$error":"#VALUE!"},{"$error":"#VALUE!"},{"$error":"#VALUE!"},{"$error":"#VALUE!"},{"$error":"#VALUE!"},{"$error":"#VALUE!"},{"$error":"#VALUE!"},{"$error":"#VALUE!"},{"$error":"#VALUE!"},{"$f":"SUM(IU225:IU231)","v":{"$error":"#VALUE!"}},{"$f":"SUM(IV225:IV231)","v":{"$error":"#VALUE!"}},{"$error":"#VALUE!"},"Total",{"$f":"SUM(IY225:IY231)","v":0},{"$f":"SUM(IZ225:IZ231)","v":{"$error":"#VALUE!"}},{"$f":"SUM(JA225:JA231)","v":{"$error":"#VALUE!"}},{"$error":"#VALUE!"},{"$error":"#VALUE!"},{"$f":"SUM(JD225:JD231)","v":{"$error":"#VALUE!"}},{"$f":"SUM(JE225:JE231)","v":{"$error":"#VALUE!"}},{"$error":"#VALUE!"},{"$error":"#VALUE!"},{"$error":"#VALUE!"},{"$error":"#VALUE!"},{"$error":"#VALUE!"},{"$error":"#VALUE!"},{"$error":"#VALUE!"},{"$error":"#VALUE!"},{"$error":"#VALUE!"},{"$f":"SUM(JO225:JO231)","v":{"$error":"#VALUE!"}},{"$f":"SUM(JP225:JP231)","v":{"$error":"#VALUE!"}},{"$f":"SUM(JQ225:JQ231)","v":{"$error":"#VALUE!"}},{"$f":"SUM(JR225:JR231)","v":{"$error":"#VALUE!"}},{"$error":"#VALUE!"},{"$error":"#VALUE!"},{"$error":"#VALUE!"},{"$error":"#VALUE!"},{"$error":"#VALUE!"},{"$error":"#VALUE!"},{"$error":"#VALUE!"},{"$error":"#VALUE!"},{"$error":"#VALUE!"},{"$error":"#VALUE!"},{"$error":"#VALUE!"},{"$f":"SUM(KD225:KD231)","v":{"$error":"#VALUE!"}},{"$f":"SUM(KE225:KE231)","v":{"$error":"#VALUE!"}},{"$error":"#VALUE!"},"Total",{"$f":"SUM(KH225:KH231)","v":0},{"$f":"SUM(KI225:KI231)","v":{"$error":"#VALUE!"}},{"$f":"SUM(KJ225:KJ231)","v":{"$error":"#VALUE!"}},{"$error":"#VALUE!"},{"$error":"#VALUE!"},{"$f":"SUM(KM225:KM231)","v":{"$error":"#VALUE!"}},{"$f":"SUM(KN225:KN231)","v":{"$error":"#VALUE!"}},{"$error":"#VALUE!"},{"$error":"#VALUE!"},{"$error":"#VALUE!"},{"$error":"#VALUE!"},{"$error":"#VALUE!"},{"$error":"#VALUE!"},{"$error":"#VALUE!"},{"$error":"#VALUE!"},{"$error":"#VALUE!"},{"$f":"SUM(KX225:KX231)","v":{"$error":"#VALUE!"}},{"$f":"SUM(KY225:KY231)","v":{"$error":"#VALUE!"}},{"$f":"SUM(KZ225:KZ231)","v":{"$error":"#VALUE!"}},{"$f":"SUM(LA225:LA231)","v":{"$error":"#VALUE!"}},{"$error":"#VALUE!"},{"$error":"#VALUE!"},{"$error":"#VALUE!"},{"$error":"#VALUE!"},{"$error":"#VALUE!"},{"$error":"#VALUE!"},{"$error":"#VALUE!"},{"$error":"#VALUE!"},{"$error":"#VALUE!"},{"$error":"#VALUE!"},{"$error":"#VALUE!"},{"$f":"SUM(LM225:LM231)","v":{"$error":"#VALUE!"}},{"$f":"SUM(LN225:LN231)","v":{"$error":"#VALUE!"}},{"$error":"#VALUE!"},"Total",{"$f":"SUM(LQ225:LQ231)","v":0},{"$f":"SUM(LR225:LR231)","v":{"$error":"#VALUE!"}},{"$f":"SUM(LS225:LS231)","v":{"$error":"#VALUE!"}},{"$error":"#VALUE!"},{"$error":"#VALUE!"},{"$f":"SUM(LV225:LV231)","v":{"$error":"#VALUE!"}},{"$f":"SUM(LW225:LW231)","v":{"$error":"#VALUE!"}},{"$error":"#VALUE!"},{"$error":"#VALUE!"},{"$error":"#VALUE!"},{"$error":"#VALUE!"},{"$error":"#VALUE!"},{"$error":"#VALUE!"},{"$error":"#VALUE!"},{"$error":"#VALUE!"},{"$f":"SUM(MF225:MF231)","v":{"$error":"#VALUE!"}},{"$f":"SUM(MG225:MG231)","v":{"$error":"#VALUE!"}},{"$f":"SUM(MH225:MH231)","v":{"$error":"#VALUE!"}},{"$f":"SUM(MI225:MI231)","v":{"$error":"#VALUE!"}},{"$f":"SUM(MJ225:MJ231)","v":{"$error":"#VALUE!"}},{"$error":"#VALUE!"},{"$error":"#VALUE!"},{"$error":"#VALUE!"},{"$error":"#VALUE!"},{"$error":"#VALUE!"},{"$error":"#VALUE!"},{"$error":"#VALUE!"},{"$error":"#VALUE!"},{"$error":"#VALUE!"},{"$error":"#VALUE!"},{"$error":"#VALUE!"},{"$f":"SUM(MV225:MV231)","v":{"$error":"#VALUE!"}},{"$f":"SUM(MW225:MW231)","v":{"$error":"#VALUE!"}},{"$error":"#VALUE!"}]
[null,{"$f":"B225+1","v":26},{"$f":"'Regional Project List Sheet'!F30","v":0},{"$f":"IF('Regional Project List Sheet'!$G30=\"New\",1,\"\")","v":""},{"$f":"IF('Regional Project List Sheet'!$G30=\"Funded Old\",1,\"\")","v":""},{"$f":"IF('Regional Project List Sheet'!$G30=\"Unfunded Old\",1,\"\")","v":""},{"$f":"'Regional Project List Sheet'!H30","v":0},{"$f":"'Regional Project List Sheet'!I30","v":0},{"$f":"'Regional Project List Sheet'!L30","v":0},{"$f":"'Regional Project List Sheet'!M30","v":0},{"$f":"'Regional Project List Sheet'!N30","v":0},{"$f":"'Regional Project List Sheet'!O30","v":0},{"$f":"'Regional Project List Sheet'!P30","v":0},{"$f":"IF('Regional Project List Sheet'!$Q30=\"N/A\",\"N/A\",IF($Y236<>0,5,IF($Z236<>0,4,IF($AA236<>0,3,IF($AB236<>0,2,1)))))","v":1},{"$f":"VLOOKUP($C233,'[2]Ranking|Priority'!$B$5:$O$40,12,FALSE)","v":{"$error":"#N/A"}},{"$f":"VLOOKUP($C233,'[2]Ranking|Priority'!$B$5:$O$68,13,FALSE)","v":{"$error":"#N/A"}},{"$f":"VLOOKUP($C233,'[2]Ranking|Priority'!$B$5:$O$68,14,FALSE)","v":{"$error":"#N/A"}},{"$f":"'Regional Project List Sheet'!T30","v":0},{"$f":"'Regional Project List Sheet'!U30","v":0},{"$f":"'Regional Project List Sheet'!V30","v":0},{"$f":"'Regional Project List Sheet'!W30","v":0},{"$f":"'Regional Project List Sheet'!X30","v":0},{"$f":"'Regional Project List Sheet'!Y30","v":"Choose from Project List in cell I2"},0,null,null,null,null,null,null,null,{"$f":"'Regional Project List Sheet'!AJ30","v":0},{"$f":"IF(OR('Regional Project List Sheet'!$AA30<>'Regional Project List Sheet'!$A$40,'Regional Project List Sheet'!$AD30<>'Regional Project List Sheet'!$A$40,'Regional Project List Sheet'!$AG30<>'Regional Project List Sheet'!$A$40),_xlfn.CONCAT(IF(ISNUMBER('Regional Project List Sheet'!$AA30),'Regional Project List Sheet'!$A$36,\"\"),\" \",IF(ISNUMBER('Regional Project List Sheet'!$AD30),'Regional Project List Sheet'!$A$37,\"\"),\" \",IF(ISNUMBER('Regional Project List Sheet'!$AG30),'Regional Project List Sheet'!$A$38,\"\")),\"N/A\")","v":"N/A"},"N/A",{"$f":"IF(OR('Regional Project List Sheet'!AC30<>'Regional Project List Sheet'!$A$40,'Regional Project List Sheet'!AF30<>'Regional Project List Sheet'!$A$40,'Regional Project List Sheet'!AI30<>'Regional Project List Sheet'!$A$40),\n\nIF(LEN(_xlfn.CONCAT(IF('Regional Project List Sheet'!AC30=\"Yes\",'Regional Project List Sheet'!$A$36,\"\"),\" \",\n\nIF('Regional Project List Sheet'!AF30=\"Yes\",'Regional Project List Sheet'!$A$37,\"\"),\" \",\n\nIF('Regional Project List Sheet'!AI30=\"Yes\",'Regional Project List Sheet'!$A$38,\"\")))<3,\"No\",\n\n_xlfn.CONCAT(IF('Regional Project List Sheet'!AC30=\"Yes\",'Regional Project List Sheet'!$A$36,\"\"),\" \",\n\nIF('Regional Project List Sheet'!AF30=\"Yes\",'Regional Project List Sheet'!$A$37,\"\"),\" \",\n\nIF('Regional Project List Sheet'!AI30=\"Yes\",'Regional Project List Sheet'!$A$38,\"\"))))","v":false},false,{"$f":"'Regional Project List Sheet'!AK30","v":0},null,{"$f":"'Regional Project List Sheet'!AL30","v":0},null,0,null,null,null,null,null,null,null,null,null,null,1,{"$f":"IF(AND(BB233=\"OK\",BC233=\"OK\",BD233=\"OK\"),\"OK\",\"ERR!\")","v":"ERR!"},{"$f":"IF(AND(Y233>0,SUM(BN233:BX233)<1),\"ERR!\",IF(AND(Z233>0,SUM(BY233:CI233)<1),\"ERR!\",IF(AND(AA233>0,SUM(CJ233:CT233)<1),\"ERR\",IF(AND(AB233>0,SUM(CU233:DE233)<1),\"ERR\",IF(AND(AC233>0,SUM(DF233:DP233)<1),\"ERR\",IF(AND(AD233>0,SUM(DQ233:EA233)<1),\"ERR\",\"OK\"))))))","v":"OK"},{"$f":"IF(OR(SUM(BN233:BX233)<>1,SUM(BY233:CI233)<>1,SUM(CJ233:CT233)<>1,SUM(CU233:DE233)<>1,SUM(DF233:DP233)<>1,SUM(DQ233:EA233)<>1),\"ERR!\",\"OK\")","v":"ERR!"},{"$f":"IF(AND(OR(BE233=BK233,BE233=0),OR(BF233=BK233,BF233=0),OR(BG233=BK233,BG233=0),OR(BH233=BK233,BH233=0),OR(BI233=BK233,BI233=0),OR(BJ233=BK233,BJ233=0)),\"OK\",\"ERR!\")","v":"OK"},{"$f":"(BN233*POWER(10,0)+BO233*POWER(10,1)+BP233*POWER(10,2)+BQ233*POWER(10,3)+BR233*POWER(10,4)+BS233*POWER(10,5)+BT233*POWER(10,6)+BU233*POWER(10,7)+BV233*POWER(10,8)+BW233*POWER(10,9)+BX233*POWER(10,10))","v":0},{"$f":"(BY233*POWER(10,0)+BZ233*POWER(10,1)+CA233*POWER(10,2)+CB233*POWER(10,3)+CC233*POWER(10,4)+CD233*POWER(10,5)+CE233*POWER(10,6)+CF233*POWER(10,7)+CG233*POWER(10,8)+CH233*POWER(10,9)+CI233*POWER(10,10))","v":0},{"$f":"(CJ233*POWER(10,0)+CK233*POWER(10,1)+CL233*POWER(10,2)+CM233*POWER(10,3)+CN233*POWER(10,4)+CO233*POWER(10,5)+CP233*POWER(10,6)+CQ233*POWER(10,7)+CR233*POWER(10,8)+CS233*POWER(10,9)+CT233*POWER(10,10))","v":0},{"$f":"(CU233*POWER(10,0)+CV233*POWER(10,1)+CW233*POWER(10,2)+CX233*POWER(10,3)+CY233*POWER(10,4)+CZ233*POWER(10,5)+DA233*POWER(10,6)+DB233*POWER(10,7)+DC233*POWER(10,8)+DD233*POWER(10,9)+DE233*POWER(10,10))","v":0},{"$f":"(DF233*POWER(10,0)+DG233*POWER(10,1)+DH233*POWER(10,2)+DI233*POWER(10,3)+DJ233*POWER(10,4)+DK233*POWER(10,5)+DL233*POWER(10,6)+DM233*POWER(10,7)+DN233*POWER(10,8)+DO233*POWER(10,9)+DP233*POWER(10,10))","v":0},{"$f":"(DQ233*POWER(10,0)+DR233*POWER(10,1)+DS233*POWER(10,2)+DT233*POWER(10,3)+DU233*POWER(10,4)+DV233*POWER(10,5)+DW233*POWER(10,6)+DX233*POWER(10,7)+DY233*POWER(10,8)+DZ233*POWER(10,9)+EA233*POWER(10,10))","v":0},{"$f":"MAX(BE233:BJ233)","v":0},null,0,null,null,null,null,null,null,null,null,null,null,null,null,null,null,null,null,null,null,null,null,null,null,null,null,null,null,null,null,null,null,null,null,null,null,null,null,null,null,null,null,null,null,null,null,null,null,null,null,null,null,null,null,null,null,null,null,null,null,null,null,null,null,null,null,null,null,null,0,{"$f":"($Y233*D$233)/1000","v":{"$error":"#VALUE!"}},{"$error":"#VALUE!"},{"$error":"#VALUE!"},{"$f":"($Z233*D$233)/1000","v":{"$error":"#VALUE!"}},{"$error":"#VALUE!"},{"$error":"#VALUE!"},{"$f":"($AA233*D$233)/1000","v":{"$error":"#VALUE!"}},{"$error":"#VALUE!"},{"$error":"#VALUE!"},{"$f":"($AB233*D$233)/1000","v":{"$error":"#VALUE!"}},{"$error":"#VALUE!"},{"$error":"#VALUE!"},{"$f":"($AC233*D$233)/1000","v":{"$error":"#VALUE!"}},{"$error":"#VALUE!"},{"$error":"#VALUE!"},{"$f":"($AD233*D$233)/1000","v":{"$error":"#VALUE!"}},{"$error":"#VALUE!"},{"$error":"#VALUE!"},null,0,{"$f":"$AZ$233*$Y233","v":0},{"$f":"($AZ$233*$BN233*D$233*$Y233)/1000","v":{"$error":"#VALUE!"}},{"$error":"#VALUE!"},{"$error":"#VALUE!"},{"$f":"($AZ$233*$BO233*D$233*$Y233)/1000","v":{"$error":"#VALUE!"}},{"$error":"#VALUE!"},{"$error":"#VALUE!"},{"$f":"($AZ$233*$BP233*D$233*$Y233)/1000","v":{"$error":"#VALUE!"}},{"$error":"#VALUE!"},{"$error":"#VALUE!"},{"$f":"($AZ$233*$BQ233*D$233*$Y233)/1000","v":{"$error":"#VALUE!"}},{"$error":"#VALUE!"},{"$error":"#VALUE!"},{"$f":"($AZ$233*$BR233*D$233*$Y233)/1000","v":{"$error":"#VALUE!"}},{"$error":"#VALUE!"},{"$error":"#VALUE!"},{"$f":"($AZ$233*$BS233*D$233*$Y233)/1000","v":{"$error":"#VALUE!"}},{"$error":"#VALUE!"},{"$error":"#VALUE!"},{"$f":"($AZ$233*$BT233*D$233*$Y233)/1000","v":{"$error":"#VALUE!"}},{"$error":"#VALUE!"},{"$error":"#VALUE!"},{"$f":"($AZ$233*$BU233*D$233*$Y233)/1000","v":{"$error":"#VALUE!"}},{"$error":"#VALUE!"},{"$error":"#VALUE!"},{"$f":"($AZ$233*$BV233*D$233*$Y233)/1000","v":{"$error":"#VALUE!"}},{"$error":"#VALUE!"},{"$error":"#VALUE!"},{"$f":"($AZ$233*$BW233*D$233*$Y233)/1000","v":{"$error":"#VALUE!"}},{"$error":"#VALUE!"},{"$error":"#VALUE!"},{"$f":"($AZ$233*$BX233*D$233*$Y233)/1000","v":{"$error":"#VALUE!"}},{"$error":"#VALUE!"},{"$error":"#VALUE!"},0,{"$f":"$AZ$233*$Z233","v":0},{"$f":"($AZ$233*$BY233*D$233*$Z233)/1000","v":{"$error":"#VALUE!"}},{"$error":"#VALUE!"},{"$error":"#VALUE!"},{"$f":"($AZ$233*$BZ233*D$233*$Z233)/1000","v":{"$error":"#VALUE!"}},{"$error":"#VALUE!"},{"$error":"#VALUE!"},{"$f":"($AZ$233*$CA233*D$233*$Z233)/1000","v":{"$error":"#VALUE!"}},{"$error":"#VALUE!"},{"$error":"#VALUE!"},{"$f":"($AZ$233*$CB233*D$233*$Z233)/1000","v":{"$error":"#VALUE!"}},{"$error":"#VALUE!"},{"$error":"#VALUE!"},{"$f":"($AZ$233*$CD233*D$233*$Z233)/1000","v":{"$error":"#VALUE!"}},{"$error":"#VALUE!"},{"$error":"#VALUE!"},{"$f":"($AZ$233*$CD233*D$233*$Z233)/1000","v":{"$error":"#VALUE!"}},{"$error":"#VALUE!"},{"$error":"#VALUE!"},{"$f":"($AZ$233*$CE233*D$233*$Z233)/1000","v":{"$error":"#VALUE!"}},{"$error":"#VALUE!"},{"$error":"#VALUE!"},{"$f":"($AZ$233*$CF233*D$233*$Z233)/1000","v":{"$error":"#VALUE!"}},{"$error":"#VALUE!"},{"$error":"#VALUE!"},{"$f":"($AZ$233*$CG233*D$233*$Z233)/1000","v":{"$error":"#VALUE!"}},{"$error":"#VALUE!"},{"$error":"#VALUE!"},{"$f":"($AZ$233*$CH233*D$233*$Z233)/1000","v":{"$error":"#VALUE!"}},{"$error":"#VALUE!"},{"$error":"#VALUE!"},{"$f":"($AZ$233*$CI233*D$233*$Z233)/1000","v":{"$error":"#VALUE!"}},{"$error":"#VALUE!"},{"$error":"#VALUE!"},0,{"$f":"$AZ$233*$AA233","v":0},{"$f":"($AZ$233*$CJ233*D$233*$AA233)/1000","v":{"$error":"#VALUE!"}},{"$error":"#VALUE!"},{"$error":"#VALUE!"},{"$f":"($AZ$233*$CK233*D$233*$AA233)/1000","v":{"$error":"#VALUE!"}},{"$error":"#VALUE!"},{"$error":"#VALUE!"},{"$f":"($AZ$233*$CL233*D$233*$AA233)/1000","v":{"$error":"#VALUE!"}},{"$error":"#VALUE!"},{"$error":"#VALUE!"},{"$f":"($AZ$233*$CM233*D$233*$AA233)/1000","v":{"$error":"#VALUE!"}},{"$error":"#VALUE!"},{"$error":"#VALUE!"},{"$f":"($AZ$233*$CN233*D$233*$AA233)/1000","v":{"$error":"#VALUE!"}},{"$error":"#VALUE!"},{"$error":"#VALUE!"},{"$f":"($AZ$233*$CO233*D$233*$AA233)/1000","v":{"$error":"#VALUE!"}},{"$error":"#VALUE!"},{"$error":"#VALUE!"},{"$f":"($AZ$233*$CP233*D$233*$AA233)/1000","v":{"$error":"#VALUE!"}},{"$error":"#VALUE!"},{"$error":"#VALUE!"},{"$f":"($AZ$233*$CQ233*D$233*$AA233)/1000","v":{"$error":"#VALUE!"}},{"$error":"#VALUE!"},{"$error":"#VALUE!"},{"$f":"($AZ$233*$CR233*D$233*$AA233)/1000","v":{"$error":"#VALUE!"}},{"$error":"#VALUE!"},{"$error":"#VALUE!"},{"$f":"($AZ$233*$CS233*D$233*$AA233)/1000","v":{"$error":"#VALUE!"}},{"$error":"#VALUE!"},{"$error":"#VALUE!"},{"$f":"($AZ$233*$CT233*D$233*$AA233)/1000","v":{"$error":"#VALUE!"}},{"$error":"#VALUE!"},{"$error":"#VALUE!"},0,{"$f":"$AZ$233*$AB233","v":0},{"$f":"($AZ$233*$CU233*D$233*$AB233)/1000","v":{"$error":"#VALUE!"}},{"$error":"#VALUE!"},{"$error":"#VALUE!"},{"$f":"($AZ$233*$CV233*D$233*$AB233)/1000","v":{"$error":"#VALUE!"}},{"$error":"#VALUE!"},{"$error":"#VALUE!"},{"$f":"($AZ$233*$CW233*D$233*$AB233)/1000","v":{"$error":"#VALUE!"}},{"$error":"#VALUE!"},{"$error":"#VALUE!"},{"$f":"($AZ$233*$CX233*D$233*$AB233)/1000","v":{"$error":"#VALUE!"}},{"$error":"#VALUE!"},{"$error":"#VALUE!"},{"$f":"($AZ$233*$CY233*D$233*$AB233)/1000","v":{"$error":"#VALUE!"}},{"$error":"#VALUE!"},{"$error":"#VALUE!"},{"$f":"($AZ$233*$CZ233*D$233*$AB233)/1000","v":{"$error":"#VALUE!"}},{"$error":"#VALUE!"},{"$error":"#VALUE!"},{"$f":"($AZ$233*$DA233*D$233*$AB233)/1000","v":{"$error":"#VALUE!"}},{"$error":"#VALUE!"},{"$error":"#VALUE!"},{"$f":"($AZ$233*$DB233*D$233*$AB233)/1000","v":{"$error":"#VALUE!"}},{"$error":"#VALUE!"},{"$error":"#VALUE!"},{"$f":"($AZ$233*$DC233*D$233*$AB233)/1000","v":{"$error":"#VALUE!"}},{"$error":"#VALUE!"},{"$error":"#VALUE!"},{"$f":"($AZ$233*$DD233*D$233*$AB233)/1000","v":{"$error":"#VALUE!"}},{"$error":"#VALUE!"},{"$error":"#VALUE!"},{"$f":"($AZ$233*$DE233*D$233*$AB233)/1000","v":{"$error":"#VALUE!"}},{"$error":"#VALUE!"},{"$error":"#VALUE!"},0,{"$f":"$AZ$233*$AC233","v":0},{"$f":"($AZ$233*$DF233*D$233*$AC233)/1000","v":{"$error":"#VALUE!"}},{"$error":"#VALUE!"},{"$error":"#VALUE!"},{"$f":"($AZ$233*$DG233*D$233*$AC233)/1000","v":{"$error":"#VALUE!"}},{"$error":"#VALUE!"},{"$error":"#VALUE!"},{"$f":"($AZ$233*$DH233*D$233*$AC233)/1000","v":{"$error":"#VALUE!"}},{"$error":"#VALUE!"},{"$error":"#VALUE!"},{"$f":"($AZ$233*$DI233*D$233*$AC233)/1000","v":{"$error":"#VALUE!"}},{"$error":"#VALUE!"},{"$error":"#VALUE!"},{"$f":"($AZ$233*$DJ233*D$233*$AC233)/1000","v":{"$error":"#VALUE!"}},{"$error":"#VALUE!"},{"$error":"#VALUE!"},{"$f":"($AZ$233*$DK233*D$233*$AC233)/1000","v":{"$error":"#VALUE!"}},{"$error":"#VALUE!"},{"$error":"#VALUE!"},{"$f":"($AZ$233*$DL233*D$233*$AC233)/1000","v":{"$error":"#VALUE!"}},{"$error":"#VALUE!"},{"$error":"#VALUE!"},{"$f":"($AZ$233*$DM233*D$233*$AC233)/1000","v":{"$error":"#VALUE!"}},{"$error":"#VALUE!"},{"$error":"#VALUE!"},{"$f":"($AZ$233*$DN233*D$233*$AC233)/1000","v":{"$error":"#VALUE!"}},{"$error":"#VALUE!"},{"$error":"#VALUE!"},{"$f":"($AZ$233*$DO233*D$233*$AC233)/1000","v":{"$error":"#VALUE!"}},{"$error":"#VALUE!"},{"$error":"#VALUE!"},{"$f":"($AZ$233*$DP233*D$233*$AC233)/1000","v":{"$error":"#VALUE!"}},{"$error":"#VALUE!"},{"$error":"#VALUE!"},0,{"$f":"$AZ$233*$AD233","v":0},{"$f":"($AZ$233*$DQ233*D$233*$AD233)/1000","v":{"$error":"#VALUE!"}},{"$error":"#VALUE!"},{"$error":"#VALUE!"},{"$f":"($AZ$233*$DR233*D$233*$AD233)/1000","v":{"$error":"#VALUE!"}},{"$error":"#VALUE!"},{"$error":"#VALUE!"},{"$f":"($AZ$233*$DS233*D$233*$AD233)/1000","v":{"$error":"#VALUE!"}},{"$error":"#VALUE!"},{"$error":"#VALUE!"},{"$f":"($AZ$233*$DT233*D$233*$AD233)/1000","v":{"$error":"#VALUE!"}},{"$error":"#VALUE!"},{"$error":"#VALUE!"},{"$f":"($AZ$233*$DU233*D$233*$AD233)/1000","v":{"$error":"#VALUE!"}},{"$error":"#VALUE!"},{"$error":"#VALUE!"},{"$f":"($AZ$233*$DV233*D$233*$AD233)/1000","v":{"$error":"#VALUE!"}},{"$error":"#VALUE!"},{"$error":"#VALUE!"},{"$f":"($AZ$233*$DW233*D$233*$AD233)/1000","v":{"$error":"#VALUE!"}},{"$error":"#VALUE!"},{"$error":"#VALUE!"},{"$f":"($AZ$233*$DX233*D$233*$AD233)/1000","v":{"$error":"#VALUE!"}},{"$error":"#VALUE!"},{"$error":"#VALUE!"},{"$f":"($AZ$233*$DY233*D$233*$AD233)/1000","v":{"$error":"#VALUE!"}},{"$error":"#VALUE!"},{"$error":"#VALUE!"},{"$f":"($AZ$233*$DZ233*D$233*$AD233)/1000","v":{"$error":"#VALUE!"}},{"$error":"#VALUE!"},{"$error":"#VALUE!"},{"$f":"($AZ$233*$EA233*D$233*$AD233)/1000","v":{"$error":"#VALUE!"}},{"$error":"#VALUE!"},{"$error":"#VALUE!"}]
[null,null,null,null,null,null,null,null,null,null,null,null,null,null,null,null,null,null,null,null,null,null,null,2,null,null,null,null,null,null,null,null,null,"N/A",null,false,null,null,null,null,2,null,null,null,null,null,null,null,null,null,null,null,{"$f":"IF(AND(BB234=\"OK\",BC234=\"OK\",BD234=\"OK\"),\"OK\",\"ERR!\")","v":"ERR!"},"OK",{"$f":"IF(OR(SUM(BN234:BX234)<>1,SUM(BY234:CI234)<>1,SUM(CJ234:CT234)<>1,SUM(CU234:DE234)<>1,SUM(DF234:DP234)<>1,SUM(DQ234:EA234)<>1),\"ERR!\",\"OK\")","v":"ERR!"},{"$f":"IF(AND(OR(BE234=BK234,BE234=0),OR(BF234=BK234,BF234=0),OR(BG234=BK234,BG234=0),OR(BH234=BK234,BH234=0),OR(BI234=BK234,BI234=0),OR(BJ234=BK234,BJ234=0)),\"OK\",\"ERR!\")","v":"OK"},{"$f":"(BN234*POWER(10,0)+BO234*POWER(10,1)+BP234*POWER(10,2)+BQ234*POWER(10,3)+BR234*POWER(10,4)+BS234*POWER(10,5)+BT234*POWER(10,6)+BU234*POWER(10,7)+BV234*POWER(10,8)+BW234*POWER(10,9)+BX234*POWER(10,10))","v":0},{"$f":"(BY234*POWER(10,0)+BZ234*POWER(10,1)+CA234*POWER(10,2)+CB234*POWER(10,3)+CC234*POWER(10,4)+CD234*POWER(10,5)+CE234*POWER(10,6)+CF234*POWER(10,7)+CG234*POWER(10,8)+CH234*POWER(10,9)+CI234*POWER(10,10))","v":0},{"$f":"(CJ234*POWER(10,0)+CK234*POWER(10,1)+CL234*POWER(10,2)+CM234*POWER(10,3)+CN234*POWER(10,4)+CO234*POWER(10,5)+CP234*POWER(10,6)+CQ234*POWER(10,7)+CR234*POWER(10,8)+CS234*POWER(10,9)+CT234*POWER(10,10))","v":0},{"$f":"(CU234*POWER(10,0)+CV234*POWER(10,1)+CW234*POWER(10,2)+CX234*POWER(10,3)+CY234*POWER(10,4)+CZ234*POWER(10,5)+DA234*POWER(10,6)+DB234*POWER(10,7)+DC234*POWER(10,8)+DD234*POWER(10,9)+DE234*POWER(10,10))","v":0},{"$f":"(DF234*POWER(10,0)+DG234*POWER(10,1)+DH234*POWER(10,2)+DI234*POWER(10,3)+DJ234*POWER(10,4)+DK234*POWER(10,5)+DL234*POWER(10,6)+DM234*POWER(10,7)+DN234*POWER(10,8)+DO234*POWER(10,9)+DP234*POWER(10,10))","v":0},{"$f":"(DQ234*POWER(10,0)+DR234*POWER(10,1)+DS234*POWER(10,2)+DT234*POWER(10,3)+DU234*POWER(10,4)+DV234*POWER(10,5)+DW234*POWER(10,6)+DX234*POWER(10,7)+DY234*POWER(10,8)+DZ234*POWER(10,9)+EA234*POWER(10,10))","v":0},{"$f":"MAX(BE234:BJ234)","v":0},null,2,null,null,null,null,null,null,null,null,null,null,null,null,null,null,null,null,null,null,null,null,null,null,null,null,null,null,null,null,null,null,null,null,null,null,null,null,null,null,null,null,null,null,null,null,null,null,null,null,null,null,null,null,null,null,null,null,null,null,null,null,null,null,null,null,null,null,null,2,{"$error":"#VALUE!"},{"$error":"#VALUE!"},{"$error":"#VALUE!"},{"$error":"#VALUE!"},{"$error":"#VALUE!"},{"$error":"#VALUE!"},{"$error":"#VALUE!"},{"$error":"#VALUE!"},{"$error":"#VALUE!"},{"$error":"#VALUE!"},{"$error":"#VALUE!"},{"$error":"#VALUE!"},{"$error":"#VALUE!"},{"$error":"#VALUE!"},{"$error":"#VALUE!"},{"$error":"#VALUE!"},{"$error":"#VALUE!"},{"$error":"#VALUE!"},null,2,0,{"$error":"#VALUE!"},{"$error":"#VALUE!"},{"$error":"#VALUE!"},{"$error":"#VALUE!"},{"$error":"#VALUE!"},{"$error":"#VALUE!"},{"$error":"#VALUE!"},{"$error":"#VALUE!"},{"$error":"#VALUE!"},{"$error":"#VALUE!"},{"$error":"#VALUE!"},{"$error":"#VALUE!"},{"$error":"#VALUE!"},{"$error":"#VALUE!"},{"$error":"#VALUE!"},{"$error":"#VALUE!"},{"$error":"#VALUE!"},{"$error":"#VALUE!"},{"$error":"#VALUE!"},{"$error":"#VALUE!"},{"$error":"#VALUE!"},{"$error":"#VALUE!"},{"$error":"#VALUE!"},{"$error":"#VALUE!"},{"$error":"#VALUE!"},{"$error":"#VALUE!"},{"$error":"#VALUE!"},{"$error":"#VALUE!"},{"$error":"#VALUE!"},{"$error":"#VALUE!"},{"$error":"#VALUE!"},{"$error":"#VALUE!"},{"$error":"#VALUE!"},2,0,{"$error":"#VALUE!"},{"$error":"#VALUE!"},{"$error":"#VALUE!"},{"$error":"#VALUE!"},{"$error":"#VALUE!"},{"$error":"#VALUE!"},{"$error":"#VALUE!"},{"$error":"#VALUE!"},{"$error":"#VALUE!"},{"$error":"#VALUE!"},{"$error":"#VALUE!"},{"$error":"#VALUE!"},{"$error":"#VALUE!"},{"$error":"#VALUE!"},{"$error":"#VALUE!"},{"$error":"#VALUE!"},{"$error":"#VALUE!"},{"$error":"#VALUE!"},{"$error":"#VALUE!"},{"$error":"#VALUE!"},{"$error":"#VALUE!"},{"$error":"#VALUE!"},{"$error":"#VALUE!"},{"$error":"#VALUE!"},{"$error":"#VALUE!"},{"$error":"#VALUE!"},{"$error":"#VALUE!"},{"$error":"#VALUE!"},{"$error":"#VALUE!"},{"$error":"#VALUE!"},{"$error":"#VALUE!"},{"$error":"#VALUE!"},{"$error":"#VALUE!"},2,0,{"$error":"#VALUE!"},{"$error":"#VALUE!"},{"$error":"#VALUE!"},{"$error":"#VALUE!"},{"$error":"#VALUE!"},{"$error":"#VALUE!"},{"$error":"#VALUE!"},{"$error":"#VALUE!"},{"$error":"#VALUE!"},{"$error":"#VALUE!"},{"$error":"#VALUE!"},{"$error":"#VALUE!"},{"$error":"#VALUE!"},{"$error":"#VALUE!"},{"$error":"#VALUE!"},{"$error":"#VALUE!"},{"$error":"#VALUE!"},{"$error":"#VALUE!"},{"$error":"#VALUE!"},{"$error":"#VALUE!"},{"$error":"#VALUE!"},{"$error":"#VALUE!"},{"$error":"#VALUE!"},{"$error":"#VALUE!"},{"$error":"#VALUE!"},{"$error":"#VALUE!"},{"$error":"#VALUE!"},{"$error":"#VALUE!"},{"$error":"#VALUE!"},{"$error":"#VALUE!"},{"$error":"#VALUE!"},{"$error":"#VALUE!"},{"$error":"#VALUE!"},2,0,{"$error":"#VALUE!"},{"$error":"#VALUE!"},{"$error":"#VALUE!"},{"$error":"#VALUE!"},{"$error":"#VALUE!"},{"$error":"#VALUE!"},{"$error":"#VALUE!"},{"$error":"#VALUE!"},{"$error":"#VALUE!"},{"$error":"#VALUE!"},{"$error":"#VALUE!"},{"$error":"#VALUE!"},{"$error":"#VALUE!"},{"$error":"#VALUE!"},{"$error":"#VALUE!"},{"$error":"#VALUE!"},{"$error":"#VALUE!"},{"$error":"#VALUE!"},{"$error":"#VALUE!"},{"$error":"#VALUE!"},{"$error":"#VALUE!"},{"$error":"#VALUE!"},{"$error":"#VALUE!"},{"$error":"#VALUE!"},{"$error":"#VALUE!"},{"$error":"#VALUE!"},{"$error":"#VALUE!"},{"$error":"#VALUE!"},{"$error":"#VALUE!"},{"$error":"#VALUE!"},{"$error":"#VALUE!"},{"$error":"#VALUE!"},{"$error":"#VALUE!"},2,0,{"$error":"#VALUE!"},{"$error":"#VALUE!"},{"$error":"#VALUE!"},{"$error":"#VALUE!"},{"$error":"#VALUE!"},{"$error":"#VALUE!"},{"$error":"#VALUE!"},{"$error":"#VALUE!"},{"$error":"#VALUE!"},{"$error":"#VALUE!"},{"$error":"#VALUE!"},{"$error":"#VALUE!"},{"$error":"#VALUE!"},{"$error":"#VALUE!"},{"$error":"#VALUE!"},{"$error":"#VALUE!"},{"$error":"#VALUE!"},{"$error":"#VALUE!"},{"$error":"#VALUE!"},{"$error":"#VALUE!"},{"$error":"#VALUE!"},{"$error":"#VALUE!"},{"$error":"#VALUE!"},{"$error":"#VALUE!"},{"$error":"#VALUE!"},{"$error":"#VALUE!"},{"$error":"#VALUE!"},{"$error":"#VALUE!"},{"$error":"#VALUE!"},{"$error":"#VALUE!"},{"$error":"#VALUE!"},{"$error":"#VALUE!"},{"$error":"#VALUE!"},2,0,{"$error":"#VALUE!"},{"$error":"#VALUE!"},{"$error":"#VALUE!"},{"$error":"#VALUE!"},{"$error":"#VALUE!"},{"$error":"#VALUE!"},{"$error":"#VALUE!"},{"$error":"#VALUE!"},{"$error":"#VALUE!"},{"$error":"#VALUE!"},{"$error":"#VALUE!"},{"$error":"#VALUE!"},{"$error":"#VALUE!"},{"$error":"#VALUE!"},{"$error":"#VALUE!"},{"$error":"#VALUE!"},{"$error":"#VALUE!"},{"$error":"#VALUE!"},{"$error":"#VALUE!"},{"$error":"#VALUE!"},{"$error":"#VALUE!"},{"$error":"#VALUE!"},{"$error":"#VALUE!"},{"$error":"#VALUE!"},{"$error":"#VALUE!"},{"$error":"#VALUE!"},{"$error":"#VALUE!"},{"$error":"#VALUE!"},{"$error":"#VALUE!"},{"$error":"#VALUE!"},{"$error":"#VALUE!"},{"$error":"#VALUE!"},{"$error":"#VALUE!"}]
[null,null,null,null,null,null,null,null,null,null,null,null,null,null,null,null,null,null,null,null,null,null,null,3,null,null,null,null,null,null,null,null,null,"N/A",null,false,null,null,null,null,3,null,null,null,null,null,null,null,null,null,null,null,{"$f":"IF(AND(BB235=\"OK\",BC235=\"OK\",BD235=\"OK\"),\"OK\",\"ERR!\")","v":"ERR!"},"OK",{"$f":"IF(OR(SUM(BN235:BX235)<>1,SUM(BY235:CI235)<>1,SUM(CJ235:CT235)<>1,SUM(CU235:DE235)<>1,SUM(DF235:DP235)<>1,SUM(DQ235:EA235)<>1),\"ERR!\",\"OK\")","v":"ERR!"},{"$f":"IF(AND(OR(BE235=BK235,BE235=0),OR(BF235=BK235,BF235=0),OR(BG235=BK235,BG235=0),OR(BH235=BK235,BH235=0),OR(BI235=BK235,BI235=0),OR(BJ235=BK235,BJ235=0)),\"OK\",\"ERR!\")","v":"OK"},0,0,0,0,0,0,{"$f":"MAX(BE235:BJ235)","v":0},null,3,null,null,null,null,null,null,null,null,null,null,null,null,null,null,null,null,null,null,null,null,null,null,null,null,null,null,null,null,null,null,null,null,null,null,null,null,null,null,null,null,null,null,null,null,null,null,null,null,null,null,null,null,null,null,null,null,null,null,null,null,null,null,null,null,null,null,null,3,{"$error":"#VALUE!"},{"$error":"#VALUE!"},{"$error":"#VALUE!"},{"$error":"#VALUE!"},{"$error":"#VALUE!"},{"$error":"#VALUE!"},{"$error":"#VALUE!"},{"$error":"#VALUE!"},{"$error":"#VALUE!"},{"$error":"#VALUE!"},{"$error":"#VALUE!"},{"$error":"#VALUE!"},{"$error":"#VALUE!"},{"$error":"#VALUE!"},{"$error":"#VALUE!"},{"$error":"#VALUE!"},{"$error":"#VALUE!"},{"$error":"#VALUE!"},null,3,0,{"$error":"#VALUE!"},{"$error":"#VALUE!"},{"$error":"#VALUE!"},{"$error":"#VALUE!"},{"$error":"#VALUE!"},{"$error":"#VALUE!"},{"$error":"#VALUE!"},{"$error":"#VALUE!"},{"$error":"#VALUE!"},{"$error":"#VALUE!"},{"$error":"#VALUE!"},{"$error":"#VALUE!"},{"$error":"#VALUE!"},{"$error":"#VALUE!"},{"$error":"#VALUE!"},{"$error":"#VALUE!"},{"$error":"#VALUE!"},{"$error":"#VALUE!"},{"$error":"#VALUE!"},{"$error":"#VALUE!"},{"$error":"#VALUE!"},{"$error":"#VALUE!"},{"$error":"#VALUE!"},{"$error":"#VALUE!"},{"$error":"#VALUE!"},{"$error":"#VALUE!"},{"$error":"#VALUE!"},{"$error":"#VALUE!"},{"$error":"#VALUE!"},{"$error":"#VALUE!"},{"$error":"#VALUE!"},{"$error":"#VALUE!"},{"$error":"#VALUE!"},3,0,{"$error":"#VALUE!"},{"$error":"#VALUE!"},{"$error":"#VALUE!"},{"$error":"#VALUE!"},{"$error":"#VALUE!"},{"$error":"#VALUE!"},{"$error":"#VALUE!"},{"$error":"#VALUE!"},{"$error":"#VALUE!"},{"$error":"#VALUE!"},{"$error":"#VALUE!"},{"$error":"#VALUE!"},{"$error":"#VALUE!"},{"$error":"#VALUE!"},{"$error":"#VALUE!"},{"$error":"#VALUE!"},{"$error":"#VALUE!"},{"$error":"#VALUE!"},{"$error":"#VALUE!"},{"$error":"#VALUE!"},{"$error":"#VALUE!"},{"$error":"#VALUE!"},{"$error":"#VALUE!"},{"$error":"#VALUE!"},{"$error":"#VALUE!"},{"$error":"#VALUE!"},{"$error":"#VALUE!"},{"$error":"#VALUE!"},{"$error":"#VALUE!"},{"$error":"#VALUE!"},{"$error":"#VALUE!"},{"$error":"#VALUE!"},{"$error":"#VALUE!"},3,0,{"$error":"#VALUE!"},{"$error":"#VALUE!"},{"$error":"#VALUE!"},{"$error":"#VALUE!"},{"$error":"#VALUE!"},{"$error":"#VALUE!"},{"$error":"#VALUE!"},{"$error":"#VALUE!"},{"$error":"#VALUE!"},{"$error":"#VALUE!"},{"$error":"#VALUE!"},{"$error":"#VALUE!"},{"$error":"#VALUE!"},{"$error":"#VALUE!"},{"$error":"#VALUE!"},{"$error":"#VALUE!"},{"$error":"#VALUE!"},{"$error":"#VALUE!"},{"$error":"#VALUE!"},{"$error":"#VALUE!"},{"$error":"#VALUE!"},{"$error":"#VALUE!"},{"$error":"#VALUE!"},{"$error":"#VALUE!"},{"$error":"#VALUE!"},{"$error":"#VALUE!"},{"$error":"#VALUE!"},{"$error":"#VALUE!"},{"$error":"#VALUE!"},{"$error":"#VALUE!"},{"$error":"#VALUE!"},{"$error":"#VALUE!"},{"$error":"#VALUE!"},3,0,{"$error":"#VALUE!"},{"$error":"#VALUE!"},{"$error":"#VALUE!"},{"$error":"#VALUE!"},{"$error":"#VALUE!"},{"$error":"#VALUE!"},{"$error":"#VALUE!"},{"$error":"#VALUE!"},{"$error":"#VALUE!"},{"$error":"#VALUE!"},{"$error":"#VALUE!"},{"$error":"#VALUE!"},{"$error":"#VALUE!"},{"$error":"#VALUE!"},{"$error":"#VALUE!"},{"$error":"#VALUE!"},{"$error":"#VALUE!"},{"$error":"#VALUE!"},{"$error":"#VALUE!"},{"$error":"#VALUE!"},{"$error":"#VALUE!"},{"$error":"#VALUE!"},{"$error":"#VALUE!"},{"$error":"#VALUE!"},{"$error":"#VALUE!"},{"$error":"#VALUE!"},{"$error":"#VALUE!"},{"$error":"#VALUE!"},{"$error":"#VALUE!"},{"$error":"#VALUE!"},{"$error":"#VALUE!"},{"$error":"#VALUE!"},{"$error":"#VALUE!"},3,0,{"$error":"#VALUE!"},{"$error":"#VALUE!"},{"$error":"#VALUE!"},{"$error":"#VALUE!"},{"$error":"#VALUE!"},{"$error":"#VALUE!"},{"$error":"#VALUE!"},{"$error":"#VALUE!"},{"$error":"#VALUE!"},{"$error":"#VALUE!"},{"$error":"#VALUE!"},{"$error":"#VALUE!"},{"$error":"#VALUE!"},{"$error":"#VALUE!"},{"$error":"#VALUE!"},{"$error":"#VALUE!"},{"$error":"#VALUE!"},{"$error":"#VALUE!"},{"$error":"#VALUE!"},{"$error":"#VALUE!"},{"$error":"#VALUE!"},{"$error":"#VALUE!"},{"$error":"#VALUE!"},{"$error":"#VALUE!"},{"$error":"#VALUE!"},{"$error":"#VALUE!"},{"$error":"#VALUE!"},{"$error":"#VALUE!"},{"$error":"#VALUE!"},{"$error":"#VALUE!"},{"$error":"#VALUE!"},{"$error":"#VALUE!"},{"$error":"#VALUE!"},3,0,{"$error":"#VALUE!"},{"$error":"#VALUE!"},{"$error":"#VALUE!"},{"$error":"#VALUE!"},{"$error":"#VALUE!"},{"$error":"#VALUE!"},{"$error":"#VALUE!"},{"$error":"#VALUE!"},{"$error":"#VALUE!"},{"$error":"#VALUE!"},{"$error":"#VALUE!"},{"$error":"#VALUE!"},{"$error":"#VALUE!"},{"$error":"#VALUE!"},{"$error":"#VALUE!"},{"$error":"#VALUE!"},{"$error":"#VALUE!"},{"$error":"#VALUE!"},{"$error":"#VALUE!"},{"$error":"#VALUE!"},{"$error":"#VALUE!"},{"$error":"#VALUE!"},{"$error":"#VALUE!"},{"$error":"#VALUE!"},{"$error":"#VALUE!"},{"$error":"#VALUE!"},{"$error":"#VALUE!"},{"$error":"#VALUE!"},{"$error":"#VALUE!"},{"$error":"#VALUE!"},{"$error":"#VALUE!"},{"$error":"#VALUE!"},{"$error":"#VALUE!"}]
[null,null,null,null,null,null,null,null,null,null,null,null,null,null,null,null,null,null,null,null,null,null,null,4,null,null,null,null,null,null,null,null,null,"N/A",null,false,null,null,null,null,4,null,null,null,null,null,null,null,null,null,null,null,{"$f":"IF(AND(BB236=\"OK\",BC236=\"OK\",BD236=\"OK\"),\"OK\",\"ERR!\")","v":"ERR!"},"OK","ERR!",{"$f":"IF(AND(OR(BE236=BK236,BE236=0),OR(BF236=BK236,BF236=0),OR(BG236=BK236,BG236=0),OR(BH236=BK236,BH236=0),OR(BI236=BK236,BI236=0),OR(BJ236=BK236,BJ236=0)),\"OK\",\"ERR!\")","v":"OK"},0,0,0,0,0,0,0,null,4,null,null,null,null,null,null,null,null,null,null,null,null,null,null,null,null,null,null,null,null,null,null,null,null,null,null,null,null,null,null,null,null,null,null,null,null,null,null,null,null,null,null,null,null,null,null,null,null,null,null,null,null,null,null,null,null,null,null,null,null,null,null,null,null,null,null,null,4,{"$error":"#VALUE!"},{"$error":"#VALUE!"},{"$error":"#VALUE!"},{"$error":"#VALUE!"},{"$error":"#VALUE!"},{"$error":"#VALUE!"},{"$error":"#VALUE!"},{"$error":"#VALUE!"},{"$error":"#VALUE!"},{"$error":"#VALUE!"},{"$error":"#VALUE!"},{"$error":"#VALUE!"},{"$error":"#VALUE!"},{"$error":"#VALUE!"},{"$error":"#VALUE!"},{"$error":"#VALUE!"},{"$error":"#VALUE!"},{"$error":"#VALUE!"},null,4,0,{"$error":"#VALUE!"},{"$error":"#VALUE!"},{"$error":"#VALUE!"},{"$error":"#VALUE!"},{"$error":"#VALUE!"},{"$error":"#VALUE!"},{"$error":"#VALUE!"},{"$error":"#VALUE!"},{"$error":"#VALUE!"},{"$error":"#VALUE!"},{"$error":"#VALUE!"},{"$error":"#VALUE!"},{"$error":"#VALUE!"},{"$error":"#VALUE!"},{"$error":"#VALUE!"},{"$error":"#VALUE!"},{"$error":"#VALUE!"},{"$error":"#VALUE!"},{"$error":"#VALUE!"},{"$error":"#VALUE!"},{"$error":"#VALUE!"},{"$error":"#VALUE!"},{"$error":"#VALUE!"},{"$error":"#VALUE!"},{"$error":"#VALUE!"},{"$error":"#VALUE!"},{"$error":"#VALUE!"},{"$error":"#VALUE!"},{"$error":"#VALUE!"},{"$error":"#VALUE!"},{"$error":"#VALUE!"},{"$error":"#VALUE!"},{"$error":"#VALUE!"},4,0,{"$error":"#VALUE!"},{"$error":"#VALUE!"},{"$error":"#VALUE!"},{"$error":"#VALUE!"},{"$error":"#VALUE!"},{"$error":"#VALUE!"},{"$error":"#VALUE!"},{"$error":"#VALUE!"},{"$error":"#VALUE!"},{"$error":"#VALUE!"},{"$error":"#VALUE!"},{"$error":"#VALUE!"},{"$error":"#VALUE!"},{"$error":"#VALUE!"},{"$error":"#VALUE!"},{"$error":"#VALUE!"},{"$error":"#VALUE!"},{"$error":"#VALUE!"},{"$error":"#VALUE!"},{"$error":"#VALUE!"},{"$error":"#VALUE!"},{"$error":"#VALUE!"},{"$error":"#VALUE!"},{"$error":"#VALUE!"},{"$error":"#VALUE!"},{"$error":"#VALUE!"},{"$error":"#VALUE!"},{"$error":"#VALUE!"},{"$error":"#VALUE!"},{"$error":"#VALUE!"},{"$error":"#VALUE!"},{"$error":"#VALUE!"},{"$error":"#VALUE!"},4,0,{"$error":"#VALUE!"},{"$error":"#VALUE!"},{"$error":"#VALUE!"},{"$error":"#VALUE!"},{"$error":"#VALUE!"},{"$error":"#VALUE!"},{"$error":"#VALUE!"},{"$error":"#VALUE!"},{"$error":"#VALUE!"},{"$error":"#VALUE!"},{"$error":"#VALUE!"},{"$error":"#VALUE!"},{"$error":"#VALUE!"},{"$error":"#VALUE!"},{"$error":"#VALUE!"},{"$error":"#VALUE!"},{"$error":"#VALUE!"},{"$error":"#VALUE!"},{"$error":"#VALUE!"},{"$error":"#VALUE!"},{"$error":"#VALUE!"},{"$error":"#VALUE!"},{"$error":"#VALUE!"},{"$error":"#VALUE!"},{"$error":"#VALUE!"},{"$error":"#VALUE!"},{"$error":"#VALUE!"},{"$error":"#VALUE!"},{"$error":"#VALUE!"},{"$error":"#VALUE!"},{"$error":"#VALUE!"},{"$error":"#VALUE!"},{"$error":"#VALUE!"},4,0,{"$error":"#VALUE!"},{"$error":"#VALUE!"},{"$error":"#VALUE!"},{"$error":"#VALUE!"},{"$error":"#VALUE!"},{"$error":"#VALUE!"},{"$error":"#VALUE!"},{"$error":"#VALUE!"},{"$error":"#VALUE!"},{"$error":"#VALUE!"},{"$error":"#VALUE!"},{"$error":"#VALUE!"},{"$error":"#VALUE!"},{"$error":"#VALUE!"},{"$error":"#VALUE!"},{"$error":"#VALUE!"},{"$error":"#VALUE!"},{"$error":"#VALUE!"},{"$error":"#VALUE!"},{"$error":"#VALUE!"},{"$error":"#VALUE!"},{"$error":"#VALUE!"},{"$error":"#VALUE!"},{"$error":"#VALUE!"},{"$error":"#VALUE!"},{"$error":"#VALUE!"},{"$error":"#VALUE!"},{"$error":"#VALUE!"},{"$error":"#VALUE!"},{"$error":"#VALUE!"},{"$error":"#VALUE!"},{"$error":"#VALUE!"},{"$error":"#VALUE!"},4,0,{"$error":"#VALUE!"},{"$error":"#VALUE!"},{"$error":"#VALUE!"},{"$error":"#VALUE!"},{"$error":"#VALUE!"},{"$error":"#VALUE!"},{"$error":"#VALUE!"},{"$error":"#VALUE!"},{"$error":"#VALUE!"},{"$error":"#VALUE!"},{"$error":"#VALUE!"},{"$error":"#VALUE!"},{"$error":"#VALUE!"},{"$error":"#VALUE!"},{"$error":"#VALUE!"},{"$error":"#VALUE!"},{"$error":"#VALUE!"},{"$error":"#VALUE!"},{"$error":"#VALUE!"},{"$error":"#VALUE!"},{"$error":"#VALUE!"},{"$error":"#VALUE!"},{"$error":"#VALUE!"},{"$error":"#VALUE!"},{"$error":"#VALUE!"},{"$error":"#VALUE!"},{"$error":"#VALUE!"},{"$error":"#VALUE!"},{"$error":"#VALUE!"},{"$error":"#VALUE!"},{"$error":"#VALUE!"},{"$error":"#VALUE!"},{"$error":"#VALUE!"},4,0,{"$error":"#VALUE!"},{"$error":"#VALUE!"},{"$error":"#VALUE!"},{"$error":"#VALUE!"},{"$error":"#VALUE!"},{"$error":"#VALUE!"},{"$error":"#VALUE!"},{"$error":"#VALUE!"},{"$error":"#VALUE!"},{"$error":"#VALUE!"},{"$error":"#VALUE!"},{"$error":"#VALUE!"},{"$error":"#VALUE!"},{"$error":"#VALUE!"},{"$error":"#VALUE!"},{"$error":"#VALUE!"},{"$error":"#VALUE!"},{"$error":"#VALUE!"},{"$error":"#VALUE!"},{"$error":"#VALUE!"},{"$error":"#VALUE!"},{"$error":"#VALUE!"},{"$error":"#VALUE!"},{"$error":"#VALUE!"},{"$error":"#VALUE!"},{"$error":"#VALUE!"},{"$error":"#VALUE!"},{"$error":"#VALUE!"},{"$error":"#VALUE!"},{"$error":"#VALUE!"},{"$error":"#VALUE!"},{"$error":"#VALUE!"},{"$error":"#VALUE!"}]
[null,null,null,null,null,null,null,null,null,null,null,null,null,null,null,null,null,null,null,null,null,null,null,7,null,null,null,null,null,null,null,null,null,"N/A",null,false,null,null,null,null,7,null,null,null,null,null,null,null,null,null,null,null,{"$f":"IF(AND(BB237=\"OK\",BC237=\"OK\",BD237=\"OK\"),\"OK\",\"ERR!\")","v":"ERR!"},"OK","ERR!","OK",0,0,0,0,0,0,0,null,7,null,null,null,null,null,null,null,null,null,null,null,null,null,null,null,null,null,null,null,null,null,null,null,null,null,null,null,null,null,null,null,null,null,null,null,null,null,null,null,null,null,null,null,null,null,null,null,null,null,null,null,null,null,null,null,null,null,null,null,null,null,null,null,null,null,null,null,7,{"$error":"#VALUE!"},{"$error":"#VALUE!"},{"$error":"#VALUE!"},{"$error":"#VALUE!"},{"$error":"#VALUE!"},{"$error":"#VALUE!"},{"$error":"#VALUE!"},{"$error":"#VALUE!"},{"$error":"#VALUE!"},{"$error":"#VALUE!"},{"$error":"#VALUE!"},{"$error":"#VALUE!"},{"$error":"#VALUE!"},{"$error":"#VALUE!"},{"$error":"#VALUE!"},{"$error":"#VALUE!"},{"$error":"#VALUE!"},{"$error":"#VALUE!"},null,7,0,{"$error":"#VALUE!"},{"$error":"#VALUE!"},{"$error":"#VALUE!"},{"$error":"#VALUE!"},{"$error":"#VALUE!"},{"$error":"#VALUE!"},{"$error":"#VALUE!"},{"$error":"#VALUE!"},{"$error":"#VALUE!"},{"$error":"#VALUE!"},{"$error":"#VALUE!"},{"$error":"#VALUE!"},{"$error":"#VALUE!"},{"$error":"#VALUE!"},{"$error":"#VALUE!"},{"$error":"#VALUE!"},{"$error":"#VALUE!"},{"$error":"#VALUE!"},{"$error":"#VALUE!"},{"$error":"#VALUE!"},{"$error":"#VALUE!"},{"$error":"#VALUE!"},{"$error":"#VALUE!"},{"$error":"#VALUE!"},{"$error":"#VALUE!"},{"$error":"#VALUE!"},{"$error":"#VALUE!"},{"$error":"#VALUE!"},{"$error":"#VALUE!"},{"$error":"#VALUE!"},{"$error":"#VALUE!"},{"$error":"#VALUE!"},{"$error":"#VALUE!"},7,0,{"$error":"#VALUE!"},{"$error":"#VALUE!"},{"$error":"#VALUE!"},{"$error":"#VALUE!"},{"$error":"#VALUE!"},{"$error":"#VALUE!"},{"$error":"#VALUE!"},{"$error":"#VALUE!"},{"$error":"#VALUE!"},{"$error":"#VALUE!"},{"$error":"#VALUE!"},{"$error":"#VALUE!"},{"$error":"#VALUE!"},{"$error":"#VALUE!"},{"$error":"#VALUE!"},{"$error":"#VALUE!"},{"$error":"#VALUE!"},{"$error":"#VALUE!"},{"$error":"#VALUE!"},{"$error":"#VALUE!"},{"$error":"#VALUE!"},{"$error":"#VALUE!"},{"$error":"#VALUE!"},{"$error":"#VALUE!"},{"$error":"#VALUE!"},{"$error":"#VALUE!"},{"$error":"#VALUE!"},{"$error":"#VALUE!"},{"$error":"#VALUE!"},{"$error":"#VALUE!"},{"$error":"#VALUE!"},{"$error":"#VALUE!"},{"$error":"#VALUE!"},7,0,{"$error":"#VALUE!"},{"$error":"#VALUE!"},{"$error":"#VALUE!"},{"$error":"#VALUE!"},{"$error":"#VALUE!"},{"$error":"#VALUE!"},{"$error":"#VALUE!"},{"$error":"#VALUE!"},{"$error":"#VALUE!"},{"$error":"#VALUE!"},{"$error":"#VALUE!"},{"$error":"#VALUE!"},{"$error":"#VALUE!"},{"$error":"#VALUE!"},{"$error":"#VALUE!"},{"$error":"#VALUE!"},{"$error":"#VALUE!"},{"$error":"#VALUE!"},{"$error":"#VALUE!"},{"$error":"#VALUE!"},{"$error":"#VALUE!"},{"$error":"#VALUE!"},{"$error":"#VALUE!"},{"$error":"#VALUE!"},{"$error":"#VALUE!"},{"$error":"#VALUE!"},{"$error":"#VALUE!"},{"$error":"#VALUE!"},{"$error":"#VALUE!"},{"$error":"#VALUE!"},{"$error":"#VALUE!"},{"$error":"#VALUE!"},{"$error":"#VALUE!"},7,0,{"$error":"#VALUE!"},{"$error":"#VALUE!"},{"$error":"#VALUE!"},{"$error":"#VALUE!"},{"$error":"#VALUE!"},{"$error":"#VALUE!"},{"$error":"#VALUE!"},{"$error":"#VALUE!"},{"$error":"#VALUE!"},{"$error":"#VALUE!"},{"$error":"#VALUE!"},{"$error":"#VALUE!"},{"$error":"#VALUE!"},{"$error":"#VALUE!"},{"$error":"#VALUE!"},{"$error":"#VALUE!"},{"$error":"#VALUE!"},{"$error":"#VALUE!"},{"$error":"#VALUE!"},{"$error":"#VALUE!"},{"$error":"#VALUE!"},{"$error":"#VALUE!"},{"$error":"#VALUE!"},{"$error":"#VALUE!"},{"$error":"#VALUE!"},{"$error":"#VALUE!"},{"$error":"#VALUE!"},{"$error":"#VALUE!"},{"$error":"#VALUE!"},{"$error":"#VALUE!"},{"$error":"#VALUE!"},{"$error":"#VALUE!"},{"$error":"#VALUE!"},7,0,{"$error":"#VALUE!"},{"$error":"#VALUE!"},{"$error":"#VALUE!"},{"$error":"#VALUE!"},{"$error":"#VALUE!"},{"$error":"#VALUE!"},{"$error":"#VALUE!"},{"$error":"#VALUE!"},{"$error":"#VALUE!"},{"$error":"#VALUE!"},{"$error":"#VALUE!"},{"$error":"#VALUE!"},{"$error":"#VALUE!"},{"$error":"#VALUE!"},{"$error":"#VALUE!"},{"$error":"#VALUE!"},{"$error":"#VALUE!"},{"$error":"#VALUE!"},{"$error":"#VALUE!"},{"$error":"#VALUE!"},{"$error":"#VALUE!"},{"$error":"#VALUE!"},{"$error":"#VALUE!"},{"$error":"#VALUE!"},{"$error":"#VALUE!"},{"$error":"#VALUE!"},{"$error":"#VALUE!"},{"$error":"#VALUE!"},{"$error":"#VALUE!"},{"$error":"#VALUE!"},{"$error":"#VALUE!"},{"$error":"#VALUE!"},{"$error":"#VALUE!"},7,0,{"$error":"#VALUE!"},{"$error":"#VALUE!"},{"$error":"#VALUE!"},{"$error":"#VALUE!"},{"$error":"#VALUE!"},{"$error":"#VALUE!"},{"$error":"#VALUE!"},{"$error":"#VALUE!"},{"$error":"#VALUE!"},{"$error":"#VALUE!"},{"$error":"#VALUE!"},{"$error":"#VALUE!"},{"$error":"#VALUE!"},{"$error":"#VALUE!"},{"$error":"#VALUE!"},{"$error":"#VALUE!"},{"$error":"#VALUE!"},{"$error":"#VALUE!"},{"$error":"#VALUE!"},{"$error":"#VALUE!"},{"$error":"#VALUE!"},{"$error":"#VALUE!"},{"$error":"#VALUE!"},{"$error":"#VALUE!"},{"$error":"#VALUE!"},{"$error":"#VALUE!"},{"$error":"#VALUE!"},{"$error":"#VALUE!"},{"$error":"#VALUE!"},{"$error":"#VALUE!"},{"$error":"#VALUE!"},{"$error":"#VALUE!"},{"$error":"#VALUE!"}]
[null,null,null,null,null,null,null,null,null,null,null,null,null,null,null,null,null,null,null,null,null,null,null,8,null,null,null,null,null,null,null,null,null,"N/A",null,false,null,null,null,null,8,null,null,null,null,null,null,null,null,null,null,null,"ERR!","OK","ERR!","OK",0,0,0,0,0,0,0,null,8,null,null,null,null,null,null,null,null,null,null,null,null,null,null,null,null,null,null,null,null,null,null,null,null,null,null,null,null,null,null,null,null,null,null,null,null,null,null,null,null,null,null,null,null,null,null,null,null,null,null,null,null,null,null,null,null,null,null,null,null,null,null,null,null,null,null,null,8,{"$error":"#VALUE!"},{"$error":"#VALUE!"},{"$error":"#VALUE!"},{"$error":"#VALUE!"},{"$error":"#VALUE!"},{"$error":"#VALUE!"},{"$error":"#VALUE!"},{"$error":"#VALUE!"},{"$error":"#VALUE!"},{"$error":"#VALUE!"},{"$error":"#VALUE!"},{"$error":"#VALUE!"},{"$error":"#VALUE!"},{"$error":"#VALUE!"},{"$error":"#VALUE!"},{"$error":"#VALUE!"},{"$error":"#VALUE!"},{"$error":"#VALUE!"},null,8,0,{"$error":"#VALUE!"},{"$error":"#VALUE!"},{"$error":"#VALUE!"},{"$error":"#VALUE!"},{"$error":"#VALUE!"},{"$error":"#VALUE!"},{"$error":"#VALUE!"},{"$error":"#VALUE!"},{"$error":"#VALUE!"},{"$error":"#VALUE!"},{"$error":"#VALUE!"},{"$error":"#VALUE!"},{"$error":"#VALUE!"},{"$error":"#VALUE!"},{"$error":"#VALUE!"},{"$error":"#VALUE!"},{"$error":"#VALUE!"},{"$error":"#VALUE!"},{"$error":"#VALUE!"},{"$error":"#VALUE!"},{"$error":"#VALUE!"},{"$error":"#VALUE!"},{"$error":"#VALUE!"},{"$error":"#VALUE!"},{"$error":"#VALUE!"},{"$error":"#VALUE!"},{"$error":"#VALUE!"},{"$error":"#VALUE!"},{"$error":"#VALUE!"},{"$error":"#VALUE!"},{"$error":"#VALUE!"},{"$error":"#VALUE!"},{"$error":"#VALUE!"},8,0,{"$error":"#VALUE!"},{"$error":"#VALUE!"},{"$error":"#VALUE!"},{"$error":"#VALUE!"},{"$error":"#VALUE!"},{"$error":"#VALUE!"},{"$error":"#VALUE!"},{"$error":"#VALUE!"},{"$error":"#VALUE!"},{"$error":"#VALUE!"},{"$error":"#VALUE!"},{"$error":"#VALUE!"},{"$error":"#VALUE!"},{"$error":"#VALUE!"},{"$error":"#VALUE!"},{"$error":"#VALUE!"},{"$error":"#VALUE!"},{"$error":"#VALUE!"},{"$error":"#VALUE!"},{"$error":"#VALUE!"},{"$error":"#VALUE!"},{"$error":"#VALUE!"},{"$error":"#VALUE!"},{"$error":"#VALUE!"},{"$error":"#VALUE!"},{"$error":"#VALUE!"},{"$error":"#VALUE!"},{"$error":"#VALUE!"},{"$error":"#VALUE!"},{"$error":"#VALUE!"},{"$error":"#VALUE!"},{"$error":"#VALUE!"},{"$error":"#VALUE!"},8,0,{"$error":"#VALUE!"},{"$error":"#VALUE!"},{"$error":"#VALUE!"},{"$error":"#VALUE!"},{"$error":"#VALUE!"},{"$error":"#VALUE!"},{"$error":"#VALUE!"},{"$error":"#VALUE!"},{"$error":"#VALUE!"},{"$error":"#VALUE!"},{"$error":"#VALUE!"},{"$error":"#VALUE!"},{"$error":"#VALUE!"},{"$error":"#VALUE!"},{"$error":"#VALUE!"},{"$error":"#VALUE!"},{"$error":"#VALUE!"},{"$error":"#VALUE!"},{"$error":"#VALUE!"},{"$error":"#VALUE!"},{"$error":"#VALUE!"},{"$error":"#VALUE!"},{"$error":"#VALUE!"},{"$error":"#VALUE!"},{"$error":"#VALUE!"},{"$error":"#VALUE!"},{"$error":"#VALUE!"},{"$error":"#VALUE!"},{"$error":"#VALUE!"},{"$error":"#VALUE!"},{"$error":"#VALUE!"},{"$error":"#VALUE!"},{"$error":"#VALUE!"},8,0,{"$error":"#VALUE!"},{"$error":"#VALUE!"},{"$error":"#VALUE!"},{"$error":"#VALUE!"},{"$error":"#VALUE!"},{"$error":"#VALUE!"},{"$error":"#VALUE!"},{"$error":"#VALUE!"},{"$error":"#VALUE!"},{"$error":"#VALUE!"},{"$error":"#VALUE!"},{"$error":"#VALUE!"},{"$error":"#VALUE!"},{"$error":"#VALUE!"},{"$error":"#VALUE!"},{"$error":"#VALUE!"},{"$error":"#VALUE!"},{"$error":"#VALUE!"},{"$error":"#VALUE!"},{"$error":"#VALUE!"},{"$error":"#VALUE!"},{"$error":"#VALUE!"},{"$error":"#VALUE!"},{"$error":"#VALUE!"},{"$error":"#VALUE!"},{"$error":"#VALUE!"},{"$error":"#VALUE!"},{"$error":"#VALUE!"},{"$error":"#VALUE!"},{"$error":"#VALUE!"},{"$error":"#VALUE!"},{"$error":"#VALUE!"},{"$error":"#VALUE!"},8,0,{"$error":"#VALUE!"},{"$error":"#VALUE!"},{"$error":"#VALUE!"},{"$error":"#VALUE!"},{"$error":"#VALUE!"},{"$error":"#VALUE!"},{"$error":"#VALUE!"},{"$error":"#VALUE!"},{"$error":"#VALUE!"},{"$error":"#VALUE!"},{"$error":"#VALUE!"},{"$error":"#VALUE!"},{"$error":"#VALUE!"},{"$error":"#VALUE!"},{"$error":"#VALUE!"},{"$error":"#VALUE!"},{"$error":"#VALUE!"},{"$error":"#VALUE!"},{"$error":"#VALUE!"},{"$error":"#VALUE!"},{"$error":"#VALUE!"},{"$error":"#VALUE!"},{"$error":"#VALUE!"},{"$error":"#VALUE!"},{"$error":"#VALUE!"},{"$error":"#VALUE!"},{"$error":"#VALUE!"},{"$error":"#VALUE!"},{"$error":"#VALUE!"},{"$error":"#VALUE!"},{"$error":"#VALUE!"},{"$error":"#VALUE!"},{"$error":"#VALUE!"},8,0,{"$error":"#VALUE!"},{"$error":"#VALUE!"},{"$error":"#VALUE!"},{"$error":"#VALUE!"},{"$error":"#VALUE!"},{"$error":"#VALUE!"},{"$error":"#VALUE!"},{"$error":"#VALUE!"},{"$error":"#VALUE!"},{"$error":"#VALUE!"},{"$error":"#VALUE!"},{"$error":"#VALUE!"},{"$error":"#VALUE!"},{"$error":"#VALUE!"},{"$error":"#VALUE!"},{"$error":"#VALUE!"},{"$error":"#VALUE!"},{"$error":"#VALUE!"},{"$error":"#VALUE!"},{"$error":"#VALUE!"},{"$error":"#VALUE!"},{"$error":"#VALUE!"},{"$error":"#VALUE!"},{"$error":"#VALUE!"},{"$error":"#VALUE!"},{"$error":"#VALUE!"},{"$error":"#VALUE!"},{"$error":"#VALUE!"},{"$error":"#VALUE!"},{"$error":"#VALUE!"},{"$error":"#VALUE!"},{"$error":"#VALUE!"},{"$error":"#VALUE!"}]
[null,null,null,null,null,null,null,null,null,null,null,null,null,null,null,null,null,null,null,null,null,null,null,9,null,null,null,null,null,null,null,null,null,"N/A",null,false,null,null,null,null,9,null,null,null,null,null,null,null,null,null,null,null,"ERR!","OK","ERR!","OK",0,0,0,{"$f":"(CU239*POWER(10,0)+CV239*POWER(10,1)+CW239*POWER(10,2)+CX239*POWER(10,3)+CY239*POWER(10,4)+CZ239*POWER(10,5)+DA239*POWER(10,6)+DB239*POWER(10,7)+DC239*POWER(10,8)+DD239*POWER(10,9)+DE239*POWER(10,10))","v":0},{"$f":"(DF239*POWER(10,0)+DG239*POWER(10,1)+DH239*POWER(10,2)+DI239*POWER(10,3)+DJ239*POWER(10,4)+DK239*POWER(10,5)+DL239*POWER(10,6)+DM239*POWER(10,7)+DN239*POWER(10,8)+DO239*POWER(10,9)+DP239*POWER(10,10))","v":0},0,0,null,9,null,null,null,null,null,null,null,null,null,null,null,null,null,null,null,null,null,null,null,null,null,null,null,null,null,null,null,null,null,null,null,null,null,null,null,null,null,null,null,null,null,null,null,null,null,null,null,null,null,null,null,null,null,null,null,null,null,null,null,null,null,null,null,null,null,null,null,9,{"$error":"#VALUE!"},{"$error":"#VALUE!"},{"$error":"#VALUE!"},{"$error":"#VALUE!"},{"$error":"#VALUE!"},{"$error":"#VALUE!"},{"$error":"#VALUE!"},{"$error":"#VALUE!"},{"$error":"#VALUE!"},{"$error":"#VALUE!"},{"$error":"#VALUE!"},{"$error":"#VALUE!"},{"$error":"#VALUE!"},{"$error":"#VALUE!"},{"$error":"#VALUE!"},{"$error":"#VALUE!"},{"$error":"#VALUE!"},{"$error":"#VALUE!"},null,9,0,{"$error":"#VALUE!"},{"$error":"#VALUE!"},{"$error":"#VALUE!"},{"$error":"#VALUE!"},{"$error":"#VALUE!"},{"$error":"#VALUE!"},{"$error":"#VALUE!"},{"$error":"#VALUE!"},{"$error":"#VALUE!"},{"$error":"#VALUE!"},{"$error":"#VALUE!"},{"$error":"#VALUE!"},{"$error":"#VALUE!"},{"$error":"#VALUE!"},{"$error":"#VALUE!"},{"$error":"#VALUE!"},{"$error":"#VALUE!"},{"$error":"#VALUE!"},{"$error":"#VALUE!"},{"$error":"#VALUE!"},{"$error":"#VALUE!"},{"$error":"#VALUE!"},{"$error":"#VALUE!"},{"$error":"#VALUE!"},{"$error":"#VALUE!"},{"$error":"#VALUE!"},{"$error":"#VALUE!"},{"$error":"#VALUE!"},{"$error":"#VALUE!"},{"$error":"#VALUE!"},{"$error":"#VALUE!"},{"$error":"#VALUE!"},{"$error":"#VALUE!"},9,0,{"$error":"#VALUE!"},{"$error":"#VALUE!"},{"$error":"#VALUE!"},{"$error":"#VALUE!"},{"$error":"#VALUE!"},{"$error":"#VALUE!"},{"$error":"#VALUE!"},{"$error":"#VALUE!"},{"$error":"#VALUE!"},{"$error":"#VALUE!"},{"$error":"#VALUE!"},{"$error":"#VALUE!"},{"$error":"#VALUE!"},{"$error":"#VALUE!"},{"$error":"#VALUE!"},{"$error":"#VALUE!"},{"$error":"#VALUE!"},{"$error":"#VALUE!"},{"$error":"#VALUE!"},{"$error":"#VALUE!"},{"$error":"#VALUE!"},{"$error":"#VALUE!"},{"$error":"#VALUE!"},{"$error":"#VALUE!"},{"$error":"#VALUE!"},{"$error":"#VALUE!"},{"$error":"#VALUE!"},{"$error":"#VALUE!"},{"$error":"#VALUE!"},{"$error":"#VALUE!"},{"$error":"#VALUE!"},{"$error":"#VALUE!"},{"$error":"#VALUE!"},9,0,{"$error":"#VALUE!"},{"$error":"#VALUE!"},{"$error":"#VALUE!"},{"$error":"#VALUE!"},{"$error":"#VALUE!"},{"$error":"#VALUE!"},{"$error":"#VALUE!"},{"$error":"#VALUE!"},{"$error":"#VALUE!"},{"$error":"#VALUE!"},{"$error":"#VALUE!"},{"$error":"#VALUE!"},{"$error":"#VALUE!"},{"$error":"#VALUE!"},{"$error":"#VALUE!"},{"$error":"#VALUE!"},{"$error":"#VALUE!"},{"$error":"#VALUE!"},{"$error":"#VALUE!"},{"$error":"#VALUE!"},{"$error":"#VALUE!"},{"$error":"#VALUE!"},{"$error":"#VALUE!"},{"$error":"#VALUE!"},{"$error":"#VALUE!"},{"$error":"#VALUE!"},{"$error":"#VALUE!"},{"$error":"#VALUE!"},{"$error":"#VALUE!"},{"$error":"#VALUE!"},{"$error":"#VALUE!"},{"$error":"#VALUE!"},{"$error":"#VALUE!"},9,0,{"$error":"#VALUE!"},{"$error":"#VALUE!"},{"$error":"#VALUE!"},{"$error":"#VALUE!"},{"$error":"#VALUE!"},{"$error":"#VALUE!"},{"$error":"#VALUE!"},{"$error":"#VALUE!"},{"$error":"#VALUE!"},{"$error":"#VALUE!"},{"$error":"#VALUE!"},{"$error":"#VALUE!"},{"$error":"#VALUE!"},{"$error":"#VALUE!"},{"$error":"#VALUE!"},{"$error":"#VALUE!"},{"$error":"#VALUE!"},{"$error":"#VALUE!"},{"$error":"#VALUE!"},{"$error":"#VALUE!"},{"$error":"#VALUE!"},{"$error":"#VALUE!"},{"$error":"#VALUE!"},{"$error":"#VALUE!"},{"$error":"#VALUE!"},{"$error":"#VALUE!"},{"$error":"#VALUE!"},{"$error":"#VALUE!"},{"$error":"#VALUE!"},{"$error":"#VALUE!"},{"$error":"#VALUE!"},{"$error":"#VALUE!"},{"$error":"#VALUE!"},9,0,{"$error":"#VALUE!"},{"$error":"#VALUE!"},{"$error":"#VALUE!"},{"$error":"#VALUE!"},{"$error":"#VALUE!"},{"$error":"#VALUE!"},{"$error":"#VALUE!"},{"$error":"#VALUE!"},{"$error":"#VALUE!"},{"$error":"#VALUE!"},{"$error":"#VALUE!"},{"$error":"#VALUE!"},{"$error":"#VALUE!"},{"$error":"#VALUE!"},{"$error":"#VALUE!"},{"$error":"#VALUE!"},{"$error":"#VALUE!"},{"$error":"#VALUE!"},{"$error":"#VALUE!"},{"$error":"#VALUE!"},{"$error":"#VALUE!"},{"$error":"#VALUE!"},{"$error":"#VALUE!"},{"$error":"#VALUE!"},{"$error":"#VALUE!"},{"$error":"#VALUE!"},{"$error":"#VALUE!"},{"$error":"#VALUE!"},{"$error":"#VALUE!"},{"$error":"#VALUE!"},{"$error":"#VALUE!"},{"$error":"#VALUE!"},{"$error":"#VALUE!"},9,0,{"$error":"#VALUE!"},{"$error":"#VALUE!"},{"$error":"#VALUE!"},{"$error":"#VALUE!"},{"$error":"#VALUE!"},{"$error":"#VALUE!"},{"$error":"#VALUE!"},{"$error":"#VALUE!"},{"$error":"#VALUE!"},{"$error":"#VALUE!"},{"$error":"#VALUE!"},{"$error":"#VALUE!"},{"$error":"#VALUE!"},{"$error":"#VALUE!"},{"$error":"#VALUE!"},{"$error":"#VALUE!"},{"$error":"#VALUE!"},{"$error":"#VALUE!"},{"$error":"#VALUE!"},{"$error":"#VALUE!"},{"$error":"#VALUE!"},{"$error":"#VALUE!"},{"$error":"#VALUE!"},{"$error":"#VALUE!"},{"$error":"#VALUE!"},{"$error":"#VALUE!"},{"$error":"#VALUE!"},{"$error":"#VALUE!"},{"$error":"#VALUE!"},{"$error":"#VALUE!"},{"$error":"#VALUE!"},{"$error":"#VALUE!"},{"$error":"#VALUE!"}]
[null,null,null,null,null,null,null,null,null,null,null,null,null,null,null,null,null,null,null,null,null,null,null,"Total",{"$f":"SUM(Y233:Y239)","v":0},{"$f":"SUM(Z233:Z239)","v":0},0,0,0,0,null,null,null,"N/A",null,false,null,null,null,null,"Total",null,null,null,null,null,null,null,null,null,null,null,null,null,null,null,null,null,null,null,null,null,null,null,"Total",null,null,null,null,null,null,null,null,null,null,null,null,null,null,null,null,null,null,null,null,null,null,null,null,null,null,null,null,null,null,null,null,null,null,null,null,null,null,null,null,null,null,null,null,null,null,null,null,null,null,null,null,null,null,null,null,null,null,null,null,null,null,null,null,null,null,null,"Total",{"$f":"SUM(ED233:ED239)","v":{"$error":"#VALUE!"}},{"$f":"SUM(EE233:EE239)","v":{"$error":"#VALUE!"}},{"$f":"SUM(EF233:EF239)","v":{"$error":"#VALUE!"}},{"$f":"SUM(EG233:EG239)","v":{"$error":"#VALUE!"}},{"$f":"SUM(EH233:EH239)","v":{"$error":"#VALUE!"}},{"$f":"SUM(EI233:EI239)","v":{"$error":"#VALUE!"}},{"$error":"#VALUE!"},{"$error":"#VALUE!"},{"$error":"#VALUE!"},{"$error":"#VALUE!"},{"$error":"#VALUE!"},{"$error":"#VALUE!"},{"$error":"#VALUE!"},{"$error":"#VALUE!"},{"$error":"#VALUE!"},{"$error":"#VALUE!"},{"$error":"#VALUE!"},{"$error":"#VALUE!"},null,"Total",{"$f":"SUM(EX233:EX239)","v":0},{"$f":"SUM(EY233:EY239)","v":{"$error":"#VALUE!"}},{"$f":"SUM(EZ233:EZ239)","v":{"$error":"#VALUE!"}},{"$error":"#VALUE!"},{"$error":"#VALUE!"},{"$f":"SUM(FC233:FC239)","v":{"$error":"#VALUE!"}},{"$f":"SUM(FD233:FD239)","v":{"$error":"#VALUE!"}},{"$error":"#VALUE!"},{"$error":"#VALUE!"},{"$error":"#VALUE!"},{"$error":"#VALUE!"},{"$error":"#VALUE!"},{"$error":"#VALUE!"},{"$error":"#VALUE!"},{"$error":"#VALUE!"},{"$error":"#VALUE!"},{"$f":"SUM(FN233:FN239)","v":{"$error":"#VALUE!"}},{"$f":"SUM(FO233:FO239)","v":{"$error":"#VALUE!"}},{"$f":"SUM(FP233:FP239)","v":{"$error":"#VALUE!"}},{"$f":"SUM(FQ233:FQ239)","v":{"$error":"#VALUE!"}},{"$error":"#VALUE!"},{"$error":"#VALUE!"},{"$error":"#VALUE!"},{"$error":"#VALUE!"},{"$error":"#VALUE!"},{"$error":"#VALUE!"},{"$error":"#VALUE!"},{"$error":"#VALUE!"},{"$error":"#VALUE!"},{"$error":"#VALUE!"},{"$error":"#VALUE!"},{"$f":"SUM(GC233:GC239)","v":{"$error":"#VALUE!"}},{"$f":"SUM(GD233:GD239)","v":{"$error":"#VALUE!"}},{"$error":"#VALUE!"},"Total",{"$f":"SUM(GG233:GG239)","v":0},{"$f":"SUM(GH233:GH239)","v":{"$error":"#VALUE!"}},{"$f":"SUM(GI233:GI239)","v":{"$error":"#VALUE!"}},{"$error":"#VALUE!"},{"$error":"#VALUE!"},{"$f":"SUM(GL233:GL239)","v":{"$error":"#VALUE!"}},{"$f":"SUM(GM233:GM239)","v":{"$error":"#VALUE!"}},{"$f":"SUM(GN233:GN239)","v":{"$error":"#VALUE!"}},{"$error":"#VALUE!"},{"$error":"#VALUE!"},{"$error":"#VALUE!"},{"$error":"#VALUE!"},{"$error":"#VALUE!"},{"$error":"#VALUE!"},{"$error":"#VALUE!"},{"$error":"#VALUE!"},{"$f":"SUM(GW233:GW239)","v":{"$error":"#VALUE!"}},{"$f":"SUM(GX233:GX239)","v":{"$error":"#VALUE!"}},{"$f":"SUM(GY233:GY239)","v":{"$error":"#VALUE!"}},{"$f":"SUM(GZ233:GZ239)","v":{"$error":"#VALUE!"}},{"$error":"#VALUE!"},{"$error":"#VALUE!"},{"$error":"#VALUE!"},{"$error":"#VALUE!"},{"$error":"#VALUE!"},{"$error":"#VALUE!"},{"$error":"#VALUE!"},{"$error":"#VALUE!"},{"$error":"#VALUE!"},{"$error":"#VALUE!"},{"$error":"#VALUE!"},{"$f":"SUM(HL233:HL239)","v":{"$error":"#VALUE!"}},{"$f":"SUM(HM233:HM239)","v":{"$error":"#VALUE!"}},{"$error":"#VALUE!"},"Total",{"$f":"SUM(HP233:HP239)","v":0},{"$f":"SUM(HQ233:HQ239)","v":{"$error":"#VALUE!"}},{"$f":"SUM(HR233:HR239)","v":{"$error":"#VALUE!"}},{"$error":"#VALUE!"},{"$error":"#VALUE!"},{"$f":"SUM(HU233:HU239)","v":{"$error":"#VALUE!"}},{"$f":"SUM(HV233:HV239)","v":{"$error":"#VALUE!"}},{"$error":"#VALUE!"},{"$error":"#VALUE!"},{"$error":"#VALUE!"},{"$error":"#VALUE!"},{"$error":"#VALUE!"},{"$error":"#VALUE!"},{"$error":"#VALUE!"},{"$error":"#VALUE!"},{"$error":"#VALUE!"},{"$f":"SUM(IF233:IF239)","v":{"$error":"#VALUE!"}},{"$f":"SUM(IG233:IG239)","v":{"$error":"#VALUE!"}},{"$f":"SUM(IH233:IH239)","v":{"$error":"#VALUE!"}},{"$f":"SUM(II233:II239)","v":{"$error":"#VALUE!"}},{"$error":"#VALUE!"},{"$error":"#VALUE!"},{"$error":"#VALUE!"},{"$error":"#VALUE!"},{"$error":"#VALUE!"},{"$error":"#VALUE!"},{"$error":"#VALUE!"},{"$error":"#VALUE!"},{"$error":"#VALUE!"},{"$error":"#VALUE!"},{"$error":"#VALUE!"},{"$f":"SUM(IU233:IU239)","v":{"$error":"#VALUE!"}},{"$f":"SUM(IV233:IV239)","v":{"$error":"#VALUE!"}},{"$error":"#VALUE!"},"Total",{"$f":"SUM(IY233:IY239)","v":0},{"$f":"SUM(IZ233:IZ239)","v":{"$error":"#VALUE!"}},{"$f":"SUM(JA233:JA239)","v":{"$error":"#VALUE!"}},{"$error":"#VALUE!"},{"$error":"#VALUE!"},{"$f":"SUM(JD233:JD239)","v":{"$error":"#VALUE!"}},{"$f":"SUM(JE233:JE239)","v":{"$error":"#VALUE!"}},{"$error":"#VALUE!"},{"$error":"#VALUE!"},{"$error":"#VALUE!"},{"$error":"#VALUE!"},{"$error":"#VALUE!"},{"$error":"#VALUE!"},{"$error":"#VALUE!"},{"$error":"#VALUE!"},{"$error":"#VALUE!"},{"$f":"SUM(JO233:JO239)","v":{"$error":"#VALUE!"}},{"$f":"SUM(JP233:JP239)","v":{"$error":"#VALUE!"}},{"$f":"SUM(JQ233:JQ239)","v":{"$error":"#VALUE!"}},{"$f":"SUM(JR233:JR239)","v":{"$error":"#VALUE!"}},{"$error":"#VALUE!"},{"$error":"#VALUE!"},{"$error":"#VALUE!"},{"$error":"#VALUE!"},{"$error":"#VALUE!"},{"$error":"#VALUE!"},{"$error":"#VALUE!"},{"$error":"#VALUE!"},{"$error":"#VALUE!"},{"$error":"#VALUE!"},{"$error":"#VALUE!"},{"$f":"SUM(KD233:KD239)","v":{"$error":"#VALUE!"}},{"$f":"SUM(KE233:KE239)","v":{"$error":"#VALUE!"}},{"$error":"#VALUE!"},"Total",{"$f":"SUM(KH233:KH239)","v":0},{"$f":"SUM(KI233:KI239)","v":{"$error":"#VALUE!"}},{"$f":"SUM(KJ233:KJ239)","v":{"$error":"#VALUE!"}},{"$error":"#VALUE!"},{"$error":"#VALUE!"},{"$f":"SUM(KM233:KM239)","v":{"$error":"#VALUE!"}},{"$f":"SUM(KN233:KN239)","v":{"$error":"#VALUE!"}},{"$error":"#VALUE!"},{"$error":"#VALUE!"},{"$error":"#VALUE!"},{"$error":"#VALUE!"},{"$error":"#VALUE!"},{"$error":"#VALUE!"},{"$error":"#VALUE!"},{"$error":"#VALUE!"},{"$error":"#VALUE!"},{"$f":"SUM(KX233:KX239)","v":{"$error":"#VALUE!"}},{"$f":"SUM(KY233:KY239)","v":{"$error":"#VALUE!"}},{"$f":"SUM(KZ233:KZ239)","v":{"$error":"#VALUE!"}},{"$f":"SUM(LA233:LA239)","v":{"$error":"#VALUE!"}},{"$error":"#VALUE!"},{"$error":"#VALUE!"},{"$error":"#VALUE!"},{"$error":"#VALUE!"},{"$error":"#VALUE!"},{"$error":"#VALUE!"},{"$error":"#VALUE!"},{"$error":"#VALUE!"},{"$error":"#VALUE!"},{"$error":"#VALUE!"},{"$error":"#VALUE!"},{"$f":"SUM(LM233:LM239)","v":{"$error":"#VALUE!"}},{"$f":"SUM(LN233:LN239)","v":{"$error":"#VALUE!"}},{"$error":"#VALUE!"},"Total",{"$f":"SUM(LQ233:LQ239)","v":0},{"$f":"SUM(LR233:LR239)","v":{"$error":"#VALUE!"}},{"$f":"SUM(LS233:LS239)","v":{"$error":"#VALUE!"}},{"$error":"#VALUE!"},{"$error":"#VALUE!"},{"$f":"SUM(LV233:LV239)","v":{"$error":"#VALUE!"}},{"$f":"SUM(LW233:LW239)","v":{"$error":"#VALUE!"}},{"$error":"#VALUE!"},{"$error":"#VALUE!"},{"$error":"#VALUE!"},{"$error":"#VALUE!"},{"$error":"#VALUE!"},{"$error":"#VALUE!"},{"$error":"#VALUE!"},{"$error":"#VALUE!"},{"$f":"SUM(MF233:MF239)","v":{"$error":"#VALUE!"}},{"$f":"SUM(MG233:MG239)","v":{"$error":"#VALUE!"}},{"$f":"SUM(MH233:MH239)","v":{"$error":"#VALUE!"}},{"$f":"SUM(MI233:MI239)","v":{"$error":"#VALUE!"}},{"$f":"SUM(MJ233:MJ239)","v":{"$error":"#VALUE!"}},{"$error":"#VALUE!"},{"$error":"#VALUE!"},{"$error":"#VALUE!"},{"$error":"#VALUE!"},{"$error":"#VALUE!"},{"$error":"#VALUE!"},{"$error":"#VALUE!"},{"$error":"#VALUE!"},{"$error":"#VALUE!"},{"$error":"#VALUE!"},{"$error":"#VALUE!"},{"$f":"SUM(MV233:MV239)","v":{"$error":"#VALUE!"}},{"$f":"SUM(MW233:MW239)","v":{"$error":"#VALUE!"}},{"$error":"#VALUE!"}]
[null,{"$f":"B233+1","v":27},{"$f":"'Regional Project List Sheet'!F31","v":0},{"$f":"IF('Regional Project List Sheet'!$G31=\"New\",1,\"\")","v":""},{"$f":"IF('Regional Project List Sheet'!$G31=\"Funded Old\",1,\"\")","v":""},{"$f":"IF('Regional Project List Sheet'!$G31=\"Unfunded Old\",1,\"\")","v":""},{"$f":"'Regional Project List Sheet'!H31","v":0},{"$f":"'Regional Project List Sheet'!I31","v":0},{"$f":"'Regional Project List Sheet'!L31","v":0},{"$f":"'Regional Project List Sheet'!M31","v":0},{"$f":"'Regional Project List Sheet'!N31","v":0},{"$f":"'Regional Project List Sheet'!O31","v":0},{"$f":"'Regional Project List Sheet'!P31","v":0},{"$f":"IF('Regional Project List Sheet'!$Q31=\"N/A\",\"N/A\",IF($Y244<>0,5,IF($Z244<>0,4,IF($AA244<>0,3,IF($AB244<>0,2,1)))))","v":1},{"$f":"VLOOKUP($C241,'[2]Ranking|Priority'!$B$5:$O$40,12,FALSE)","v":{"$error":"#N/A"}},{"$f":"VLOOKUP($C241,'[2]Ranking|Priority'!$B$5:$O$68,13,FALSE)","v":{"$error":"#N/A"}},{"$f":"VLOOKUP($C241,'[2]Ranking|Priority'!$B$5:$O$68,14,FALSE)","v":{"$error":"#N/A"}},{"$f":"'Regional Project List Sheet'!T31","v":0},{"$f":"'Regional Project List Sheet'!U31","v":0},{"$f":"'Regional Project List Sheet'!V31","v":0},{"$f":"'Regional Project List Sheet'!W31","v":0},{"$f":"'Regional Project List Sheet'!X31","v":0},{"$f":"'Regional Project List Sheet'!Y31","v":"Choose from Project List in cell I2"},0,null,null,null,null,null,null,null,{"$f":"'Regional Project List Sheet'!AJ31","v":0},{"$f":"IF(OR('Regional Project List Sheet'!$AA31<>'Regional Project List Sheet'!$A$40,'Regional Project List Sheet'!$AD31<>'Regional Project List Sheet'!$A$40,'Regional Project List Sheet'!$AG31<>'Regional Project List Sheet'!$A$40),_xlfn.CONCAT(IF(ISNUMBER('Regional Project List Sheet'!$AA31),'Regional Project List Sheet'!$A$36,\"\"),\" \",IF(ISNUMBER('Regional Project List Sheet'!$AD31),'Regional Project List Sheet'!$A$37,\"\"),\" \",IF(ISNUMBER('Regional Project List Sheet'!$AG31),'Regional Project List Sheet'!$A$38,\"\")),\"N/A\")","v":"N/A"},"N/A",{"$f":"IF(OR('Regional Project List Sheet'!AC31<>'Regional Project List Sheet'!$A$40,'Regional Project List Sheet'!AF31<>'Regional Project List Sheet'!$A$40,'Regional Project List Sheet'!AI31<>'Regional Project List Sheet'!$A$40),\n\nIF(LEN(_xlfn.CONCAT(IF('Regional Project List Sheet'!AC31=\"Yes\",'Regional Project List Sheet'!$A$36,\"\"),\" \",\n\nIF('Regional Project List Sheet'!AF31=\"Yes\",'Regional Project List Sheet'!$A$37,\"\"),\" \",\n\nIF('Regional Project List Sheet'!AI31=\"Yes\",'Regional Project List Sheet'!$A$38,\"\")))<3,\"No\",\n\n_xlfn.CONCAT(IF('Regional Project List Sheet'!AC31=\"Yes\",'Regional Project List Sheet'!$A$36,\"\"),\" \",\n\nIF('Regional Project List Sheet'!AF31=\"Yes\",'Regional Project List Sheet'!$A$37,\"\"),\" \",\n\nIF('Regional Project List Sheet'!AI31=\"Yes\",'Regional Project List Sheet'!$A$38,\"\"))))","v":false},false,{"$f":"'Regional Project List Sheet'!AK31","v":0},null,{"$f":"'Regional Project List Sheet'!AL31","v":0},null,0,null,null,null,null,null,null,null,null,null,null,1,{"$f":"IF(AND(BB241=\"OK\",BC241=\"OK\",BD241=\"OK\"),\"OK\",\"ERR!\")","v":"ERR!"},{"$f":"IF(AND(Y241>0,SUM(BN241:BX241)<1),\"ERR!\",IF(AND(Z241>0,SUM(BY241:CI241)<1),\"ERR!\",IF(AND(AA241>0,SUM(CJ241:CT241)<1),\"ERR\",IF(AND(AB241>0,SUM(CU241:DE241)<1),\"ERR\",IF(AND(AC241>0,SUM(DF241:DP241)<1),\"ERR\",IF(AND(AD241>0,SUM(DQ241:EA241)<1),\"ERR\",\"OK\"))))))","v":"OK"},{"$f":"IF(OR(SUM(BN241:BX241)<>1,SUM(BY241:CI241)<>1,SUM(CJ241:CT241)<>1,SUM(CU241:DE241)<>1,SUM(DF241:DP241)<>1,SUM(DQ241:EA241)<>1),\"ERR!\",\"OK\")","v":"ERR!"},{"$f":"IF(AND(OR(BE241=BK241,BE241=0),OR(BF241=BK241,BF241=0),OR(BG241=BK241,BG241=0),OR(BH241=BK241,BH241=0),OR(BI241=BK241,BI241=0),OR(BJ241=BK241,BJ241=0)),\"OK\",\"ERR!\")","v":"OK"},{"$f":"(BN241*POWER(10,0)+BO241*POWER(10,1)+BP241*POWER(10,2)+BQ241*POWER(10,3)+BR241*POWER(10,4)+BS241*POWER(10,5)+BT241*POWER(10,6)+BU241*POWER(10,7)+BV241*POWER(10,8)+BW241*POWER(10,9)+BX241*POWER(10,10))","v":0},{"$f":"(BY241*POWER(10,0)+BZ241*POWER(10,1)+CA241*POWER(10,2)+CB241*POWER(10,3)+CC241*POWER(10,4)+CD241*POWER(10,5)+CE241*POWER(10,6)+CF241*POWER(10,7)+CG241*POWER(10,8)+CH241*POWER(10,9)+CI241*POWER(10,10))","v":0},{"$f":"(CJ241*POWER(10,0)+CK241*POWER(10,1)+CL241*POWER(10,2)+CM241*POWER(10,3)+CN241*POWER(10,4)+CO241*POWER(10,5)+CP241*POWER(10,6)+CQ241*POWER(10,7)+CR241*POWER(10,8)+CS241*POWER(10,9)+CT241*POWER(10,10))","v":0},{"$f":"(CU241*POWER(10,0)+CV241*POWER(10,1)+CW241*POWER(10,2)+CX241*POWER(10,3)+CY241*POWER(10,4)+CZ241*POWER(10,5)+DA241*POWER(10,6)+DB241*POWER(10,7)+DC241*POWER(10,8)+DD241*POWER(10,9)+DE241*POWER(10,10))","v":0},{"$f":"(DF241*POWER(10,0)+DG241*POWER(10,1)+DH241*POWER(10,2)+DI241*POWER(10,3)+DJ241*POWER(10,4)+DK241*POWER(10,5)+DL241*POWER(10,6)+DM241*POWER(10,7)+DN241*POWER(10,8)+DO241*POWER(10,9)+DP241*POWER(10,10))","v":0},{"$f":"(DQ241*POWER(10,0)+DR241*POWER(10,1)+DS241*POWER(10,2)+DT241*POWER(10,3)+DU241*POWER(10,4)+DV241*POWER(10,5)+DW241*POWER(10,6)+DX241*POWER(10,7)+DY241*POWER(10,8)+DZ241*POWER(10,9)+EA241*POWER(10,10))","v":0},{"$f":"MAX(BE241:BJ241)","v":0},null,0,null,null,null,null,null,null,null,null,null,null,null,null,null,null,null,null,null,null,null,null,null,null,null,null,null,null,null,null,null,null,null,null,null,null,null,null,null,null,null,null,null,null,null,null,null,null,null,null,null,null,null,null,null,null,null,null,null,null,null,null,null,null,null,null,null,null,null,0,{"$f":"($Y241*D$241)/1000","v":{"$error":"#VALUE!"}},{"$error":"#VALUE!"},{"$error":"#VALUE!"},{"$f":"($Z241*D$241)/1000","v":{"$error":"#VALUE!"}},{"$error":"#VALUE!"},{"$error":"#VALUE!"},{"$f":"($AA241*D$241)/1000","v":{"$error":"#VALUE!"}},{"$error":"#VALUE!"},{"$error":"#VALUE!"},{"$f":"($AB241*D$241)/1000","v":{"$error":"#VALUE!"}},{"$error":"#VALUE!"},{"$error":"#VALUE!"},{"$f":"($AC241*D$241)/1000","v":{"$error":"#VALUE!"}},{"$error":"#VALUE!"},{"$error":"#VALUE!"},{"$f":"($AD241*D$241)/1000","v":{"$error":"#VALUE!"}},{"$error":"#VALUE!"},{"$error":"#VALUE!"},null,0,{"$f":"$AZ$241*$Y241","v":0},{"$f":"($AZ$241*$BN241*D$241*$Y241)/1000","v":{"$error":"#VALUE!"}},{"$error":"#VALUE!"},{"$error":"#VALUE!"},{"$f":"($AZ$241*$BO241*D$241*$Y241)/1000","v":{"$error":"#VALUE!"}},{"$error":"#VALUE!"},{"$error":"#VALUE!"},{"$f":"($AZ$241*$BP241*D$241*$Y241)/1000","v":{"$error":"#VALUE!"}},{"$error":"#VALUE!"},{"$error":"#VALUE!"},{"$f":"($AZ$241*$BQ241*D$241*$Y241)/1000","v":{"$error":"#VALUE!"}},{"$error":"#VALUE!"},{"$error":"#VALUE!"},{"$f":"($AZ$241*$BR241*D$241*$Y241)/1000","v":{"$error":"#VALUE!"}},{"$error":"#VALUE!"},{"$error":"#VALUE!"},{"$f":"($AZ$241*$BS241*D$241*$Y241)/1000","v":{"$error":"#VALUE!"}},{"$error":"#VALUE!"},{"$error":"#VALUE!"},{"$f":"($AZ$241*$BT241*D$241*$Y241)/1000","v":{"$error":"#VALUE!"}},{"$error":"#VALUE!"},{"$error":"#VALUE!"},{"$f":"($AZ$241*$BU241*D$241*$Y241)/1000","v":{"$error":"#VALUE!"}},{"$error":"#VALUE!"},{"$error":"#VALUE!"},{"$f":"($AZ$241*$BV241*D$241*$Y241)/1000","v":{"$error":"#VALUE!"}},{"$error":"#VALUE!"},{"$error":"#VALUE!"},{"$f":"($AZ$241*$BW241*D$241*$Y241)/1000","v":{"$error":"#VALUE!"}},{"$error":"#VALUE!"},{"$error":"#VALUE!"},{"$f":"($AZ$241*$BX241*D$241*$Y241)/1000","v":{"$error":"#VALUE!"}},{"$error":"#VALUE!"},{"$error":"#VALUE!"},0,{"$f":"$AZ$241*$Z241","v":0},{"$f":"($AZ$241*$BY241*D$241*$Z241)/1000","v":{"$error":"#VALUE!"}},{"$error":"#VALUE!"},{"$error":"#VALUE!"},{"$f":"($AZ$241*$BZ241*D$241*$Z241)/1000","v":{"$error":"#VALUE!"}},{"$error":"#VALUE!"},{"$error":"#VALUE!"},{"$f":"($AZ$241*$CA241*D$241*$Z241)/1000","v":{"$error":"#VALUE!"}},{"$error":"#VALUE!"},{"$error":"#VALUE!"},{"$f":"($AZ$241*$CB241*D$241*$Z241)/1000","v":{"$error":"#VALUE!"}},{"$error":"#VALUE!"},{"$error":"#VALUE!"},{"$f":"($AZ$241*$CD241*D$241*$Z241)/1000","v":{"$error":"#VALUE!"}},{"$error":"#VALUE!"},{"$error":"#VALUE!"},{"$f":"($AZ$241*$CD241*D$241*$Z241)/1000","v":{"$error":"#VALUE!"}},{"$error":"#VALUE!"},{"$error":"#VALUE!"},{"$f":"($AZ$241*$CE241*D$241*$Z241)/1000","v":{"$error":"#VALUE!"}},{"$error":"#VALUE!"},{"$error":"#VALUE!"},{"$f":"($AZ$241*$CF241*D$241*$Z241)/1000","v":{"$error":"#VALUE!"}},{"$error":"#VALUE!"},{"$error":"#VALUE!"},{"$f":"($AZ$241*$CG241*D$241*$Z241)/1000","v":{"$error":"#VALUE!"}},{"$error":"#VALUE!"},{"$error":"#VALUE!"},{"$f":"($AZ$241*$CH241*D$241*$Z241)/1000","v":{"$error":"#VALUE!"}},{"$error":"#VALUE!"},{"$error":"#VALUE!"},{"$f":"($AZ$241*$CI241*D$241*$Z241)/1000","v":{"$error":"#VALUE!"}},{"$error":"#VALUE!"},{"$error":"#VALUE!"},0,{"$f":"$AZ$241*$AA241","v":0},{"$f":"($AZ$241*$CJ241*D$241*$AA241)/1000","v":{"$error":"#VALUE!"}},{"$error":"#VALUE!"},{"$error":"#VALUE!"},{"$f":"($AZ$241*$CK241*D$241*$AA241)/1000","v":{"$error":"#VALUE!"}},{"$error":"#VALUE!"},{"$error":"#VALUE!"},{"$f":"($AZ$241*$CL241*D$241*$AA241)/1000","v":{"$error":"#VALUE!"}},{"$error":"#VALUE!"},{"$error":"#VALUE!"},{"$f":"($AZ$241*$CM241*D$241*$AA241)/1000","v":{"$error":"#VALUE!"}},{"$error":"#VALUE!"},{"$error":"#VALUE!"},{"$f":"($AZ$241*$CN241*D$241*$AA241)/1000","v":{"$error":"#VALUE!"}},{"$error":"#VALUE!"},{"$error":"#VALUE!"},{"$f":"($AZ$241*$CO241*D$241*$AA241)/1000","v":{"$error":"#VALUE!"}},{"$error":"#VALUE!"},{"$error":"#VALUE!"},{"$f":"($AZ$241*$CP241*D$241*$AA241)/1000","v":{"$error":"#VALUE!"}},{"$error":"#VALUE!"},{"$error":"#VALUE!"},{"$f":"($AZ$241*$CQ241*D$241*$AA241)/1000","v":{"$error":"#VALUE!"}},{"$error":"#VALUE!"},{"$error":"#VALUE!"},{"$f":"($AZ$241*$CR241*D$241*$AA241)/1000","v":{"$error":"#VALUE!"}},{"$error":"#VALUE!"},{"$error":"#VALUE!"},{"$f":"($AZ$241*$CS241*D$241*$AA241)/1000","v":{"$error":"#VALUE!"}},{"$error":"#VALUE!"},{"$error":"#VALUE!"},{"$f":"($AZ$241*$CT241*D$241*$AA241)/1000","v":{"$error":"#VALUE!"}},{"$error":"#VALUE!"},{"$error":"#VALUE!"},0,{"$f":"$AZ$241*$AB241","v":0},{"$f":"($AZ$241*$CU241*D$241*$AB241)/1000","v":{"$error":"#VALUE!"}},{"$error":"#VALUE!"},{"$error":"#VALUE!"},{"$f":"($AZ$241*$CV241*D$241*$AB241)/1000","v":{"$error":"#VALUE!"}},{"$error":"#VALUE!"},{"$error":"#VALUE!"},{"$f":"($AZ$241*$CW241*D$241*$AB241)/1000","v":{"$error":"#VALUE!"}},{"$error":"#VALUE!"},{"$error":"#VALUE!"},{"$f":"($AZ$241*$CX241*D$241*$AB241)/1000","v":{"$error":"#VALUE!"}},{"$error":"#VALUE!"},{"$error":"#VALUE!"},{"$f":"($AZ$241*$CY241*D$241*$AB241)/1000","v":{"$error":"#VALUE!"}},{"$error":"#VALUE!"},{"$error":"#VALUE!"},{"$f":"($AZ$241*$CZ241*D$241*$AB241)/1000","v":{"$error":"#VALUE!"}},{"$error":"#VALUE!"},{"$error":"#VALUE!"},{"$f":"($AZ$241*$DA241*D$241*$AB241)/1000","v":{"$error":"#VALUE!"}},{"$error":"#VALUE!"},{"$error":"#VALUE!"},{"$f":"($AZ$241*$DB241*D$241*$AB241)/1000","v":{"$error":"#VALUE!"}},{"$error":"#VALUE!"},{"$error":"#VALUE!"},{"$f":"($AZ$241*$DC241*D$241*$AB241)/1000","v":{"$error":"#VALUE!"}},{"$error":"#VALUE!"},{"$error":"#VALUE!"},{"$f":"($AZ$241*$DD241*D$241*$AB241)/1000","v":{"$error":"#VALUE!"}},{"$error":"#VALUE!"},{"$error":"#VALUE!"},{"$f":"($AZ$241*$DE241*D$241*$AB241)/1000","v":{"$error":"#VALUE!"}},{"$error":"#VALUE!"},{"$error":"#VALUE!"},0,{"$f":"$AZ$241*$AC241","v":0},{"$f":"($AZ$241*$DF241*D$241*$AC241)/1000","v":{"$error":"#VALUE!"}},{"$error":"#VALUE!"},{"$error":"#VALUE!"},{"$f":"($AZ$241*$DG241*D$241*$AC241)/1000","v":{"$error":"#VALUE!"}},{"$error":"#VALUE!"},{"$error":"#VALUE!"},{"$f":"($AZ$241*$DH241*D$241*$AC241)/1000","v":{"$error":"#VALUE!"}},{"$error":"#VALUE!"},{"$error":"#VALUE!"},{"$f":"($AZ$241*$DI241*D$241*$AC241)/1000","v":{"$error":"#VALUE!"}},{"$error":"#VALUE!"},{"$error":"#VALUE!"},{"$f":"($AZ$241*$DJ241*D$241*$AC241)/1000","v":{"$error":"#VALUE!"}},{"$error":"#VALUE!"},{"$error":"#VALUE!"},{"$f":"($AZ$241*$DK241*D$241*$AC241)/1000","v":{"$error":"#VALUE!"}},{"$error":"#VALUE!"},{"$error":"#VALUE!"},{"$f":"($AZ$241*$DL241*D$241*$AC241)/1000","v":{"$error":"#VALUE!"}},{"$error":"#VALUE!"},{"$error":"#VALUE!"},{"$f":"($AZ$241*$DM241*D$241*$AC241)/1000","v":{"$error":"#VALUE!"}},{"$error":"#VALUE!"},{"$error":"#VALUE!"},{"$f":"($AZ$241*$DN241*D$241*$AC241)/1000","v":{"$error":"#VALUE!"}},{"$error":"#VALUE!"},{"$error":"#VALUE!"},{"$f":"($AZ$241*$DO241*D$241*$AC241)/1000","v":{"$error":"#VALUE!"}},{"$error":"#VALUE!"},{"$error":"#VALUE!"},{"$f":"($AZ$241*$DP241*D$241*$AC241)/1000","v":{"$error":"#VALUE!"}},{"$error":"#VALUE!"},{"$error":"#VALUE!"},0,{"$f":"$AZ$241*$AD241","v":0},{"$f":"($AZ$241*$DQ241*D$241*$AD241)/1000","v":{"$error":"#VALUE!"}},{"$error":"#VALUE!"},{"$error":"#VALUE!"},{"$f":"($AZ$241*$DR241*D$241*$AD241)/1000","v":{"$error":"#VALUE!"}},{"$error":"#VALUE!"},{"$error":"#VALUE!"},{"$f":"($AZ$241*$DS241*D$241*$AD241)/1000","v":{"$error":"#VALUE!"}},{"$error":"#VALUE!"},{"$error":"#VALUE!"},{"$f":"($AZ$241*$DT241*D$241*$AD241)/1000","v":{"$error":"#VALUE!"}},{"$error":"#VALUE!"},{"$error":"#VALUE!"},{"$f":"($AZ$241*$DU241*D$241*$AD241)/1000","v":{"$error":"#VALUE!"}},{"$error":"#VALUE!"},{"$error":"#VALUE!"},{"$f":"($AZ$241*$DV241*D$241*$AD241)/1000","v":{"$error":"#VALUE!"}},{"$error":"#VALUE!"},{"$error":"#VALUE!"},{"$f":"($AZ$241*$DW241*D$241*$AD241)/1000","v":{"$error":"#VALUE!"}},{"$error":"#VALUE!"},{"$error":"#VALUE!"},{"$f":"($AZ$241*$DX241*D$241*$AD241)/1000","v":{"$error":"#VALUE!"}},{"$error":"#VALUE!"},{"$error":"#VALUE!"},{"$f":"($AZ$241*$DY241*D$241*$AD241)/1000","v":{"$error":"#VALUE!"}},{"$error":"#VALUE!"},{"$error":"#VALUE!"},{"$f":"($AZ$241*$DZ241*D$241*$AD241)/1000","v":{"$error":"#VALUE!"}},{"$error":"#VALUE!"},{"$error":"#VALUE!"},{"$f":"($AZ$241*$EA241*D$241*$AD241)/1000","v":{"$error":"#VALUE!"}},{"$error":"#VALUE!"},{"$error":"#VALUE!"}]
[null,null,null,null,null,null,null,null,null,null,null,null,null,null,null,null,null,null,null,null,null,null,null,2,null,null,null,null,null,null,null,null,null,"N/A",null,false,null,null,null,null,2,null,null,null,null,null,null,null,null,null,null,null,{"$f":"IF(AND(BB242=\"OK\",BC242=\"OK\",BD242=\"OK\"),\"OK\",\"ERR!\")","v":"ERR!"},"OK",{"$f":"IF(OR(SUM(BN242:BX242)<>1,SUM(BY242:CI242)<>1,SUM(CJ242:CT242)<>1,SUM(CU242:DE242)<>1,SUM(DF242:DP242)<>1,SUM(DQ242:EA242)<>1),\"ERR!\",\"OK\")","v":"ERR!"},{"$f":"IF(AND(OR(BE242=BK242,BE242=0),OR(BF242=BK242,BF242=0),OR(BG242=BK242,BG242=0),OR(BH242=BK242,BH242=0),OR(BI242=BK242,BI242=0),OR(BJ242=BK242,BJ242=0)),\"OK\",\"ERR!\")","v":"OK"},{"$f":"(BN242*POWER(10,0)+BO242*POWER(10,1)+BP242*POWER(10,2)+BQ242*POWER(10,3)+BR242*POWER(10,4)+BS242*POWER(10,5)+BT242*POWER(10,6)+BU242*POWER(10,7)+BV242*POWER(10,8)+BW242*POWER(10,9)+BX242*POWER(10,10))","v":0},{"$f":"(BY242*POWER(10,0)+BZ242*POWER(10,1)+CA242*POWER(10,2)+CB242*POWER(10,3)+CC242*POWER(10,4)+CD242*POWER(10,5)+CE242*POWER(10,6)+CF242*POWER(10,7)+CG242*POWER(10,8)+CH242*POWER(10,9)+CI242*POWER(10,10))","v":0},{"$f":"(CJ242*POWER(10,0)+CK242*POWER(10,1)+CL242*POWER(10,2)+CM242*POWER(10,3)+CN242*POWER(10,4)+CO242*POWER(10,5)+CP242*POWER(10,6)+CQ242*POWER(10,7)+CR242*POWER(10,8)+CS242*POWER(10,9)+CT242*POWER(10,10))","v":0},{"$f":"(CU242*POWER(10,0)+CV242*POWER(10,1)+CW242*POWER(10,2)+CX242*POWER(10,3)+CY242*POWER(10,4)+CZ242*POWER(10,5)+DA242*POWER(10,6)+DB242*POWER(10,7)+DC242*POWER(10,8)+DD242*POWER(10,9)+DE242*POWER(10,10))","v":0},{"$f":"(DF242*POWER(10,0)+DG242*POWER(10,1)+DH242*POWER(10,2)+DI242*POWER(10,3)+DJ242*POWER(10,4)+DK242*POWER(10,5)+DL242*POWER(10,6)+DM242*POWER(10,7)+DN242*POWER(10,8)+DO242*POWER(10,9)+DP242*POWER(10,10))","v":0},{"$f":"(DQ242*POWER(10,0)+DR242*POWER(10,1)+DS242*POWER(10,2)+DT242*POWER(10,3)+DU242*POWER(10,4)+DV242*POWER(10,5)+DW242*POWER(10,6)+DX242*POWER(10,7)+DY242*POWER(10,8)+DZ242*POWER(10,9)+EA242*POWER(10,10))","v":0},{"$f":"MAX(BE242:BJ242)","v":0},null,2,null,null,null,null,null,null,null,null,null,null,null,null,null,null,null,null,null,null,null,null,null,null,null,null,null,null,null,null,null,null,null,null,null,null,null,null,null,null,null,null,null,null,null,null,null,null,null,null,null,null,null,null,null,null,null,null,null,null,null,null,null,null,null,null,null,null,null,2,{"$error":"#VALUE!"},{"$error":"#VALUE!"},{"$error":"#VALUE!"},{"$error":"#VALUE!"},{"$error":"#VALUE!"},{"$error":"#VALUE!"},{"$error":"#VALUE!"},{"$error":"#VALUE!"},{"$error":"#VALUE!"},{"$error":"#VALUE!"},{"$error":"#VALUE!"},{"$error":"#VALUE!"},{"$error":"#VALUE!"},{"$error":"#VALUE!"},{"$error":"#VALUE!"},{"$error":"#VALUE!"},{"$error":"#VALUE!"},{"$error":"#VALUE!"},null,2,0,{"$error":"#VALUE!"},{"$error":"#VALUE!"},{"$error":"#VALUE!"},{"$error":"#VALUE!"},{"$error":"#VALUE!"},{"$error":"#VALUE!"},{"$error":"#VALUE!"},{"$error":"#VALUE!"},{"$error":"#VALUE!"},{"$error":"#VALUE!"},{"$error":"#VALUE!"},{"$error":"#VALUE!"},{"$error":"#VALUE!"},{"$error":"#VALUE!"},{"$error":"#VALUE!"},{"$error":"#VALUE!"},{"$error":"#VALUE!"},{"$error":"#VALUE!"},{"$error":"#VALUE!"},{"$error":"#VALUE!"},{"$error":"#VALUE!"},{"$error":"#VALUE!"},{"$error":"#VALUE!"},{"$error":"#VALUE!"},{"$error":"#VALUE!"},{"$error":"#VALUE!"},{"$error":"#VALUE!"},{"$error":"#VALUE!"},{"$error":"#VALUE!"},{"$error":"#VALUE!"},{"$error":"#VALUE!"},{"$error":"#VALUE!"},{"$error":"#VALUE!"},2,0,{"$error":"#VALUE!"},{"$error":"#VALUE!"},{"$error":"#VALUE!"},{"$error":"#VALUE!"},{"$error":"#VALUE!"},{"$error":"#VALUE!"},{"$error":"#VALUE!"},{"$error":"#VALUE!"},{"$error":"#VALUE!"},{"$error":"#VALUE!"},{"$error":"#VALUE!"},{"$error":"#VALUE!"},{"$error":"#VALUE!"},{"$error":"#VALUE!"},{"$error":"#VALUE!"},{"$error":"#VALUE!"},{"$error":"#VALUE!"},{"$error":"#VALUE!"},{"$error":"#VALUE!"},{"$error":"#VALUE!"},{"$error":"#VALUE!"},{"$error":"#VALUE!"},{"$error":"#VALUE!"},{"$error":"#VALUE!"},{"$error":"#VALUE!"},{"$error":"#VALUE!"},{"$error":"#VALUE!"},{"$error":"#VALUE!"},{"$error":"#VALUE!"},{"$error":"#VALUE!"},{"$error":"#VALUE!"},{"$error":"#VALUE!"},{"$error":"#VALUE!"},2,0,{"$error":"#VALUE!"},{"$error":"#VALUE!"},{"$error":"#VALUE!"},{"$error":"#VALUE!"},{"$error":"#VALUE!"},{"$error":"#VALUE!"},{"$error":"#VALUE!"},{"$error":"#VALUE!"},{"$error":"#VALUE!"},{"$error":"#VALUE!"},{"$error":"#VALUE!"},{"$error":"#VALUE!"},{"$error":"#VALUE!"},{"$error":"#VALUE!"},{"$error":"#VALUE!"},{"$error":"#VALUE!"},{"$error":"#VALUE!"},{"$error":"#VALUE!"},{"$error":"#VALUE!"},{"$error":"#VALUE!"},{"$error":"#VALUE!"},{"$error":"#VALUE!"},{"$error":"#VALUE!"},{"$error":"#VALUE!"},{"$error":"#VALUE!"},{"$error":"#VALUE!"},{"$error":"#VALUE!"},{"$error":"#VALUE!"},{"$error":"#VALUE!"},{"$error":"#VALUE!"},{"$error":"#VALUE!"},{"$error":"#VALUE!"},{"$error":"#VALUE!"},2,0,{"$error":"#VALUE!"},{"$error":"#VALUE!"},{"$error":"#VALUE!"},{"$error":"#VALUE!"},{"$error":"#VALUE!"},{"$error":"#VALUE!"},{"$error":"#VALUE!"},{"$error":"#VALUE!"},{"$error":"#VALUE!"},{"$error":"#VALUE!"},{"$error":"#VALUE!"},{"$error":"#VALUE!"},{"$error":"#VALUE!"},{"$error":"#VALUE!"},{"$error":"#VALUE!"},{"$error":"#VALUE!"},{"$error":"#VALUE!"},{"$error":"#VALUE!"},{"$error":"#VALUE!"},{"$error":"#VALUE!"},{"$error":"#VALUE!"},{"$error":"#VALUE!"},{"$error":"#VALUE!"},{"$error":"#VALUE!"},{"$error":"#VALUE!"},{"$error":"#VALUE!"},{"$error":"#VALUE!"},{"$error":"#VALUE!"},{"$error":"#VALUE!"},{"$error":"#VALUE!"},{"$error":"#VALUE!"},{"$error":"#VALUE!"},{"$error":"#VALUE!"},2,0,{"$error":"#VALUE!"},{"$error":"#VALUE!"},{"$error":"#VALUE!"},{"$error":"#VALUE!"},{"$error":"#VALUE!"},{"$error":"#VALUE!"},{"$error":"#VALUE!"},{"$error":"#VALUE!"},{"$error":"#VALUE!"},{"$error":"#VALUE!"},{"$error":"#VALUE!"},{"$error":"#VALUE!"},{"$error":"#VALUE!"},{"$error":"#VALUE!"},{"$error":"#VALUE!"},{"$error":"#VALUE!"},{"$error":"#VALUE!"},{"$error":"#VALUE!"},{"$error":"#VALUE!"},{"$error":"#VALUE!"},{"$error":"#VALUE!"},{"$error":"#VALUE!"},{"$error":"#VALUE!"},{"$error":"#VALUE!"},{"$error":"#VALUE!"},{"$error":"#VALUE!"},{"$error":"#VALUE!"},{"$error":"#VALUE!"},{"$error":"#VALUE!"},{"$error":"#VALUE!"},{"$error":"#VALUE!"},{"$error":"#VALUE!"},{"$error":"#VALUE!"},2,0,{"$error":"#VALUE!"},{"$error":"#VALUE!"},{"$error":"#VALUE!"},{"$error":"#VALUE!"},{"$error":"#VALUE!"},{"$error":"#VALUE!"},{"$error":"#VALUE!"},{"$error":"#VALUE!"},{"$error":"#VALUE!"},{"$error":"#VALUE!"},{"$error":"#VALUE!"},{"$error":"#VALUE!"},{"$error":"#VALUE!"},{"$error":"#VALUE!"},{"$error":"#VALUE!"},{"$error":"#VALUE!"},{"$error":"#VALUE!"},{"$error":"#VALUE!"},{"$error":"#VALUE!"},{"$error":"#VALUE!"},{"$error":"#VALUE!"},{"$error":"#VALUE!"},{"$error":"#VALUE!"},{"$error":"#VALUE!"},{"$error":"#VALUE!"},{"$error":"#VALUE!"},{"$error":"#VALUE!"},{"$error":"#VALUE!"},{"$error":"#VALUE!"},{"$error":"#VALUE!"},{"$error":"#VALUE!"},{"$error":"#VALUE!"},{"$error":"#VALUE!"}]
[null,null,null,null,null,null,null,null,null,null,null,null,null,null,null,null,null,null,null,null,null,null,null,3,null,null,null,null,null,null,null,null,null,"N/A",null,false,null,null,null,null,3,null,null,null,null,null,null,null,null,null,null,null,{"$f":"IF(AND(BB243=\"OK\",BC243=\"OK\",BD243=\"OK\"),\"OK\",\"ERR!\")","v":"ERR!"},"OK",{"$f":"IF(OR(SUM(BN243:BX243)<>1,SUM(BY243:CI243)<>1,SUM(CJ243:CT243)<>1,SUM(CU243:DE243)<>1,SUM(DF243:DP243)<>1,SUM(DQ243:EA243)<>1),\"ERR!\",\"OK\")","v":"ERR!"},{"$f":"IF(AND(OR(BE243=BK243,BE243=0),OR(BF243=BK243,BF243=0),OR(BG243=BK243,BG243=0),OR(BH243=BK243,BH243=0),OR(BI243=BK243,BI243=0),OR(BJ243=BK243,BJ243=0)),\"OK\",\"ERR!\")","v":"OK"},0,0,0,0,0,0,{"$f":"MAX(BE243:BJ243)","v":0},null,3,null,null,null,null,null,null,null,null,null,null,null,null,null,null,null,null,null,null,null,null,null,null,null,null,null,null,null,null,null,null,null,null,null,null,null,null,null,null,null,null,null,null,null,null,null,null,null,null,null,null,null,null,null,null,null,null,null,null,null,null,null,null,null,null,null,null,null,3,{"$error":"#VALUE!"},{"$error":"#VALUE!"},{"$error":"#VALUE!"},{"$error":"#VALUE!"},{"$error":"#VALUE!"},{"$error":"#VALUE!"},{"$error":"#VALUE!"},{"$error":"#VALUE!"},{"$error":"#VALUE!"},{"$error":"#VALUE!"},{"$error":"#VALUE!"},{"$error":"#VALUE!"},{"$error":"#VALUE!"},{"$error":"#VALUE!"},{"$error":"#VALUE!"},{"$error":"#VALUE!"},{"$error":"#VALUE!"},{"$error":"#VALUE!"},null,3,0,{"$error":"#VALUE!"},{"$error":"#VALUE!"},{"$error":"#VALUE!"},{"$error":"#VALUE!"},{"$error":"#VALUE!"},{"$error":"#VALUE!"},{"$error":"#VALUE!"},{"$error":"#VALUE!"},{"$error":"#VALUE!"},{"$error":"#VALUE!"},{"$error":"#VALUE!"},{"$error":"#VALUE!"},{"$error":"#VALUE!"},{"$error":"#VALUE!"},{"$error":"#VALUE!"},{"$error":"#VALUE!"},{"$error":"#VALUE!"},{"$error":"#VALUE!"},{"$error":"#VALUE!"},{"$error":"#VALUE!"},{"$error":"#VALUE!"},{"$error":"#VALUE!"},{"$error":"#VALUE!"},{"$error":"#VALUE!"},{"$error":"#VALUE!"},{"$error":"#VALUE!"},{"$error":"#VALUE!"},{"$error":"#VALUE!"},{"$error":"#VALUE!"},{"$error":"#VALUE!"},{"$error":"#VALUE!"},{"$error":"#VALUE!"},{"$error":"#VALUE!"},3,0,{"$error":"#VALUE!"},{"$error":"#VALUE!"},{"$error":"#VALUE!"},{"$error":"#VALUE!"},{"$error":"#VALUE!"},{"$error":"#VALUE!"},{"$error":"#VALUE!"},{"$error":"#VALUE!"},{"$error":"#VALUE!"},{"$error":"#VALUE!"},{"$error":"#VALUE!"},{"$error":"#VALUE!"},{"$error":"#VALUE!"},{"$error":"#VALUE!"},{"$error":"#VALUE!"},{"$error":"#VALUE!"},{"$error":"#VALUE!"},{"$error":"#VALUE!"},{"$error":"#VALUE!"},{"$error":"#VALUE!"},{"$error":"#VALUE!"},{"$error":"#VALUE!"},{"$error":"#VALUE!"},{"$error":"#VALUE!"},{"$error":"#VALUE!"},{"$error":"#VALUE!"},{"$error":"#VALUE!"},{"$error":"#VALUE!"},{"$error":"#VALUE!"},{"$error":"#VALUE!"},{"$error":"#VALUE!"},{"$error":"#VALUE!"},{"$error":"#VALUE!"},3,0,{"$error":"#VALUE!"},{"$error":"#VALUE!"},{"$error":"#VALUE!"},{"$error":"#VALUE!"},{"$error":"#VALUE!"},{"$error":"#VALUE!"},{"$error":"#VALUE!"},{"$error":"#VALUE!"},{"$error":"#VALUE!"},{"$error":"#VALUE!"},{"$error":"#VALUE!"},{"$error":"#VALUE!"},{"$error":"#VALUE!"},{"$error":"#VALUE!"},{"$error":"#VALUE!"},{"$error":"#VALUE!"},{"$error":"#VALUE!"},{"$error":"#VALUE!"},{"$error":"#VALUE!"},{"$error":"#VALUE!"},{"$error":"#VALUE!"},{"$error":"#VALUE!"},{"$error":"#VALUE!"},{"$error":"#VALUE!"},{"$error":"#VALUE!"},{"$error":"#VALUE!"},{"$error":"#VALUE!"},{"$error":"#VALUE!"},{"$error":"#VALUE!"},{"$error":"#VALUE!"},{"$error":"#VALUE!"},{"$error":"#VALUE!"},{"$error":"#VALUE!"},3,0,{"$error":"#VALUE!"},{"$error":"#VALUE!"},{"$error":"#VALUE!"},{"$error":"#VALUE!"},{"$error":"#VALUE!"},{"$error":"#VALUE!"},{"$error":"#VALUE!"},{"$error":"#VALUE!"},{"$error":"#VALUE!"},{"$error":"#VALUE!"},{"$error":"#VALUE!"},{"$error":"#VALUE!"},{"$error":"#VALUE!"},{"$error":"#VALUE!"},{"$error":"#VALUE!"},{"$error":"#VALUE!"},{"$error":"#VALUE!"},{"$error":"#VALUE!"},{"$error":"#VALUE!"},{"$error":"#VALUE!"},{"$error":"#VALUE!"},{"$error":"#VALUE!"},{"$error":"#VALUE!"},{"$error":"#VALUE!"},{"$error":"#VALUE!"},{"$error":"#VALUE!"},{"$error":"#VALUE!"},{"$error":"#VALUE!"},{"$error":"#VALUE!"},{"$error":"#VALUE!"},{"$error":"#VALUE!"},{"$error":"#VALUE!"},{"$error":"#VALUE!"},3,0,{"$error":"#VALUE!"},{"$error":"#VALUE!"},{"$error":"#VALUE!"},{"$error":"#VALUE!"},{"$error":"#VALUE!"},{"$error":"#VALUE!"},{"$error":"#VALUE!"},{"$error":"#VALUE!"},{"$error":"#VALUE!"},{"$error":"#VALUE!"},{"$error":"#VALUE!"},{"$error":"#VALUE!"},{"$error":"#VALUE!"},{"$error":"#VALUE!"},{"$error":"#VALUE!"},{"$error":"#VALUE!"},{"$error":"#VALUE!"},{"$error":"#VALUE!"},{"$error":"#VALUE!"},{"$error":"#VALUE!"},{"$error":"#VALUE!"},{"$error":"#VALUE!"},{"$error":"#VALUE!"},{"$error":"#VALUE!"},{"$error":"#VALUE!"},{"$error":"#VALUE!"},{"$error":"#VALUE!"},{"$error":"#VALUE!"},{"$error":"#VALUE!"},{"$error":"#VALUE!"},{"$error":"#VALUE!"},{"$error":"#VALUE!"},{"$error":"#VALUE!"},3,0,{"$error":"#VALUE!"},{"$error":"#VALUE!"},{"$error":"#VALUE!"},{"$error":"#VALUE!"},{"$error":"#VALUE!"},{"$error":"#VALUE!"},{"$error":"#VALUE!"},{"$error":"#VALUE!"},{"$error":"#VALUE!"},{"$error":"#VALUE!"},{"$error":"#VALUE!"},{"$error":"#VALUE!"},{"$error":"#VALUE!"},{"$error":"#VALUE!"},{"$error":"#VALUE!"},{"$error":"#VALUE!"},{"$error":"#VALUE!"},{"$error":"#VALUE!"},{"$error":"#VALUE!"},{"$error":"#VALUE!"},{"$error":"#VALUE!"},{"$error":"#VALUE!"},{"$error":"#VALUE!"},{"$error":"#VALUE!"},{"$error":"#VALUE!"},{"$error":"#VALUE!"},{"$error":"#VALUE!"},{"$error":"#VALUE!"},{"$error":"#VALUE!"},{"$error":"#VALUE!"},{"$error":"#VALUE!"},{"$error":"#VALUE!"},{"$error":"#VALUE!"}]
[null,null,null,null,null,null,null,null,null,null,null,null,null,null,null,null,null,null,null,null,null,null,null,4,null,null,null,null,null,null,null,null,null,"N/A",null,false,null,null,null,null,4,null,null,null,null,null,null,null,null,null,null,null,{"$f":"IF(AND(BB244=\"OK\",BC244=\"OK\",BD244=\"OK\"),\"OK\",\"ERR!\")","v":"ERR!"},"OK","ERR!",{"$f":"IF(AND(OR(BE244=BK244,BE244=0),OR(BF244=BK244,BF244=0),OR(BG244=BK244,BG244=0),OR(BH244=BK244,BH244=0),OR(BI244=BK244,BI244=0),OR(BJ244=BK244,BJ244=0)),\"OK\",\"ERR!\")","v":"OK"},0,0,0,0,0,0,0,null,4,null,null,null,null,null,null,null,null,null,null,null,null,null,null,null,null,null,null,null,null,null,null,null,null,null,null,null,null,null,null,null,null,null,null,null,null,null,null,null,null,null,null,null,null,null,null,null,null,null,null,null,null,null,null,null,null,null,null,null,null,null,null,null,null,null,null,null,4,{"$error":"#VALUE!"},{"$error":"#VALUE!"},{"$error":"#VALUE!"},{"$error":"#VALUE!"},{"$error":"#VALUE!"},{"$error":"#VALUE!"},{"$error":"#VALUE!"},{"$error":"#VALUE!"},{"$error":"#VALUE!"},{"$error":"#VALUE!"},{"$error":"#VALUE!"},{"$error":"#VALUE!"},{"$error":"#VALUE!"},{"$error":"#VALUE!"},{"$error":"#VALUE!"},{"$error":"#VALUE!"},{"$error":"#VALUE!"},{"$error":"#VALUE!"},null,4,0,{"$error":"#VALUE!"},{"$error":"#VALUE!"},{"$error":"#VALUE!"},{"$error":"#VALUE!"},{"$error":"#VALUE!"},{"$error":"#VALUE!"},{"$error":"#VALUE!"},{"$error":"#VALUE!"},{"$error":"#VALUE!"},{"$error":"#VALUE!"},{"$error":"#VALUE!"},{"$error":"#VALUE!"},{"$error":"#VALUE!"},{"$error":"#VALUE!"},{"$error":"#VALUE!"},{"$error":"#VALUE!"},{"$error":"#VALUE!"},{"$error":"#VALUE!"},{"$error":"#VALUE!"},{"$error":"#VALUE!"},{"$error":"#VALUE!"},{"$error":"#VALUE!"},{"$error":"#VALUE!"},{"$error":"#VALUE!"},{"$error":"#VALUE!"},{"$error":"#VALUE!"},{"$error":"#VALUE!"},{"$error":"#VALUE!"},{"$error":"#VALUE!"},{"$error":"#VALUE!"},{"$error":"#VALUE!"},{"$error":"#VALUE!"},{"$error":"#VALUE!"},4,0,{"$error":"#VALUE!"},{"$error":"#VALUE!"},{"$error":"#VALUE!"},{"$error":"#VALUE!"},{"$error":"#VALUE!"},{"$error":"#VALUE!"},{"$error":"#VALUE!"},{"$error":"#VALUE!"},{"$error":"#VALUE!"},{"$error":"#VALUE!"},{"$error":"#VALUE!"},{"$error":"#VALUE!"},{"$error":"#VALUE!"},{"$error":"#VALUE!"},{"$error":"#VALUE!"},{"$error":"#VALUE!"},{"$error":"#VALUE!"},{"$error":"#VALUE!"},{"$error":"#VALUE!"},{"$error":"#VALUE!"},{"$error":"#VALUE!"},{"$error":"#VALUE!"},{"$error":"#VALUE!"},{"$error":"#VALUE!"},{"$error":"#VALUE!"},{"$error":"#VALUE!"},{"$error":"#VALUE!"},{"$error":"#VALUE!"},{"$error":"#VALUE!"},{"$error":"#VALUE!"},{"$error":"#VALUE!"},{"$error":"#VALUE!"},{"$error":"#VALUE!"},4,0,{"$error":"#VALUE!"},{"$error":"#VALUE!"},{"$error":"#VALUE!"},{"$error":"#VALUE!"},{"$error":"#VALUE!"},{"$error":"#VALUE!"},{"$error":"#VALUE!"},{"$error":"#VALUE!"},{"$error":"#VALUE!"},{"$error":"#VALUE!"},{"$error":"#VALUE!"},{"$error":"#VALUE!"},{"$error":"#VALUE!"},{"$error":"#VALUE!"},{"$error":"#VALUE!"},{"$error":"#VALUE!"},{"$error":"#VALUE!"},{"$error":"#VALUE!"},{"$error":"#VALUE!"},{"$error":"#VALUE!"},{"$error":"#VALUE!"},{"$error":"#VALUE!"},{"$error":"#VALUE!"},{"$error":"#VALUE!"},{"$error":"#VALUE!"},{"$error":"#VALUE!"},{"$error":"#VALUE!"},{"$error":"#VALUE!"},{"$error":"#VALUE!"},{"$error":"#VALUE!"},{"$error":"#VALUE!"},{"$error":"#VALUE!"},{"$error":"#VALUE!"},4,0,{"$error":"#VALUE!"},{"$error":"#VALUE!"},{"$error":"#VALUE!"},{"$error":"#VALUE!"},{"$error":"#VALUE!"},{"$error":"#VALUE!"},{"$error":"#VALUE!"},{"$error":"#VALUE!"},{"$error":"#VALUE!"},{"$error":"#VALUE!"},{"$error":"#VALUE!"},{"$error":"#VALUE!"},{"$error":"#VALUE!"},{"$error":"#VALUE!"},{"$error":"#VALUE!"},{"$error":"#VALUE!"},{"$error":"#VALUE!"},{"$error":"#VALUE!"},{"$error":"#VALUE!"},{"$error":"#VALUE!"},{"$error":"#VALUE!"},{"$error":"#VALUE!"},{"$error":"#VALUE!"},{"$error":"#VALUE!"},{"$error":"#VALUE!"},{"$error":"#VALUE!"},{"$error":"#VALUE!"},{"$error":"#VALUE!"},{"$error":"#VALUE!"},{"$error":"#VALUE!"},{"$error":"#VALUE!"},{"$error":"#VALUE!"},{"$error":"#VALUE!"},4,0,{"$error":"#VALUE!"},{"$error":"#VALUE!"},{"$error":"#VALUE!"},{"$error":"#VALUE!"},{"$error":"#VALUE!"},{"$error":"#VALUE!"},{"$error":"#VALUE!"},{"$error":"#VALUE!"},{"$error":"#VALUE!"},{"$error":"#VALUE!"},{"$error":"#VALUE!"},{"$error":"#VALUE!"},{"$error":"#VALUE!"},{"$error":"#VALUE!"},{"$error":"#VALUE!"},{"$error":"#VALUE!"},{"$error":"#VALUE!"},{"$error":"#VALUE!"},{"$error":"#VALUE!"},{"$error":"#VALUE!"},{"$error":"#VALUE!"},{"$error":"#VALUE!"},{"$error":"#VALUE!"},{"$error":"#VALUE!"},{"$error":"#VALUE!"},{"$error":"#VALUE!"},{"$error":"#VALUE!"},{"$error":"#VALUE!"},{"$error":"#VALUE!"},{"$error":"#VALUE!"},{"$error":"#VALUE!"},{"$error":"#VALUE!"},{"$error":"#VALUE!"},4,0,{"$error":"#VALUE!"},{"$error":"#VALUE!"},{"$error":"#VALUE!"},{"$error":"#VALUE!"},{"$error":"#VALUE!"},{"$error":"#VALUE!"},{"$error":"#VALUE!"},{"$error":"#VALUE!"},{"$error":"#VALUE!"},{"$error":"#VALUE!"},{"$error":"#VALUE!"},{"$error":"#VALUE!"},{"$error":"#VALUE!"},{"$error":"#VALUE!"},{"$error":"#VALUE!"},{"$error":"#VALUE!"},{"$error":"#VALUE!"},{"$error":"#VALUE!"},{"$error":"#VALUE!"},{"$error":"#VALUE!"},{"$error":"#VALUE!"},{"$error":"#VALUE!"},{"$error":"#VALUE!"},{"$error":"#VALUE!"},{"$error":"#VALUE!"},{"$error":"#VALUE!"},{"$error":"#VALUE!"},{"$error":"#VALUE!"},{"$error":"#VALUE!"},{"$error":"#VALUE!"},{"$error":"#VALUE!"},{"$error":"#VALUE!"},{"$error":"#VALUE!"}]
[null,null,null,null,null,null,null,null,null,null,null,null,null,null,null,null,null,null,null,null,null,null,null,7,null,null,null,null,null,null,null,null,null,"N/A",null,false,null,null,null,null,7,null,null,null,null,null,null,null,null,null,null,null,{"$f":"IF(AND(BB245=\"OK\",BC245=\"OK\",BD245=\"OK\"),\"OK\",\"ERR!\")","v":"ERR!"},"OK","ERR!","OK",0,0,0,0,0,0,0,null,7,null,null,null,null,null,null,null,null,null,null,null,null,null,null,null,null,null,null,null,null,null,null,null,null,null,null,null,null,null,null,null,null,null,null,null,null,null,null,null,null,null,null,null,null,null,null,null,null,null,null,null,null,null,null,null,null,null,null,null,null,null,null,null,null,null,null,null,7,{"$error":"#VALUE!"},{"$error":"#VALUE!"},{"$error":"#VALUE!"},{"$error":"#VALUE!"},{"$error":"#VALUE!"},{"$error":"#VALUE!"},{"$error":"#VALUE!"},{"$error":"#VALUE!"},{"$error":"#VALUE!"},{"$error":"#VALUE!"},{"$error":"#VALUE!"},{"$error":"#VALUE!"},{"$error":"#VALUE!"},{"$error":"#VALUE!"},{"$error":"#VALUE!"},{"$error":"#VALUE!"},{"$error":"#VALUE!"},{"$error":"#VALUE!"},null,7,0,{"$error":"#VALUE!"},{"$error":"#VALUE!"},{"$error":"#VALUE!"},{"$error":"#VALUE!"},{"$error":"#VALUE!"},{"$error":"#VALUE!"},{"$error":"#VALUE!"},{"$error":"#VALUE!"},{"$error":"#VALUE!"},{"$error":"#VALUE!"},{"$error":"#VALUE!"},{"$error":"#VALUE!"},{"$error":"#VALUE!"},{"$error":"#VALUE!"},{"$error":"#VALUE!"},{"$error":"#VALUE!"},{"$error":"#VALUE!"},{"$error":"#VALUE!"},{"$error":"#VALUE!"},{"$error":"#VALUE!"},{"$error":"#VALUE!"},{"$error":"#VALUE!"},{"$error":"#VALUE!"},{"$error":"#VALUE!"},{"$error":"#VALUE!"},{"$error":"#VALUE!"},{"$error":"#VALUE!"},{"$error":"#VALUE!"},{"$error":"#VALUE!"},{"$error":"#VALUE!"},{"$error":"#VALUE!"},{"$error":"#VALUE!"},{"$error":"#VALUE!"},7,0,{"$error":"#VALUE!"},{"$error":"#VALUE!"},{"$error":"#VALUE!"},{"$error":"#VALUE!"},{"$error":"#VALUE!"},{"$error":"#VALUE!"},{"$error":"#VALUE!"},{"$error":"#VALUE!"},{"$error":"#VALUE!"},{"$error":"#VALUE!"},{"$error":"#VALUE!"},{"$error":"#VALUE!"},{"$error":"#VALUE!"},{"$error":"#VALUE!"},{"$error":"#VALUE!"},{"$error":"#VALUE!"},{"$error":"#VALUE!"},{"$error":"#VALUE!"},{"$error":"#VALUE!"},{"$error":"#VALUE!"},{"$error":"#VALUE!"},{"$error":"#VALUE!"},{"$error":"#VALUE!"},{"$error":"#VALUE!"},{"$error":"#VALUE!"},{"$error":"#VALUE!"},{"$error":"#VALUE!"},{"$error":"#VALUE!"},{"$error":"#VALUE!"},{"$error":"#VALUE!"},{"$error":"#VALUE!"},{"$error":"#VALUE!"},{"$error":"#VALUE!"},7,0,{"$error":"#VALUE!"},{"$error":"#VALUE!"},{"$error":"#VALUE!"},{"$error":"#VALUE!"},{"$error":"#VALUE!"},{"$error":"#VALUE!"},{"$error":"#VALUE!"},{"$error":"#VALUE!"},{"$error":"#VALUE!"},{"$error":"#VALUE!"},{"$error":"#VALUE!"},{"$error":"#VALUE!"},{"$error":"#VALUE!"},{"$error":"#VALUE!"},{"$error":"#VALUE!"},{"$error":"#VALUE!"},{"$error":"#VALUE!"},{"$error":"#VALUE!"},{"$error":"#VALUE!"},{"$error":"#VALUE!"},{"$error":"#VALUE!"},{"$error":"#VALUE!"},{"$error":"#VALUE!"},{"$error":"#VALUE!"},{"$error":"#VALUE!"},{"$error":"#VALUE!"},{"$error":"#VALUE!"},{"$error":"#VALUE!"},{"$error":"#VALUE!"},{"$error":"#VALUE!"},{"$error":"#VALUE!"},{"$error":"#VALUE!"},{"$error":"#VALUE!"},7,0,{"$error":"#VALUE!"},{"$error":"#VALUE!"},{"$error":"#VALUE!"},{"$error":"#VALUE!"},{"$error":"#VALUE!"},{"$error":"#VALUE!"},{"$error":"#VALUE!"},{"$error":"#VALUE!"},{"$error":"#VALUE!"},{"$error":"#VALUE!"},{"$error":"#VALUE!"},{"$error":"#VALUE!"},{"$error":"#VALUE!"},{"$error":"#VALUE!"},{"$error":"#VALUE!"},{"$error":"#VALUE!"},{"$error":"#VALUE!"},{"$error":"#VALUE!"},{"$error":"#VALUE!"},{"$error":"#VALUE!"},{"$error":"#VALUE!"},{"$error":"#VALUE!"},{"$error":"#VALUE!"},{"$error":"#VALUE!"},{"$error":"#VALUE!"},{"$error":"#VALUE!"},{"$error":"#VALUE!"},{"$error":"#VALUE!"},{"$error":"#VALUE!"},{"$error":"#VALUE!"},{"$error":"#VALUE!"},{"$error":"#VALUE!"},{"$error":"#VALUE!"},7,0,{"$error":"#VALUE!"},{"$error":"#VALUE!"},{"$error":"#VALUE!"},{"$error":"#VALUE!"},{"$error":"#VALUE!"},{"$error":"#VALUE!"},{"$error":"#VALUE!"},{"$error":"#VALUE!"},{"$error":"#VALUE!"},{"$error":"#VALUE!"},{"$error":"#VALUE!"},{"$error":"#VALUE!"},{"$error":"#VALUE!"},{"$error":"#VALUE!"},{"$error":"#VALUE!"},{"$error":"#VALUE!"},{"$error":"#VALUE!"},{"$error":"#VALUE!"},{"$error":"#VALUE!"},{"$error":"#VALUE!"},{"$error":"#VALUE!"},{"$error":"#VALUE!"},{"$error":"#VALUE!"},{"$error":"#VALUE!"},{"$error":"#VALUE!"},{"$error":"#VALUE!"},{"$error":"#VALUE!"},{"$error":"#VALUE!"},{"$error":"#VALUE!"},{"$error":"#VALUE!"},{"$error":"#VALUE!"},{"$error":"#VALUE!"},{"$error":"#VALUE!"},7,0,{"$error":"#VALUE!"},{"$error":"#VALUE!"},{"$error":"#VALUE!"},{"$error":"#VALUE!"},{"$error":"#VALUE!"},{"$error":"#VALUE!"},{"$error":"#VALUE!"},{"$error":"#VALUE!"},{"$error":"#VALUE!"},{"$error":"#VALUE!"},{"$error":"#VALUE!"},{"$error":"#VALUE!"},{"$error":"#VALUE!"},{"$error":"#VALUE!"},{"$error":"#VALUE!"},{"$error":"#VALUE!"},{"$error":"#VALUE!"},{"$error":"#VALUE!"},{"$error":"#VALUE!"},{"$error":"#VALUE!"},{"$error":"#VALUE!"},{"$error":"#VALUE!"},{"$error":"#VALUE!"},{"$error":"#VALUE!"},{"$error":"#VALUE!"},{"$error":"#VALUE!"},{"$error":"#VALUE!"},{"$error":"#VALUE!"},{"$error":"#VALUE!"},{"$error":"#VALUE!"},{"$error":"#VALUE!"},{"$error":"#VALUE!"},{"$error":"#VALUE!"}]
[null,null,null,null,null,null,null,null,null,null,null,null,null,null,null,null,null,null,null,null,null,null,null,8,null,null,null,null,null,null,null,null,null,"N/A",null,false,null,null,null,null,8,null,null,null,null,null,null,null,null,null,null,null,"ERR!","OK","ERR!","OK",0,0,0,0,0,0,0,null,8,null,null,null,null,null,null,null,null,null,null,null,null,null,null,null,null,null,null,null,null,null,null,null,null,null,null,null,null,null,null,null,null,null,null,null,null,null,null,null,null,null,null,null,null,null,null,null,null,null,null,null,null,null,null,null,null,null,null,null,null,null,null,null,null,null,null,null,8,{"$error":"#VALUE!"},{"$error":"#VALUE!"},{"$error":"#VALUE!"},{"$error":"#VALUE!"},{"$error":"#VALUE!"},{"$error":"#VALUE!"},{"$error":"#VALUE!"},{"$error":"#VALUE!"},{"$error":"#VALUE!"},{"$error":"#VALUE!"},{"$error":"#VALUE!"},{"$error":"#VALUE!"},{"$error":"#VALUE!"},{"$error":"#VALUE!"},{"$error":"#VALUE!"},{"$error":"#VALUE!"},{"$error":"#VALUE!"},{"$error":"#VALUE!"},null,8,0,{"$error":"#VALUE!"},{"$error":"#VALUE!"},{"$error":"#VALUE!"},{"$error":"#VALUE!"},{"$error":"#VALUE!"},{"$error":"#VALUE!"},{"$error":"#VALUE!"},{"$error":"#VALUE!"},{"$error":"#VALUE!"},{"$error":"#VALUE!"},{"$error":"#VALUE!"},{"$error":"#VALUE!"},{"$error":"#VALUE!"},{"$error":"#VALUE!"},{"$error":"#VALUE!"},{"$error":"#VALUE!"},{"$error":"#VALUE!"},{"$error":"#VALUE!"},{"$error":"#VALUE!"},{"$error":"#VALUE!"},{"$error":"#VALUE!"},{"$error":"#VALUE!"},{"$error":"#VALUE!"},{"$error":"#VALUE!"},{"$error":"#VALUE!"},{"$error":"#VALUE!"},{"$error":"#VALUE!"},{"$error":"#VALUE!"},{"$error":"#VALUE!"},{"$error":"#VALUE!"},{"$error":"#VALUE!"},{"$error":"#VALUE!"},{"$error":"#VALUE!"},8,0,{"$error":"#VALUE!"},{"$error":"#VALUE!"},{"$error":"#VALUE!"},{"$error":"#VALUE!"},{"$error":"#VALUE!"},{"$error":"#VALUE!"},{"$error":"#VALUE!"},{"$error":"#VALUE!"},{"$error":"#VALUE!"},{"$error":"#VALUE!"},{"$error":"#VALUE!"},{"$error":"#VALUE!"},{"$error":"#VALUE!"},{"$error":"#VALUE!"},{"$error":"#VALUE!"},{"$error":"#VALUE!"},{"$error":"#VALUE!"},{"$error":"#VALUE!"},{"$error":"#VALUE!"},{"$error":"#VALUE!"},{"$error":"#VALUE!"},{"$error":"#VALUE!"},{"$error":"#VALUE!"},{"$error":"#VALUE!"},{"$error":"#VALUE!"},{"$error":"#VALUE!"},{"$error":"#VALUE!"},{"$error":"#VALUE!"},{"$error":"#VALUE!"},{"$error":"#VALUE!"},{"$error":"#VALUE!"},{"$error":"#VALUE!"},{"$error":"#VALUE!"},8,0,{"$error":"#VALUE!"},{"$error":"#VALUE!"},{"$error":"#VALUE!"},{"$error":"#VALUE!"},{"$error":"#VALUE!"},{"$error":"#VALUE!"},{"$error":"#VALUE!"},{"$error":"#VALUE!"},{"$error":"#VALUE!"},{"$error":"#VALUE!"},{"$error":"#VALUE!"},{"$error":"#VALUE!"},{"$error":"#VALUE!"},{"$error":"#VALUE!"},{"$error":"#VALUE!"},{"$error":"#VALUE!"},{"$error":"#VALUE!"},{"$error":"#VALUE!"},{"$error":"#VALUE!"},{"$error":"#VALUE!"},{"$error":"#VALUE!"},{"$error":"#VALUE!"},{"$error":"#VALUE!"},{"$error":"#VALUE!"},{"$error":"#VALUE!"},{"$error":"#VALUE!"},{"$error":"#VALUE!"},{"$error":"#VALUE!"},{"$error":"#VALUE!"},{"$error":"#VALUE!"},{"$error":"#VALUE!"},{"$error":"#VALUE!"},{"$error":"#VALUE!"},8,0,{"$error":"#VALUE!"},{"$error":"#VALUE!"},{"$error":"#VALUE!"},{"$error":"#VALUE!"},{"$error":"#VALUE!"},{"$error":"#VALUE!"},{"$error":"#VALUE!"},{"$error":"#VALUE!"},{"$error":"#VALUE!"},{"$error":"#VALUE!"},{"$error":"#VALUE!"},{"$error":"#VALUE!"},{"$error":"#VALUE!"},{"$error":"#VALUE!"},{"$error":"#VALUE!"},{"$error":"#VALUE!"},{"$error":"#VALUE!"},{"$error":"#VALUE!"},{"$error":"#VALUE!"},{"$error":"#VALUE!"},{"$error":"#VALUE!"},{"$error":"#VALUE!"},{"$error":"#VALUE!"},{"$error":"#VALUE!"},{"$error":"#VALUE!"},{"$error":"#VALUE!"},{"$error":"#VALUE!"},{"$error":"#VALUE!"},{"$error":"#VALUE!"},{"$error":"#VALUE!"},{"$error":"#VALUE!"},{"$error":"#VALUE!"},{"$error":"#VALUE!"},8,0,{"$error":"#VALUE!"},{"$error":"#VALUE!"},{"$error":"#VALUE!"},{"$error":"#VALUE!"},{"$error":"#VALUE!"},{"$error":"#VALUE!"},{"$error":"#VALUE!"},{"$error":"#VALUE!"},{"$error":"#VALUE!"},{"$error":"#VALUE!"},{"$error":"#VALUE!"},{"$error":"#VALUE!"},{"$error":"#VALUE!"},{"$error":"#VALUE!"},{"$error":"#VALUE!"},{"$error":"#VALUE!"},{"$error":"#VALUE!"},{"$error":"#VALUE!"},{"$error":"#VALUE!"},{"$error":"#VALUE!"},{"$error":"#VALUE!"},{"$error":"#VALUE!"},{"$error":"#VALUE!"},{"$error":"#VALUE!"},{"$error":"#VALUE!"},{"$error":"#VALUE!"},{"$error":"#VALUE!"},{"$error":"#VALUE!"},{"$error":"#VALUE!"},{"$error":"#VALUE!"},{"$error":"#VALUE!"},{"$error":"#VALUE!"},{"$error":"#VALUE!"},8,0,{"$error":"#VALUE!"},{"$error":"#VALUE!"},{"$error":"#VALUE!"},{"$error":"#VALUE!"},{"$error":"#VALUE!"},{"$error":"#VALUE!"},{"$error":"#VALUE!"},{"$error":"#VALUE!"},{"$error":"#VALUE!"},{"$error":"#VALUE!"},{"$error":"#VALUE!"},{"$error":"#VALUE!"},{"$error":"#VALUE!"},{"$error":"#VALUE!"},{"$error":"#VALUE!"},{"$error":"#VALUE!"},{"$error":"#VALUE!"},{"$error":"#VALUE!"},{"$error":"#VALUE!"},{"$error":"#VALUE!"},{"$error":"#VALUE!"},{"$error":"#VALUE!"},{"$error":"#VALUE!"},{"$error":"#VALUE!"},{"$error":"#VALUE!"},{"$error":"#VALUE!"},{"$error":"#VALUE!"},{"$error":"#VALUE!"},{"$error":"#VALUE!"},{"$error":"#VALUE!"},{"$error":"#VALUE!"},{"$error":"#VALUE!"},{"$error":"#VALUE!"}]
[null,null,null,null,null,null,null,null,null,null,null,null,null,null,null,null,null,null,null,null,null,null,null,9,null,null,null,null,null,null,null,null,null,"N/A",null,false,null,null,null,null,9,null,null,null,null,null,null,null,null,null,null,null,"ERR!","OK","ERR!","OK",0,0,0,{"$f":"(CU247*POWER(10,0)+CV247*POWER(10,1)+CW247*POWER(10,2)+CX247*POWER(10,3)+CY247*POWER(10,4)+CZ247*POWER(10,5)+DA247*POWER(10,6)+DB247*POWER(10,7)+DC247*POWER(10,8)+DD247*POWER(10,9)+DE247*POWER(10,10))","v":0},{"$f":"(DF247*POWER(10,0)+DG247*POWER(10,1)+DH247*POWER(10,2)+DI247*POWER(10,3)+DJ247*POWER(10,4)+DK247*POWER(10,5)+DL247*POWER(10,6)+DM247*POWER(10,7)+DN247*POWER(10,8)+DO247*POWER(10,9)+DP247*POWER(10,10))","v":0},0,0,null,9,null,null,null,null,null,null,null,null,null,null,null,null,null,null,null,null,null,null,null,null,null,null,null,null,null,null,null,null,null,null,null,null,null,null,null,null,null,null,null,null,null,null,null,null,null,null,null,null,null,null,null,null,null,null,null,null,null,null,null,null,null,null,null,null,null,null,null,9,{"$error":"#VALUE!"},{"$error":"#VALUE!"},{"$error":"#VALUE!"},{"$error":"#VALUE!"},{"$error":"#VALUE!"},{"$error":"#VALUE!"},{"$error":"#VALUE!"},{"$error":"#VALUE!"},{"$error":"#VALUE!"},{"$error":"#VALUE!"},{"$error":"#VALUE!"},{"$error":"#VALUE!"},{"$error":"#VALUE!"},{"$error":"#VALUE!"},{"$error":"#VALUE!"},{"$error":"#VALUE!"},{"$error":"#VALUE!"},{"$error":"#VALUE!"},null,9,0,{"$error":"#VALUE!"},{"$error":"#VALUE!"},{"$error":"#VALUE!"},{"$error":"#VALUE!"},{"$error":"#VALUE!"},{"$error":"#VALUE!"},{"$error":"#VALUE!"},{"$error":"#VALUE!"},{"$error":"#VALUE!"},{"$error":"#VALUE!"},{"$error":"#VALUE!"},{"$error":"#VALUE!"},{"$error":"#VALUE!"},{"$error":"#VALUE!"},{"$error":"#VALUE!"},{"$error":"#VALUE!"},{"$error":"#VALUE!"},{"$error":"#VALUE!"},{"$error":"#VALUE!"},{"$error":"#VALUE!"},{"$error":"#VALUE!"},{"$error":"#VALUE!"},{"$error":"#VALUE!"},{"$error":"#VALUE!"},{"$error":"#VALUE!"},{"$error":"#VALUE!"},{"$error":"#VALUE!"},{"$error":"#VALUE!"},{"$error":"#VALUE!"},{"$error":"#VALUE!"},{"$error":"#VALUE!"},{"$error":"#VALUE!"},{"$error":"#VALUE!"},9,0,{"$error":"#VALUE!"},{"$error":"#VALUE!"},{"$error":"#VALUE!"},{"$error":"#VALUE!"},{"$error":"#VALUE!"},{"$error":"#VALUE!"},{"$error":"#VALUE!"},{"$error":"#VALUE!"},{"$error":"#VALUE!"},{"$error":"#VALUE!"},{"$error":"#VALUE!"},{"$error":"#VALUE!"},{"$error":"#VALUE!"},{"$error":"#VALUE!"},{"$error":"#VALUE!"},{"$error":"#VALUE!"},{"$error":"#VALUE!"},{"$error":"#VALUE!"},{"$error":"#VALUE!"},{"$error":"#VALUE!"},{"$error":"#VALUE!"},{"$error":"#VALUE!"},{"$error":"#VALUE!"},{"$error":"#VALUE!"},{"$error":"#VALUE!"},{"$error":"#VALUE!"},{"$error":"#VALUE!"},{"$error":"#VALUE!"},{"$error":"#VALUE!"},{"$error":"#VALUE!"},{"$error":"#VALUE!"},{"$error":"#VALUE!"},{"$error":"#VALUE!"},9,0,{"$error":"#VALUE!"},{"$error":"#VALUE!"},{"$error":"#VALUE!"},{"$error":"#VALUE!"},{"$error":"#VALUE!"},{"$error":"#VALUE!"},{"$error":"#VALUE!"},{"$error":"#VALUE!"},{"$error":"#VALUE!"},{"$error":"#VALUE!"},{"$error":"#VALUE!"},{"$error":"#VALUE!"},{"$error":"#VALUE!"},{"$error":"#VALUE!"},{"$error":"#VALUE!"},{"$error":"#VALUE!"},{"$error":"#VALUE!"},{"$error":"#VALUE!"},{"$error":"#VALUE!"},{"$error":"#VALUE!"},{"$error":"#VALUE!"},{"$error":"#VALUE!"},{"$error":"#VALUE!"},{"$error":"#VALUE!"},{"$error":"#VALUE!"},{"$error":"#VALUE!"},{"$error":"#VALUE!"},{"$error":"#VALUE!"},{"$error":"#VALUE!"},{"$error":"#VALUE!"},{"$error":"#VALUE!"},{"$error":"#VALUE!"},{"$error":"#VALUE!"},9,0,{"$error":"#VALUE!"},{"$error":"#VALUE!"},{"$error":"#VALUE!"},{"$error":"#VALUE!"},{"$error":"#VALUE!"},{"$error":"#VALUE!"},{"$error":"#VALUE!"},{"$error":"#VALUE!"},{"$error":"#VALUE!"},{"$error":"#VALUE!"},{"$error":"#VALUE!"},{"$error":"#VALUE!"},{"$error":"#VALUE!"},{"$error":"#VALUE!"},{"$error":"#VALUE!"},{"$error":"#VALUE!"},{"$error":"#VALUE!"},{"$error":"#VALUE!"},{"$error":"#VALUE!"},{"$error":"#VALUE!"},{"$error":"#VALUE!"},{"$error":"#VALUE!"},{"$error":"#VALUE!"},{"$error":"#VALUE!"},{"$error":"#VALUE!"},{"$error":"#VALUE!"},{"$error":"#VALUE!"},{"$error":"#VALUE!"},{"$error":"#VALUE!"},{"$error":"#VALUE!"},{"$error":"#VALUE!"},{"$error":"#VALUE!"},{"$error":"#VALUE!"},9,0,{"$error":"#VALUE!"},{"$error":"#VALUE!"},{"$error":"#VALUE!"},{"$error":"#VALUE!"},{"$error":"#VALUE!"},{"$error":"#VALUE!"},{"$error":"#VALUE!"},{"$error":"#VALUE!"},{"$error":"#VALUE!"},{"$error":"#VALUE!"},{"$error":"#VALUE!"},{"$error":"#VALUE!"},{"$error":"#VALUE!"},{"$error":"#VALUE!"},{"$error":"#VALUE!"},{"$error":"#VALUE!"},{"$error":"#VALUE!"},{"$error":"#VALUE!"},{"$error":"#VALUE!"},{"$error":"#VALUE!"},{"$error":"#VALUE!"},{"$error":"#VALUE!"},{"$error":"#VALUE!"},{"$error":"#VALUE!"},{"$error":"#VALUE!"},{"$error":"#VALUE!"},{"$error":"#VALUE!"},{"$error":"#VALUE!"},{"$error":"#VALUE!"},{"$error":"#VALUE!"},{"$error":"#VALUE!"},{"$error":"#VALUE!"},{"$error":"#VALUE!"},9,0,{"$error":"#VALUE!"},{"$error":"#VALUE!"},{"$error":"#VALUE!"},{"$error":"#VALUE!"},{"$error":"#VALUE!"},{"$error":"#VALUE!"},{"$error":"#VALUE!"},{"$error":"#VALUE!"},{"$error":"#VALUE!"},{"$error":"#VALUE!"},{"$error":"#VALUE!"},{"$error":"#VALUE!"},{"$error":"#VALUE!"},{"$error":"#VALUE!"},{"$error":"#VALUE!"},{"$error":"#VALUE!"},{"$error":"#VALUE!"},{"$error":"#VALUE!"},{"$error":"#VALUE!"},{"$error":"#VALUE!"},{"$error":"#VALUE!"},{"$error":"#VALUE!"},{"$error":"#VALUE!"},{"$error":"#VALUE!"},{"$error":"#VALUE!"},{"$error":"#VALUE!"},{"$error":"#VALUE!"},{"$error":"#VALUE!"},{"$error":"#VALUE!"},{"$error":"#VALUE!"},{"$error":"#VALUE!"},{"$error":"#VALUE!"},{"$error":"#VALUE!"}]
[null,null,null,null,null,null,null,null,null,null,null,null,null,null,null,null,null,null,null,null,null,null,null,"Total",{"$f":"SUM(Y241:Y247)","v":0},{"$f":"SUM(Z241:Z247)","v":0},0,0,0,0,null,null,null,"N/A",null,false,null,null,null,null,"Total",null,null,null,null,null,null,null,null,null,null,null,null,null,null,null,null,null,null,null,null,null,null,null,"Total",null,null,null,null,null,null,null,null,null,null,null,null,null,null,null,null,null,null,null,null,null,null,null,null,null,null,null,null,null,null,null,null,null,null,null,null,null,null,null,null,null,null,null,null,null,null,null,null,null,null,null,null,null,null,null,null,null,null,null,null,null,null,null,null,null,null,null,"Total",{"$f":"SUM(ED241:ED247)","v":{"$error":"#VALUE!"}},{"$f":"SUM(EE241:EE247)","v":{"$error":"#VALUE!"}},{"$f":"SUM(EF241:EF247)","v":{"$error":"#VALUE!"}},{"$f":"SUM(EG241:EG247)","v":{"$error":"#VALUE!"}},{"$f":"SUM(EH241:EH247)","v":{"$error":"#VALUE!"}},{"$f":"SUM(EI241:EI247)","v":{"$error":"#VALUE!"}},{"$error":"#VALUE!"},{"$error":"#VALUE!"},{"$error":"#VALUE!"},{"$error":"#VALUE!"},{"$error":"#VALUE!"},{"$error":"#VALUE!"},{"$error":"#VALUE!"},{"$error":"#VALUE!"},{"$error":"#VALUE!"},{"$error":"#VALUE!"},{"$error":"#VALUE!"},{"$error":"#VALUE!"},null,"Total",{"$f":"SUM(EX241:EX247)","v":0},{"$f":"SUM(EY241:EY247)","v":{"$error":"#VALUE!"}},{"$f":"SUM(EZ241:EZ247)","v":{"$error":"#VALUE!"}},{"$error":"#VALUE!"},{"$error":"#VALUE!"},{"$f":"SUM(FC241:FC247)","v":{"$error":"#VALUE!"}},{"$f":"SUM(FD241:FD247)","v":{"$error":"#VALUE!"}},{"$error":"#VALUE!"},{"$error":"#VALUE!"},{"$error":"#VALUE!"},{"$error":"#VALUE!"},{"$error":"#VALUE!"},{"$error":"#VALUE!"},{"$error":"#VALUE!"},{"$error":"#VALUE!"},{"$error":"#VALUE!"},{"$f":"SUM(FN241:FN247)","v":{"$error":"#VALUE!"}},{"$f":"SUM(FO241:FO247)","v":{"$error":"#VALUE!"}},{"$f":"SUM(FP241:FP247)","v":{"$error":"#VALUE!"}},{"$f":"SUM(FQ241:FQ247)","v":{"$error":"#VALUE!"}},{"$error":"#VALUE!"},{"$error":"#VALUE!"},{"$error":"#VALUE!"},{"$error":"#VALUE!"},{"$error":"#VALUE!"},{"$error":"#VALUE!"},{"$error":"#VALUE!"},{"$error":"#VALUE!"},{"$error":"#VALUE!"},{"$error":"#VALUE!"},{"$error":"#VALUE!"},{"$f":"SUM(GC241:GC247)","v":{"$error":"#VALUE!"}},{"$f":"SUM(GD241:GD247)","v":{"$error":"#VALUE!"}},{"$error":"#VALUE!"},"Total",{"$f":"SUM(GG241:GG247)","v":0},{"$f":"SUM(GH241:GH247)","v":{"$error":"#VALUE!"}},{"$f":"SUM(GI241:GI247)","v":{"$error":"#VALUE!"}},{"$error":"#VALUE!"},{"$error":"#VALUE!"},{"$f":"SUM(GL241:GL247)","v":{"$error":"#VALUE!"}},{"$f":"SUM(GM241:GM247)","v":{"$error":"#VALUE!"}},{"$f":"SUM(GN241:GN247)","v":{"$error":"#VALUE!"}},{"$error":"#VALUE!"},{"$error":"#VALUE!"},{"$error":"#VALUE!"},{"$error":"#VALUE!"},{"$error":"#VALUE!"},{"$error":"#VALUE!"},{"$error":"#VALUE!"},{"$error":"#VALUE!"},{"$f":"SUM(GW241:GW247)","v":{"$error":"#VALUE!"}},{"$f":"SUM(GX241:GX247)","v":{"$error":"#VALUE!"}},{"$f":"SUM(GY241:GY247)","v":{"$error":"#VALUE!"}},{"$f":"SUM(GZ241:GZ247)","v":{"$error":"#VALUE!"}},{"$error":"#VALUE!"},{"$error":"#VALUE!"},{"$error":"#VALUE!"},{"$error":"#VALUE!"},{"$error":"#VALUE!"},{"$error":"#VALUE!"},{"$error":"#VALUE!"},{"$error":"#VALUE!"},{"$error":"#VALUE!"},{"$error":"#VALUE!"},{"$error":"#VALUE!"},{"$f":"SUM(HL241:HL247)","v":{"$error":"#VALUE!"}},{"$f":"SUM(HM241:HM247)","v":{"$error":"#VALUE!"}},{"$error":"#VALUE!"},"Total",{"$f":"SUM(HP241:HP247)","v":0},{"$f":"SUM(HQ241:HQ247)","v":{"$error":"#VALUE!"}},{"$f":"SUM(HR241:HR247)","v":{"$error":"#VALUE!"}},{"$error":"#VALUE!"},{"$error":"#VALUE!"},{"$f":"SUM(HU241:HU247)","v":{"$error":"#VALUE!"}},{"$f":"SUM(HV241:HV247)","v":{"$error":"#VALUE!"}},{"$error":"#VALUE!"},{"$error":"#VALUE!"},{"$error":"#VALUE!"},{"$error":"#VALUE!"},{"$error":"#VALUE!"},{"$error":"#VALUE!"},{"$error":"#VALUE!"},{"$error":"#VALUE!"},{"$error":"#VALUE!"},{"$f":"SUM(IF241:IF247)","v":{"$error":"#VALUE!"}},{"$f":"SUM(IG241:IG247)","v":{"$error":"#VALUE!"}},{"$f":"SUM(IH241:IH247)","v":{"$error":"#VALUE!"}},{"$f":"SUM(II241:II247)","v":{"$error":"#VALUE!"}},{"$error":"#VALUE!"},{"$error":"#VALUE!"},{"$error":"#VALUE!"},{"$error":"#VALUE!"},{"$error":"#VALUE!"},{"$error":"#VALUE!"},{"$error":"#VALUE!"},{"$error":"#VALUE!"},{"$error":"#VALUE!"},{"$error":"#VALUE!"},{"$error":"#VALUE!"},{"$f":"SUM(IU241:IU247)","v":{"$error":"#VALUE!"}},{"$f":"SUM(IV241:IV247)","v":{"$error":"#VALUE!"}},{"$error":"#VALUE!"},"Total",{"$f":"SUM(IY241:IY247)","v":0},{"$f":"SUM(IZ241:IZ247)","v":{"$error":"#VALUE!"}},{"$f":"SUM(JA241:JA247)","v":{"$error":"#VALUE!"}},{"$error":"#VALUE!"},{"$error":"#VALUE!"},{"$f":"SUM(JD241:JD247)","v":{"$error":"#VALUE!"}},{"$f":"SUM(JE241:JE247)","v":{"$error":"#VALUE!"}},{"$error":"#VALUE!"},{"$error":"#VALUE!"},{"$error":"#VALUE!"},{"$error":"#VALUE!"},{"$error":"#VALUE!"},{"$error":"#VALUE!"},{"$error":"#VALUE!"},{"$error":"#VALUE!"},{"$error":"#VALUE!"},{"$f":"SUM(JO241:JO247)","v":{"$error":"#VALUE!"}},{"$f":"SUM(JP241:JP247)","v":{"$error":"#VALUE!"}},{"$f":"SUM(JQ241:JQ247)","v":{"$error":"#VALUE!"}},{"$f":"SUM(JR241:JR247)","v":{"$error":"#VALUE!"}},{"$error":"#VALUE!"},{"$error":"#VALUE!"},{"$error":"#VALUE!"},{"$error":"#VALUE!"},{"$error":"#VALUE!"},{"$error":"#VALUE!"},{"$error":"#VALUE!"},{"$error":"#VALUE!"},{"$error":"#VALUE!"},{"$error":"#VALUE!"},{"$error":"#VALUE!"},{"$f":"SUM(KD241:KD247)","v":{"$error":"#VALUE!"}},{"$f":"SUM(KE241:KE247)","v":{"$error":"#VALUE!"}},{"$error":"#VALUE!"},"Total",{"$f":"SUM(KH241:KH247)","v":0},{"$f":"SUM(KI241:KI247)","v":{"$error":"#VALUE!"}},{"$f":"SUM(KJ241:KJ247)","v":{"$error":"#VALUE!"}},{"$error":"#VALUE!"},{"$error":"#VALUE!"},{"$f":"SUM(KM241:KM247)","v":{"$error":"#VALUE!"}},{"$f":"SUM(KN241:KN247)","v":{"$error":"#VALUE!"}},{"$error":"#VALUE!"},{"$error":"#VALUE!"},{"$error":"#VALUE!"},{"$error":"#VALUE!"},{"$error":"#VALUE!"},{"$error":"#VALUE!"},{"$error":"#VALUE!"},{"$error":"#VALUE!"},{"$error":"#VALUE!"},{"$f":"SUM(KX241:KX247)","v":{"$error":"#VALUE!"}},{"$f":"SUM(KY241:KY247)","v":{"$error":"#VALUE!"}},{"$f":"SUM(KZ241:KZ247)","v":{"$error":"#VALUE!"}},{"$f":"SUM(LA241:LA247)","v":{"$error":"#VALUE!"}},{"$error":"#VALUE!"},{"$error":"#VALUE!"},{"$error":"#VALUE!"},{"$error":"#VALUE!"},{"$error":"#VALUE!"},{"$error":"#VALUE!"},{"$error":"#VALUE!"},{"$error":"#VALUE!"},{"$error":"#VALUE!"},{"$error":"#VALUE!"},{"$error":"#VALUE!"},{"$f":"SUM(LM241:LM247)","v":{"$error":"#VALUE!"}},{"$f":"SUM(LN241:LN247)","v":{"$error":"#VALUE!"}},{"$error":"#VALUE!"},"Total",{"$f":"SUM(LQ241:LQ247)","v":0},{"$f":"SUM(LR241:LR247)","v":{"$error":"#VALUE!"}},{"$f":"SUM(LS241:LS247)","v":{"$error":"#VALUE!"}},{"$error":"#VALUE!"},{"$error":"#VALUE!"},{"$f":"SUM(LV241:LV247)","v":{"$error":"#VALUE!"}},{"$f":"SUM(LW241:LW247)","v":{"$error":"#VALUE!"}},{"$error":"#VALUE!"},{"$error":"#VALUE!"},{"$error":"#VALUE!"},{"$error":"#VALUE!"},{"$error":"#VALUE!"},{"$error":"#VALUE!"},{"$error":"#VALUE!"},{"$error":"#VALUE!"},{"$f":"SUM(MF241:MF247)","v":{"$error":"#VALUE!"}},{"$f":"SUM(MG241:MG247)","v":{"$error":"#VALUE!"}},{"$f":"SUM(MH241:MH247)","v":{"$error":"#VALUE!"}},{"$f":"SUM(MI241:MI247)","v":{"$error":"#VALUE!"}},{"$f":"SUM(MJ241:MJ247)","v":{"$error":"#VALUE!"}},{"$error":"#VALUE!"},{"$error":"#VALUE!"},{"$error":"#VALUE!"},{"$error":"#VALUE!"},{"$error":"#VALUE!"},{"$error":"#VALUE!"},{"$error":"#VALUE!"},{"$error":"#VALUE!"},{"$error":"#VALUE!"},{"$error":"#VALUE!"},{"$error":"#VALUE!"},{"$f":"SUM(MV241:MV247)","v":{"$error":"#VALUE!"}},{"$f":"SUM(MW241:MW247)","v":{"$error":"#VALUE!"}},{"$error":"#VALUE!"}]
[null,{"$f":"B241+1","v":28},{"$f":"'Regional Project List Sheet'!F32","v":0},{"$f":"IF('Regional Project List Sheet'!$G32=\"New\",1,\"\")","v":""},{"$f":"IF('Regional Project List Sheet'!$G32=\"Funded Old\",1,\"\")","v":""},{"$f":"IF('Regional Project List Sheet'!$G32=\"Unfunded Old\",1,\"\")","v":""},{"$f":"'Regional Project List Sheet'!H32","v":0},{"$f":"'Regional Project List Sheet'!I32","v":0},{"$f":"'Regional Project List Sheet'!L32","v":0},{"$f":"'Regional Project List Sheet'!M32","v":0},{"$f":"'Regional Project List Sheet'!N32","v":0},{"$f":"'Regional Project List Sheet'!O32","v":0},{"$f":"'Regional Project List Sheet'!P32","v":0},{"$f":"IF('Regional Project List Sheet'!$Q32=\"N/A\",\"N/A\",IF($Y252<>0,5,IF($Z252<>0,4,IF($AA252<>0,3,IF($AB252<>0,2,1)))))","v":1},{"$f":"VLOOKUP($C249,'[2]Ranking|Priority'!$B$5:$O$40,12,FALSE)","v":{"$error":"#N/A"}},{"$f":"VLOOKUP($C249,'[2]Ranking|Priority'!$B$5:$O$68,13,FALSE)","v":{"$error":"#N/A"}},{"$f":"VLOOKUP($C249,'[2]Ranking|Priority'!$B$5:$O$68,14,FALSE)","v":{"$error":"#N/A"}},{"$f":"'Regional Project List Sheet'!T32","v":0},{"$f":"'Regional Project List Sheet'!U32","v":0},{"$f":"'Regional Project List Sheet'!V32","v":0},{"$f":"'Regional Project List Sheet'!W32","v":0},{"$f":"'Regional Project List Sheet'!X32","v":0},{"$f":"'Regional Project List Sheet'!Y32","v":"Choose from Project List in cell I2"},0,null,null,null,null,null,null,null,{"$f":"'Regional Project List Sheet'!AJ32","v":0},{"$f":"IF(OR('Regional Project List Sheet'!$AA32<>'Regional Project List Sheet'!$A$40,'Regional Project List Sheet'!$AD32<>'Regional Project List Sheet'!$A$40,'Regional Project List Sheet'!$AG32<>'Regional Project List Sheet'!$A$40),_xlfn.CONCAT(IF(ISNUMBER('Regional Project List Sheet'!$AA32),'Regional Project List Sheet'!$A$36,\"\"),\" \",IF(ISNUMBER('Regional Project List Sheet'!$AD32),'Regional Project List Sheet'!$A$37,\"\"),\" \",IF(ISNUMBER('Regional Project List Sheet'!$AG32),'Regional Project List Sheet'!$A$38,\"\")),\"N/A\")","v":"N/A"},"N/A",{"$f":"IF(OR('Regional Project List Sheet'!AC32<>'Regional Project List Sheet'!$A$40,'Regional Project List Sheet'!AF32<>'Regional Project List Sheet'!$A$40,'Regional Project List Sheet'!AI32<>'Regional Project List Sheet'!$A$40),\n\nIF(LEN(_xlfn.CONCAT(IF('Regional Project List Sheet'!AC32=\"Yes\",'Regional Project List Sheet'!$A$36,\"\"),\" \",\n\nIF('Regional Project List Sheet'!AF32=\"Yes\",'Regional Project List Sheet'!$A$37,\"\"),\" \",\n\nIF('Regional Project List Sheet'!AI32=\"Yes\",'Regional Project List Sheet'!$A$38,\"\")))<3,\"No\",\n\n_xlfn.CONCAT(IF('Regional Project List Sheet'!AC32=\"Yes\",'Regional Project List Sheet'!$A$36,\"\"),\" \",\n\nIF('Regional Project List Sheet'!AF32=\"Yes\",'Regional Project List Sheet'!$A$37,\"\"),\" \",\n\nIF('Regional Project List Sheet'!AI32=\"Yes\",'Regional Project List Sheet'!$A$38,\"\"))))","v":false},false,{"$f":"'Regional Project List Sheet'!AK32","v":0},null,{"$f":"'Regional Project List Sheet'!AL32","v":0},null,0,null,null,null,null,null,null,null,null,null,null,1,{"$f":"IF(AND(BB249=\"OK\",BC249=\"OK\",BD249=\"OK\"),\"OK\",\"ERR!\")","v":"ERR!"},{"$f":"IF(AND(Y249>0,SUM(BN249:BX249)<1),\"ERR!\",IF(AND(Z249>0,SUM(BY249:CI249)<1),\"ERR!\",IF(AND(AA249>0,SUM(CJ249:CT249)<1),\"ERR\",IF(AND(AB249>0,SUM(CU249:DE249)<1),\"ERR\",IF(AND(AC249>0,SUM(DF249:DP249)<1),\"ERR\",IF(AND(AD249>0,SUM(DQ249:EA249)<1),\"ERR\",\"OK\"))))))","v":"OK"},{"$f":"IF(OR(SUM(BN249:BX249)<>1,SUM(BY249:CI249)<>1,SUM(CJ249:CT249)<>1,SUM(CU249:DE249)<>1,SUM(DF249:DP249)<>1,SUM(DQ249:EA249)<>1),\"ERR!\",\"OK\")","v":"ERR!"},{"$f":"IF(AND(OR(BE249=BK249,BE249=0),OR(BF249=BK249,BF249=0),OR(BG249=BK249,BG249=0),OR(BH249=BK249,BH249=0),OR(BI249=BK249,BI249=0),OR(BJ249=BK249,BJ249=0)),\"OK\",\"ERR!\")","v":"OK"},{"$f":"(BN249*POWER(10,0)+BO249*POWER(10,1)+BP249*POWER(10,2)+BQ249*POWER(10,3)+BR249*POWER(10,4)+BS249*POWER(10,5)+BT249*POWER(10,6)+BU249*POWER(10,7)+BV249*POWER(10,8)+BW249*POWER(10,9)+BX249*POWER(10,10))","v":0},{"$f":"(BY249*POWER(10,0)+BZ249*POWER(10,1)+CA249*POWER(10,2)+CB249*POWER(10,3)+CC249*POWER(10,4)+CD249*POWER(10,5)+CE249*POWER(10,6)+CF249*POWER(10,7)+CG249*POWER(10,8)+CH249*POWER(10,9)+CI249*POWER(10,10))","v":0},{"$f":"(CJ249*POWER(10,0)+CK249*POWER(10,1)+CL249*POWER(10,2)+CM249*POWER(10,3)+CN249*POWER(10,4)+CO249*POWER(10,5)+CP249*POWER(10,6)+CQ249*POWER(10,7)+CR249*POWER(10,8)+CS249*POWER(10,9)+CT249*POWER(10,10))","v":0},{"$f":"(CU249*POWER(10,0)+CV249*POWER(10,1)+CW249*POWER(10,2)+CX249*POWER(10,3)+CY249*POWER(10,4)+CZ249*POWER(10,5)+DA249*POWER(10,6)+DB249*POWER(10,7)+DC249*POWER(10,8)+DD249*POWER(10,9)+DE249*POWER(10,10))","v":0},{"$f":"(DF249*POWER(10,0)+DG249*POWER(10,1)+DH249*POWER(10,2)+DI249*POWER(10,3)+DJ249*POWER(10,4)+DK249*POWER(10,5)+DL249*POWER(10,6)+DM249*POWER(10,7)+DN249*POWER(10,8)+DO249*POWER(10,9)+DP249*POWER(10,10))","v":0},{"$f":"(DQ249*POWER(10,0)+DR249*POWER(10,1)+DS249*POWER(10,2)+DT249*POWER(10,3)+DU249*POWER(10,4)+DV249*POWER(10,5)+DW249*POWER(10,6)+DX249*POWER(10,7)+DY249*POWER(10,8)+DZ249*POWER(10,9)+EA249*POWER(10,10))","v":0},{"$f":"MAX(BE249:BJ249)","v":0},null,0,null,null,null,null,null,null,null,null,null,null,null,null,null,null,null,null,null,null,null,null,null,null,null,null,null,null,null,null,null,null,null,null,null,null,null,null,null,null,null,null,null,null,null,null,null,null,null,null,null,null,null,null,null,null,null,null,null,null,null,null,null,null,null,null,null,null,null,0,{"$f":"($Y249*D$249)/1000","v":{"$error":"#VALUE!"}},{"$error":"#VALUE!"},{"$error":"#VALUE!"},{"$f":"($Z249*D$249)/1000","v":{"$error":"#VALUE!"}},{"$error":"#VALUE!"},{"$error":"#VALUE!"},{"$f":"($AA249*D$249)/1000","v":{"$error":"#VALUE!"}},{"$error":"#VALUE!"},{"$error":"#VALUE!"},{"$f":"($AB249*D$249)/1000","v":{"$error":"#VALUE!"}},{"$error":"#VALUE!"},{"$error":"#VALUE!"},{"$f":"($AC249*D$249)/1000","v":{"$error":"#VALUE!"}},{"$error":"#VALUE!"},{"$error":"#VALUE!"},{"$f":"($AD249*D$249)/1000","v":{"$error":"#VALUE!"}},{"$error":"#VALUE!"},{"$error":"#VALUE!"},null,0,{"$f":"$AZ$249*$Y249","v":0},{"$f":"($AZ$249*$BN249*D$249*$Y249)/1000","v":{"$error":"#VALUE!"}},{"$error":"#VALUE!"},{"$error":"#VALUE!"},{"$f":"($AZ$249*$BO249*D$249*$Y249)/1000","v":{"$error":"#VALUE!"}},{"$error":"#VALUE!"},{"$error":"#VALUE!"},{"$f":"($AZ$249*$BP249*D$249*$Y249)/1000","v":{"$error":"#VALUE!"}},{"$error":"#VALUE!"},{"$error":"#VALUE!"},{"$f":"($AZ$249*$BQ249*D$249*$Y249)/1000","v":{"$error":"#VALUE!"}},{"$error":"#VALUE!"},{"$error":"#VALUE!"},{"$f":"($AZ$249*$BR249*D$249*$Y249)/1000","v":{"$error":"#VALUE!"}},{"$error":"#VALUE!"},{"$error":"#VALUE!"},{"$f":"($AZ$249*$BS249*D$249*$Y249)/1000","v":{"$error":"#VALUE!"}},{"$error":"#VALUE!"},{"$error":"#VALUE!"},{"$f":"($AZ$249*$BT249*D$249*$Y249)/1000","v":{"$error":"#VALUE!"}},{"$error":"#VALUE!"},{"$error":"#VALUE!"},{"$f":"($AZ$249*$BU249*D$249*$Y249)/1000","v":{"$error":"#VALUE!"}},{"$error":"#VALUE!"},{"$error":"#VALUE!"},{"$f":"($AZ$249*$BV249*D$249*$Y249)/1000","v":{"$error":"#VALUE!"}},{"$error":"#VALUE!"},{"$error":"#VALUE!"},{"$f":"($AZ$249*$BW249*D$249*$Y249)/1000","v":{"$error":"#VALUE!"}},{"$error":"#VALUE!"},{"$error":"#VALUE!"},{"$f":"($AZ$249*$BX249*D$249*$Y249)/1000","v":{"$error":"#VALUE!"}},{"$error":"#VALUE!"},{"$error":"#VALUE!"},0,{"$f":"$AZ$249*$Z249","v":0},{"$f":"($AZ$249*$BY249*D$249*$Z249)/1000","v":{"$error":"#VALUE!"}},{"$error":"#VALUE!"},{"$error":"#VALUE!"},{"$f":"($AZ$249*$BZ249*D$249*$Z249)/1000","v":{"$error":"#VALUE!"}},{"$error":"#VALUE!"},{"$error":"#VALUE!"},{"$f":"($AZ$249*$CA249*D$249*$Z249)/1000","v":{"$error":"#VALUE!"}},{"$error":"#VALUE!"},{"$error":"#VALUE!"},{"$f":"($AZ$249*$CB249*D$249*$Z249)/1000","v":{"$error":"#VALUE!"}},{"$error":"#VALUE!"},{"$error":"#VALUE!"},{"$f":"($AZ$249*$CD249*D$249*$Z249)/1000","v":{"$error":"#VALUE!"}},{"$error":"#VALUE!"},{"$error":"#VALUE!"},{"$f":"($AZ$249*$CD249*D$249*$Z249)/1000","v":{"$error":"#VALUE!"}},{"$error":"#VALUE!"},{"$error":"#VALUE!"},{"$f":"($AZ$249*$CE249*D$249*$Z249)/1000","v":{"$error":"#VALUE!"}},{"$error":"#VALUE!"},{"$error":"#VALUE!"},{"$f":"($AZ$249*$CF249*D$249*$Z249)/1000","v":{"$error":"#VALUE!"}},{"$error":"#VALUE!"},{"$error":"#VALUE!"},{"$f":"($AZ$249*$CG249*D$249*$Z249)/1000","v":{"$error":"#VALUE!"}},{"$error":"#VALUE!"},{"$error":"#VALUE!"},{"$f":"($AZ$249*$CH249*D$249*$Z249)/1000","v":{"$error":"#VALUE!"}},{"$error":"#VALUE!"},{"$error":"#VALUE!"},{"$f":"($AZ$249*$CI249*D$249*$Z249)/1000","v":{"$error":"#VALUE!"}},{"$error":"#VALUE!"},{"$error":"#VALUE!"},0,{"$f":"$AZ$249*$AA249","v":0},{"$f":"($AZ$249*$CJ249*D$249*$AA249)/1000","v":{"$error":"#VALUE!"}},{"$error":"#VALUE!"},{"$error":"#VALUE!"},{"$f":"($AZ$249*$CK249*D$249*$AA249)/1000","v":{"$error":"#VALUE!"}},{"$error":"#VALUE!"},{"$error":"#VALUE!"},{"$f":"($AZ$249*$CL249*D$249*$AA249)/1000","v":{"$error":"#VALUE!"}},{"$error":"#VALUE!"},{"$error":"#VALUE!"},{"$f":"($AZ$249*$CM249*D$249*$AA249)/1000","v":{"$error":"#VALUE!"}},{"$error":"#VALUE!"},{"$error":"#VALUE!"},{"$f":"($AZ$249*$CN249*D$249*$AA249)/1000","v":{"$error":"#VALUE!"}},{"$error":"#VALUE!"},{"$error":"#VALUE!"},{"$f":"($AZ$249*$CO249*D$249*$AA249)/1000","v":{"$error":"#VALUE!"}},{"$error":"#VALUE!"},{"$error":"#VALUE!"},{"$f":"($AZ$249*$CP249*D$249*$AA249)/1000","v":{"$error":"#VALUE!"}},{"$error":"#VALUE!"},{"$error":"#VALUE!"},{"$f":"($AZ$249*$CQ249*D$249*$AA249)/1000","v":{"$error":"#VALUE!"}},{"$error":"#VALUE!"},{"$error":"#VALUE!"},{"$f":"($AZ$249*$CR249*D$249*$AA249)/1000","v":{"$error":"#VALUE!"}},{"$error":"#VALUE!"},{"$error":"#VALUE!"},{"$f":"($AZ$249*$CS249*D$249*$AA249)/1000","v":{"$error":"#VALUE!"}},{"$error":"#VALUE!"},{"$error":"#VALUE!"},{"$f":"($AZ$249*$CT249*D$249*$AA249)/1000","v":{"$error":"#VALUE!"}},{"$error":"#VALUE!"},{"$error":"#VALUE!"},0,{"$f":"$AZ$249*$AB249","v":0},{"$f":"($AZ$249*$CU249*D$249*$AB249)/1000","v":{"$error":"#VALUE!"}},{"$error":"#VALUE!"},{"$error":"#VALUE!"},{"$f":"($AZ$249*$CV249*D$249*$AB249)/1000","v":{"$error":"#VALUE!"}},{"$error":"#VALUE!"},{"$error":"#VALUE!"},{"$f":"($AZ$249*$CW249*D$249*$AB249)/1000","v":{"$error":"#VALUE!"}},{"$error":"#VALUE!"},{"$error":"#VALUE!"},{"$f":"($AZ$249*$CX249*D$249*$AB249)/1000","v":{"$error":"#VALUE!"}},{"$error":"#VALUE!"},{"$error":"#VALUE!"},{"$f":"($AZ$249*$CY249*D$249*$AB249)/1000","v":{"$error":"#VALUE!"}},{"$error":"#VALUE!"},{"$error":"#VALUE!"},{"$f":"($AZ$249*$CZ249*D$249*$AB249)/1000","v":{"$error":"#VALUE!"}},{"$error":"#VALUE!"},{"$error":"#VALUE!"},{"$f":"($AZ$249*$DA249*D$249*$AB249)/1000","v":{"$error":"#VALUE!"}},{"$error":"#VALUE!"},{"$error":"#VALUE!"},{"$f":"($AZ$249*$DB249*D$249*$AB249)/1000","v":{"$error":"#VALUE!"}},{"$error":"#VALUE!"},{"$error":"#VALUE!"},{"$f":"($AZ$249*$DC249*D$249*$AB249)/1000","v":{"$error":"#VALUE!"}},{"$error":"#VALUE!"},{"$error":"#VALUE!"},{"$f":"($AZ$249*$DD249*D$249*$AB249)/1000","v":{"$error":"#VALUE!"}},{"$error":"#VALUE!"},{"$error":"#VALUE!"},{"$f":"($AZ$249*$DE249*D$249*$AB249)/1000","v":{"$error":"#VALUE!"}},{"$error":"#VALUE!"},{"$error":"#VALUE!"},0,{"$f":"$AZ$249*$AC249","v":0},{"$f":"($AZ$249*$DF249*D$249*$AC249)/1000","v":{"$error":"#VALUE!"}},{"$error":"#VALUE!"},{"$error":"#VALUE!"},{"$f":"($AZ$249*$DG249*D$249*$AC249)/1000","v":{"$error":"#VALUE!"}},{"$error":"#VALUE!"},{"$error":"#VALUE!"},{"$f":"($AZ$249*$DH249*D$249*$AC249)/1000","v":{"$error":"#VALUE!"}},{"$error":"#VALUE!"},{"$error":"#VALUE!"},{"$f":"($AZ$249*$DI249*D$249*$AC249)/1000","v":{"$error":"#VALUE!"}},{"$error":"#VALUE!"},{"$error":"#VALUE!"},{"$f":"($AZ$249*$DJ249*D$249*$AC249)/1000","v":{"$error":"#VALUE!"}},{"$error":"#VALUE!"},{"$error":"#VALUE!"},{"$f":"($AZ$249*$DK249*D$249*$AC249)/1000","v":{"$error":"#VALUE!"}},{"$error":"#VALUE!"},{"$error":"#VALUE!"},{"$f":"($AZ$249*$DL249*D$249*$AC249)/1000","v":{"$error":"#VALUE!"}},{"$error":"#VALUE!"},{"$error":"#VALUE!"},{"$f":"($AZ$249*$DM249*D$249*$AC249)/1000","v":{"$error":"#VALUE!"}},{"$error":"#VALUE!"},{"$error":"#VALUE!"},{"$f":"($AZ$249*$DN249*D$249*$AC249)/1000","v":{"$error":"#VALUE!"}},{"$error":"#VALUE!"},{"$error":"#VALUE!"},{"$f":"($AZ$249*$DO249*D$249*$AC249)/1000","v":{"$error":"#VALUE!"}},{"$error":"#VALUE!"},{"$error":"#VALUE!"},{"$f":"($AZ$249*$DP249*D$249*$AC249)/1000","v":{"$error":"#VALUE!"}},{"$error":"#VALUE!"},{"$error":"#VALUE!"},0,{"$f":"$AZ$249*$AD249","v":0},{"$f":"($AZ$249*$DQ249*D$249*$AD249)/1000","v":{"$error":"#VALUE!"}},{"$error":"#VALUE!"},{"$error":"#VALUE!"},{"$f":"($AZ$249*$DR249*D$249*$AD249)/1000","v":{"$error":"#VALUE!"}},{"$error":"#VALUE!"},{"$error":"#VALUE!"},{"$f":"($AZ$249*$DS249*D$249*$AD249)/1000","v":{"$error":"#VALUE!"}},{"$error":"#VALUE!"},{"$error":"#VALUE!"},{"$f":"($AZ$249*$DT249*D$249*$AD249)/1000","v":{"$error":"#VALUE!"}},{"$error":"#VALUE!"},{"$error":"#VALUE!"},{"$f":"($AZ$249*$DU249*D$249*$AD249)/1000","v":{"$error":"#VALUE!"}},{"$error":"#VALUE!"},{"$error":"#VALUE!"},{"$f":"($AZ$249*$DV249*D$249*$AD249)/1000","v":{"$error":"#VALUE!"}},{"$error":"#VALUE!"},{"$error":"#VALUE!"},{"$f":"($AZ$249*$DW249*D$249*$AD249)/1000","v":{"$error":"#VALUE!"}},{"$error":"#VALUE!"},{"$error":"#VALUE!"},{"$f":"($AZ$249*$DX249*D$249*$AD249)/1000","v":{"$error":"#VALUE!"}},{"$error":"#VALUE!"},{"$error":"#VALUE!"},{"$f":"($AZ$249*$DY249*D$249*$AD249)/1000","v":{"$error":"#VALUE!"}},{"$error":"#VALUE!"},{"$error":"#VALUE!"},{"$f":"($AZ$249*$DZ249*D$249*$AD249)/1000","v":{"$error":"#VALUE!"}},{"$error":"#VALUE!"},{"$error":"#VALUE!"},{"$f":"($AZ$249*$EA249*D$249*$AD249)/1000","v":{"$error":"#VALUE!"}},{"$error":"#VALUE!"},{"$error":"#VALUE!"}]
[null,null,null,null,null,null,null,null,null,null,null,null,null,null,null,null,null,null,null,null,null,null,null,2,null,null,null,null,null,null,null,null,null,"N/A",null,false,null,null,null,null,2,null,null,null,null,null,null,null,null,null,null,null,{"$f":"IF(AND(BB250=\"OK\",BC250=\"OK\",BD250=\"OK\"),\"OK\",\"ERR!\")","v":"ERR!"},"OK",{"$f":"IF(OR(SUM(BN250:BX250)<>1,SUM(BY250:CI250)<>1,SUM(CJ250:CT250)<>1,SUM(CU250:DE250)<>1,SUM(DF250:DP250)<>1,SUM(DQ250:EA250)<>1),\"ERR!\",\"OK\")","v":"ERR!"},{"$f":"IF(AND(OR(BE250=BK250,BE250=0),OR(BF250=BK250,BF250=0),OR(BG250=BK250,BG250=0),OR(BH250=BK250,BH250=0),OR(BI250=BK250,BI250=0),OR(BJ250=BK250,BJ250=0)),\"OK\",\"ERR!\")","v":"OK"},{"$f":"(BN250*POWER(10,0)+BO250*POWER(10,1)+BP250*POWER(10,2)+BQ250*POWER(10,3)+BR250*POWER(10,4)+BS250*POWER(10,5)+BT250*POWER(10,6)+BU250*POWER(10,7)+BV250*POWER(10,8)+BW250*POWER(10,9)+BX250*POWER(10,10))","v":0},{"$f":"(BY250*POWER(10,0)+BZ250*POWER(10,1)+CA250*POWER(10,2)+CB250*POWER(10,3)+CC250*POWER(10,4)+CD250*POWER(10,5)+CE250*POWER(10,6)+CF250*POWER(10,7)+CG250*POWER(10,8)+CH250*POWER(10,9)+CI250*POWER(10,10))","v":0},{"$f":"(CJ250*POWER(10,0)+CK250*POWER(10,1)+CL250*POWER(10,2)+CM250*POWER(10,3)+CN250*POWER(10,4)+CO250*POWER(10,5)+CP250*POWER(10,6)+CQ250*POWER(10,7)+CR250*POWER(10,8)+CS250*POWER(10,9)+CT250*POWER(10,10))","v":0},{"$f":"(CU250*POWER(10,0)+CV250*POWER(10,1)+CW250*POWER(10,2)+CX250*POWER(10,3)+CY250*POWER(10,4)+CZ250*POWER(10,5)+DA250*POWER(10,6)+DB250*POWER(10,7)+DC250*POWER(10,8)+DD250*POWER(10,9)+DE250*POWER(10,10))","v":0},{"$f":"(DF250*POWER(10,0)+DG250*POWER(10,1)+DH250*POWER(10,2)+DI250*POWER(10,3)+DJ250*POWER(10,4)+DK250*POWER(10,5)+DL250*POWER(10,6)+DM250*POWER(10,7)+DN250*POWER(10,8)+DO250*POWER(10,9)+DP250*POWER(10,10))","v":0},{"$f":"(DQ250*POWER(10,0)+DR250*POWER(10,1)+DS250*POWER(10,2)+DT250*POWER(10,3)+DU250*POWER(10,4)+DV250*POWER(10,5)+DW250*POWER(10,6)+DX250*POWER(10,7)+DY250*POWER(10,8)+DZ250*POWER(10,9)+EA250*POWER(10,10))","v":0},{"$f":"MAX(BE250:BJ250)","v":0},null,2,null,null,null,null,null,null,null,null,null,null,null,null,null,null,null,null,null,null,null,null,null,null,null,null,null,null,null,null,null,null,null,null,null,null,null,null,null,null,null,null,null,null,null,null,null,null,null,null,null,null,null,null,null,null,null,null,null,null,null,null,null,null,null,null,null,null,null,2,{"$error":"#VALUE!"},{"$error":"#VALUE!"},{"$error":"#VALUE!"},{"$error":"#VALUE!"},{"$error":"#VALUE!"},{"$error":"#VALUE!"},{"$error":"#VALUE!"},{"$error":"#VALUE!"},{"$error":"#VALUE!"},{"$error":"#VALUE!"},{"$error":"#VALUE!"},{"$error":"#VALUE!"},{"$error":"#VALUE!"},{"$error":"#VALUE!"},{"$error":"#VALUE!"},{"$error":"#VALUE!"},{"$error":"#VALUE!"},{"$error":"#VALUE!"},null,2,0,{"$error":"#VALUE!"},{"$error":"#VALUE!"},{"$error":"#VALUE!"},{"$error":"#VALUE!"},{"$error":"#VALUE!"},{"$error":"#VALUE!"},{"$error":"#VALUE!"},{"$error":"#VALUE!"},{"$error":"#VALUE!"},{"$error":"#VALUE!"},{"$error":"#VALUE!"},{"$error":"#VALUE!"},{"$error":"#VALUE!"},{"$error":"#VALUE!"},{"$error":"#VALUE!"},{"$error":"#VALUE!"},{"$error":"#VALUE!"},{"$error":"#VALUE!"},{"$error":"#VALUE!"},{"$error":"#VALUE!"},{"$error":"#VALUE!"},{"$error":"#VALUE!"},{"$error":"#VALUE!"},{"$error":"#VALUE!"},{"$error":"#VALUE!"},{"$error":"#VALUE!"},{"$error":"#VALUE!"},{"$error":"#VALUE!"},{"$error":"#VALUE!"},{"$error":"#VALUE!"},{"$error":"#VALUE!"},{"$error":"#VALUE!"},{"$error":"#VALUE!"},2,0,{"$error":"#VALUE!"},{"$error":"#VALUE!"},{"$error":"#VALUE!"},{"$error":"#VALUE!"},{"$error":"#VALUE!"},{"$error":"#VALUE!"},{"$error":"#VALUE!"},{"$error":"#VALUE!"},{"$error":"#VALUE!"},{"$error":"#VALUE!"},{"$error":"#VALUE!"},{"$error":"#VALUE!"},{"$error":"#VALUE!"},{"$error":"#VALUE!"},{"$error":"#VALUE!"},{"$error":"#VALUE!"},{"$error":"#VALUE!"},{"$error":"#VALUE!"},{"$error":"#VALUE!"},{"$error":"#VALUE!"},{"$error":"#VALUE!"},{"$error":"#VALUE!"},{"$error":"#VALUE!"},{"$error":"#VALUE!"},{"$error":"#VALUE!"},{"$error":"#VALUE!"},{"$error":"#VALUE!"},{"$error":"#VALUE!"},{"$error":"#VALUE!"},{"$error":"#VALUE!"},{"$error":"#VALUE!"},{"$error":"#VALUE!"},{"$error":"#VALUE!"},2,0,{"$error":"#VALUE!"},{"$error":"#VALUE!"},{"$error":"#VALUE!"},{"$error":"#VALUE!"},{"$error":"#VALUE!"},{"$error":"#VALUE!"},{"$error":"#VALUE!"},{"$error":"#VALUE!"},{"$error":"#VALUE!"},{"$error":"#VALUE!"},{"$error":"#VALUE!"},{"$error":"#VALUE!"},{"$error":"#VALUE!"},{"$error":"#VALUE!"},{"$error":"#VALUE!"},{"$error":"#VALUE!"},{"$error":"#VALUE!"},{"$error":"#VALUE!"},{"$error":"#VALUE!"},{"$error":"#VALUE!"},{"$error":"#VALUE!"},{"$error":"#VALUE!"},{"$error":"#VALUE!"},{"$error":"#VALUE!"},{"$error":"#VALUE!"},{"$error":"#VALUE!"},{"$error":"#VALUE!"},{"$error":"#VALUE!"},{"$error":"#VALUE!"},{"$error":"#VALUE!"},{"$error":"#VALUE!"},{"$error":"#VALUE!"},{"$error":"#VALUE!"},2,0,{"$error":"#VALUE!"},{"$error":"#VALUE!"},{"$error":"#VALUE!"},{"$error":"#VALUE!"},{"$error":"#VALUE!"},{"$error":"#VALUE!"},{"$error":"#VALUE!"},{"$error":"#VALUE!"},{"$error":"#VALUE!"},{"$error":"#VALUE!"},{"$error":"#VALUE!"},{"$error":"#VALUE!"},{"$error":"#VALUE!"},{"$error":"#VALUE!"},{"$error":"#VALUE!"},{"$error":"#VALUE!"},{"$error":"#VALUE!"},{"$error":"#VALUE!"},{"$error":"#VALUE!"},{"$error":"#VALUE!"},{"$error":"#VALUE!"},{"$error":"#VALUE!"},{"$error":"#VALUE!"},{"$error":"#VALUE!"},{"$error":"#VALUE!"},{"$error":"#VALUE!"},{"$error":"#VALUE!"},{"$error":"#VALUE!"},{"$error":"#VALUE!"},{"$error":"#VALUE!"},{"$error":"#VALUE!"},{"$error":"#VALUE!"},{"$error":"#VALUE!"},2,0,{"$error":"#VALUE!"},{"$error":"#VALUE!"},{"$error":"#VALUE!"},{"$error":"#VALUE!"},{"$error":"#VALUE!"},{"$error":"#VALUE!"},{"$error":"#VALUE!"},{"$error":"#VALUE!"},{"$error":"#VALUE!"},{"$error":"#VALUE!"},{"$error":"#VALUE!"},{"$error":"#VALUE!"},{"$error":"#VALUE!"},{"$error":"#VALUE!"},{"$error":"#VALUE!"},{"$error":"#VALUE!"},{"$error":"#VALUE!"},{"$error":"#VALUE!"},{"$error":"#VALUE!"},{"$error":"#VALUE!"},{"$error":"#VALUE!"},{"$error":"#VALUE!"},{"$error":"#VALUE!"},{"$error":"#VALUE!"},{"$error":"#VALUE!"},{"$error":"#VALUE!"},{"$error":"#VALUE!"},{"$error":"#VALUE!"},{"$error":"#VALUE!"},{"$error":"#VALUE!"},{"$error":"#VALUE!"},{"$error":"#VALUE!"},{"$error":"#VALUE!"},2,0,{"$error":"#VALUE!"},{"$error":"#VALUE!"},{"$error":"#VALUE!"},{"$error":"#VALUE!"},{"$error":"#VALUE!"},{"$error":"#VALUE!"},{"$error":"#VALUE!"},{"$error":"#VALUE!"},{"$error":"#VALUE!"},{"$error":"#VALUE!"},{"$error":"#VALUE!"},{"$error":"#VALUE!"},{"$error":"#VALUE!"},{"$error":"#VALUE!"},{"$error":"#VALUE!"},{"$error":"#VALUE!"},{"$error":"#VALUE!"},{"$error":"#VALUE!"},{"$error":"#VALUE!"},{"$error":"#VALUE!"},{"$error":"#VALUE!"},{"$error":"#VALUE!"},{"$error":"#VALUE!"},{"$error":"#VALUE!"},{"$error":"#VALUE!"},{"$error":"#VALUE!"},{"$error":"#VALUE!"},{"$error":"#VALUE!"},{"$error":"#VALUE!"},{"$error":"#VALUE!"},{"$error":"#VALUE!"},{"$error":"#VALUE!"},{"$error":"#VALUE!"}]
[null,null,null,null,null,null,null,null,null,null,null,null,null,null,null,null,null,null,null,null,null,null,null,3,null,null,null,null,null,null,null,null,null,"N/A",null,false,null,null,null,null,3,null,null,null,null,null,null,null,null,null,null,null,{"$f":"IF(AND(BB251=\"OK\",BC251=\"OK\",BD251=\"OK\"),\"OK\",\"ERR!\")","v":"ERR!"},"OK",{"$f":"IF(OR(SUM(BN251:BX251)<>1,SUM(BY251:CI251)<>1,SUM(CJ251:CT251)<>1,SUM(CU251:DE251)<>1,SUM(DF251:DP251)<>1,SUM(DQ251:EA251)<>1),\"ERR!\",\"OK\")","v":"ERR!"},{"$f":"IF(AND(OR(BE251=BK251,BE251=0),OR(BF251=BK251,BF251=0),OR(BG251=BK251,BG251=0),OR(BH251=BK251,BH251=0),OR(BI251=BK251,BI251=0),OR(BJ251=BK251,BJ251=0)),\"OK\",\"ERR!\")","v":"OK"},0,0,0,0,0,0,{"$f":"MAX(BE251:BJ251)","v":0},null,3,null,null,null,null,null,null,null,null,null,null,null,null,null,null,null,null,null,null,null,null,null,null,null,null,null,null,null,null,null,null,null,null,null,null,null,null,null,null,null,null,null,null,null,null,null,null,null,null,null,null,null,null,null,null,null,null,null,null,null,null,null,null,null,null,null,null,null,3,{"$error":"#VALUE!"},{"$error":"#VALUE!"},{"$error":"#VALUE!"},{"$error":"#VALUE!"},{"$error":"#VALUE!"},{"$error":"#VALUE!"},{"$error":"#VALUE!"},{"$error":"#VALUE!"},{"$error":"#VALUE!"},{"$error":"#VALUE!"},{"$error":"#VALUE!"},{"$error":"#VALUE!"},{"$error":"#VALUE!"},{"$error":"#VALUE!"},{"$error":"#VALUE!"},{"$error":"#VALUE!"},{"$error":"#VALUE!"},{"$error":"#VALUE!"},null,3,0,{"$error":"#VALUE!"},{"$error":"#VALUE!"},{"$error":"#VALUE!"},{"$error":"#VALUE!"},{"$error":"#VALUE!"},{"$error":"#VALUE!"},{"$error":"#VALUE!"},{"$error":"#VALUE!"},{"$error":"#VALUE!"},{"$error":"#VALUE!"},{"$error":"#VALUE!"},{"$error":"#VALUE!"},{"$error":"#VALUE!"},{"$error":"#VALUE!"},{"$error":"#VALUE!"},{"$error":"#VALUE!"},{"$error":"#VALUE!"},{"$error":"#VALUE!"},{"$error":"#VALUE!"},{"$error":"#VALUE!"},{"$error":"#VALUE!"},{"$error":"#VALUE!"},{"$error":"#VALUE!"},{"$error":"#VALUE!"},{"$error":"#VALUE!"},{"$error":"#VALUE!"},{"$error":"#VALUE!"},{"$error":"#VALUE!"},{"$error":"#VALUE!"},{"$error":"#VALUE!"},{"$error":"#VALUE!"},{"$error":"#VALUE!"},{"$error":"#VALUE!"},3,0,{"$error":"#VALUE!"},{"$error":"#VALUE!"},{"$error":"#VALUE!"},{"$error":"#VALUE!"},{"$error":"#VALUE!"},{"$error":"#VALUE!"},{"$error":"#VALUE!"},{"$error":"#VALUE!"},{"$error":"#VALUE!"},{"$error":"#VALUE!"},{"$error":"#VALUE!"},{"$error":"#VALUE!"},{"$error":"#VALUE!"},{"$error":"#VALUE!"},{"$error":"#VALUE!"},{"$error":"#VALUE!"},{"$error":"#VALUE!"},{"$error":"#VALUE!"},{"$error":"#VALUE!"},{"$error":"#VALUE!"},{"$error":"#VALUE!"},{"$error":"#VALUE!"},{"$error":"#VALUE!"},{"$error":"#VALUE!"},{"$error":"#VALUE!"},{"$error":"#VALUE!"},{"$error":"#VALUE!"},{"$error":"#VALUE!"},{"$error":"#VALUE!"},{"$error":"#VALUE!"},{"$error":"#VALUE!"},{"$error":"#VALUE!"},{"$error":"#VALUE!"},3,0,{"$error":"#VALUE!"},{"$error":"#VALUE!"},{"$error":"#VALUE!"},{"$error":"#VALUE!"},{"$error":"#VALUE!"},{"$error":"#VALUE!"},{"$error":"#VALUE!"},{"$error":"#VALUE!"},{"$error":"#VALUE!"},{"$error":"#VALUE!"},{"$error":"#VALUE!"},{"$error":"#VALUE!"},{"$error":"#VALUE!"},{"$error":"#VALUE!"},{"$error":"#VALUE!"},{"$error":"#VALUE!"},{"$error":"#VALUE!"},{"$error":"#VALUE!"},{"$error":"#VALUE!"},{"$error":"#VALUE!"},{"$error":"#VALUE!"},{"$error":"#VALUE!"},{"$error":"#VALUE!"},{"$error":"#VALUE!"},{"$error":"#VALUE!"},{"$error":"#VALUE!"},{"$error":"#VALUE!"},{"$error":"#VALUE!"},{"$error":"#VALUE!"},{"$error":"#VALUE!"},{"$error":"#VALUE!"},{"$error":"#VALUE!"},{"$error":"#VALUE!"},3,0,{"$error":"#VALUE!"},{"$error":"#VALUE!"},{"$error":"#VALUE!"},{"$error":"#VALUE!"},{"$error":"#VALUE!"},{"$error":"#VALUE!"},{"$error":"#VALUE!"},{"$error":"#VALUE!"},{"$error":"#VALUE!"},{"$error":"#VALUE!"},{"$error":"#VALUE!"},{"$error":"#VALUE!"},{"$error":"#VALUE!"},{"$error":"#VALUE!"},{"$error":"#VALUE!"},{"$error":"#VALUE!"},{"$error":"#VALUE!"},{"$error":"#VALUE!"},{"$error":"#VALUE!"},{"$error":"#VALUE!"},{"$error":"#VALUE!"},{"$error":"#VALUE!"},{"$error":"#VALUE!"},{"$error":"#VALUE!"},{"$error":"#VALUE!"},{"$error":"#VALUE!"},{"$error":"#VALUE!"},{"$error":"#VALUE!"},{"$error":"#VALUE!"},{"$error":"#VALUE!"},{"$error":"#VALUE!"},{"$error":"#VALUE!"},{"$error":"#VALUE!"},3,0,{"$error":"#VALUE!"},{"$error":"#VALUE!"},{"$error":"#VALUE!"},{"$error":"#VALUE!"},{"$error":"#VALUE!"},{"$error":"#VALUE!"},{"$error":"#VALUE!"},{"$error":"#VALUE!"},{"$error":"#VALUE!"},{"$error":"#VALUE!"},{"$error":"#VALUE!"},{"$error":"#VALUE!"},{"$error":"#VALUE!"},{"$error":"#VALUE!"},{"$error":"#VALUE!"},{"$error":"#VALUE!"},{"$error":"#VALUE!"},{"$error":"#VALUE!"},{"$error":"#VALUE!"},{"$error":"#VALUE!"},{"$error":"#VALUE!"},{"$error":"#VALUE!"},{"$error":"#VALUE!"},{"$error":"#VALUE!"},{"$error":"#VALUE!"},{"$error":"#VALUE!"},{"$error":"#VALUE!"},{"$error":"#VALUE!"},{"$error":"#VALUE!"},{"$error":"#VALUE!"},{"$error":"#VALUE!"},{"$error":"#VALUE!"},{"$error":"#VALUE!"},3,0,{"$error":"#VALUE!"},{"$error":"#VALUE!"},{"$error":"#VALUE!"},{"$error":"#VALUE!"},{"$error":"#VALUE!"},{"$error":"#VALUE!"},{"$error":"#VALUE!"},{"$error":"#VALUE!"},{"$error":"#VALUE!"},{"$error":"#VALUE!"},{"$error":"#VALUE!"},{"$error":"#VALUE!"},{"$error":"#VALUE!"},{"$error":"#VALUE!"},{"$error":"#VALUE!"},{"$error":"#VALUE!"},{"$error":"#VALUE!"},{"$error":"#VALUE!"},{"$error":"#VALUE!"},{"$error":"#VALUE!"},{"$error":"#VALUE!"},{"$error":"#VALUE!"},{"$error":"#VALUE!"},{"$error":"#VALUE!"},{"$error":"#VALUE!"},{"$error":"#VALUE!"},{"$error":"#VALUE!"},{"$error":"#VALUE!"},{"$error":"#VALUE!"},{"$error":"#VALUE!"},{"$error":"#VALUE!"},{"$error":"#VALUE!"},{"$error":"#VALUE!"}]
[null,null,null,null,null,null,null,null,null,null,null,null,null,null,null,null,null,null,null,null,null,null,null,4,null,null,null,null,null,null,null,null,null,"N/A",null,false,null,null,null,null,4,null,null,null,null,null,null,null,null,null,null,null,{"$f":"IF(AND(BB252=\"OK\",BC252=\"OK\",BD252=\"OK\"),\"OK\",\"ERR!\")","v":"ERR!"},"OK","ERR!",{"$f":"IF(AND(OR(BE252=BK252,BE252=0),OR(BF252=BK252,BF252=0),OR(BG252=BK252,BG252=0),OR(BH252=BK252,BH252=0),OR(BI252=BK252,BI252=0),OR(BJ252=BK252,BJ252=0)),\"OK\",\"ERR!\")","v":"OK"},0,0,0,0,0,0,0,null,4,null,null,null,null,null,null,null,null,null,null,null,null,null,null,null,null,null,null,null,null,null,null,null,null,null,null,null,null,null,null,null,null,null,null,null,null,null,null,null,null,null,null,null,null,null,null,null,null,null,null,null,null,null,null,null,null,null,null,null,null,null,null,null,null,null,null,null,4,{"$error":"#VALUE!"},{"$error":"#VALUE!"},{"$error":"#VALUE!"},{"$error":"#VALUE!"},{"$error":"#VALUE!"},{"$error":"#VALUE!"},{"$error":"#VALUE!"},{"$error":"#VALUE!"},{"$error":"#VALUE!"},{"$error":"#VALUE!"},{"$error":"#VALUE!"},{"$error":"#VALUE!"},{"$error":"#VALUE!"},{"$error":"#VALUE!"},{"$error":"#VALUE!"},{"$error":"#VALUE!"},{"$error":"#VALUE!"},{"$error":"#VALUE!"},null,4,0,{"$error":"#VALUE!"},{"$error":"#VALUE!"},{"$error":"#VALUE!"},{"$error":"#VALUE!"},{"$error":"#VALUE!"},{"$error":"#VALUE!"},{"$error":"#VALUE!"},{"$error":"#VALUE!"},{"$error":"#VALUE!"},{"$error":"#VALUE!"},{"$error":"#VALUE!"},{"$error":"#VALUE!"},{"$error":"#VALUE!"},{"$error":"#VALUE!"},{"$error":"#VALUE!"},{"$error":"#VALUE!"},{"$error":"#VALUE!"},{"$error":"#VALUE!"},{"$error":"#VALUE!"},{"$error":"#VALUE!"},{"$error":"#VALUE!"},{"$error":"#VALUE!"},{"$error":"#VALUE!"},{"$error":"#VALUE!"},{"$error":"#VALUE!"},{"$error":"#VALUE!"},{"$error":"#VALUE!"},{"$error":"#VALUE!"},{"$error":"#VALUE!"},{"$error":"#VALUE!"},{"$error":"#VALUE!"},{"$error":"#VALUE!"},{"$error":"#VALUE!"},4,0,{"$error":"#VALUE!"},{"$error":"#VALUE!"},{"$error":"#VALUE!"},{"$error":"#VALUE!"},{"$error":"#VALUE!"},{"$error":"#VALUE!"},{"$error":"#VALUE!"},{"$error":"#VALUE!"},{"$error":"#VALUE!"},{"$error":"#VALUE!"},{"$error":"#VALUE!"},{"$error":"#VALUE!"},{"$error":"#VALUE!"},{"$error":"#VALUE!"},{"$error":"#VALUE!"},{"$error":"#VALUE!"},{"$error":"#VALUE!"},{"$error":"#VALUE!"},{"$error":"#VALUE!"},{"$error":"#VALUE!"},{"$error":"#VALUE!"},{"$error":"#VALUE!"},{"$error":"#VALUE!"},{"$error":"#VALUE!"},{"$error":"#VALUE!"},{"$error":"#VALUE!"},{"$error":"#VALUE!"},{"$error":"#VALUE!"},{"$error":"#VALUE!"},{"$error":"#VALUE!"},{"$error":"#VALUE!"},{"$error":"#VALUE!"},{"$error":"#VALUE!"},4,0,{"$error":"#VALUE!"},{"$error":"#VALUE!"},{"$error":"#VALUE!"},{"$error":"#VALUE!"},{"$error":"#VALUE!"},{"$error":"#VALUE!"},{"$error":"#VALUE!"},{"$error":"#VALUE!"},{"$error":"#VALUE!"},{"$error":"#VALUE!"},{"$error":"#VALUE!"},{"$error":"#VALUE!"},{"$error":"#VALUE!"},{"$error":"#VALUE!"},{"$error":"#VALUE!"},{"$error":"#VALUE!"},{"$error":"#VALUE!"},{"$error":"#VALUE!"},{"$error":"#VALUE!"},{"$error":"#VALUE!"},{"$error":"#VALUE!"},{"$error":"#VALUE!"},{"$error":"#VALUE!"},{"$error":"#VALUE!"},{"$error":"#VALUE!"},{"$error":"#VALUE!"},{"$error":"#VALUE!"},{"$error":"#VALUE!"},{"$error":"#VALUE!"},{"$error":"#VALUE!"},{"$error":"#VALUE!"},{"$error":"#VALUE!"},{"$error":"#VALUE!"},4,0,{"$error":"#VALUE!"},{"$error":"#VALUE!"},{"$error":"#VALUE!"},{"$error":"#VALUE!"},{"$error":"#VALUE!"},{"$error":"#VALUE!"},{"$error":"#VALUE!"},{"$error":"#VALUE!"},{"$error":"#VALUE!"},{"$error":"#VALUE!"},{"$error":"#VALUE!"},{"$error":"#VALUE!"},{"$error":"#VALUE!"},{"$error":"#VALUE!"},{"$error":"#VALUE!"},{"$error":"#VALUE!"},{"$error":"#VALUE!"},{"$error":"#VALUE!"},{"$error":"#VALUE!"},{"$error":"#VALUE!"},{"$error":"#VALUE!"},{"$error":"#VALUE!"},{"$error":"#VALUE!"},{"$error":"#VALUE!"},{"$error":"#VALUE!"},{"$error":"#VALUE!"},{"$error":"#VALUE!"},{"$error":"#VALUE!"},{"$error":"#VALUE!"},{"$error":"#VALUE!"},{"$error":"#VALUE!"},{"$error":"#VALUE!"},{"$error":"#VALUE!"},4,0,{"$error":"#VALUE!"},{"$error":"#VALUE!"},{"$error":"#VALUE!"},{"$error":"#VALUE!"},{"$error":"#VALUE!"},{"$error":"#VALUE!"},{"$error":"#VALUE!"},{"$error":"#VALUE!"},{"$error":"#VALUE!"},{"$error":"#VALUE!"},{"$error":"#VALUE!"},{"$error":"#VALUE!"},{"$error":"#VALUE!"},{"$error":"#VALUE!"},{"$error":"#VALUE!"},{"$error":"#VALUE!"},{"$error":"#VALUE!"},{"$error":"#VALUE!"},{"$error":"#VALUE!"},{"$error":"#VALUE!"},{"$error":"#VALUE!"},{"$error":"#VALUE!"},{"$error":"#VALUE!"},{"$error":"#VALUE!"},{"$error":"#VALUE!"},{"$error":"#VALUE!"},{"$error":"#VALUE!"},{"$error":"#VALUE!"},{"$error":"#VALUE!"},{"$error":"#VALUE!"},{"$error":"#VALUE!"},{"$error":"#VALUE!"},{"$error":"#VALUE!"},4,0,{"$error":"#VALUE!"},{"$error":"#VALUE!"},{"$error":"#VALUE!"},{"$error":"#VALUE!"},{"$error":"#VALUE!"},{"$error":"#VALUE!"},{"$error":"#VALUE!"},{"$error":"#VALUE!"},{"$error":"#VALUE!"},{"$error":"#VALUE!"},{"$error":"#VALUE!"},{"$error":"#VALUE!"},{"$error":"#VALUE!"},{"$error":"#VALUE!"},{"$error":"#VALUE!"},{"$error":"#VALUE!"},{"$error":"#VALUE!"},{"$error":"#VALUE!"},{"$error":"#VALUE!"},{"$error":"#VALUE!"},{"$error":"#VALUE!"},{"$error":"#VALUE!"},{"$error":"#VALUE!"},{"$error":"#VALUE!"},{"$error":"#VALUE!"},{"$error":"#VALUE!"},{"$error":"#VALUE!"},{"$error":"#VALUE!"},{"$error":"#VALUE!"},{"$error":"#VALUE!"},{"$error":"#VALUE!"},{"$error":"#VALUE!"},{"$error":"#VALUE!"}]
[null,null,null,null,null,null,null,null,null,null,null,null,null,null,null,null,null,null,null,null,null,null,null,7,null,null,null,null,null,null,null,null,null,"N/A",null,false,null,null,null,null,7,null,null,null,null,null,null,null,null,null,null,null,{"$f":"IF(AND(BB253=\"OK\",BC253=\"OK\",BD253=\"OK\"),\"OK\",\"ERR!\")","v":"ERR!"},"OK","ERR!","OK",0,0,0,0,0,0,0,null,7,null,null,null,null,null,null,null,null,null,null,null,null,null,null,null,null,null,null,null,null,null,null,null,null,null,null,null,null,null,null,null,null,null,null,null,null,null,null,null,null,null,null,null,null,null,null,null,null,null,null,null,null,null,null,null,null,null,null,null,null,null,null,null,null,null,null,null,7,{"$error":"#VALUE!"},{"$error":"#VALUE!"},{"$error":"#VALUE!"},{"$error":"#VALUE!"},{"$error":"#VALUE!"},{"$error":"#VALUE!"},{"$error":"#VALUE!"},{"$error":"#VALUE!"},{"$error":"#VALUE!"},{"$error":"#VALUE!"},{"$error":"#VALUE!"},{"$error":"#VALUE!"},{"$error":"#VALUE!"},{"$error":"#VALUE!"},{"$error":"#VALUE!"},{"$error":"#VALUE!"},{"$error":"#VALUE!"},{"$error":"#VALUE!"},null,7,0,{"$error":"#VALUE!"},{"$error":"#VALUE!"},{"$error":"#VALUE!"},{"$error":"#VALUE!"},{"$error":"#VALUE!"},{"$error":"#VALUE!"},{"$error":"#VALUE!"},{"$error":"#VALUE!"},{"$error":"#VALUE!"},{"$error":"#VALUE!"},{"$error":"#VALUE!"},{"$error":"#VALUE!"},{"$error":"#VALUE!"},{"$error":"#VALUE!"},{"$error":"#VALUE!"},{"$error":"#VALUE!"},{"$error":"#VALUE!"},{"$error":"#VALUE!"},{"$error":"#VALUE!"},{"$error":"#VALUE!"},{"$error":"#VALUE!"},{"$error":"#VALUE!"},{"$error":"#VALUE!"},{"$error":"#VALUE!"},{"$error":"#VALUE!"},{"$error":"#VALUE!"},{"$error":"#VALUE!"},{"$error":"#VALUE!"},{"$error":"#VALUE!"},{"$error":"#VALUE!"},{"$error":"#VALUE!"},{"$error":"#VALUE!"},{"$error":"#VALUE!"},7,0,{"$error":"#VALUE!"},{"$error":"#VALUE!"},{"$error":"#VALUE!"},{"$error":"#VALUE!"},{"$error":"#VALUE!"},{"$error":"#VALUE!"},{"$error":"#VALUE!"},{"$error":"#VALUE!"},{"$error":"#VALUE!"},{"$error":"#VALUE!"},{"$error":"#VALUE!"},{"$error":"#VALUE!"},{"$error":"#VALUE!"},{"$error":"#VALUE!"},{"$error":"#VALUE!"},{"$error":"#VALUE!"},{"$error":"#VALUE!"},{"$error":"#VALUE!"},{"$error":"#VALUE!"},{"$error":"#VALUE!"},{"$error":"#VALUE!"},{"$error":"#VALUE!"},{"$error":"#VALUE!"},{"$error":"#VALUE!"},{"$error":"#VALUE!"},{"$error":"#VALUE!"},{"$error":"#VALUE!"},{"$error":"#VALUE!"},{"$error":"#VALUE!"},{"$error":"#VALUE!"},{"$error":"#VALUE!"},{"$error":"#VALUE!"},{"$error":"#VALUE!"},7,0,{"$error":"#VALUE!"},{"$error":"#VALUE!"},{"$error":"#VALUE!"},{"$error":"#VALUE!"},{"$error":"#VALUE!"},{"$error":"#VALUE!"},{"$error":"#VALUE!"},{"$error":"#VALUE!"},{"$error":"#VALUE!"},{"$error":"#VALUE!"},{"$error":"#VALUE!"},{"$error":"#VALUE!"},{"$error":"#VALUE!"},{"$error":"#VALUE!"},{"$error":"#VALUE!"},{"$error":"#VALUE!"},{"$error":"#VALUE!"},{"$error":"#VALUE!"},{"$error":"#VALUE!"},{"$error":"#VALUE!"},{"$error":"#VALUE!"},{"$error":"#VALUE!"},{"$error":"#VALUE!"},{"$error":"#VALUE!"},{"$error":"#VALUE!"},{"$error":"#VALUE!"},{"$error":"#VALUE!"},{"$error":"#VALUE!"},{"$error":"#VALUE!"},{"$error":"#VALUE!"},{"$error":"#VALUE!"},{"$error":"#VALUE!"},{"$error":"#VALUE!"},7,0,{"$error":"#VALUE!"},{"$error":"#VALUE!"},{"$error":"#VALUE!"},{"$error":"#VALUE!"},{"$error":"#VALUE!"},{"$error":"#VALUE!"},{"$error":"#VALUE!"},{"$error":"#VALUE!"},{"$error":"#VALUE!"},{"$error":"#VALUE!"},{"$error":"#VALUE!"},{"$error":"#VALUE!"},{"$error":"#VALUE!"},{"$error":"#VALUE!"},{"$error":"#VALUE!"},{"$error":"#VALUE!"},{"$error":"#VALUE!"},{"$error":"#VALUE!"},{"$error":"#VALUE!"},{"$error":"#VALUE!"},{"$error":"#VALUE!"},{"$error":"#VALUE!"},{"$error":"#VALUE!"},{"$error":"#VALUE!"},{"$error":"#VALUE!"},{"$error":"#VALUE!"},{"$error":"#VALUE!"},{"$error":"#VALUE!"},{"$error":"#VALUE!"},{"$error":"#VALUE!"},{"$error":"#VALUE!"},{"$error":"#VALUE!"},{"$error":"#VALUE!"},7,0,{"$error":"#VALUE!"},{"$error":"#VALUE!"},{"$error":"#VALUE!"},{"$error":"#VALUE!"},{"$error":"#VALUE!"},{"$error":"#VALUE!"},{"$error":"#VALUE!"},{"$error":"#VALUE!"},{"$error":"#VALUE!"},{"$error":"#VALUE!"},{"$error":"#VALUE!"},{"$error":"#VALUE!"},{"$error":"#VALUE!"},{"$error":"#VALUE!"},{"$error":"#VALUE!"},{"$error":"#VALUE!"},{"$error":"#VALUE!"},{"$error":"#VALUE!"},{"$error":"#VALUE!"},{"$error":"#VALUE!"},{"$error":"#VALUE!"},{"$error":"#VALUE!"},{"$error":"#VALUE!"},{"$error":"#VALUE!"},{"$error":"#VALUE!"},{"$error":"#VALUE!"},{"$error":"#VALUE!"},{"$error":"#VALUE!"},{"$error":"#VALUE!"},{"$error":"#VALUE!"},{"$error":"#VALUE!"},{"$error":"#VALUE!"},{"$error":"#VALUE!"},7,0,{"$error":"#VALUE!"},{"$error":"#VALUE!"},{"$error":"#VALUE!"},{"$error":"#VALUE!"},{"$error":"#VALUE!"},{"$error":"#VALUE!"},{"$error":"#VALUE!"},{"$error":"#VALUE!"},{"$error":"#VALUE!"},{"$error":"#VALUE!"},{"$error":"#VALUE!"},{"$error":"#VALUE!"},{"$error":"#VALUE!"},{"$error":"#VALUE!"},{"$error":"#VALUE!"},{"$error":"#VALUE!"},{"$error":"#VALUE!"},{"$error":"#VALUE!"},{"$error":"#VALUE!"},{"$error":"#VALUE!"},{"$error":"#VALUE!"},{"$error":"#VALUE!"},{"$error":"#VALUE!"},{"$error":"#VALUE!"},{"$error":"#VALUE!"},{"$error":"#VALUE!"},{"$error":"#VALUE!"},{"$error":"#VALUE!"},{"$error":"#VALUE!"},{"$error":"#VALUE!"},{"$error":"#VALUE!"},{"$error":"#VALUE!"},{"$error":"#VALUE!"}]
[null,null,null,null,null,null,null,null,null,null,null,null,null,null,null,null,null,null,null,null,null,null,null,8,null,null,null,null,null,null,null,null,null,"N/A",null,false,null,null,null,null,8,null,null,null,null,null,null,null,null,null,null,null,"ERR!","OK","ERR!","OK",0,0,0,0,0,0,0,null,8,null,null,null,null,null,null,null,null,null,null,null,null,null,null,null,null,null,null,null,null,null,null,null,null,null,null,null,null,null,null,null,null,null,null,null,null,null,null,null,null,null,null,null,null,null,null,null,null,null,null,null,null,null,null,null,null,null,null,null,null,null,null,null,null,null,null,null,8,{"$error":"#VALUE!"},{"$error":"#VALUE!"},{"$error":"#VALUE!"},{"$error":"#VALUE!"},{"$error":"#VALUE!"},{"$error":"#VALUE!"},{"$error":"#VALUE!"},{"$error":"#VALUE!"},{"$error":"#VALUE!"},{"$error":"#VALUE!"},{"$error":"#VALUE!"},{"$error":"#VALUE!"},{"$error":"#VALUE!"},{"$error":"#VALUE!"},{"$error":"#VALUE!"},{"$error":"#VALUE!"},{"$error":"#VALUE!"},{"$error":"#VALUE!"},null,8,0,{"$error":"#VALUE!"},{"$error":"#VALUE!"},{"$error":"#VALUE!"},{"$error":"#VALUE!"},{"$error":"#VALUE!"},{"$error":"#VALUE!"},{"$error":"#VALUE!"},{"$error":"#VALUE!"},{"$error":"#VALUE!"},{"$error":"#VALUE!"},{"$error":"#VALUE!"},{"$error":"#VALUE!"},{"$error":"#VALUE!"},{"$error":"#VALUE!"},{"$error":"#VALUE!"},{"$error":"#VALUE!"},{"$error":"#VALUE!"},{"$error":"#VALUE!"},{"$error":"#VALUE!"},{"$error":"#VALUE!"},{"$error":"#VALUE!"},{"$error":"#VALUE!"},{"$error":"#VALUE!"},{"$error":"#VALUE!"},{"$error":"#VALUE!"},{"$error":"#VALUE!"},{"$error":"#VALUE!"},{"$error":"#VALUE!"},{"$error":"#VALUE!"},{"$error":"#VALUE!"},{"$error":"#VALUE!"},{"$error":"#VALUE!"},{"$error":"#VALUE!"},8,0,{"$error":"#VALUE!"},{"$error":"#VALUE!"},{"$error":"#VALUE!"},{"$error":"#VALUE!"},{"$error":"#VALUE!"},{"$error":"#VALUE!"},{"$error":"#VALUE!"},{"$error":"#VALUE!"},{"$error":"#VALUE!"},{"$error":"#VALUE!"},{"$error":"#VALUE!"},{"$error":"#VALUE!"},{"$error":"#VALUE!"},{"$error":"#VALUE!"},{"$error":"#VALUE!"},{"$error":"#VALUE!"},{"$error":"#VALUE!"},{"$error":"#VALUE!"},{"$error":"#VALUE!"},{"$error":"#VALUE!"},{"$error":"#VALUE!"},{"$error":"#VALUE!"},{"$error":"#VALUE!"},{"$error":"#VALUE!"},{"$error":"#VALUE!"},{"$error":"#VALUE!"},{"$error":"#VALUE!"},{"$error":"#VALUE!"},{"$error":"#VALUE!"},{"$error":"#VALUE!"},{"$error":"#VALUE!"},{"$error":"#VALUE!"},{"$error":"#VALUE!"},8,0,{"$error":"#VALUE!"},{"$error":"#VALUE!"},{"$error":"#VALUE!"},{"$error":"#VALUE!"},{"$error":"#VALUE!"},{"$error":"#VALUE!"},{"$error":"#VALUE!"},{"$error":"#VALUE!"},{"$error":"#VALUE!"},{"$error":"#VALUE!"},{"$error":"#VALUE!"},{"$error":"#VALUE!"},{"$error":"#VALUE!"},{"$error":"#VALUE!"},{"$error":"#VALUE!"},{"$error":"#VALUE!"},{"$error":"#VALUE!"},{"$error":"#VALUE!"},{"$error":"#VALUE!"},{"$error":"#VALUE!"},{"$error":"#VALUE!"},{"$error":"#VALUE!"},{"$error":"#VALUE!"},{"$error":"#VALUE!"},{"$error":"#VALUE!"},{"$error":"#VALUE!"},{"$error":"#VALUE!"},{"$error":"#VALUE!"},{"$error":"#VALUE!"},{"$error":"#VALUE!"},{"$error":"#VALUE!"},{"$error":"#VALUE!"},{"$error":"#VALUE!"},8,0,{"$error":"#VALUE!"},{"$error":"#VALUE!"},{"$error":"#VALUE!"},{"$error":"#VALUE!"},{"$error":"#VALUE!"},{"$error":"#VALUE!"},{"$error":"#VALUE!"},{"$error":"#VALUE!"},{"$error":"#VALUE!"},{"$error":"#VALUE!"},{"$error":"#VALUE!"},{"$error":"#VALUE!"},{"$error":"#VALUE!"},{"$error":"#VALUE!"},{"$error":"#VALUE!"},{"$error":"#VALUE!"},{"$error":"#VALUE!"},{"$error":"#VALUE!"},{"$error":"#VALUE!"},{"$error":"#VALUE!"},{"$error":"#VALUE!"},{"$error":"#VALUE!"},{"$error":"#VALUE!"},{"$error":"#VALUE!"},{"$error":"#VALUE!"},{"$error":"#VALUE!"},{"$error":"#VALUE!"},{"$error":"#VALUE!"},{"$error":"#VALUE!"},{"$error":"#VALUE!"},{"$error":"#VALUE!"},{"$error":"#VALUE!"},{"$error":"#VALUE!"},8,0,{"$error":"#VALUE!"},{"$error":"#VALUE!"},{"$error":"#VALUE!"},{"$error":"#VALUE!"},{"$error":"#VALUE!"},{"$error":"#VALUE!"},{"$error":"#VALUE!"},{"$error":"#VALUE!"},{"$error":"#VALUE!"},{"$error":"#VALUE!"},{"$error":"#VALUE!"},{"$error":"#VALUE!"},{"$error":"#VALUE!"},{"$error":"#VALUE!"},{"$error":"#VALUE!"},{"$error":"#VALUE!"},{"$error":"#VALUE!"},{"$error":"#VALUE!"},{"$error":"#VALUE!"},{"$error":"#VALUE!"},{"$error":"#VALUE!"},{"$error":"#VALUE!"},{"$error":"#VALUE!"},{"$error":"#VALUE!"},{"$error":"#VALUE!"},{"$error":"#VALUE!"},{"$error":"#VALUE!"},{"$error":"#VALUE!"},{"$error":"#VALUE!"},{"$error":"#VALUE!"},{"$error":"#VALUE!"},{"$error":"#VALUE!"},{"$error":"#VALUE!"},8,0,{"$error":"#VALUE!"},{"$error":"#VALUE!"},{"$error":"#VALUE!"},{"$error":"#VALUE!"},{"$error":"#VALUE!"},{"$error":"#VALUE!"},{"$error":"#VALUE!"},{"$error":"#VALUE!"},{"$error":"#VALUE!"},{"$error":"#VALUE!"},{"$error":"#VALUE!"},{"$error":"#VALUE!"},{"$error":"#VALUE!"},{"$error":"#VALUE!"},{"$error":"#VALUE!"},{"$error":"#VALUE!"},{"$error":"#VALUE!"},{"$error":"#VALUE!"},{"$error":"#VALUE!"},{"$error":"#VALUE!"},{"$error":"#VALUE!"},{"$error":"#VALUE!"},{"$error":"#VALUE!"},{"$error":"#VALUE!"},{"$error":"#VALUE!"},{"$error":"#VALUE!"},{"$error":"#VALUE!"},{"$error":"#VALUE!"},{"$error":"#VALUE!"},{"$error":"#VALUE!"},{"$error":"#VALUE!"},{"$error":"#VALUE!"},{"$error":"#VALUE!"}]
[null,null,null,null,null,null,null,null,null,null,null,null,null,null,null,null,null,null,null,null,null,null,null,9,null,null,null,null,null,null,null,null,null,"N/A",null,false,null,null,null,null,9,null,null,null,null,null,null,null,null,null,null,null,"ERR!","OK","ERR!","OK",0,0,0,{"$f":"(CU255*POWER(10,0)+CV255*POWER(10,1)+CW255*POWER(10,2)+CX255*POWER(10,3)+CY255*POWER(10,4)+CZ255*POWER(10,5)+DA255*POWER(10,6)+DB255*POWER(10,7)+DC255*POWER(10,8)+DD255*POWER(10,9)+DE255*POWER(10,10))","v":0},{"$f":"(DF255*POWER(10,0)+DG255*POWER(10,1)+DH255*POWER(10,2)+DI255*POWER(10,3)+DJ255*POWER(10,4)+DK255*POWER(10,5)+DL255*POWER(10,6)+DM255*POWER(10,7)+DN255*POWER(10,8)+DO255*POWER(10,9)+DP255*POWER(10,10))","v":0},0,0,null,9,null,null,null,null,null,null,null,null,null,null,null,null,null,null,null,null,null,null,null,null,null,null,null,null,null,null,null,null,null,null,null,null,null,null,null,null,null,null,null,null,null,null,null,null,null,null,null,null,null,null,null,null,null,null,null,null,null,null,null,null,null,null,null,null,null,null,null,9,{"$error":"#VALUE!"},{"$error":"#VALUE!"},{"$error":"#VALUE!"},{"$error":"#VALUE!"},{"$error":"#VALUE!"},{"$error":"#VALUE!"},{"$error":"#VALUE!"},{"$error":"#VALUE!"},{"$error":"#VALUE!"},{"$error":"#VALUE!"},{"$error":"#VALUE!"},{"$error":"#VALUE!"},{"$error":"#VALUE!"},{"$error":"#VALUE!"},{"$error":"#VALUE!"},{"$error":"#VALUE!"},{"$error":"#VALUE!"},{"$error":"#VALUE!"},null,9,0,{"$error":"#VALUE!"},{"$error":"#VALUE!"},{"$error":"#VALUE!"},{"$error":"#VALUE!"},{"$error":"#VALUE!"},{"$error":"#VALUE!"},{"$error":"#VALUE!"},{"$error":"#VALUE!"},{"$error":"#VALUE!"},{"$error":"#VALUE!"},{"$error":"#VALUE!"},{"$error":"#VALUE!"},{"$error":"#VALUE!"},{"$error":"#VALUE!"},{"$error":"#VALUE!"},{"$error":"#VALUE!"},{"$error":"#VALUE!"},{"$error":"#VALUE!"},{"$error":"#VALUE!"},{"$error":"#VALUE!"},{"$error":"#VALUE!"},{"$error":"#VALUE!"},{"$error":"#VALUE!"},{"$error":"#VALUE!"},{"$error":"#VALUE!"},{"$error":"#VALUE!"},{"$error":"#VALUE!"},{"$error":"#VALUE!"},{"$error":"#VALUE!"},{"$error":"#VALUE!"},{"$error":"#VALUE!"},{"$error":"#VALUE!"},{"$error":"#VALUE!"},9,0,{"$error":"#VALUE!"},{"$error":"#VALUE!"},{"$error":"#VALUE!"},{"$error":"#VALUE!"},{"$error":"#VALUE!"},{"$error":"#VALUE!"},{"$error":"#VALUE!"},{"$error":"#VALUE!"},{"$error":"#VALUE!"},{"$error":"#VALUE!"},{"$error":"#VALUE!"},{"$error":"#VALUE!"},{"$error":"#VALUE!"},{"$error":"#VALUE!"},{"$error":"#VALUE!"},{"$error":"#VALUE!"},{"$error":"#VALUE!"},{"$error":"#VALUE!"},{"$error":"#VALUE!"},{"$error":"#VALUE!"},{"$error":"#VALUE!"},{"$error":"#VALUE!"},{"$error":"#VALUE!"},{"$error":"#VALUE!"},{"$error":"#VALUE!"},{"$error":"#VALUE!"},{"$error":"#VALUE!"},{"$error":"#VALUE!"},{"$error":"#VALUE!"},{"$error":"#VALUE!"},{"$error":"#VALUE!"},{"$error":"#VALUE!"},{"$error":"#VALUE!"},9,0,{"$error":"#VALUE!"},{"$error":"#VALUE!"},{"$error":"#VALUE!"},{"$error":"#VALUE!"},{"$error":"#VALUE!"},{"$error":"#VALUE!"},{"$error":"#VALUE!"},{"$error":"#VALUE!"},{"$error":"#VALUE!"},{"$error":"#VALUE!"},{"$error":"#VALUE!"},{"$error":"#VALUE!"},{"$error":"#VALUE!"},{"$error":"#VALUE!"},{"$error":"#VALUE!"},{"$error":"#VALUE!"},{"$error":"#VALUE!"},{"$error":"#VALUE!"},{"$error":"#VALUE!"},{"$error":"#VALUE!"},{"$error":"#VALUE!"},{"$error":"#VALUE!"},{"$error":"#VALUE!"},{"$error":"#VALUE!"},{"$error":"#VALUE!"},{"$error":"#VALUE!"},{"$error":"#VALUE!"},{"$error":"#VALUE!"},{"$error":"#VALUE!"},{"$error":"#VALUE!"},{"$error":"#VALUE!"},{"$error":"#VALUE!"},{"$error":"#VALUE!"},9,0,{"$error":"#VALUE!"},{"$error":"#VALUE!"},{"$error":"#VALUE!"},{"$error":"#VALUE!"},{"$error":"#VALUE!"},{"$error":"#VALUE!"},{"$error":"#VALUE!"},{"$error":"#VALUE!"},{"$error":"#VALUE!"},{"$error":"#VALUE!"},{"$error":"#VALUE!"},{"$error":"#VALUE!"},{"$error":"#VALUE!"},{"$error":"#VALUE!"},{"$error":"#VALUE!"},{"$error":"#VALUE!"},{"$error":"#VALUE!"},{"$error":"#VALUE!"},{"$error":"#VALUE!"},{"$error":"#VALUE!"},{"$error":"#VALUE!"},{"$error":"#VALUE!"},{"$error":"#VALUE!"},{"$error":"#VALUE!"},{"$error":"#VALUE!"},{"$error":"#VALUE!"},{"$error":"#VALUE!"},{"$error":"#VALUE!"},{"$error":"#VALUE!"},{"$error":"#VALUE!"},{"$error":"#VALUE!"},{"$error":"#VALUE!"},{"$error":"#VALUE!"},9,0,{"$error":"#VALUE!"},{"$error":"#VALUE!"},{"$error":"#VALUE!"},{"$error":"#VALUE!"},{"$error":"#VALUE!"},{"$error":"#VALUE!"},{"$error":"#VALUE!"},{"$error":"#VALUE!"},{"$error":"#VALUE!"},{"$error":"#VALUE!"},{"$error":"#VALUE!"},{"$error":"#VALUE!"},{"$error":"#VALUE!"},{"$error":"#VALUE!"},{"$error":"#VALUE!"},{"$error":"#VALUE!"},{"$error":"#VALUE!"},{"$error":"#VALUE!"},{"$error":"#VALUE!"},{"$error":"#VALUE!"},{"$error":"#VALUE!"},{"$error":"#VALUE!"},{"$error":"#VALUE!"},{"$error":"#VALUE!"},{"$error":"#VALUE!"},{"$error":"#VALUE!"},{"$error":"#VALUE!"},{"$error":"#VALUE!"},{"$error":"#VALUE!"},{"$error":"#VALUE!"},{"$error":"#VALUE!"},{"$error":"#VALUE!"},{"$error":"#VALUE!"},9,0,{"$error":"#VALUE!"},{"$error":"#VALUE!"},{"$error":"#VALUE!"},{"$error":"#VALUE!"},{"$error":"#VALUE!"},{"$error":"#VALUE!"},{"$error":"#VALUE!"},{"$error":"#VALUE!"},{"$error":"#VALUE!"},{"$error":"#VALUE!"},{"$error":"#VALUE!"},{"$error":"#VALUE!"},{"$error":"#VALUE!"},{"$error":"#VALUE!"},{"$error":"#VALUE!"},{"$error":"#VALUE!"},{"$error":"#VALUE!"},{"$error":"#VALUE!"},{"$error":"#VALUE!"},{"$error":"#VALUE!"},{"$error":"#VALUE!"},{"$error":"#VALUE!"},{"$error":"#VALUE!"},{"$error":"#VALUE!"},{"$error":"#VALUE!"},{"$error":"#VALUE!"},{"$error":"#VALUE!"},{"$error":"#VALUE!"},{"$error":"#VALUE!"},{"$error":"#VALUE!"},{"$error":"#VALUE!"},{"$error":"#VALUE!"},{"$error":"#VALUE!"}]
[null,null,null,null,null,null,null,null,null,null,null,null,null,null,null,null,null,null,null,null,null,null,null,"Total",{"$f":"SUM(Y249:Y255)","v":0},{"$f":"SUM(Z249:Z255)","v":0},0,0,0,0,null,null,null,"N/A",null,false,null,null,null,null,"Total",null,null,null,null,null,null,null,null,null,null,null,null,null,null,null,null,null,null,null,null,null,null,null,"Total",null,null,null,null,null,null,null,null,null,null,null,null,null,null,null,null,null,null,null,null,null,null,null,null,null,null,null,null,null,null,null,null,null,null,null,null,null,null,null,null,null,null,null,null,null,null,null,null,null,null,null,null,null,null,null,null,null,null,null,null,null,null,null,null,null,null,null,"Total",{"$f":"SUM(ED249:ED255)","v":{"$error":"#VALUE!"}},{"$f":"SUM(EE249:EE255)","v":{"$error":"#VALUE!"}},{"$f":"SUM(EF249:EF255)","v":{"$error":"#VALUE!"}},{"$f":"SUM(EG249:EG255)","v":{"$error":"#VALUE!"}},{"$f":"SUM(EH249:EH255)","v":{"$error":"#VALUE!"}},{"$f":"SUM(EI249:EI255)","v":{"$error":"#VALUE!"}},{"$error":"#VALUE!"},{"$error":"#VALUE!"},{"$error":"#VALUE!"},{"$error":"#VALUE!"},{"$error":"#VALUE!"},{"$error":"#VALUE!"},{"$error":"#VALUE!"},{"$error":"#VALUE!"},{"$error":"#VALUE!"},{"$error":"#VALUE!"},{"$error":"#VALUE!"},{"$error":"#VALUE!"},null,"Total",{"$f":"SUM(EX249:EX255)","v":0},{"$f":"SUM(EY249:EY255)","v":{"$error":"#VALUE!"}},{"$f":"SUM(EZ249:EZ255)","v":{"$error":"#VALUE!"}},{"$error":"#VALUE!"},{"$error":"#VALUE!"},{"$f":"SUM(FC249:FC255)","v":{"$error":"#VALUE!"}},{"$f":"SUM(FD249:FD255)","v":{"$error":"#VALUE!"}},{"$error":"#VALUE!"},{"$error":"#VALUE!"},{"$error":"#VALUE!"},{"$error":"#VALUE!"},{"$error":"#VALUE!"},{"$error":"#VALUE!"},{"$error":"#VALUE!"},{"$error":"#VALUE!"},{"$error":"#VALUE!"},{"$f":"SUM(FN249:FN255)","v":{"$error":"#VALUE!"}},{"$f":"SUM(FO249:FO255)","v":{"$error":"#VALUE!"}},{"$f":"SUM(FP249:FP255)","v":{"$error":"#VALUE!"}},{"$f":"SUM(FQ249:FQ255)","v":{"$error":"#VALUE!"}},{"$error":"#VALUE!"},{"$error":"#VALUE!"},{"$error":"#VALUE!"},{"$error":"#VALUE!"},{"$error":"#VALUE!"},{"$error":"#VALUE!"},{"$error":"#VALUE!"},{"$error":"#VALUE!"},{"$error":"#VALUE!"},{"$error":"#VALUE!"},{"$error":"#VALUE!"},{"$f":"SUM(GC249:GC255)","v":{"$error":"#VALUE!"}},{"$f":"SUM(GD249:GD255)","v":{"$error":"#VALUE!"}},{"$error":"#VALUE!"},"Total",{"$f":"SUM(GG249:GG255)","v":0},{"$f":"SUM(GH249:GH255)","v":{"$error":"#VALUE!"}},{"$f":"SUM(GI249:GI255)","v":{"$error":"#VALUE!"}},{"$error":"#VALUE!"},{"$error":"#VALUE!"},{"$f":"SUM(GL249:GL255)","v":{"$error":"#VALUE!"}},{"$f":"SUM(GM249:GM255)","v":{"$error":"#VALUE!"}},{"$f":"SUM(GN249:GN255)","v":{"$error":"#VALUE!"}},{"$error":"#VALUE!"},{"$error":"#VALUE!"},{"$error":"#VALUE!"},{"$error":"#VALUE!"},{"$error":"#VALUE!"},{"$error":"#VALUE!"},{"$error":"#VALUE!"},{"$error":"#VALUE!"},{"$f":"SUM(GW249:GW255)","v":{"$error":"#VALUE!"}},{"$f":"SUM(GX249:GX255)","v":{"$error":"#VALUE!"}},{"$f":"SUM(GY249:GY255)","v":{"$error":"#VALUE!"}},{"$f":"SUM(GZ249:GZ255)","v":{"$error":"#VALUE!"}},{"$error":"#VALUE!"},{"$error":"#VALUE!"},{"$error":"#VALUE!"},{"$error":"#VALUE!"},{"$error":"#VALUE!"},{"$error":"#VALUE!"},{"$error":"#VALUE!"},{"$error":"#VALUE!"},{"$error":"#VALUE!"},{"$error":"#VALUE!"},{"$error":"#VALUE!"},{"$f":"SUM(HL249:HL255)","v":{"$error":"#VALUE!"}},{"$f":"SUM(HM249:HM255)","v":{"$error":"#VALUE!"}},{"$error":"#VALUE!"},"Total",{"$f":"SUM(HP249:HP255)","v":0},{"$f":"SUM(HQ249:HQ255)","v":{"$error":"#VALUE!"}},{"$f":"SUM(HR249:HR255)","v":{"$error":"#VALUE!"}},{"$error":"#VALUE!"},{"$error":"#VALUE!"},{"$f":"SUM(HU249:HU255)","v":{"$error":"#VALUE!"}},{"$f":"SUM(HV249:HV255)","v":{"$error":"#VALUE!"}},{"$error":"#VALUE!"},{"$error":"#VALUE!"},{"$error":"#VALUE!"},{"$error":"#VALUE!"},{"$error":"#VALUE!"},{"$error":"#VALUE!"},{"$error":"#VALUE!"},{"$error":"#VALUE!"},{"$error":"#VALUE!"},{"$f":"SUM(IF249:IF255)","v":{"$error":"#VALUE!"}},{"$f":"SUM(IG249:IG255)","v":{"$error":"#VALUE!"}},{"$f":"SUM(IH249:IH255)","v":{"$error":"#VALUE!"}},{"$f":"SUM(II249:II255)","v":{"$error":"#VALUE!"}},{"$error":"#VALUE!"},{"$error":"#VALUE!"},{"$error":"#VALUE!"},{"$error":"#VALUE!"},{"$error":"#VALUE!"},{"$error":"#VALUE!"},{"$error":"#VALUE!"},{"$error":"#VALUE!"},{"$error":"#VALUE!"},{"$error":"#VALUE!"},{"$error":"#VALUE!"},{"$f":"SUM(IU249:IU255)","v":{"$error":"#VALUE!"}},{"$f":"SUM(IV249:IV255)","v":{"$error":"#VALUE!"}},{"$error":"#VALUE!"},"Total",{"$f":"SUM(IY249:IY255)","v":0},{"$f":"SUM(IZ249:IZ255)","v":{"$error":"#VALUE!"}},{"$f":"SUM(JA249:JA255)","v":{"$error":"#VALUE!"}},{"$error":"#VALUE!"},{"$error":"#VALUE!"},{"$f":"SUM(JD249:JD255)","v":{"$error":"#VALUE!"}},{"$f":"SUM(JE249:JE255)","v":{"$error":"#VALUE!"}},{"$error":"#VALUE!"},{"$error":"#VALUE!"},{"$error":"#VALUE!"},{"$error":"#VALUE!"},{"$error":"#VALUE!"},{"$error":"#VALUE!"},{"$error":"#VALUE!"},{"$error":"#VALUE!"},{"$error":"#VALUE!"},{"$f":"SUM(JO249:JO255)","v":{"$error":"#VALUE!"}},{"$f":"SUM(JP249:JP255)","v":{"$error":"#VALUE!"}},{"$f":"SUM(JQ249:JQ255)","v":{"$error":"#VALUE!"}},{"$f":"SUM(JR249:JR255)","v":{"$error":"#VALUE!"}},{"$error":"#VALUE!"},{"$error":"#VALUE!"},{"$error":"#VALUE!"},{"$error":"#VALUE!"},{"$error":"#VALUE!"},{"$error":"#VALUE!"},{"$error":"#VALUE!"},{"$error":"#VALUE!"},{"$error":"#VALUE!"},{"$error":"#VALUE!"},{"$error":"#VALUE!"},{"$f":"SUM(KD249:KD255)","v":{"$error":"#VALUE!"}},{"$f":"SUM(KE249:KE255)","v":{"$error":"#VALUE!"}},{"$error":"#VALUE!"},"Total",{"$f":"SUM(KH249:KH255)","v":0},{"$f":"SUM(KI249:KI255)","v":{"$error":"#VALUE!"}},{"$f":"SUM(KJ249:KJ255)","v":{"$error":"#VALUE!"}},{"$error":"#VALUE!"},{"$error":"#VALUE!"},{"$f":"SUM(KM249:KM255)","v":{"$error":"#VALUE!"}},{"$f":"SUM(KN249:KN255)","v":{"$error":"#VALUE!"}},{"$error":"#VALUE!"},{"$error":"#VALUE!"},{"$error":"#VALUE!"},{"$error":"#VALUE!"},{"$error":"#VALUE!"},{"$error":"#VALUE!"},{"$error":"#VALUE!"},{"$error":"#VALUE!"},{"$error":"#VALUE!"},{"$f":"SUM(KX249:KX255)","v":{"$error":"#VALUE!"}},{"$f":"SUM(KY249:KY255)","v":{"$error":"#VALUE!"}},{"$f":"SUM(KZ249:KZ255)","v":{"$error":"#VALUE!"}},{"$f":"SUM(LA249:LA255)","v":{"$error":"#VALUE!"}},{"$error":"#VALUE!"},{"$error":"#VALUE!"},{"$error":"#VALUE!"},{"$error":"#VALUE!"},{"$error":"#VALUE!"},{"$error":"#VALUE!"},{"$error":"#VALUE!"},{"$error":"#VALUE!"},{"$error":"#VALUE!"},{"$error":"#VALUE!"},{"$error":"#VALUE!"},{"$f":"SUM(LM249:LM255)","v":{"$error":"#VALUE!"}},{"$f":"SUM(LN249:LN255)","v":{"$error":"#VALUE!"}},{"$error":"#VALUE!"},"Total",{"$f":"SUM(LQ249:LQ255)","v":0},{"$f":"SUM(LR249:LR255)","v":{"$error":"#VALUE!"}},{"$f":"SUM(LS249:LS255)","v":{"$error":"#VALUE!"}},{"$error":"#VALUE!"},{"$error":"#VALUE!"},{"$f":"SUM(LV249:LV255)","v":{"$error":"#VALUE!"}},{"$f":"SUM(LW249:LW255)","v":{"$error":"#VALUE!"}},{"$error":"#VALUE!"},{"$error":"#VALUE!"},{"$error":"#VALUE!"},{"$error":"#VALUE!"},{"$error":"#VALUE!"},{"$error":"#VALUE!"},{"$error":"#VALUE!"},{"$error":"#VALUE!"},{"$f":"SUM(MF249:MF255)","v":{"$error":"#VALUE!"}},{"$f":"SUM(MG249:MG255)","v":{"$error":"#VALUE!"}},{"$f":"SUM(MH249:MH255)","v":{"$error":"#VALUE!"}},{"$f":"SUM(MI249:MI255)","v":{"$error":"#VALUE!"}},{"$f":"SUM(MJ249:MJ255)","v":{"$error":"#VALUE!"}},{"$error":"#VALUE!"},{"$error":"#VALUE!"},{"$error":"#VALUE!"},{"$error":"#VALUE!"},{"$error":"#VALUE!"},{"$error":"#VALUE!"},{"$error":"#VALUE!"},{"$error":"#VALUE!"},{"$error":"#VALUE!"},{"$error":"#VALUE!"},{"$error":"#VALUE!"},{"$f":"SUM(MV249:MV255)","v":{"$error":"#VALUE!"}},{"$f":"SUM(MW249:MW255)","v":{"$error":"#VALUE!"}},{"$error":"#VALUE!"}]
[null,{"$f":"B249+1","v":29},{"$f":"'Regional Project List Sheet'!F33","v":0},{"$f":"IF('Regional Project List Sheet'!$G33=\"New\",1,\"\")","v":""},{"$f":"IF('Regional Project List Sheet'!$G33=\"Funded Old\",1,\"\")","v":""},{"$f":"IF('Regional Project List Sheet'!$G33=\"Unfunded Old\",1,\"\")","v":""},{"$f":"'Regional Project List Sheet'!H33","v":0},{"$f":"'Regional Project List Sheet'!I33","v":0},{"$f":"'Regional Project List Sheet'!L33","v":0},{"$f":"'Regional Project List Sheet'!M33","v":0},{"$f":"'Regional Project List Sheet'!N33","v":0},{"$f":"'Regional Project List Sheet'!O33","v":0},{"$f":"'Regional Project List Sheet'!P33","v":0},{"$f":"IF('Regional Project List Sheet'!$Q33=\"N/A\",\"N/A\",IF($Y260<>0,5,IF($Z260<>0,4,IF($AA260<>0,3,IF($AB260<>0,2,1)))))","v":1},{"$f":"VLOOKUP($C257,'[2]Ranking|Priority'!$B$5:$O$40,12,FALSE)","v":{"$error":"#N/A"}},{"$f":"VLOOKUP($C257,'[2]Ranking|Priority'!$B$5:$O$68,13,FALSE)","v":{"$error":"#N/A"}},{"$f":"VLOOKUP($C257,'[2]Ranking|Priority'!$B$5:$O$68,14,FALSE)","v":{"$error":"#N/A"}},{"$f":"'Regional Project List Sheet'!T33","v":0},{"$f":"'Regional Project List Sheet'!U33","v":0},{"$f":"'Regional Project List Sheet'!V33","v":0},{"$f":"'Regional Project List Sheet'!W33","v":0},{"$f":"'Regional Project List Sheet'!X33","v":0},{"$f":"'Regional Project List Sheet'!Y33","v":"Choose from Project List in cell I2"},0,null,null,null,null,null,null,null,{"$f":"'Regional Project List Sheet'!AJ33","v":0},{"$f":"IF(OR('Regional Project List Sheet'!$AA33<>'Regional Project List Sheet'!$A$40,'Regional Project List Sheet'!$AD33<>'Regional Project List Sheet'!$A$40,'Regional Project List Sheet'!$AG33<>'Regional Project List Sheet'!$A$40),_xlfn.CONCAT(IF(ISNUMBER('Regional Project List Sheet'!$AA33),'Regional Project List Sheet'!$A$36,\"\"),\" \",IF(ISNUMBER('Regional Project List Sheet'!$AD33),'Regional Project List Sheet'!$A$37,\"\"),\" \",IF(ISNUMBER('Regional Project List Sheet'!$AG33),'Regional Project List Sheet'!$A$38,\"\")),\"N/A\")","v":"N/A"},"N/A",{"$f":"IF(OR('Regional Project List Sheet'!AC33<>'Regional Project List Sheet'!$A$40,'Regional Project List Sheet'!AF33<>'Regional Project List Sheet'!$A$40,'Regional Project List Sheet'!AI33<>'Regional Project List Sheet'!$A$40),\n\nIF(LEN(_xlfn.CONCAT(IF('Regional Project List Sheet'!AC33=\"Yes\",'Regional Project List Sheet'!$A$36,\"\"),\" \",\n\nIF('Regional Project List Sheet'!AF33=\"Yes\",'Regional Project List Sheet'!$A$37,\"\"),\" \",\n\nIF('Regional Project List Sheet'!AI33=\"Yes\",'Regional Project List Sheet'!$A$38,\"\")))<3,\"No\",\n\n_xlfn.CONCAT(IF('Regional Project List Sheet'!AC33=\"Yes\",'Regional Project List Sheet'!$A$36,\"\"),\" \",\n\nIF('Regional Project List Sheet'!AF33=\"Yes\",'Regional Project List Sheet'!$A$37,\"\"),\" \",\n\nIF('Regional Project List Sheet'!AI33=\"Yes\",'Regional Project List Sheet'!$A$38,\"\"))))","v":false},false,{"$f":"'Regional Project List Sheet'!AK33","v":0},null,{"$f":"'Regional Project List Sheet'!AL33","v":0},null,0,null,null,null,null,null,null,null,null,null,null,1,{"$f":"IF(AND(BB257=\"OK\",BC257=\"OK\",BD257=\"OK\"),\"OK\",\"ERR!\")","v":"ERR!"},{"$f":"IF(AND(Y257>0,SUM(BN257:BX257)<1),\"ERR!\",IF(AND(Z257>0,SUM(BY257:CI257)<1),\"ERR!\",IF(AND(AA257>0,SUM(CJ257:CT257)<1),\"ERR\",IF(AND(AB257>0,SUM(CU257:DE257)<1),\"ERR\",IF(AND(AC257>0,SUM(DF257:DP257)<1),\"ERR\",IF(AND(AD257>0,SUM(DQ257:EA257)<1),\"ERR\",\"OK\"))))))","v":"OK"},{"$f":"IF(OR(SUM(BN257:BX257)<>1,SUM(BY257:CI257)<>1,SUM(CJ257:CT257)<>1,SUM(CU257:DE257)<>1,SUM(DF257:DP257)<>1,SUM(DQ257:EA257)<>1),\"ERR!\",\"OK\")","v":"ERR!"},{"$f":"IF(AND(OR(BE257=BK257,BE257=0),OR(BF257=BK257,BF257=0),OR(BG257=BK257,BG257=0),OR(BH257=BK257,BH257=0),OR(BI257=BK257,BI257=0),OR(BJ257=BK257,BJ257=0)),\"OK\",\"ERR!\")","v":"OK"},{"$f":"(BN257*POWER(10,0)+BO257*POWER(10,1)+BP257*POWER(10,2)+BQ257*POWER(10,3)+BR257*POWER(10,4)+BS257*POWER(10,5)+BT257*POWER(10,6)+BU257*POWER(10,7)+BV257*POWER(10,8)+BW257*POWER(10,9)+BX257*POWER(10,10))","v":0},{"$f":"(BY257*POWER(10,0)+BZ257*POWER(10,1)+CA257*POWER(10,2)+CB257*POWER(10,3)+CC257*POWER(10,4)+CD257*POWER(10,5)+CE257*POWER(10,6)+CF257*POWER(10,7)+CG257*POWER(10,8)+CH257*POWER(10,9)+CI257*POWER(10,10))","v":0},{"$f":"(CJ257*POWER(10,0)+CK257*POWER(10,1)+CL257*POWER(10,2)+CM257*POWER(10,3)+CN257*POWER(10,4)+CO257*POWER(10,5)+CP257*POWER(10,6)+CQ257*POWER(10,7)+CR257*POWER(10,8)+CS257*POWER(10,9)+CT257*POWER(10,10))","v":0},{"$f":"(CU257*POWER(10,0)+CV257*POWER(10,1)+CW257*POWER(10,2)+CX257*POWER(10,3)+CY257*POWER(10,4)+CZ257*POWER(10,5)+DA257*POWER(10,6)+DB257*POWER(10,7)+DC257*POWER(10,8)+DD257*POWER(10,9)+DE257*POWER(10,10))","v":0},{"$f":"(DF257*POWER(10,0)+DG257*POWER(10,1)+DH257*POWER(10,2)+DI257*POWER(10,3)+DJ257*POWER(10,4)+DK257*POWER(10,5)+DL257*POWER(10,6)+DM257*POWER(10,7)+DN257*POWER(10,8)+DO257*POWER(10,9)+DP257*POWER(10,10))","v":0},{"$f":"(DQ257*POWER(10,0)+DR257*POWER(10,1)+DS257*POWER(10,2)+DT257*POWER(10,3)+DU257*POWER(10,4)+DV257*POWER(10,5)+DW257*POWER(10,6)+DX257*POWER(10,7)+DY257*POWER(10,8)+DZ257*POWER(10,9)+EA257*POWER(10,10))","v":0},{"$f":"MAX(BE257:BJ257)","v":0},null,0,null,null,null,null,null,null,null,null,null,null,null,null,null,null,null,null,null,null,null,null,null,null,null,null,null,null,null,null,null,null,null,null,null,null,null,null,null,null,null,null,null,null,null,null,null,null,null,null,null,null,null,null,null,null,null,null,null,null,null,null,null,null,null,null,null,null,null,0,{"$f":"($Y257*D$257)/1000","v":{"$error":"#VALUE!"}},{"$error":"#VALUE!"},{"$error":"#VALUE!"},{"$f":"($Z257*D$257)/1000","v":{"$error":"#VALUE!"}},{"$error":"#VALUE!"},{"$error":"#VALUE!"},{"$f":"($AA257*D$257)/1000","v":{"$error":"#VALUE!"}},{"$error":"#VALUE!"},{"$error":"#VALUE!"},{"$f":"($AB257*D$257)/1000","v":{"$error":"#VALUE!"}},{"$error":"#VALUE!"},{"$error":"#VALUE!"},{"$f":"($AC257*D$257)/1000","v":{"$error":"#VALUE!"}},{"$error":"#VALUE!"},{"$error":"#VALUE!"},{"$f":"($AD257*D$257)/1000","v":{"$error":"#VALUE!"}},{"$error":"#VALUE!"},{"$error":"#VALUE!"},null,0,{"$f":"$AZ$257*$Y257","v":0},{"$f":"($AZ$257*$BN257*D$257*$Y257)/1000","v":{"$error":"#VALUE!"}},{"$error":"#VALUE!"},{"$error":"#VALUE!"},{"$f":"($AZ$257*$BO257*D$257*$Y257)/1000","v":{"$error":"#VALUE!"}},{"$error":"#VALUE!"},{"$error":"#VALUE!"},{"$f":"($AZ$257*$BP257*D$257*$Y257)/1000","v":{"$error":"#VALUE!"}},{"$error":"#VALUE!"},{"$error":"#VALUE!"},{"$f":"($AZ$257*$BQ257*D$257*$Y257)/1000","v":{"$error":"#VALUE!"}},{"$error":"#VALUE!"},{"$error":"#VALUE!"},{"$f":"($AZ$257*$BR257*D$257*$Y257)/1000","v":{"$error":"#VALUE!"}},{"$error":"#VALUE!"},{"$error":"#VALUE!"},{"$f":"($AZ$257*$BS257*D$257*$Y257)/1000","v":{"$error":"#VALUE!"}},{"$error":"#VALUE!"},{"$error":"#VALUE!"},{"$f":"($AZ$257*$BT257*D$257*$Y257)/1000","v":{"$error":"#VALUE!"}},{"$error":"#VALUE!"},{"$error":"#VALUE!"},{"$f":"($AZ$257*$BU257*D$257*$Y257)/1000","v":{"$error":"#VALUE!"}},{"$error":"#VALUE!"},{"$error":"#VALUE!"},{"$f":"($AZ$257*$BV257*D$257*$Y257)/1000","v":{"$error":"#VALUE!"}},{"$error":"#VALUE!"},{"$error":"#VALUE!"},{"$f":"($AZ$257*$BW257*D$257*$Y257)/1000","v":{"$error":"#VALUE!"}},{"$error":"#VALUE!"},{"$error":"#VALUE!"},{"$f":"($AZ$257*$BX257*D$257*$Y257)/1000","v":{"$error":"#VALUE!"}},{"$error":"#VALUE!"},{"$error":"#VALUE!"},0,{"$f":"$AZ$257*$Z257","v":0},{"$f":"($AZ$257*$BY257*D$257*$Z257)/1000","v":{"$error":"#VALUE!"}},{"$error":"#VALUE!"},{"$error":"#VALUE!"},{"$f":"($AZ$257*$BZ257*D$257*$Z257)/1000","v":{"$error":"#VALUE!"}},{"$error":"#VALUE!"},{"$error":"#VALUE!"},{"$f":"($AZ$257*$CA257*D$257*$Z257)/1000","v":{"$error":"#VALUE!"}},{"$error":"#VALUE!"},{"$error":"#VALUE!"},{"$f":"($AZ$257*$CB257*D$257*$Z257)/1000","v":{"$error":"#VALUE!"}},{"$error":"#VALUE!"},{"$error":"#VALUE!"},{"$f":"($AZ$257*$CD257*D$257*$Z257)/1000","v":{"$error":"#VALUE!"}},{"$error":"#VALUE!"},{"$error":"#VALUE!"},{"$f":"($AZ$257*$CD257*D$257*$Z257)/1000","v":{"$error":"#VALUE!"}},{"$error":"#VALUE!"},{"$error":"#VALUE!"},{"$f":"($AZ$257*$CE257*D$257*$Z257)/1000","v":{"$error":"#VALUE!"}},{"$error":"#VALUE!"},{"$error":"#VALUE!"},{"$f":"($AZ$257*$CF257*D$257*$Z257)/1000","v":{"$error":"#VALUE!"}},{"$error":"#VALUE!"},{"$error":"#VALUE!"},{"$f":"($AZ$257*$CG257*D$257*$Z257)/1000","v":{"$error":"#VALUE!"}},{"$error":"#VALUE!"},{"$error":"#VALUE!"},{"$f":"($AZ$257*$CH257*D$257*$Z257)/1000","v":{"$error":"#VALUE!"}},{"$error":"#VALUE!"},{"$error":"#VALUE!"},{"$f":"($AZ$257*$CI257*D$257*$Z257)/1000","v":{"$error":"#VALUE!"}},{"$error":"#VALUE!"},{"$error":"#VALUE!"},0,{"$f":"$AZ$257*$AA257","v":0},{"$f":"($AZ$257*$CJ257*D$257*$AA257)/1000","v":{"$error":"#VALUE!"}},{"$error":"#VALUE!"},{"$error":"#VALUE!"},{"$f":"($AZ$257*$CK257*D$257*$AA257)/1000","v":{"$error":"#VALUE!"}},{"$error":"#VALUE!"},{"$error":"#VALUE!"},{"$f":"($AZ$257*$CL257*D$257*$AA257)/1000","v":{"$error":"#VALUE!"}},{"$error":"#VALUE!"},{"$error":"#VALUE!"},{"$f":"($AZ$257*$CM257*D$257*$AA257)/1000","v":{"$error":"#VALUE!"}},{"$error":"#VALUE!"},{"$error":"#VALUE!"},{"$f":"($AZ$257*$CN257*D$257*$AA257)/1000","v":{"$error":"#VALUE!"}},{"$error":"#VALUE!"},{"$error":"#VALUE!"},{"$f":"($AZ$257*$CO257*D$257*$AA257)/1000","v":{"$error":"#VALUE!"}},{"$error":"#VALUE!"},{"$error":"#VALUE!"},{"$f":"($AZ$257*$CP257*D$257*$AA257)/1000","v":{"$error":"#VALUE!"}},{"$error":"#VALUE!"},{"$error":"#VALUE!"},{"$f":"($AZ$257*$CQ257*D$257*$AA257)/1000","v":{"$error":"#VALUE!"}},{"$error":"#VALUE!"},{"$error":"#VALUE!"},{"$f":"($AZ$257*$CR257*D$257*$AA257)/1000","v":{"$error":"#VALUE!"}},{"$error":"#VALUE!"},{"$error":"#VALUE!"},{"$f":"($AZ$257*$CS257*D$257*$AA257)/1000","v":{"$error":"#VALUE!"}},{"$error":"#VALUE!"},{"$error":"#VALUE!"},{"$f":"($AZ$257*$CT257*D$257*$AA257)/1000","v":{"$error":"#VALUE!"}},{"$error":"#VALUE!"},{"$error":"#VALUE!"},0,{"$f":"$AZ$257*$AB257","v":0},{"$f":"($AZ$257*$CU257*D$257*$AB257)/1000","v":{"$error":"#VALUE!"}},{"$error":"#VALUE!"},{"$error":"#VALUE!"},{"$f":"($AZ$257*$CV257*D$257*$AB257)/1000","v":{"$error":"#VALUE!"}},{"$error":"#VALUE!"},{"$error":"#VALUE!"},{"$f":"($AZ$257*$CW257*D$257*$AB257)/1000","v":{"$error":"#VALUE!"}},{"$error":"#VALUE!"},{"$error":"#VALUE!"},{"$f":"($AZ$257*$CX257*D$257*$AB257)/1000","v":{"$error":"#VALUE!"}},{"$error":"#VALUE!"},{"$error":"#VALUE!"},{"$f":"($AZ$257*$CY257*D$257*$AB257)/1000","v":{"$error":"#VALUE!"}},{"$error":"#VALUE!"},{"$error":"#VALUE!"},{"$f":"($AZ$257*$CZ257*D$257*$AB257)/1000","v":{"$error":"#VALUE!"}},{"$error":"#VALUE!"},{"$error":"#VALUE!"},{"$f":"($AZ$257*$DA257*D$257*$AB257)/1000","v":{"$error":"#VALUE!"}},{"$error":"#VALUE!"},{"$error":"#VALUE!"},{"$f":"($AZ$257*$DB257*D$257*$AB257)/1000","v":{"$error":"#VALUE!"}},{"$error":"#VALUE!"},{"$error":"#VALUE!"},{"$f":"($AZ$257*$DC257*D$257*$AB257)/1000","v":{"$error":"#VALUE!"}},{"$error":"#VALUE!"},{"$error":"#VALUE!"},{"$f":"($AZ$257*$DD257*D$257*$AB257)/1000","v":{"$error":"#VALUE!"}},{"$error":"#VALUE!"},{"$error":"#VALUE!"},{"$f":"($AZ$257*$DE257*D$257*$AB257)/1000","v":{"$error":"#VALUE!"}},{"$error":"#VALUE!"},{"$error":"#VALUE!"},0,{"$f":"$AZ$257*$AC257","v":0},{"$f":"($AZ$257*$DF257*D$257*$AC257)/1000","v":{"$error":"#VALUE!"}},{"$error":"#VALUE!"},{"$error":"#VALUE!"},{"$f":"($AZ$257*$DG257*D$257*$AC257)/1000","v":{"$error":"#VALUE!"}},{"$error":"#VALUE!"},{"$error":"#VALUE!"},{"$f":"($AZ$257*$DH257*D$257*$AC257)/1000","v":{"$error":"#VALUE!"}},{"$error":"#VALUE!"},{"$error":"#VALUE!"},{"$f":"($AZ$257*$DI257*D$257*$AC257)/1000","v":{"$error":"#VALUE!"}},{"$error":"#VALUE!"},{"$error":"#VALUE!"},{"$f":"($AZ$257*$DJ257*D$257*$AC257)/1000","v":{"$error":"#VALUE!"}},{"$error":"#VALUE!"},{"$error":"#VALUE!"},{"$f":"($AZ$257*$DK257*D$257*$AC257)/1000","v":{"$error":"#VALUE!"}},{"$error":"#VALUE!"},{"$error":"#VALUE!"},{"$f":"($AZ$257*$DL257*D$257*$AC257)/1000","v":{"$error":"#VALUE!"}},{"$error":"#VALUE!"},{"$error":"#VALUE!"},{"$f":"($AZ$257*$DM257*D$257*$AC257)/1000","v":{"$error":"#VALUE!"}},{"$error":"#VALUE!"},{"$error":"#VALUE!"},{"$f":"($AZ$257*$DN257*D$257*$AC257)/1000","v":{"$error":"#VALUE!"}},{"$error":"#VALUE!"},{"$error":"#VALUE!"},{"$f":"($AZ$257*$DO257*D$257*$AC257)/1000","v":{"$error":"#VALUE!"}},{"$error":"#VALUE!"},{"$error":"#VALUE!"},{"$f":"($AZ$257*$DP257*D$257*$AC257)/1000","v":{"$error":"#VALUE!"}},{"$error":"#VALUE!"},{"$error":"#VALUE!"},0,{"$f":"$AZ$257*$AD257","v":0},{"$f":"($AZ$257*$DQ257*D$257*$AD257)/1000","v":{"$error":"#VALUE!"}},{"$error":"#VALUE!"},{"$error":"#VALUE!"},{"$f":"($AZ$257*$DR257*D$257*$AD257)/1000","v":{"$error":"#VALUE!"}},{"$error":"#VALUE!"},{"$error":"#VALUE!"},{"$f":"($AZ$257*$DS257*D$257*$AD257)/1000","v":{"$error":"#VALUE!"}},{"$error":"#VALUE!"},{"$error":"#VALUE!"},{"$f":"($AZ$257*$DT257*D$257*$AD257)/1000","v":{"$error":"#VALUE!"}},{"$error":"#VALUE!"},{"$error":"#VALUE!"},{"$f":"($AZ$257*$DU257*D$257*$AD257)/1000","v":{"$error":"#VALUE!"}},{"$error":"#VALUE!"},{"$error":"#VALUE!"},{"$f":"($AZ$257*$DV257*D$257*$AD257)/1000","v":{"$error":"#VALUE!"}},{"$error":"#VALUE!"},{"$error":"#VALUE!"},{"$f":"($AZ$257*$DW257*D$257*$AD257)/1000","v":{"$error":"#VALUE!"}},{"$error":"#VALUE!"},{"$error":"#VALUE!"},{"$f":"($AZ$257*$DX257*D$257*$AD257)/1000","v":{"$error":"#VALUE!"}},{"$error":"#VALUE!"},{"$error":"#VALUE!"},{"$f":"($AZ$257*$DY257*D$257*$AD257)/1000","v":{"$error":"#VALUE!"}},{"$error":"#VALUE!"},{"$error":"#VALUE!"},{"$f":"($AZ$257*$DZ257*D$257*$AD257)/1000","v":{"$error":"#VALUE!"}},{"$error":"#VALUE!"},{"$error":"#VALUE!"},{"$f":"($AZ$257*$EA257*D$257*$AD257)/1000","v":{"$error":"#VALUE!"}},{"$error":"#VALUE!"},{"$error":"#VALUE!"}]
[null,null,null,null,null,null,null,null,null,null,null,null,null,null,null,null,null,null,null,null,null,null,null,2,null,null,null,null,null,null,null,null,null,"N/A",null,false,null,null,null,null,2,null,null,null,null,null,null,null,null,null,null,null,{"$f":"IF(AND(BB258=\"OK\",BC258=\"OK\",BD258=\"OK\"),\"OK\",\"ERR!\")","v":"ERR!"},"OK",{"$f":"IF(OR(SUM(BN258:BX258)<>1,SUM(BY258:CI258)<>1,SUM(CJ258:CT258)<>1,SUM(CU258:DE258)<>1,SUM(DF258:DP258)<>1,SUM(DQ258:EA258)<>1),\"ERR!\",\"OK\")","v":"ERR!"},{"$f":"IF(AND(OR(BE258=BK258,BE258=0),OR(BF258=BK258,BF258=0),OR(BG258=BK258,BG258=0),OR(BH258=BK258,BH258=0),OR(BI258=BK258,BI258=0),OR(BJ258=BK258,BJ258=0)),\"OK\",\"ERR!\")","v":"OK"},{"$f":"(BN258*POWER(10,0)+BO258*POWER(10,1)+BP258*POWER(10,2)+BQ258*POWER(10,3)+BR258*POWER(10,4)+BS258*POWER(10,5)+BT258*POWER(10,6)+BU258*POWER(10,7)+BV258*POWER(10,8)+BW258*POWER(10,9)+BX258*POWER(10,10))","v":0},{"$f":"(BY258*POWER(10,0)+BZ258*POWER(10,1)+CA258*POWER(10,2)+CB258*POWER(10,3)+CC258*POWER(10,4)+CD258*POWER(10,5)+CE258*POWER(10,6)+CF258*POWER(10,7)+CG258*POWER(10,8)+CH258*POWER(10,9)+CI258*POWER(10,10))","v":0},{"$f":"(CJ258*POWER(10,0)+CK258*POWER(10,1)+CL258*POWER(10,2)+CM258*POWER(10,3)+CN258*POWER(10,4)+CO258*POWER(10,5)+CP258*POWER(10,6)+CQ258*POWER(10,7)+CR258*POWER(10,8)+CS258*POWER(10,9)+CT258*POWER(10,10))","v":0},{"$f":"(CU258*POWER(10,0)+CV258*POWER(10,1)+CW258*POWER(10,2)+CX258*POWER(10,3)+CY258*POWER(10,4)+CZ258*POWER(10,5)+DA258*POWER(10,6)+DB258*POWER(10,7)+DC258*POWER(10,8)+DD258*POWER(10,9)+DE258*POWER(10,10))","v":0},{"$f":"(DF258*POWER(10,0)+DG258*POWER(10,1)+DH258*POWER(10,2)+DI258*POWER(10,3)+DJ258*POWER(10,4)+DK258*POWER(10,5)+DL258*POWER(10,6)+DM258*POWER(10,7)+DN258*POWER(10,8)+DO258*POWER(10,9)+DP258*POWER(10,10))","v":0},{"$f":"(DQ258*POWER(10,0)+DR258*POWER(10,1)+DS258*POWER(10,2)+DT258*POWER(10,3)+DU258*POWER(10,4)+DV258*POWER(10,5)+DW258*POWER(10,6)+DX258*POWER(10,7)+DY258*POWER(10,8)+DZ258*POWER(10,9)+EA258*POWER(10,10))","v":0},{"$f":"MAX(BE258:BJ258)","v":0},null,2,null,null,null,null,null,null,null,null,null,null,null,null,null,null,null,null,null,null,null,null,null,null,null,null,null,null,null,null,null,null,null,null,null,null,null,null,null,null,null,null,null,null,null,null,null,null,null,null,null,null,null,null,null,null,null,null,null,null,null,null,null,null,null,null,null,null,null,2,{"$error":"#VALUE!"},{"$error":"#VALUE!"},{"$error":"#VALUE!"},{"$error":"#VALUE!"},{"$error":"#VALUE!"},{"$error":"#VALUE!"},{"$error":"#VALUE!"},{"$error":"#VALUE!"},{"$error":"#VALUE!"},{"$error":"#VALUE!"},{"$error":"#VALUE!"},{"$error":"#VALUE!"},{"$error":"#VALUE!"},{"$error":"#VALUE!"},{"$error":"#VALUE!"},{"$error":"#VALUE!"},{"$error":"#VALUE!"},{"$error":"#VALUE!"},null,2,0,{"$error":"#VALUE!"},{"$error":"#VALUE!"},{"$error":"#VALUE!"},{"$error":"#VALUE!"},{"$error":"#VALUE!"},{"$error":"#VALUE!"},{"$error":"#VALUE!"},{"$error":"#VALUE!"},{"$error":"#VALUE!"},{"$error":"#VALUE!"},{"$error":"#VALUE!"},{"$error":"#VALUE!"},{"$error":"#VALUE!"},{"$error":"#VALUE!"},{"$error":"#VALUE!"},{"$error":"#VALUE!"},{"$error":"#VALUE!"},{"$error":"#VALUE!"},{"$error":"#VALUE!"},{"$error":"#VALUE!"},{"$error":"#VALUE!"},{"$error":"#VALUE!"},{"$error":"#VALUE!"},{"$error":"#VALUE!"},{"$error":"#VALUE!"},{"$error":"#VALUE!"},{"$error":"#VALUE!"},{"$error":"#VALUE!"},{"$error":"#VALUE!"},{"$error":"#VALUE!"},{"$error":"#VALUE!"},{"$error":"#VALUE!"},{"$error":"#VALUE!"},2,0,{"$error":"#VALUE!"},{"$error":"#VALUE!"},{"$error":"#VALUE!"},{"$error":"#VALUE!"},{"$error":"#VALUE!"},{"$error":"#VALUE!"},{"$error":"#VALUE!"},{"$error":"#VALUE!"},{"$error":"#VALUE!"},{"$error":"#VALUE!"},{"$error":"#VALUE!"},{"$error":"#VALUE!"},{"$error":"#VALUE!"},{"$error":"#VALUE!"},{"$error":"#VALUE!"},{"$error":"#VALUE!"},{"$error":"#VALUE!"},{"$error":"#VALUE!"},{"$error":"#VALUE!"},{"$error":"#VALUE!"},{"$error":"#VALUE!"},{"$error":"#VALUE!"},{"$error":"#VALUE!"},{"$error":"#VALUE!"},{"$error":"#VALUE!"},{"$error":"#VALUE!"},{"$error":"#VALUE!"},{"$error":"#VALUE!"},{"$error":"#VALUE!"},{"$error":"#VALUE!"},{"$error":"#VALUE!"},{"$error":"#VALUE!"},{"$error":"#VALUE!"},2,0,{"$error":"#VALUE!"},{"$error":"#VALUE!"},{"$error":"#VALUE!"},{"$error":"#VALUE!"},{"$error":"#VALUE!"},{"$error":"#VALUE!"},{"$error":"#VALUE!"},{"$error":"#VALUE!"},{"$error":"#VALUE!"},{"$error":"#VALUE!"},{"$error":"#VALUE!"},{"$error":"#VALUE!"},{"$error":"#VALUE!"},{"$error":"#VALUE!"},{"$error":"#VALUE!"},{"$error":"#VALUE!"},{"$error":"#VALUE!"},{"$error":"#VALUE!"},{"$error":"#VALUE!"},{"$error":"#VALUE!"},{"$error":"#VALUE!"},{"$error":"#VALUE!"},{"$error":"#VALUE!"},{"$error":"#VALUE!"},{"$error":"#VALUE!"},{"$error":"#VALUE!"},{"$error":"#VALUE!"},{"$error":"#VALUE!"},{"$error":"#VALUE!"},{"$error":"#VALUE!"},{"$error":"#VALUE!"},{"$error":"#VALUE!"},{"$error":"#VALUE!"},2,0,{"$error":"#VALUE!"},{"$error":"#VALUE!"},{"$error":"#VALUE!"},{"$error":"#VALUE!"},{"$error":"#VALUE!"},{"$error":"#VALUE!"},{"$error":"#VALUE!"},{"$error":"#VALUE!"},{"$error":"#VALUE!"},{"$error":"#VALUE!"},{"$error":"#VALUE!"},{"$error":"#VALUE!"},{"$error":"#VALUE!"},{"$error":"#VALUE!"},{"$error":"#VALUE!"},{"$error":"#VALUE!"},{"$error":"#VALUE!"},{"$error":"#VALUE!"},{"$error":"#VALUE!"},{"$error":"#VALUE!"},{"$error":"#VALUE!"},{"$error":"#VALUE!"},{"$error":"#VALUE!"},{"$error":"#VALUE!"},{"$error":"#VALUE!"},{"$error":"#VALUE!"},{"$error":"#VALUE!"},{"$error":"#VALUE!"},{"$error":"#VALUE!"},{"$error":"#VALUE!"},{"$error":"#VALUE!"},{"$error":"#VALUE!"},{"$error":"#VALUE!"},2,0,{"$error":"#VALUE!"},{"$error":"#VALUE!"},{"$error":"#VALUE!"},{"$error":"#VALUE!"},{"$error":"#VALUE!"},{"$error":"#VALUE!"},{"$error":"#VALUE!"},{"$error":"#VALUE!"},{"$error":"#VALUE!"},{"$error":"#VALUE!"},{"$error":"#VALUE!"},{"$error":"#VALUE!"},{"$error":"#VALUE!"},{"$error":"#VALUE!"},{"$error":"#VALUE!"},{"$error":"#VALUE!"},{"$error":"#VALUE!"},{"$error":"#VALUE!"},{"$error":"#VALUE!"},{"$error":"#VALUE!"},{"$error":"#VALUE!"},{"$error":"#VALUE!"},{"$error":"#VALUE!"},{"$error":"#VALUE!"},{"$error":"#VALUE!"},{"$error":"#VALUE!"},{"$error":"#VALUE!"},{"$error":"#VALUE!"},{"$error":"#VALUE!"},{"$error":"#VALUE!"},{"$error":"#VALUE!"},{"$error":"#VALUE!"},{"$error":"#VALUE!"},2,0,{"$error":"#VALUE!"},{"$error":"#VALUE!"},{"$error":"#VALUE!"},{"$error":"#VALUE!"},{"$error":"#VALUE!"},{"$error":"#VALUE!"},{"$error":"#VALUE!"},{"$error":"#VALUE!"},{"$error":"#VALUE!"},{"$error":"#VALUE!"},{"$error":"#VALUE!"},{"$error":"#VALUE!"},{"$error":"#VALUE!"},{"$error":"#VALUE!"},{"$error":"#VALUE!"},{"$error":"#VALUE!"},{"$error":"#VALUE!"},{"$error":"#VALUE!"},{"$error":"#VALUE!"},{"$error":"#VALUE!"},{"$error":"#VALUE!"},{"$error":"#VALUE!"},{"$error":"#VALUE!"},{"$error":"#VALUE!"},{"$error":"#VALUE!"},{"$error":"#VALUE!"},{"$error":"#VALUE!"},{"$error":"#VALUE!"},{"$error":"#VALUE!"},{"$error":"#VALUE!"},{"$error":"#VALUE!"},{"$error":"#VALUE!"},{"$error":"#VALUE!"}]
[null,null,null,null,null,null,null,null,null,null,null,null,null,null,null,null,null,null,null,null,null,null,null,3,null,null,null,null,null,null,null,null,null,"N/A",null,false,null,null,null,null,3,null,null,null,null,null,null,null,null,null,null,null,{"$f":"IF(AND(BB259=\"OK\",BC259=\"OK\",BD259=\"OK\"),\"OK\",\"ERR!\")","v":"ERR!"},"OK",{"$f":"IF(OR(SUM(BN259:BX259)<>1,SUM(BY259:CI259)<>1,SUM(CJ259:CT259)<>1,SUM(CU259:DE259)<>1,SUM(DF259:DP259)<>1,SUM(DQ259:EA259)<>1),\"ERR!\",\"OK\")","v":"ERR!"},{"$f":"IF(AND(OR(BE259=BK259,BE259=0),OR(BF259=BK259,BF259=0),OR(BG259=BK259,BG259=0),OR(BH259=BK259,BH259=0),OR(BI259=BK259,BI259=0),OR(BJ259=BK259,BJ259=0)),\"OK\",\"ERR!\")","v":"OK"},0,0,0,0,0,0,{"$f":"MAX(BE259:BJ259)","v":0},null,3,null,null,null,null,null,null,null,null,null,null,null,null,null,null,null,null,null,null,null,null,null,null,null,null,null,null,null,null,null,null,null,null,null,null,null,null,null,null,null,null,null,null,null,null,null,null,null,null,null,null,null,null,null,null,null,null,null,null,null,null,null,null,null,null,null,null,null,3,{"$error":"#VALUE!"},{"$error":"#VALUE!"},{"$error":"#VALUE!"},{"$error":"#VALUE!"},{"$error":"#VALUE!"},{"$error":"#VALUE!"},{"$error":"#VALUE!"},{"$error":"#VALUE!"},{"$error":"#VALUE!"},{"$error":"#VALUE!"},{"$error":"#VALUE!"},{"$error":"#VALUE!"},{"$error":"#VALUE!"},{"$error":"#VALUE!"},{"$error":"#VALUE!"},{"$error":"#VALUE!"},{"$error":"#VALUE!"},{"$error":"#VALUE!"},null,3,0,{"$error":"#VALUE!"},{"$error":"#VALUE!"},{"$error":"#VALUE!"},{"$error":"#VALUE!"},{"$error":"#VALUE!"},{"$error":"#VALUE!"},{"$error":"#VALUE!"},{"$error":"#VALUE!"},{"$error":"#VALUE!"},{"$error":"#VALUE!"},{"$error":"#VALUE!"},{"$error":"#VALUE!"},{"$error":"#VALUE!"},{"$error":"#VALUE!"},{"$error":"#VALUE!"},{"$error":"#VALUE!"},{"$error":"#VALUE!"},{"$error":"#VALUE!"},{"$error":"#VALUE!"},{"$error":"#VALUE!"},{"$error":"#VALUE!"},{"$error":"#VALUE!"},{"$error":"#VALUE!"},{"$error":"#VALUE!"},{"$error":"#VALUE!"},{"$error":"#VALUE!"},{"$error":"#VALUE!"},{"$error":"#VALUE!"},{"$error":"#VALUE!"},{"$error":"#VALUE!"},{"$error":"#VALUE!"},{"$error":"#VALUE!"},{"$error":"#VALUE!"},3,0,{"$error":"#VALUE!"},{"$error":"#VALUE!"},{"$error":"#VALUE!"},{"$error":"#VALUE!"},{"$error":"#VALUE!"},{"$error":"#VALUE!"},{"$error":"#VALUE!"},{"$error":"#VALUE!"},{"$error":"#VALUE!"},{"$error":"#VALUE!"},{"$error":"#VALUE!"},{"$error":"#VALUE!"},{"$error":"#VALUE!"},{"$error":"#VALUE!"},{"$error":"#VALUE!"},{"$error":"#VALUE!"},{"$error":"#VALUE!"},{"$error":"#VALUE!"},{"$error":"#VALUE!"},{"$error":"#VALUE!"},{"$error":"#VALUE!"},{"$error":"#VALUE!"},{"$error":"#VALUE!"},{"$error":"#VALUE!"},{"$error":"#VALUE!"},{"$error":"#VALUE!"},{"$error":"#VALUE!"},{"$error":"#VALUE!"},{"$error":"#VALUE!"},{"$error":"#VALUE!"},{"$error":"#VALUE!"},{"$error":"#VALUE!"},{"$error":"#VALUE!"},3,0,{"$error":"#VALUE!"},{"$error":"#VALUE!"},{"$error":"#VALUE!"},{"$error":"#VALUE!"},{"$error":"#VALUE!"},{"$error":"#VALUE!"},{"$error":"#VALUE!"},{"$error":"#VALUE!"},{"$error":"#VALUE!"},{"$error":"#VALUE!"},{"$error":"#VALUE!"},{"$error":"#VALUE!"},{"$error":"#VALUE!"},{"$error":"#VALUE!"},{"$error":"#VALUE!"},{"$error":"#VALUE!"},{"$error":"#VALUE!"},{"$error":"#VALUE!"},{"$error":"#VALUE!"},{"$error":"#VALUE!"},{"$error":"#VALUE!"},{"$error":"#VALUE!"},{"$error":"#VALUE!"},{"$error":"#VALUE!"},{"$error":"#VALUE!"},{"$error":"#VALUE!"},{"$error":"#VALUE!"},{"$error":"#VALUE!"},{"$error":"#VALUE!"},{"$error":"#VALUE!"},{"$error":"#VALUE!"},{"$error":"#VALUE!"},{"$error":"#VALUE!"},3,0,{"$error":"#VALUE!"},{"$error":"#VALUE!"},{"$error":"#VALUE!"},{"$error":"#VALUE!"},{"$error":"#VALUE!"},{"$error":"#VALUE!"},{"$error":"#VALUE!"},{"$error":"#VALUE!"},{"$error":"#VALUE!"},{"$error":"#VALUE!"},{"$error":"#VALUE!"},{"$error":"#VALUE!"},{"$error":"#VALUE!"},{"$error":"#VALUE!"},{"$error":"#VALUE!"},{"$error":"#VALUE!"},{"$error":"#VALUE!"},{"$error":"#VALUE!"},{"$error":"#VALUE!"},{"$error":"#VALUE!"},{"$error":"#VALUE!"},{"$error":"#VALUE!"},{"$error":"#VALUE!"},{"$error":"#VALUE!"},{"$error":"#VALUE!"},{"$error":"#VALUE!"},{"$error":"#VALUE!"},{"$error":"#VALUE!"},{"$error":"#VALUE!"},{"$error":"#VALUE!"},{"$error":"#VALUE!"},{"$error":"#VALUE!"},{"$error":"#VALUE!"},3,0,{"$error":"#VALUE!"},{"$error":"#VALUE!"},{"$error":"#VALUE!"},{"$error":"#VALUE!"},{"$error":"#VALUE!"},{"$error":"#VALUE!"},{"$error":"#VALUE!"},{"$error":"#VALUE!"},{"$error":"#VALUE!"},{"$error":"#VALUE!"},{"$error":"#VALUE!"},{"$error":"#VALUE!"},{"$error":"#VALUE!"},{"$error":"#VALUE!"},{"$error":"#VALUE!"},{"$error":"#VALUE!"},{"$error":"#VALUE!"},{"$error":"#VALUE!"},{"$error":"#VALUE!"},{"$error":"#VALUE!"},{"$error":"#VALUE!"},{"$error":"#VALUE!"},{"$error":"#VALUE!"},{"$error":"#VALUE!"},{"$error":"#VALUE!"},{"$error":"#VALUE!"},{"$error":"#VALUE!"},{"$error":"#VALUE!"},{"$error":"#VALUE!"},{"$error":"#VALUE!"},{"$error":"#VALUE!"},{"$error":"#VALUE!"},{"$error":"#VALUE!"},3,0,{"$error":"#VALUE!"},{"$error":"#VALUE!"},{"$error":"#VALUE!"},{"$error":"#VALUE!"},{"$error":"#VALUE!"},{"$error":"#VALUE!"},{"$error":"#VALUE!"},{"$error":"#VALUE!"},{"$error":"#VALUE!"},{"$error":"#VALUE!"},{"$error":"#VALUE!"},{"$error":"#VALUE!"},{"$error":"#VALUE!"},{"$error":"#VALUE!"},{"$error":"#VALUE!"},{"$error":"#VALUE!"},{"$error":"#VALUE!"},{"$error":"#VALUE!"},{"$error":"#VALUE!"},{"$error":"#VALUE!"},{"$error":"#VALUE!"},{"$error":"#VALUE!"},{"$error":"#VALUE!"},{"$error":"#VALUE!"},{"$error":"#VALUE!"},{"$error":"#VALUE!"},{"$error":"#VALUE!"},{"$error":"#VALUE!"},{"$error":"#VALUE!"},{"$error":"#VALUE!"},{"$error":"#VALUE!"},{"$error":"#VALUE!"},{"$error":"#VALUE!"}]
[null,null,null,null,null,null,null,null,null,null,null,null,null,null,null,null,null,null,null,null,null,null,null,4,null,null,null,null,null,null,null,null,null,"N/A",null,false,null,null,null,null,4,null,null,null,null,null,null,null,null,null,null,null,{"$f":"IF(AND(BB260=\"OK\",BC260=\"OK\",BD260=\"OK\"),\"OK\",\"ERR!\")","v":"ERR!"},"OK","ERR!",{"$f":"IF(AND(OR(BE260=BK260,BE260=0),OR(BF260=BK260,BF260=0),OR(BG260=BK260,BG260=0),OR(BH260=BK260,BH260=0),OR(BI260=BK260,BI260=0),OR(BJ260=BK260,BJ260=0)),\"OK\",\"ERR!\")","v":"OK"},0,0,0,0,0,0,0,null,4,null,null,null,null,null,null,null,null,null,null,null,null,null,null,null,null,null,null,null,null,null,null,null,null,null,null,null,null,null,null,null,null,null,null,null,null,null,null,null,null,null,null,null,null,null,null,null,null,null,null,null,null,null,null,null,null,null,null,null,null,null,null,null,null,null,null,null,4,{"$error":"#VALUE!"},{"$error":"#VALUE!"},{"$error":"#VALUE!"},{"$error":"#VALUE!"},{"$error":"#VALUE!"},{"$error":"#VALUE!"},{"$error":"#VALUE!"},{"$error":"#VALUE!"},{"$error":"#VALUE!"},{"$error":"#VALUE!"},{"$error":"#VALUE!"},{"$error":"#VALUE!"},{"$error":"#VALUE!"},{"$error":"#VALUE!"},{"$error":"#VALUE!"},{"$error":"#VALUE!"},{"$error":"#VALUE!"},{"$error":"#VALUE!"},null,4,0,{"$error":"#VALUE!"},{"$error":"#VALUE!"},{"$error":"#VALUE!"},{"$error":"#VALUE!"},{"$error":"#VALUE!"},{"$error":"#VALUE!"},{"$error":"#VALUE!"},{"$error":"#VALUE!"},{"$error":"#VALUE!"},{"$error":"#VALUE!"},{"$error":"#VALUE!"},{"$error":"#VALUE!"},{"$error":"#VALUE!"},{"$error":"#VALUE!"},{"$error":"#VALUE!"},{"$error":"#VALUE!"},{"$error":"#VALUE!"},{"$error":"#VALUE!"},{"$error":"#VALUE!"},{"$error":"#VALUE!"},{"$error":"#VALUE!"},{"$error":"#VALUE!"},{"$error":"#VALUE!"},{"$error":"#VALUE!"},{"$error":"#VALUE!"},{"$error":"#VALUE!"},{"$error":"#VALUE!"},{"$error":"#VALUE!"},{"$error":"#VALUE!"},{"$error":"#VALUE!"},{"$error":"#VALUE!"},{"$error":"#VALUE!"},{"$error":"#VALUE!"},4,0,{"$error":"#VALUE!"},{"$error":"#VALUE!"},{"$error":"#VALUE!"},{"$error":"#VALUE!"},{"$error":"#VALUE!"},{"$error":"#VALUE!"},{"$error":"#VALUE!"},{"$error":"#VALUE!"},{"$error":"#VALUE!"},{"$error":"#VALUE!"},{"$error":"#VALUE!"},{"$error":"#VALUE!"},{"$error":"#VALUE!"},{"$error":"#VALUE!"},{"$error":"#VALUE!"},{"$error":"#VALUE!"},{"$error":"#VALUE!"},{"$error":"#VALUE!"},{"$error":"#VALUE!"},{"$error":"#VALUE!"},{"$error":"#VALUE!"},{"$error":"#VALUE!"},{"$error":"#VALUE!"},{"$error":"#VALUE!"},{"$error":"#VALUE!"},{"$error":"#VALUE!"},{"$error":"#VALUE!"},{"$error":"#VALUE!"},{"$error":"#VALUE!"},{"$error":"#VALUE!"},{"$error":"#VALUE!"},{"$error":"#VALUE!"},{"$error":"#VALUE!"},4,0,{"$error":"#VALUE!"},{"$error":"#VALUE!"},{"$error":"#VALUE!"},{"$error":"#VALUE!"},{"$error":"#VALUE!"},{"$error":"#VALUE!"},{"$error":"#VALUE!"},{"$error":"#VALUE!"},{"$error":"#VALUE!"},{"$error":"#VALUE!"},{"$error":"#VALUE!"},{"$error":"#VALUE!"},{"$error":"#VALUE!"},{"$error":"#VALUE!"},{"$error":"#VALUE!"},{"$error":"#VALUE!"},{"$error":"#VALUE!"},{"$error":"#VALUE!"},{"$error":"#VALUE!"},{"$error":"#VALUE!"},{"$error":"#VALUE!"},{"$error":"#VALUE!"},{"$error":"#VALUE!"},{"$error":"#VALUE!"},{"$error":"#VALUE!"},{"$error":"#VALUE!"},{"$error":"#VALUE!"},{"$error":"#VALUE!"},{"$error":"#VALUE!"},{"$error":"#VALUE!"},{"$error":"#VALUE!"},{"$error":"#VALUE!"},{"$error":"#VALUE!"},4,0,{"$error":"#VALUE!"},{"$error":"#VALUE!"},{"$error":"#VALUE!"},{"$error":"#VALUE!"},{"$error":"#VALUE!"},{"$error":"#VALUE!"},{"$error":"#VALUE!"},{"$error":"#VALUE!"},{"$error":"#VALUE!"},{"$error":"#VALUE!"},{"$error":"#VALUE!"},{"$error":"#VALUE!"},{"$error":"#VALUE!"},{"$error":"#VALUE!"},{"$error":"#VALUE!"},{"$error":"#VALUE!"},{"$error":"#VALUE!"},{"$error":"#VALUE!"},{"$error":"#VALUE!"},{"$error":"#VALUE!"},{"$error":"#VALUE!"},{"$error":"#VALUE!"},{"$error":"#VALUE!"},{"$error":"#VALUE!"},{"$error":"#VALUE!"},{"$error":"#VALUE!"},{"$error":"#VALUE!"},{"$error":"#VALUE!"},{"$error":"#VALUE!"},{"$error":"#VALUE!"},{"$error":"#VALUE!"},{"$error":"#VALUE!"},{"$error":"#VALUE!"},4,0,{"$error":"#VALUE!"},{"$error":"#VALUE!"},{"$error":"#VALUE!"},{"$error":"#VALUE!"},{"$error":"#VALUE!"},{"$error":"#VALUE!"},{"$error":"#VALUE!"},{"$error":"#VALUE!"},{"$error":"#VALUE!"},{"$error":"#VALUE!"},{"$error":"#VALUE!"},{"$error":"#VALUE!"},{"$error":"#VALUE!"},{"$error":"#VALUE!"},{"$error":"#VALUE!"},{"$error":"#VALUE!"},{"$error":"#VALUE!"},{"$error":"#VALUE!"},{"$error":"#VALUE!"},{"$error":"#VALUE!"},{"$error":"#VALUE!"},{"$error":"#VALUE!"},{"$error":"#VALUE!"},{"$error":"#VALUE!"},{"$error":"#VALUE!"},{"$error":"#VALUE!"},{"$error":"#VALUE!"},{"$error":"#VALUE!"},{"$error":"#VALUE!"},{"$error":"#VALUE!"},{"$error":"#VALUE!"},{"$error":"#VALUE!"},{"$error":"#VALUE!"},4,0,{"$error":"#VALUE!"},{"$error":"#VALUE!"},{"$error":"#VALUE!"},{"$error":"#VALUE!"},{"$error":"#VALUE!"},{"$error":"#VALUE!"},{"$error":"#VALUE!"},{"$error":"#VALUE!"},{"$error":"#VALUE!"},{"$error":"#VALUE!"},{"$error":"#VALUE!"},{"$error":"#VALUE!"},{"$error":"#VALUE!"},{"$error":"#VALUE!"},{"$error":"#VALUE!"},{"$error":"#VALUE!"},{"$error":"#VALUE!"},{"$error":"#VALUE!"},{"$error":"#VALUE!"},{"$error":"#VALUE!"},{"$error":"#VALUE!"},{"$error":"#VALUE!"},{"$error":"#VALUE!"},{"$error":"#VALUE!"},{"$error":"#VALUE!"},{"$error":"#VALUE!"},{"$error":"#VALUE!"},{"$error":"#VALUE!"},{"$error":"#VALUE!"},{"$error":"#VALUE!"},{"$error":"#VALUE!"},{"$error":"#VALUE!"},{"$error":"#VALUE!"}]
[null,null,null,null,null,null,null,null,null,null,null,null,null,null,null,null,null,null,null,null,null,null,null,7,null,null,null,null,null,null,null,null,null,"N/A",null,false,null,null,null,null,7,null,null,null,null,null,null,null,null,null,null,null,{"$f":"IF(AND(BB261=\"OK\",BC261=\"OK\",BD261=\"OK\"),\"OK\",\"ERR!\")","v":"ERR!"},"OK","ERR!","OK",0,0,0,0,0,0,0,null,7,null,null,null,null,null,null,null,null,null,null,null,null,null,null,null,null,null,null,null,null,null,null,null,null,null,null,null,null,null,null,null,null,null,null,null,null,null,null,null,null,null,null,null,null,null,null,null,null,null,null,null,null,null,null,null,null,null,null,null,null,null,null,null,null,null,null,null,7,{"$error":"#VALUE!"},{"$error":"#VALUE!"},{"$error":"#VALUE!"},{"$error":"#VALUE!"},{"$error":"#VALUE!"},{"$error":"#VALUE!"},{"$error":"#VALUE!"},{"$error":"#VALUE!"},{"$error":"#VALUE!"},{"$error":"#VALUE!"},{"$error":"#VALUE!"},{"$error":"#VALUE!"},{"$error":"#VALUE!"},{"$error":"#VALUE!"},{"$error":"#VALUE!"},{"$error":"#VALUE!"},{"$error":"#VALUE!"},{"$error":"#VALUE!"},null,7,0,{"$error":"#VALUE!"},{"$error":"#VALUE!"},{"$error":"#VALUE!"},{"$error":"#VALUE!"},{"$error":"#VALUE!"},{"$error":"#VALUE!"},{"$error":"#VALUE!"},{"$error":"#VALUE!"},{"$error":"#VALUE!"},{"$error":"#VALUE!"},{"$error":"#VALUE!"},{"$error":"#VALUE!"},{"$error":"#VALUE!"},{"$error":"#VALUE!"},{"$error":"#VALUE!"},{"$error":"#VALUE!"},{"$error":"#VALUE!"},{"$error":"#VALUE!"},{"$error":"#VALUE!"},{"$error":"#VALUE!"},{"$error":"#VALUE!"},{"$error":"#VALUE!"},{"$error":"#VALUE!"},{"$error":"#VALUE!"},{"$error":"#VALUE!"},{"$error":"#VALUE!"},{"$error":"#VALUE!"},{"$error":"#VALUE!"},{"$error":"#VALUE!"},{"$error":"#VALUE!"},{"$error":"#VALUE!"},{"$error":"#VALUE!"},{"$error":"#VALUE!"},7,0,{"$error":"#VALUE!"},{"$error":"#VALUE!"},{"$error":"#VALUE!"},{"$error":"#VALUE!"},{"$error":"#VALUE!"},{"$error":"#VALUE!"},{"$error":"#VALUE!"},{"$error":"#VALUE!"},{"$error":"#VALUE!"},{"$error":"#VALUE!"},{"$error":"#VALUE!"},{"$error":"#VALUE!"},{"$error":"#VALUE!"},{"$error":"#VALUE!"},{"$error":"#VALUE!"},{"$error":"#VALUE!"},{"$error":"#VALUE!"},{"$error":"#VALUE!"},{"$error":"#VALUE!"},{"$error":"#VALUE!"},{"$error":"#VALUE!"},{"$error":"#VALUE!"},{"$error":"#VALUE!"},{"$error":"#VALUE!"},{"$error":"#VALUE!"},{"$error":"#VALUE!"},{"$error":"#VALUE!"},{"$error":"#VALUE!"},{"$error":"#VALUE!"},{"$error":"#VALUE!"},{"$error":"#VALUE!"},{"$error":"#VALUE!"},{"$error":"#VALUE!"},7,0,{"$error":"#VALUE!"},{"$error":"#VALUE!"},{"$error":"#VALUE!"},{"$error":"#VALUE!"},{"$error":"#VALUE!"},{"$error":"#VALUE!"},{"$error":"#VALUE!"},{"$error":"#VALUE!"},{"$error":"#VALUE!"},{"$error":"#VALUE!"},{"$error":"#VALUE!"},{"$error":"#VALUE!"},{"$error":"#VALUE!"},{"$error":"#VALUE!"},{"$error":"#VALUE!"},{"$error":"#VALUE!"},{"$error":"#VALUE!"},{"$error":"#VALUE!"},{"$error":"#VALUE!"},{"$error":"#VALUE!"},{"$error":"#VALUE!"},{"$error":"#VALUE!"},{"$error":"#VALUE!"},{"$error":"#VALUE!"},{"$error":"#VALUE!"},{"$error":"#VALUE!"},{"$error":"#VALUE!"},{"$error":"#VALUE!"},{"$error":"#VALUE!"},{"$error":"#VALUE!"},{"$error":"#VALUE!"},{"$error":"#VALUE!"},{"$error":"#VALUE!"},7,0,{"$error":"#VALUE!"},{"$error":"#VALUE!"},{"$error":"#VALUE!"},{"$error":"#VALUE!"},{"$error":"#VALUE!"},{"$error":"#VALUE!"},{"$error":"#VALUE!"},{"$error":"#VALUE!"},{"$error":"#VALUE!"},{"$error":"#VALUE!"},{"$error":"#VALUE!"},{"$error":"#VALUE!"},{"$error":"#VALUE!"},{"$error":"#VALUE!"},{"$error":"#VALUE!"},{"$error":"#VALUE!"},{"$error":"#VALUE!"},{"$error":"#VALUE!"},{"$error":"#VALUE!"},{"$error":"#VALUE!"},{"$error":"#VALUE!"},{"$error":"#VALUE!"},{"$error":"#VALUE!"},{"$error":"#VALUE!"},{"$error":"#VALUE!"},{"$error":"#VALUE!"},{"$error":"#VALUE!"},{"$error":"#VALUE!"},{"$error":"#VALUE!"},{"$error":"#VALUE!"},{"$error":"#VALUE!"},{"$error":"#VALUE!"},{"$error":"#VALUE!"},7,0,{"$error":"#VALUE!"},{"$error":"#VALUE!"},{"$error":"#VALUE!"},{"$error":"#VALUE!"},{"$error":"#VALUE!"},{"$error":"#VALUE!"},{"$error":"#VALUE!"},{"$error":"#VALUE!"},{"$error":"#VALUE!"},{"$error":"#VALUE!"},{"$error":"#VALUE!"},{"$error":"#VALUE!"},{"$error":"#VALUE!"},{"$error":"#VALUE!"},{"$error":"#VALUE!"},{"$error":"#VALUE!"},{"$error":"#VALUE!"},{"$error":"#VALUE!"},{"$error":"#VALUE!"},{"$error":"#VALUE!"},{"$error":"#VALUE!"},{"$error":"#VALUE!"},{"$error":"#VALUE!"},{"$error":"#VALUE!"},{"$error":"#VALUE!"},{"$error":"#VALUE!"},{"$error":"#VALUE!"},{"$error":"#VALUE!"},{"$error":"#VALUE!"},{"$error":"#VALUE!"},{"$error":"#VALUE!"},{"$error":"#VALUE!"},{"$error":"#VALUE!"},7,0,{"$error":"#VALUE!"},{"$error":"#VALUE!"},{"$error":"#VALUE!"},{"$error":"#VALUE!"},{"$error":"#VALUE!"},{"$error":"#VALUE!"},{"$error":"#VALUE!"},{"$error":"#VALUE!"},{"$error":"#VALUE!"},{"$error":"#VALUE!"},{"$error":"#VALUE!"},{"$error":"#VALUE!"},{"$error":"#VALUE!"},{"$error":"#VALUE!"},{"$error":"#VALUE!"},{"$error":"#VALUE!"},{"$error":"#VALUE!"},{"$error":"#VALUE!"},{"$error":"#VALUE!"},{"$error":"#VALUE!"},{"$error":"#VALUE!"},{"$error":"#VALUE!"},{"$error":"#VALUE!"},{"$error":"#VALUE!"},{"$error":"#VALUE!"},{"$error":"#VALUE!"},{"$error":"#VALUE!"},{"$error":"#VALUE!"},{"$error":"#VALUE!"},{"$error":"#VALUE!"},{"$error":"#VALUE!"},{"$error":"#VALUE!"},{"$error":"#VALUE!"}]
[null,null,null,null,null,null,null,null,null,null,null,null,null,null,null,null,null,null,null,null,null,null,null,8,null,null,null,null,null,null,null,null,null,"N/A",null,false,null,null,null,null,8,null,null,null,null,null,null,null,null,null,null,null,"ERR!","OK","ERR!","OK",0,0,0,0,0,0,0,null,8,null,null,null,null,null,null,null,null,null,null,null,null,null,null,null,null,null,null,null,null,null,null,null,null,null,null,null,null,null,null,null,null,null,null,null,null,null,null,null,null,null,null,null,null,null,null,null,null,null,null,null,null,null,null,null,null,null,null,null,null,null,null,null,null,null,null,null,8,{"$error":"#VALUE!"},{"$error":"#VALUE!"},{"$error":"#VALUE!"},{"$error":"#VALUE!"},{"$error":"#VALUE!"},{"$error":"#VALUE!"},{"$error":"#VALUE!"},{"$error":"#VALUE!"},{"$error":"#VALUE!"},{"$error":"#VALUE!"},{"$error":"#VALUE!"},{"$error":"#VALUE!"},{"$error":"#VALUE!"},{"$error":"#VALUE!"},{"$error":"#VALUE!"},{"$error":"#VALUE!"},{"$error":"#VALUE!"},{"$error":"#VALUE!"},null,8,0,{"$error":"#VALUE!"},{"$error":"#VALUE!"},{"$error":"#VALUE!"},{"$error":"#VALUE!"},{"$error":"#VALUE!"},{"$error":"#VALUE!"},{"$error":"#VALUE!"},{"$error":"#VALUE!"},{"$error":"#VALUE!"},{"$error":"#VALUE!"},{"$error":"#VALUE!"},{"$error":"#VALUE!"},{"$error":"#VALUE!"},{"$error":"#VALUE!"},{"$error":"#VALUE!"},{"$error":"#VALUE!"},{"$error":"#VALUE!"},{"$error":"#VALUE!"},{"$error":"#VALUE!"},{"$error":"#VALUE!"},{"$error":"#VALUE!"},{"$error":"#VALUE!"},{"$error":"#VALUE!"},{"$error":"#VALUE!"},{"$error":"#VALUE!"},{"$error":"#VALUE!"},{"$error":"#VALUE!"},{"$error":"#VALUE!"},{"$error":"#VALUE!"},{"$error":"#VALUE!"},{"$error":"#VALUE!"},{"$error":"#VALUE!"},{"$error":"#VALUE!"},8,0,{"$error":"#VALUE!"},{"$error":"#VALUE!"},{"$error":"#VALUE!"},{"$error":"#VALUE!"},{"$error":"#VALUE!"},{"$error":"#VALUE!"},{"$error":"#VALUE!"},{"$error":"#VALUE!"},{"$error":"#VALUE!"},{"$error":"#VALUE!"},{"$error":"#VALUE!"},{"$error":"#VALUE!"},{"$error":"#VALUE!"},{"$error":"#VALUE!"},{"$error":"#VALUE!"},{"$error":"#VALUE!"},{"$error":"#VALUE!"},{"$error":"#VALUE!"},{"$error":"#VALUE!"},{"$error":"#VALUE!"},{"$error":"#VALUE!"},{"$error":"#VALUE!"},{"$error":"#VALUE!"},{"$error":"#VALUE!"},{"$error":"#VALUE!"},{"$error":"#VALUE!"},{"$error":"#VALUE!"},{"$error":"#VALUE!"},{"$error":"#VALUE!"},{"$error":"#VALUE!"},{"$error":"#VALUE!"},{"$error":"#VALUE!"},{"$error":"#VALUE!"},8,0,{"$error":"#VALUE!"},{"$error":"#VALUE!"},{"$error":"#VALUE!"},{"$error":"#VALUE!"},{"$error":"#VALUE!"},{"$error":"#VALUE!"},{"$error":"#VALUE!"},{"$error":"#VALUE!"},{"$error":"#VALUE!"},{"$error":"#VALUE!"},{"$error":"#VALUE!"},{"$error":"#VALUE!"},{"$error":"#VALUE!"},{"$error":"#VALUE!"},{"$error":"#VALUE!"},{"$error":"#VALUE!"},{"$error":"#VALUE!"},{"$error":"#VALUE!"},{"$error":"#VALUE!"},{"$error":"#VALUE!"},{"$error":"#VALUE!"},{"$error":"#VALUE!"},{"$error":"#VALUE!"},{"$error":"#VALUE!"},{"$error":"#VALUE!"},{"$error":"#VALUE!"},{"$error":"#VALUE!"},{"$error":"#VALUE!"},{"$error":"#VALUE!"},{"$error":"#VALUE!"},{"$error":"#VALUE!"},{"$error":"#VALUE!"},{"$error":"#VALUE!"},8,0,{"$error":"#VALUE!"},{"$error":"#VALUE!"},{"$error":"#VALUE!"},{"$error":"#VALUE!"},{"$error":"#VALUE!"},{"$error":"#VALUE!"},{"$error":"#VALUE!"},{"$error":"#VALUE!"},{"$error":"#VALUE!"},{"$error":"#VALUE!"},{"$error":"#VALUE!"},{"$error":"#VALUE!"},{"$error":"#VALUE!"},{"$error":"#VALUE!"},{"$error":"#VALUE!"},{"$error":"#VALUE!"},{"$error":"#VALUE!"},{"$error":"#VALUE!"},{"$error":"#VALUE!"},{"$error":"#VALUE!"},{"$error":"#VALUE!"},{"$error":"#VALUE!"},{"$error":"#VALUE!"},{"$error":"#VALUE!"},{"$error":"#VALUE!"},{"$error":"#VALUE!"},{"$error":"#VALUE!"},{"$error":"#VALUE!"},{"$error":"#VALUE!"},{"$error":"#VALUE!"},{"$error":"#VALUE!"},{"$error":"#VALUE!"},{"$error":"#VALUE!"},8,0,{"$error":"#VALUE!"},{"$error":"#VALUE!"},{"$error":"#VALUE!"},{"$error":"#VALUE!"},{"$error":"#VALUE!"},{"$error":"#VALUE!"},{"$error":"#VALUE!"},{"$error":"#VALUE!"},{"$error":"#VALUE!"},{"$error":"#VALUE!"},{"$error":"#VALUE!"},{"$error":"#VALUE!"},{"$error":"#VALUE!"},{"$error":"#VALUE!"},{"$error":"#VALUE!"},{"$error":"#VALUE!"},{"$error":"#VALUE!"},{"$error":"#VALUE!"},{"$error":"#VALUE!"},{"$error":"#VALUE!"},{"$error":"#VALUE!"},{"$error":"#VALUE!"},{"$error":"#VALUE!"},{"$error":"#VALUE!"},{"$error":"#VALUE!"},{"$error":"#VALUE!"},{"$error":"#VALUE!"},{"$error":"#VALUE!"},{"$error":"#VALUE!"},{"$error":"#VALUE!"},{"$error":"#VALUE!"},{"$error":"#VALUE!"},{"$error":"#VALUE!"},8,0,{"$error":"#VALUE!"},{"$error":"#VALUE!"},{"$error":"#VALUE!"},{"$error":"#VALUE!"},{"$error":"#VALUE!"},{"$error":"#VALUE!"},{"$error":"#VALUE!"},{"$error":"#VALUE!"},{"$error":"#VALUE!"},{"$error":"#VALUE!"},{"$error":"#VALUE!"},{"$error":"#VALUE!"},{"$error":"#VALUE!"},{"$error":"#VALUE!"},{"$error":"#VALUE!"},{"$error":"#VALUE!"},{"$error":"#VALUE!"},{"$error":"#VALUE!"},{"$error":"#VALUE!"},{"$error":"#VALUE!"},{"$error":"#VALUE!"},{"$error":"#VALUE!"},{"$error":"#VALUE!"},{"$error":"#VALUE!"},{"$error":"#VALUE!"},{"$error":"#VALUE!"},{"$error":"#VALUE!"},{"$error":"#VALUE!"},{"$error":"#VALUE!"},{"$error":"#VALUE!"},{"$error":"#VALUE!"},{"$error":"#VALUE!"},{"$error":"#VALUE!"}]
[null,null,null,null,null,null,null,null,null,null,null,null,null,null,null,null,null,null,null,null,null,null,null,9,null,null,null,null,null,null,null,null,null,"N/A",null,false,null,null,null,null,9,null,null,null,null,null,null,null,null,null,null,null,"ERR!","OK","ERR!","OK",0,0,0,{"$f":"(CU263*POWER(10,0)+CV263*POWER(10,1)+CW263*POWER(10,2)+CX263*POWER(10,3)+CY263*POWER(10,4)+CZ263*POWER(10,5)+DA263*POWER(10,6)+DB263*POWER(10,7)+DC263*POWER(10,8)+DD263*POWER(10,9)+DE263*POWER(10,10))","v":0},{"$f":"(DF263*POWER(10,0)+DG263*POWER(10,1)+DH263*POWER(10,2)+DI263*POWER(10,3)+DJ263*POWER(10,4)+DK263*POWER(10,5)+DL263*POWER(10,6)+DM263*POWER(10,7)+DN263*POWER(10,8)+DO263*POWER(10,9)+DP263*POWER(10,10))","v":0},0,0,null,9,null,null,null,null,null,null,null,null,null,null,null,null,null,null,null,null,null,null,null,null,null,null,null,null,null,null,null,null,null,null,null,null,null,null,null,null,null,null,null,null,null,null,null,null,null,null,null,null,null,null,null,null,null,null,null,null,null,null,null,null,null,null,null,null,null,null,null,9,{"$error":"#VALUE!"},{"$error":"#VALUE!"},{"$error":"#VALUE!"},{"$error":"#VALUE!"},{"$error":"#VALUE!"},{"$error":"#VALUE!"},{"$error":"#VALUE!"},{"$error":"#VALUE!"},{"$error":"#VALUE!"},{"$error":"#VALUE!"},{"$error":"#VALUE!"},{"$error":"#VALUE!"},{"$error":"#VALUE!"},{"$error":"#VALUE!"},{"$error":"#VALUE!"},{"$error":"#VALUE!"},{"$error":"#VALUE!"},{"$error":"#VALUE!"},null,9,0,{"$error":"#VALUE!"},{"$error":"#VALUE!"},{"$error":"#VALUE!"},{"$error":"#VALUE!"},{"$error":"#VALUE!"},{"$error":"#VALUE!"},{"$error":"#VALUE!"},{"$error":"#VALUE!"},{"$error":"#VALUE!"},{"$error":"#VALUE!"},{"$error":"#VALUE!"},{"$error":"#VALUE!"},{"$error":"#VALUE!"},{"$error":"#VALUE!"},{"$error":"#VALUE!"},{"$error":"#VALUE!"},{"$error":"#VALUE!"},{"$error":"#VALUE!"},{"$error":"#VALUE!"},{"$error":"#VALUE!"},{"$error":"#VALUE!"},{"$error":"#VALUE!"},{"$error":"#VALUE!"},{"$error":"#VALUE!"},{"$error":"#VALUE!"},{"$error":"#VALUE!"},{"$error":"#VALUE!"},{"$error":"#VALUE!"},{"$error":"#VALUE!"},{"$error":"#VALUE!"},{"$error":"#VALUE!"},{"$error":"#VALUE!"},{"$error":"#VALUE!"},9,0,{"$error":"#VALUE!"},{"$error":"#VALUE!"},{"$error":"#VALUE!"},{"$error":"#VALUE!"},{"$error":"#VALUE!"},{"$error":"#VALUE!"},{"$error":"#VALUE!"},{"$error":"#VALUE!"},{"$error":"#VALUE!"},{"$error":"#VALUE!"},{"$error":"#VALUE!"},{"$error":"#VALUE!"},{"$error":"#VALUE!"},{"$error":"#VALUE!"},{"$error":"#VALUE!"},{"$error":"#VALUE!"},{"$error":"#VALUE!"},{"$error":"#VALUE!"},{"$error":"#VALUE!"},{"$error":"#VALUE!"},{"$error":"#VALUE!"},{"$error":"#VALUE!"},{"$error":"#VALUE!"},{"$error":"#VALUE!"},{"$error":"#VALUE!"},{"$error":"#VALUE!"},{"$error":"#VALUE!"},{"$error":"#VALUE!"},{"$error":"#VALUE!"},{"$error":"#VALUE!"},{"$error":"#VALUE!"},{"$error":"#VALUE!"},{"$error":"#VALUE!"},9,0,{"$error":"#VALUE!"},{"$error":"#VALUE!"},{"$error":"#VALUE!"},{"$error":"#VALUE!"},{"$error":"#VALUE!"},{"$error":"#VALUE!"},{"$error":"#VALUE!"},{"$error":"#VALUE!"},{"$error":"#VALUE!"},{"$error":"#VALUE!"},{"$error":"#VALUE!"},{"$error":"#VALUE!"},{"$error":"#VALUE!"},{"$error":"#VALUE!"},{"$error":"#VALUE!"},{"$error":"#VALUE!"},{"$error":"#VALUE!"},{"$error":"#VALUE!"},{"$error":"#VALUE!"},{"$error":"#VALUE!"},{"$error":"#VALUE!"},{"$error":"#VALUE!"},{"$error":"#VALUE!"},{"$error":"#VALUE!"},{"$error":"#VALUE!"},{"$error":"#VALUE!"},{"$error":"#VALUE!"},{"$error":"#VALUE!"},{"$error":"#VALUE!"},{"$error":"#VALUE!"},{"$error":"#VALUE!"},{"$error":"#VALUE!"},{"$error":"#VALUE!"},9,0,{"$error":"#VALUE!"},{"$error":"#VALUE!"},{"$error":"#VALUE!"},{"$error":"#VALUE!"},{"$error":"#VALUE!"},{"$error":"#VALUE!"},{"$error":"#VALUE!"},{"$error":"#VALUE!"},{"$error":"#VALUE!"},{"$error":"#VALUE!"},{"$error":"#VALUE!"},{"$error":"#VALUE!"},{"$error":"#VALUE!"},{"$error":"#VALUE!"},{"$error":"#VALUE!"},{"$error":"#VALUE!"},{"$error":"#VALUE!"},{"$error":"#VALUE!"},{"$error":"#VALUE!"},{"$error":"#VALUE!"},{"$error":"#VALUE!"},{"$error":"#VALUE!"},{"$error":"#VALUE!"},{"$error":"#VALUE!"},{"$error":"#VALUE!"},{"$error":"#VALUE!"},{"$error":"#VALUE!"},{"$error":"#VALUE!"},{"$error":"#VALUE!"},{"$error":"#VALUE!"},{"$error":"#VALUE!"},{"$error":"#VALUE!"},{"$error":"#VALUE!"},9,0,{"$error":"#VALUE!"},{"$error":"#VALUE!"},{"$error":"#VALUE!"},{"$error":"#VALUE!"},{"$error":"#VALUE!"},{"$error":"#VALUE!"},{"$error":"#VALUE!"},{"$error":"#VALUE!"},{"$error":"#VALUE!"},{"$error":"#VALUE!"},{"$error":"#VALUE!"},{"$error":"#VALUE!"},{"$error":"#VALUE!"},{"$error":"#VALUE!"},{"$error":"#VALUE!"},{"$error":"#VALUE!"},{"$error":"#VALUE!"},{"$error":"#VALUE!"},{"$error":"#VALUE!"},{"$error":"#VALUE!"},{"$error":"#VALUE!"},{"$error":"#VALUE!"},{"$error":"#VALUE!"},{"$error":"#VALUE!"},{"$error":"#VALUE!"},{"$error":"#VALUE!"},{"$error":"#VALUE!"},{"$error":"#VALUE!"},{"$error":"#VALUE!"},{"$error":"#VALUE!"},{"$error":"#VALUE!"},{"$error":"#VALUE!"},{"$error":"#VALUE!"},9,0,{"$error":"#VALUE!"},{"$error":"#VALUE!"},{"$error":"#VALUE!"},{"$error":"#VALUE!"},{"$error":"#VALUE!"},{"$error":"#VALUE!"},{"$error":"#VALUE!"},{"$error":"#VALUE!"},{"$error":"#VALUE!"},{"$error":"#VALUE!"},{"$error":"#VALUE!"},{"$error":"#VALUE!"},{"$error":"#VALUE!"},{"$error":"#VALUE!"},{"$error":"#VALUE!"},{"$error":"#VALUE!"},{"$error":"#VALUE!"},{"$error":"#VALUE!"},{"$error":"#VALUE!"},{"$error":"#VALUE!"},{"$error":"#VALUE!"},{"$error":"#VALUE!"},{"$error":"#VALUE!"},{"$error":"#VALUE!"},{"$error":"#VALUE!"},{"$error":"#VALUE!"},{"$error":"#VALUE!"},{"$error":"#VALUE!"},{"$error":"#VALUE!"},{"$error":"#VALUE!"},{"$error":"#VALUE!"},{"$error":"#VALUE!"},{"$error":"#VALUE!"}]
[null,null,null,null,null,null,null,null,null,null,null,null,null,null,null,null,null,null,null,null,null,null,null,"Total",{"$f":"SUM(Y257:Y263)","v":0},{"$f":"SUM(Z257:Z263)","v":0},0,0,0,0,null,null,null,"N/A",null,false,null,null,null,null,"Total",null,null,null,null,null,null,null,null,null,null,null,null,null,null,null,null,null,null,null,null,null,null,null,"Total",null,null,null,null,null,null,null,null,null,null,null,null,null,null,null,null,null,null,null,null,null,null,null,null,null,null,null,null,null,null,null,null,null,null,null,null,null,null,null,null,null,null,null,null,null,null,null,null,null,null,null,null,null,null,null,null,null,null,null,null,null,null,null,null,null,null,null,"Total",{"$f":"SUM(ED257:ED263)","v":{"$error":"#VALUE!"}},{"$f":"SUM(EE257:EE263)","v":{"$error":"#VALUE!"}},{"$f":"SUM(EF257:EF263)","v":{"$error":"#VALUE!"}},{"$f":"SUM(EG257:EG263)","v":{"$error":"#VALUE!"}},{"$f":"SUM(EH257:EH263)","v":{"$error":"#VALUE!"}},{"$f":"SUM(EI257:EI263)","v":{"$error":"#VALUE!"}},{"$error":"#VALUE!"},{"$error":"#VALUE!"},{"$error":"#VALUE!"},{"$error":"#VALUE!"},{"$error":"#VALUE!"},{"$error":"#VALUE!"},{"$error":"#VALUE!"},{"$error":"#VALUE!"},{"$error":"#VALUE!"},{"$error":"#VALUE!"},{"$error":"#VALUE!"},{"$error":"#VALUE!"},null,"Total",{"$f":"SUM(EX257:EX263)","v":0},{"$f":"SUM(EY257:EY263)","v":{"$error":"#VALUE!"}},{"$f":"SUM(EZ257:EZ263)","v":{"$error":"#VALUE!"}},{"$error":"#VALUE!"},{"$error":"#VALUE!"},{"$f":"SUM(FC257:FC263)","v":{"$error":"#VALUE!"}},{"$f":"SUM(FD257:FD263)","v":{"$error":"#VALUE!"}},{"$error":"#VALUE!"},{"$error":"#VALUE!"},{"$error":"#VALUE!"},{"$error":"#VALUE!"},{"$error":"#VALUE!"},{"$error":"#VALUE!"},{"$error":"#VALUE!"},{"$error":"#VALUE!"},{"$error":"#VALUE!"},{"$f":"SUM(FN257:FN263)","v":{"$error":"#VALUE!"}},{"$f":"SUM(FO257:FO263)","v":{"$error":"#VALUE!"}},{"$f":"SUM(FP257:FP263)","v":{"$error":"#VALUE!"}},{"$f":"SUM(FQ257:FQ263)","v":{"$error":"#VALUE!"}},{"$error":"#VALUE!"},{"$error":"#VALUE!"},{"$error":"#VALUE!"},{"$error":"#VALUE!"},{"$error":"#VALUE!"},{"$error":"#VALUE!"},{"$error":"#VALUE!"},{"$error":"#VALUE!"},{"$error":"#VALUE!"},{"$error":"#VALUE!"},{"$error":"#VALUE!"},{"$f":"SUM(GC257:GC263)","v":{"$error":"#VALUE!"}},{"$f":"SUM(GD257:GD263)","v":{"$error":"#VALUE!"}},{"$error":"#VALUE!"},"Total",{"$f":"SUM(GG257:GG263)","v":0},{"$f":"SUM(GH257:GH263)","v":{"$error":"#VALUE!"}},{"$f":"SUM(GI257:GI263)","v":{"$error":"#VALUE!"}},{"$error":"#VALUE!"},{"$error":"#VALUE!"},{"$f":"SUM(GL257:GL263)","v":{"$error":"#VALUE!"}},{"$f":"SUM(GM257:GM263)","v":{"$error":"#VALUE!"}},{"$f":"SUM(GN257:GN263)","v":{"$error":"#VALUE!"}},{"$error":"#VALUE!"},{"$error":"#VALUE!"},{"$error":"#VALUE!"},{"$error":"#VALUE!"},{"$error":"#VALUE!"},{"$error":"#VALUE!"},{"$error":"#VALUE!"},{"$error":"#VALUE!"},{"$f":"SUM(GW257:GW263)","v":{"$error":"#VALUE!"}},{"$f":"SUM(GX257:GX263)","v":{"$error":"#VALUE!"}},{"$f":"SUM(GY257:GY263)","v":{"$error":"#VALUE!"}},{"$f":"SUM(GZ257:GZ263)","v":{"$error":"#VALUE!"}},{"$error":"#VALUE!"},{"$error":"#VALUE!"},{"$error":"#VALUE!"},{"$error":"#VALUE!"},{"$error":"#VALUE!"},{"$error":"#VALUE!"},{"$error":"#VALUE!"},{"$error":"#VALUE!"},{"$error":"#VALUE!"},{"$error":"#VALUE!"},{"$error":"#VALUE!"},{"$f":"SUM(HL257:HL263)","v":{"$error":"#VALUE!"}},{"$f":"SUM(HM257:HM263)","v":{"$error":"#VALUE!"}},{"$error":"#VALUE!"},"Total",{"$f":"SUM(HP257:HP263)","v":0},{"$f":"SUM(HQ257:HQ263)","v":{"$error":"#VALUE!"}},{"$f":"SUM(HR257:HR263)","v":{"$error":"#VALUE!"}},{"$error":"#VALUE!"},{"$error":"#VALUE!"},{"$f":"SUM(HU257:HU263)","v":{"$error":"#VALUE!"}},{"$f":"SUM(HV257:HV263)","v":{"$error":"#VALUE!"}},{"$error":"#VALUE!"},{"$error":"#VALUE!"},{"$error":"#VALUE!"},{"$error":"#VALUE!"},{"$error":"#VALUE!"},{"$error":"#VALUE!"},{"$error":"#VALUE!"},{"$error":"#VALUE!"},{"$error":"#VALUE!"},{"$f":"SUM(IF257:IF263)","v":{"$error":"#VALUE!"}},{"$f":"SUM(IG257:IG263)","v":{"$error":"#VALUE!"}},{"$f":"SUM(IH257:IH263)","v":{"$error":"#VALUE!"}},{"$f":"SUM(II257:II263)","v":{"$error":"#VALUE!"}},{"$error":"#VALUE!"},{"$error":"#VALUE!"},{"$error":"#VALUE!"},{"$error":"#VALUE!"},{"$error":"#VALUE!"},{"$error":"#VALUE!"},{"$error":"#VALUE!"},{"$error":"#VALUE!"},{"$error":"#VALUE!"},{"$error":"#VALUE!"},{"$error":"#VALUE!"},{"$f":"SUM(IU257:IU263)","v":{"$error":"#VALUE!"}},{"$f":"SUM(IV257:IV263)","v":{"$error":"#VALUE!"}},{"$error":"#VALUE!"},"Total",{"$f":"SUM(IY257:IY263)","v":0},{"$f":"SUM(IZ257:IZ263)","v":{"$error":"#VALUE!"}},{"$f":"SUM(JA257:JA263)","v":{"$error":"#VALUE!"}},{"$error":"#VALUE!"},{"$error":"#VALUE!"},{"$f":"SUM(JD257:JD263)","v":{"$error":"#VALUE!"}},{"$f":"SUM(JE257:JE263)","v":{"$error":"#VALUE!"}},{"$error":"#VALUE!"},{"$error":"#VALUE!"},{"$error":"#VALUE!"},{"$error":"#VALUE!"},{"$error":"#VALUE!"},{"$error":"#VALUE!"},{"$error":"#VALUE!"},{"$error":"#VALUE!"},{"$error":"#VALUE!"},{"$f":"SUM(JO257:JO263)","v":{"$error":"#VALUE!"}},{"$f":"SUM(JP257:JP263)","v":{"$error":"#VALUE!"}},{"$f":"SUM(JQ257:JQ263)","v":{"$error":"#VALUE!"}},{"$f":"SUM(JR257:JR263)","v":{"$error":"#VALUE!"}},{"$error":"#VALUE!"},{"$error":"#VALUE!"},{"$error":"#VALUE!"},{"$error":"#VALUE!"},{"$error":"#VALUE!"},{"$error":"#VALUE!"},{"$error":"#VALUE!"},{"$error":"#VALUE!"},{"$error":"#VALUE!"},{"$error":"#VALUE!"},{"$error":"#VALUE!"},{"$f":"SUM(KD257:KD263)","v":{"$error":"#VALUE!"}},{"$f":"SUM(KE257:KE263)","v":{"$error":"#VALUE!"}},{"$error":"#VALUE!"},"Total",{"$f":"SUM(KH257:KH263)","v":0},{"$f":"SUM(KI257:KI263)","v":{"$error":"#VALUE!"}},{"$f":"SUM(KJ257:KJ263)","v":{"$error":"#VALUE!"}},{"$error":"#VALUE!"},{"$error":"#VALUE!"},{"$f":"SUM(KM257:KM263)","v":{"$error":"#VALUE!"}},{"$f":"SUM(KN257:KN263)","v":{"$error":"#VALUE!"}},{"$error":"#VALUE!"},{"$error":"#VALUE!"},{"$error":"#VALUE!"},{"$error":"#VALUE!"},{"$error":"#VALUE!"},{"$error":"#VALUE!"},{"$error":"#VALUE!"},{"$error":"#VALUE!"},{"$error":"#VALUE!"},{"$f":"SUM(KX257:KX263)","v":{"$error":"#VALUE!"}},{"$f":"SUM(KY257:KY263)","v":{"$error":"#VALUE!"}},{"$f":"SUM(KZ257:KZ263)","v":{"$error":"#VALUE!"}},{"$f":"SUM(LA257:LA263)","v":{"$error":"#VALUE!"}},{"$error":"#VALUE!"},{"$error":"#VALUE!"},{"$error":"#VALUE!"},{"$error":"#VALUE!"},{"$error":"#VALUE!"},{"$error":"#VALUE!"},{"$error":"#VALUE!"},{"$error":"#VALUE!"},{"$error":"#VALUE!"},{"$error":"#VALUE!"},{"$error":"#VALUE!"},{"$f":"SUM(LM257:LM263)","v":{"$error":"#VALUE!"}},{"$f":"SUM(LN257:LN263)","v":{"$error":"#VALUE!"}},{"$error":"#VALUE!"},"Total",{"$f":"SUM(LQ257:LQ263)","v":0},{"$f":"SUM(LR257:LR263)","v":{"$error":"#VALUE!"}},{"$f":"SUM(LS257:LS263)","v":{"$error":"#VALUE!"}},{"$error":"#VALUE!"},{"$error":"#VALUE!"},{"$f":"SUM(LV257:LV263)","v":{"$error":"#VALUE!"}},{"$f":"SUM(LW257:LW263)","v":{"$error":"#VALUE!"}},{"$error":"#VALUE!"},{"$error":"#VALUE!"},{"$error":"#VALUE!"},{"$error":"#VALUE!"},{"$error":"#VALUE!"},{"$error":"#VALUE!"},{"$error":"#VALUE!"},{"$error":"#VALUE!"},{"$f":"SUM(MF257:MF263)","v":{"$error":"#VALUE!"}},{"$f":"SUM(MG257:MG263)","v":{"$error":"#VALUE!"}},{"$f":"SUM(MH257:MH263)","v":{"$error":"#VALUE!"}},{"$f":"SUM(MI257:MI263)","v":{"$error":"#VALUE!"}},{"$f":"SUM(MJ257:MJ263)","v":{"$error":"#VALUE!"}},{"$error":"#VALUE!"},{"$error":"#VALUE!"},{"$error":"#VALUE!"},{"$error":"#VALUE!"},{"$error":"#VALUE!"},{"$error":"#VALUE!"},{"$error":"#VALUE!"},{"$error":"#VALUE!"},{"$error":"#VALUE!"},{"$error":"#VALUE!"},{"$error":"#VALUE!"},{"$f":"SUM(MV257:MV263)","v":{"$error":"#VALUE!"}},{"$f":"SUM(MW257:MW263)","v":{"$error":"#VALUE!"}},{"$error":"#VALUE!"}]
[null,{"$f":"B257+1","v":30},{"$f":"'Regional Project List Sheet'!F34","v":0},{"$f":"IF('Regional Project List Sheet'!$G34=\"New\",1,\"\")","v":""},{"$f":"IF('Regional Project List Sheet'!$G34=\"Funded Old\",1,\"\")","v":""},{"$f":"IF('Regional Project List Sheet'!$G34=\"Unfunded Old\",1,\"\")","v":""},{"$f":"'Regional Project List Sheet'!H34","v":0},{"$f":"'Regional Project List Sheet'!I34","v":0},{"$f":"'Regional Project List Sheet'!L34","v":0},{"$f":"'Regional Project List Sheet'!M34","v":0},{"$f":"'Regional Project List Sheet'!N34","v":0},{"$f":"'Regional Project List Sheet'!O34","v":0},{"$f":"'Regional Project List Sheet'!P34","v":0},{"$f":"IF('Regional Project List Sheet'!$Q34=\"N/A\",\"N/A\",IF($Y268<>0,5,IF($Z268<>0,4,IF($AA268<>0,3,IF($AB268<>0,2,1)))))","v":1},{"$f":"VLOOKUP($C265,'[2]Ranking|Priority'!$B$5:$O$40,12,FALSE)","v":{"$error":"#N/A"}},{"$f":"VLOOKUP($C265,'[2]Ranking|Priority'!$B$5:$O$68,13,FALSE)","v":{"$error":"#N/A"}},{"$f":"VLOOKUP($C265,'[2]Ranking|Priority'!$B$5:$O$68,14,FALSE)","v":{"$error":"#N/A"}},{"$f":"'Regional Project List Sheet'!T34","v":0},{"$f":"'Regional Project List Sheet'!U34","v":0},{"$f":"'Regional Project List Sheet'!V34","v":0},{"$f":"'Regional Project List Sheet'!W34","v":0},{"$f":"'Regional Project List Sheet'!X34","v":0},{"$f":"'Regional Project List Sheet'!Y34","v":"Choose from Project List in cell I2"},0,null,null,null,null,null,null,null,{"$f":"'Regional Project List Sheet'!AJ34","v":0},{"$f":"IF(OR('Regional Project List Sheet'!$AA34<>'Regional Project List Sheet'!$A$40,'Regional Project List Sheet'!$AD34<>'Regional Project List Sheet'!$A$40,'Regional Project List Sheet'!$AG34<>'Regional Project List Sheet'!$A$40),_xlfn.CONCAT(IF(ISNUMBER('Regional Project List Sheet'!$AA34),'Regional Project List Sheet'!$A$36,\"\"),\" \",IF(ISNUMBER('Regional Project List Sheet'!$AD34),'Regional Project List Sheet'!$A$37,\"\"),\" \",IF(ISNUMBER('Regional Project List Sheet'!$AG34),'Regional Project List Sheet'!$A$38,\"\")),\"N/A\")","v":"N/A"},"N/A",{"$f":"IF(OR('Regional Project List Sheet'!AC34<>'Regional Project List Sheet'!$A$40,'Regional Project List Sheet'!AF34<>'Regional Project List Sheet'!$A$40,'Regional Project List Sheet'!AI34<>'Regional Project List Sheet'!$A$40),\n\nIF(LEN(_xlfn.CONCAT(IF('Regional Project List Sheet'!AC34=\"Yes\",'Regional Project List Sheet'!$A$36,\"\"),\" \",\n\nIF('Regional Project List Sheet'!AF34=\"Yes\",'Regional Project List Sheet'!$A$37,\"\"),\" \",\n\nIF('Regional Project List Sheet'!AI34=\"Yes\",'Regional Project List Sheet'!$A$38,\"\")))<3,\"No\",\n\n_xlfn.CONCAT(IF('Regional Project List Sheet'!AC34=\"Yes\",'Regional Project List Sheet'!$A$36,\"\"),\" \",\n\nIF('Regional Project List Sheet'!AF34=\"Yes\",'Regional Project List Sheet'!$A$37,\"\"),\" \",\n\nIF('Regional Project List Sheet'!AI34=\"Yes\",'Regional Project List Sheet'!$A$38,\"\"))))","v":false},false,{"$f":"'Regional Project List Sheet'!AK34","v":0},null,{"$f":"'Regional Project List Sheet'!AL34","v":0},null,0,null,null,null,null,null,null,null,null,null,null,1,{"$f":"IF(AND(BB265=\"OK\",BC265=\"OK\",BD265=\"OK\"),\"OK\",\"ERR!\")","v":"ERR!"},{"$f":"IF(AND(Y265>0,SUM(BN265:BX265)<1),\"ERR!\",IF(AND(Z265>0,SUM(BY265:CI265)<1),\"ERR!\",IF(AND(AA265>0,SUM(CJ265:CT265)<1),\"ERR\",IF(AND(AB265>0,SUM(CU265:DE265)<1),\"ERR\",IF(AND(AC265>0,SUM(DF265:DP265)<1),\"ERR\",IF(AND(AD265>0,SUM(DQ265:EA265)<1),\"ERR\",\"OK\"))))))","v":"OK"},{"$f":"IF(OR(SUM(BN265:BX265)<>1,SUM(BY265:CI265)<>1,SUM(CJ265:CT265)<>1,SUM(CU265:DE265)<>1,SUM(DF265:DP265)<>1,SUM(DQ265:EA265)<>1),\"ERR!\",\"OK\")","v":"ERR!"},{"$f":"IF(AND(OR(BE265=BK265,BE265=0),OR(BF265=BK265,BF265=0),OR(BG265=BK265,BG265=0),OR(BH265=BK265,BH265=0),OR(BI265=BK265,BI265=0),OR(BJ265=BK265,BJ265=0)),\"OK\",\"ERR!\")","v":"OK"},{"$f":"(BN265*POWER(10,0)+BO265*POWER(10,1)+BP265*POWER(10,2)+BQ265*POWER(10,3)+BR265*POWER(10,4)+BS265*POWER(10,5)+BT265*POWER(10,6)+BU265*POWER(10,7)+BV265*POWER(10,8)+BW265*POWER(10,9)+BX265*POWER(10,10))","v":0},{"$f":"(BY265*POWER(10,0)+BZ265*POWER(10,1)+CA265*POWER(10,2)+CB265*POWER(10,3)+CC265*POWER(10,4)+CD265*POWER(10,5)+CE265*POWER(10,6)+CF265*POWER(10,7)+CG265*POWER(10,8)+CH265*POWER(10,9)+CI265*POWER(10,10))","v":0},{"$f":"(CJ265*POWER(10,0)+CK265*POWER(10,1)+CL265*POWER(10,2)+CM265*POWER(10,3)+CN265*POWER(10,4)+CO265*POWER(10,5)+CP265*POWER(10,6)+CQ265*POWER(10,7)+CR265*POWER(10,8)+CS265*POWER(10,9)+CT265*POWER(10,10))","v":0},{"$f":"(CU265*POWER(10,0)+CV265*POWER(10,1)+CW265*POWER(10,2)+CX265*POWER(10,3)+CY265*POWER(10,4)+CZ265*POWER(10,5)+DA265*POWER(10,6)+DB265*POWER(10,7)+DC265*POWER(10,8)+DD265*POWER(10,9)+DE265*POWER(10,10))","v":0},{"$f":"(DF265*POWER(10,0)+DG265*POWER(10,1)+DH265*POWER(10,2)+DI265*POWER(10,3)+DJ265*POWER(10,4)+DK265*POWER(10,5)+DL265*POWER(10,6)+DM265*POWER(10,7)+DN265*POWER(10,8)+DO265*POWER(10,9)+DP265*POWER(10,10))","v":0},{"$f":"(DQ265*POWER(10,0)+DR265*POWER(10,1)+DS265*POWER(10,2)+DT265*POWER(10,3)+DU265*POWER(10,4)+DV265*POWER(10,5)+DW265*POWER(10,6)+DX265*POWER(10,7)+DY265*POWER(10,8)+DZ265*POWER(10,9)+EA265*POWER(10,10))","v":0},{"$f":"MAX(BE265:BJ265)","v":0},null,0,null,null,null,null,null,null,null,null,null,null,null,null,null,null,null,null,null,null,null,null,null,null,null,null,null,null,null,null,null,null,null,null,null,null,null,null,null,null,null,null,null,null,null,null,null,null,null,null,null,null,null,null,null,null,null,null,null,null,null,null,null,null,null,null,null,null,null,0,{"$f":"($Y265*D$265)/1000","v":{"$error":"#VALUE!"}},{"$error":"#VALUE!"},{"$error":"#VALUE!"},{"$f":"($Z265*D$265)/1000","v":{"$error":"#VALUE!"}},{"$error":"#VALUE!"},{"$error":"#VALUE!"},{"$f":"($AA265*D$265)/1000","v":{"$error":"#VALUE!"}},{"$error":"#VALUE!"},{"$error":"#VALUE!"},{"$f":"($AB265*D$265)/1000","v":{"$error":"#VALUE!"}},{"$error":"#VALUE!"},{"$error":"#VALUE!"},{"$f":"($AC265*D$265)/1000","v":{"$error":"#VALUE!"}},{"$error":"#VALUE!"},{"$error":"#VALUE!"},{"$f":"($AD265*D$265)/1000","v":{"$error":"#VALUE!"}},{"$error":"#VALUE!"},{"$error":"#VALUE!"},null,0,{"$f":"$AZ$265*$Y265","v":0},{"$f":"($AZ$265*$BN265*D$265*$Y265)/1000","v":{"$error":"#VALUE!"}},{"$error":"#VALUE!"},{"$error":"#VALUE!"},{"$f":"($AZ$265*$BO265*D$265*$Y265)/1000","v":{"$error":"#VALUE!"}},{"$error":"#VALUE!"},{"$error":"#VALUE!"},{"$f":"($AZ$265*$BP265*D$265*$Y265)/1000","v":{"$error":"#VALUE!"}},{"$error":"#VALUE!"},{"$error":"#VALUE!"},{"$f":"($AZ$265*$BQ265*D$265*$Y265)/1000","v":{"$error":"#VALUE!"}},{"$error":"#VALUE!"},{"$error":"#VALUE!"},{"$f":"($AZ$265*$BR265*D$265*$Y265)/1000","v":{"$error":"#VALUE!"}},{"$error":"#VALUE!"},{"$error":"#VALUE!"},{"$f":"($AZ$265*$BS265*D$265*$Y265)/1000","v":{"$error":"#VALUE!"}},{"$error":"#VALUE!"},{"$error":"#VALUE!"},{"$f":"($AZ$265*$BT265*D$265*$Y265)/1000","v":{"$error":"#VALUE!"}},{"$error":"#VALUE!"},{"$error":"#VALUE!"},{"$f":"($AZ$265*$BU265*D$265*$Y265)/1000","v":{"$error":"#VALUE!"}},{"$error":"#VALUE!"},{"$error":"#VALUE!"},{"$f":"($AZ$265*$BV265*D$265*$Y265)/1000","v":{"$error":"#VALUE!"}},{"$error":"#VALUE!"},{"$error":"#VALUE!"},{"$f":"($AZ$265*$BW265*D$265*$Y265)/1000","v":{"$error":"#VALUE!"}},{"$error":"#VALUE!"},{"$error":"#VALUE!"},{"$f":"($AZ$265*$BX265*D$265*$Y265)/1000","v":{"$error":"#VALUE!"}},{"$error":"#VALUE!"},{"$error":"#VALUE!"},0,{"$f":"$AZ$265*$Z265","v":0},{"$f":"($AZ$265*$BY265*D$265*$Z265)/1000","v":{"$error":"#VALUE!"}},{"$error":"#VALUE!"},{"$error":"#VALUE!"},{"$f":"($AZ$265*$BZ265*D$265*$Z265)/1000","v":{"$error":"#VALUE!"}},{"$error":"#VALUE!"},{"$error":"#VALUE!"},{"$f":"($AZ$265*$CA265*D$265*$Z265)/1000","v":{"$error":"#VALUE!"}},{"$error":"#VALUE!"},{"$error":"#VALUE!"},{"$f":"($AZ$265*$CB265*D$265*$Z265)/1000","v":{"$error":"#VALUE!"}},{"$error":"#VALUE!"},{"$error":"#VALUE!"},{"$f":"($AZ$265*$CD265*D$265*$Z265)/1000","v":{"$error":"#VALUE!"}},{"$error":"#VALUE!"},{"$error":"#VALUE!"},{"$f":"($AZ$265*$CD265*D$265*$Z265)/1000","v":{"$error":"#VALUE!"}},{"$error":"#VALUE!"},{"$error":"#VALUE!"},{"$f":"($AZ$265*$CE265*D$265*$Z265)/1000","v":{"$error":"#VALUE!"}},{"$error":"#VALUE!"},{"$error":"#VALUE!"},{"$f":"($AZ$265*$CF265*D$265*$Z265)/1000","v":{"$error":"#VALUE!"}},{"$error":"#VALUE!"},{"$error":"#VALUE!"},{"$f":"($AZ$265*$CG265*D$265*$Z265)/1000","v":{"$error":"#VALUE!"}},{"$error":"#VALUE!"},{"$error":"#VALUE!"},{"$f":"($AZ$265*$CH265*D$265*$Z265)/1000","v":{"$error":"#VALUE!"}},{"$error":"#VALUE!"},{"$error":"#VALUE!"},{"$f":"($AZ$265*$CI265*D$265*$Z265)/1000","v":{"$error":"#VALUE!"}},{"$error":"#VALUE!"},{"$error":"#VALUE!"},0,{"$f":"$AZ$265*$AA265","v":0},{"$f":"($AZ$265*$CJ265*D$265*$AA265)/1000","v":{"$error":"#VALUE!"}},{"$error":"#VALUE!"},{"$error":"#VALUE!"},{"$f":"($AZ$265*$CK265*D$265*$AA265)/1000","v":{"$error":"#VALUE!"}},{"$error":"#VALUE!"},{"$error":"#VALUE!"},{"$f":"($AZ$265*$CL265*D$265*$AA265)/1000","v":{"$error":"#VALUE!"}},{"$error":"#VALUE!"},{"$error":"#VALUE!"},{"$f":"($AZ$265*$CM265*D$265*$AA265)/1000","v":{"$error":"#VALUE!"}},{"$error":"#VALUE!"},{"$error":"#VALUE!"},{"$f":"($AZ$265*$CN265*D$265*$AA265)/1000","v":{"$error":"#VALUE!"}},{"$error":"#VALUE!"},{"$error":"#VALUE!"},{"$f":"($AZ$265*$CO265*D$265*$AA265)/1000","v":{"$error":"#VALUE!"}},{"$error":"#VALUE!"},{"$error":"#VALUE!"},{"$f":"($AZ$265*$CP265*D$265*$AA265)/1000","v":{"$error":"#VALUE!"}},{"$error":"#VALUE!"},{"$error":"#VALUE!"},{"$f":"($AZ$265*$CQ265*D$265*$AA265)/1000","v":{"$error":"#VALUE!"}},{"$error":"#VALUE!"},{"$error":"#VALUE!"},{"$f":"($AZ$265*$CR265*D$265*$AA265)/1000","v":{"$error":"#VALUE!"}},{"$error":"#VALUE!"},{"$error":"#VALUE!"},{"$f":"($AZ$265*$CS265*D$265*$AA265)/1000","v":{"$error":"#VALUE!"}},{"$error":"#VALUE!"},{"$error":"#VALUE!"},{"$f":"($AZ$265*$CT265*D$265*$AA265)/1000","v":{"$error":"#VALUE!"}},{"$error":"#VALUE!"},{"$error":"#VALUE!"},0,{"$f":"$AZ$265*$AB265","v":0},{"$f":"($AZ$265*$CU265*D$265*$AB265)/1000","v":{"$error":"#VALUE!"}},{"$error":"#VALUE!"},{"$error":"#VALUE!"},{"$f":"($AZ$265*$CV265*D$265*$AB265)/1000","v":{"$error":"#VALUE!"}},{"$error":"#VALUE!"},{"$error":"#VALUE!"},{"$f":"($AZ$265*$CW265*D$265*$AB265)/1000","v":{"$error":"#VALUE!"}},{"$error":"#VALUE!"},{"$error":"#VALUE!"},{"$f":"($AZ$265*$CX265*D$265*$AB265)/1000","v":{"$error":"#VALUE!"}},{"$error":"#VALUE!"},{"$error":"#VALUE!"},{"$f":"($AZ$265*$CY265*D$265*$AB265)/1000","v":{"$error":"#VALUE!"}},{"$error":"#VALUE!"},{"$error":"#VALUE!"},{"$f":"($AZ$265*$CZ265*D$265*$AB265)/1000","v":{"$error":"#VALUE!"}},{"$error":"#VALUE!"},{"$error":"#VALUE!"},{"$f":"($AZ$265*$DA265*D$265*$AB265)/1000","v":{"$error":"#VALUE!"}},{"$error":"#VALUE!"},{"$error":"#VALUE!"},{"$f":"($AZ$265*$DB265*D$265*$AB265)/1000","v":{"$error":"#VALUE!"}},{"$error":"#VALUE!"},{"$error":"#VALUE!"},{"$f":"($AZ$265*$DC265*D$265*$AB265)/1000","v":{"$error":"#VALUE!"}},{"$error":"#VALUE!"},{"$error":"#VALUE!"},{"$f":"($AZ$265*$DD265*D$265*$AB265)/1000","v":{"$error":"#VALUE!"}},{"$error":"#VALUE!"},{"$error":"#VALUE!"},{"$f":"($AZ$265*$DE265*D$265*$AB265)/1000","v":{"$error":"#VALUE!"}},{"$error":"#VALUE!"},{"$error":"#VALUE!"},0,{"$f":"$AZ$265*$AC265","v":0},{"$f":"($AZ$265*$DF265*D$265*$AC265)/1000","v":{"$error":"#VALUE!"}},{"$error":"#VALUE!"},{"$error":"#VALUE!"},{"$f":"($AZ$265*$DG265*D$265*$AC265)/1000","v":{"$error":"#VALUE!"}},{"$error":"#VALUE!"},{"$error":"#VALUE!"},{"$f":"($AZ$265*$DH265*D$265*$AC265)/1000","v":{"$error":"#VALUE!"}},{"$error":"#VALUE!"},{"$error":"#VALUE!"},{"$f":"($AZ$265*$DI265*D$265*$AC265)/1000","v":{"$error":"#VALUE!"}},{"$error":"#VALUE!"},{"$error":"#VALUE!"},{"$f":"($AZ$265*$DJ265*D$265*$AC265)/1000","v":{"$error":"#VALUE!"}},{"$error":"#VALUE!"},{"$error":"#VALUE!"},{"$f":"($AZ$265*$DK265*D$265*$AC265)/1000","v":{"$error":"#VALUE!"}},{"$error":"#VALUE!"},{"$error":"#VALUE!"},{"$f":"($AZ$265*$DL265*D$265*$AC265)/1000","v":{"$error":"#VALUE!"}},{"$error":"#VALUE!"},{"$error":"#VALUE!"},{"$f":"($AZ$265*$DM265*D$265*$AC265)/1000","v":{"$error":"#VALUE!"}},{"$error":"#VALUE!"},{"$error":"#VALUE!"},{"$f":"($AZ$265*$DN265*D$265*$AC265)/1000","v":{"$error":"#VALUE!"}},{"$error":"#VALUE!"},{"$error":"#VALUE!"},{"$f":"($AZ$265*$DO265*D$265*$AC265)/1000","v":{"$error":"#VALUE!"}},{"$error":"#VALUE!"},{"$error":"#VALUE!"},{"$f":"($AZ$265*$DP265*D$265*$AC265)/1000","v":{"$error":"#VALUE!"}},{"$error":"#VALUE!"},{"$error":"#VALUE!"},0,{"$f":"$AZ$265*$AD265","v":0},{"$f":"($AZ$265*$DQ265*D$265*$AD265)/1000","v":{"$error":"#VALUE!"}},{"$error":"#VALUE!"},{"$error":"#VALUE!"},{"$f":"($AZ$265*$DR265*D$265*$AD265)/1000","v":{"$error":"#VALUE!"}},{"$error":"#VALUE!"},{"$error":"#VALUE!"},{"$f":"($AZ$265*$DS265*D$265*$AD265)/1000","v":{"$error":"#VALUE!"}},{"$error":"#VALUE!"},{"$error":"#VALUE!"},{"$f":"($AZ$265*$DT265*D$265*$AD265)/1000","v":{"$error":"#VALUE!"}},{"$error":"#VALUE!"},{"$error":"#VALUE!"},{"$f":"($AZ$265*$DU265*D$265*$AD265)/1000","v":{"$error":"#VALUE!"}},{"$error":"#VALUE!"},{"$error":"#VALUE!"},{"$f":"($AZ$265*$DV265*D$265*$AD265)/1000","v":{"$error":"#VALUE!"}},{"$error":"#VALUE!"},{"$error":"#VALUE!"},{"$f":"($AZ$265*$DW265*D$265*$AD265)/1000","v":{"$error":"#VALUE!"}},{"$error":"#VALUE!"},{"$error":"#VALUE!"},{"$f":"($AZ$265*$DX265*D$265*$AD265)/1000","v":{"$error":"#VALUE!"}},{"$error":"#VALUE!"},{"$error":"#VALUE!"},{"$f":"($AZ$265*$DY265*D$265*$AD265)/1000","v":{"$error":"#VALUE!"}},{"$error":"#VALUE!"},{"$error":"#VALUE!"},{"$f":"($AZ$265*$DZ265*D$265*$AD265)/1000","v":{"$error":"#VALUE!"}},{"$error":"#VALUE!"},{"$error":"#VALUE!"},{"$f":"($AZ$265*$EA265*D$265*$AD265)/1000","v":{"$error":"#VALUE!"}},{"$error":"#VALUE!"},{"$error":"#VALUE!"}]
[null,null,null,null,null,null,null,null,null,null,null,null,null,null,null,null,null,null,null,null,null,null,null,2,null,null,null,null,null,null,null,null,null,"N/A",null,false,null,null,null,null,2,null,null,null,null,null,null,null,null,null,null,null,{"$f":"IF(AND(BB266=\"OK\",BC266=\"OK\",BD266=\"OK\"),\"OK\",\"ERR!\")","v":"ERR!"},"OK",{"$f":"IF(OR(SUM(BN266:BX266)<>1,SUM(BY266:CI266)<>1,SUM(CJ266:CT266)<>1,SUM(CU266:DE266)<>1,SUM(DF266:DP266)<>1,SUM(DQ266:EA266)<>1),\"ERR!\",\"OK\")","v":"ERR!"},{"$f":"IF(AND(OR(BE266=BK266,BE266=0),OR(BF266=BK266,BF266=0),OR(BG266=BK266,BG266=0),OR(BH266=BK266,BH266=0),OR(BI266=BK266,BI266=0),OR(BJ266=BK266,BJ266=0)),\"OK\",\"ERR!\")","v":"OK"},{"$f":"(BN266*POWER(10,0)+BO266*POWER(10,1)+BP266*POWER(10,2)+BQ266*POWER(10,3)+BR266*POWER(10,4)+BS266*POWER(10,5)+BT266*POWER(10,6)+BU266*POWER(10,7)+BV266*POWER(10,8)+BW266*POWER(10,9)+BX266*POWER(10,10))","v":0},{"$f":"(BY266*POWER(10,0)+BZ266*POWER(10,1)+CA266*POWER(10,2)+CB266*POWER(10,3)+CC266*POWER(10,4)+CD266*POWER(10,5)+CE266*POWER(10,6)+CF266*POWER(10,7)+CG266*POWER(10,8)+CH266*POWER(10,9)+CI266*POWER(10,10))","v":0},{"$f":"(CJ266*POWER(10,0)+CK266*POWER(10,1)+CL266*POWER(10,2)+CM266*POWER(10,3)+CN266*POWER(10,4)+CO266*POWER(10,5)+CP266*POWER(10,6)+CQ266*POWER(10,7)+CR266*POWER(10,8)+CS266*POWER(10,9)+CT266*POWER(10,10))","v":0},{"$f":"(CU266*POWER(10,0)+CV266*POWER(10,1)+CW266*POWER(10,2)+CX266*POWER(10,3)+CY266*POWER(10,4)+CZ266*POWER(10,5)+DA266*POWER(10,6)+DB266*POWER(10,7)+DC266*POWER(10,8)+DD266*POWER(10,9)+DE266*POWER(10,10))","v":0},{"$f":"(DF266*POWER(10,0)+DG266*POWER(10,1)+DH266*POWER(10,2)+DI266*POWER(10,3)+DJ266*POWER(10,4)+DK266*POWER(10,5)+DL266*POWER(10,6)+DM266*POWER(10,7)+DN266*POWER(10,8)+DO266*POWER(10,9)+DP266*POWER(10,10))","v":0},{"$f":"(DQ266*POWER(10,0)+DR266*POWER(10,1)+DS266*POWER(10,2)+DT266*POWER(10,3)+DU266*POWER(10,4)+DV266*POWER(10,5)+DW266*POWER(10,6)+DX266*POWER(10,7)+DY266*POWER(10,8)+DZ266*POWER(10,9)+EA266*POWER(10,10))","v":0},{"$f":"MAX(BE266:BJ266)","v":0},null,2,null,null,null,null,null,null,null,null,null,null,null,null,null,null,null,null,null,null,null,null,null,null,null,null,null,null,null,null,null,null,null,null,null,null,null,null,null,null,null,null,null,null,null,null,null,null,null,null,null,null,null,null,null,null,null,null,null,null,null,null,null,null,null,null,null,null,null,2,{"$error":"#VALUE!"},{"$error":"#VALUE!"},{"$error":"#VALUE!"},{"$error":"#VALUE!"},{"$error":"#VALUE!"},{"$error":"#VALUE!"},{"$error":"#VALUE!"},{"$error":"#VALUE!"},{"$error":"#VALUE!"},{"$error":"#VALUE!"},{"$error":"#VALUE!"},{"$error":"#VALUE!"},{"$error":"#VALUE!"},{"$error":"#VALUE!"},{"$error":"#VALUE!"},{"$error":"#VALUE!"},{"$error":"#VALUE!"},{"$error":"#VALUE!"},null,2,0,{"$error":"#VALUE!"},{"$error":"#VALUE!"},{"$error":"#VALUE!"},{"$error":"#VALUE!"},{"$error":"#VALUE!"},{"$error":"#VALUE!"},{"$error":"#VALUE!"},{"$error":"#VALUE!"},{"$error":"#VALUE!"},{"$error":"#VALUE!"},{"$error":"#VALUE!"},{"$error":"#VALUE!"},{"$error":"#VALUE!"},{"$error":"#VALUE!"},{"$error":"#VALUE!"},{"$error":"#VALUE!"},{"$error":"#VALUE!"},{"$error":"#VALUE!"},{"$error":"#VALUE!"},{"$error":"#VALUE!"},{"$error":"#VALUE!"},{"$error":"#VALUE!"},{"$error":"#VALUE!"},{"$error":"#VALUE!"},{"$error":"#VALUE!"},{"$error":"#VALUE!"},{"$error":"#VALUE!"},{"$error":"#VALUE!"},{"$error":"#VALUE!"},{"$error":"#VALUE!"},{"$error":"#VALUE!"},{"$error":"#VALUE!"},{"$error":"#VALUE!"},2,0,{"$error":"#VALUE!"},{"$error":"#VALUE!"},{"$error":"#VALUE!"},{"$error":"#VALUE!"},{"$error":"#VALUE!"},{"$error":"#VALUE!"},{"$error":"#VALUE!"},{"$error":"#VALUE!"},{"$error":"#VALUE!"},{"$error":"#VALUE!"},{"$error":"#VALUE!"},{"$error":"#VALUE!"},{"$error":"#VALUE!"},{"$error":"#VALUE!"},{"$error":"#VALUE!"},{"$error":"#VALUE!"},{"$error":"#VALUE!"},{"$error":"#VALUE!"},{"$error":"#VALUE!"},{"$error":"#VALUE!"},{"$error":"#VALUE!"},{"$error":"#VALUE!"},{"$error":"#VALUE!"},{"$error":"#VALUE!"},{"$error":"#VALUE!"},{"$error":"#VALUE!"},{"$error":"#VALUE!"},{"$error":"#VALUE!"},{"$error":"#VALUE!"},{"$error":"#VALUE!"},{"$error":"#VALUE!"},{"$error":"#VALUE!"},{"$error":"#VALUE!"},2,0,{"$error":"#VALUE!"},{"$error":"#VALUE!"},{"$error":"#VALUE!"},{"$error":"#VALUE!"},{"$error":"#VALUE!"},{"$error":"#VALUE!"},{"$error":"#VALUE!"},{"$error":"#VALUE!"},{"$error":"#VALUE!"},{"$error":"#VALUE!"},{"$error":"#VALUE!"},{"$error":"#VALUE!"},{"$error":"#VALUE!"},{"$error":"#VALUE!"},{"$error":"#VALUE!"},{"$error":"#VALUE!"},{"$error":"#VALUE!"},{"$error":"#VALUE!"},{"$error":"#VALUE!"},{"$error":"#VALUE!"},{"$error":"#VALUE!"},{"$error":"#VALUE!"},{"$error":"#VALUE!"},{"$error":"#VALUE!"},{"$error":"#VALUE!"},{"$error":"#VALUE!"},{"$error":"#VALUE!"},{"$error":"#VALUE!"},{"$error":"#VALUE!"},{"$error":"#VALUE!"},{"$error":"#VALUE!"},{"$error":"#VALUE!"},{"$error":"#VALUE!"},2,0,{"$error":"#VALUE!"},{"$error":"#VALUE!"},{"$error":"#VALUE!"},{"$error":"#VALUE!"},{"$error":"#VALUE!"},{"$error":"#VALUE!"},{"$error":"#VALUE!"},{"$error":"#VALUE!"},{"$error":"#VALUE!"},{"$error":"#VALUE!"},{"$error":"#VALUE!"},{"$error":"#VALUE!"},{"$error":"#VALUE!"},{"$error":"#VALUE!"},{"$error":"#VALUE!"},{"$error":"#VALUE!"},{"$error":"#VALUE!"},{"$error":"#VALUE!"},{"$error":"#VALUE!"},{"$error":"#VALUE!"},{"$error":"#VALUE!"},{"$error":"#VALUE!"},{"$error":"#VALUE!"},{"$error":"#VALUE!"},{"$error":"#VALUE!"},{"$error":"#VALUE!"},{"$error":"#VALUE!"},{"$error":"#VALUE!"},{"$error":"#VALUE!"},{"$error":"#VALUE!"},{"$error":"#VALUE!"},{"$error":"#VALUE!"},{"$error":"#VALUE!"},2,0,{"$error":"#VALUE!"},{"$error":"#VALUE!"},{"$error":"#VALUE!"},{"$error":"#VALUE!"},{"$error":"#VALUE!"},{"$error":"#VALUE!"},{"$error":"#VALUE!"},{"$error":"#VALUE!"},{"$error":"#VALUE!"},{"$error":"#VALUE!"},{"$error":"#VALUE!"},{"$error":"#VALUE!"},{"$error":"#VALUE!"},{"$error":"#VALUE!"},{"$error":"#VALUE!"},{"$error":"#VALUE!"},{"$error":"#VALUE!"},{"$error":"#VALUE!"},{"$error":"#VALUE!"},{"$error":"#VALUE!"},{"$error":"#VALUE!"},{"$error":"#VALUE!"},{"$error":"#VALUE!"},{"$error":"#VALUE!"},{"$error":"#VALUE!"},{"$error":"#VALUE!"},{"$error":"#VALUE!"},{"$error":"#VALUE!"},{"$error":"#VALUE!"},{"$error":"#VALUE!"},{"$error":"#VALUE!"},{"$error":"#VALUE!"},{"$error":"#VALUE!"},2,0,{"$error":"#VALUE!"},{"$error":"#VALUE!"},{"$error":"#VALUE!"},{"$error":"#VALUE!"},{"$error":"#VALUE!"},{"$error":"#VALUE!"},{"$error":"#VALUE!"},{"$error":"#VALUE!"},{"$error":"#VALUE!"},{"$error":"#VALUE!"},{"$error":"#VALUE!"},{"$error":"#VALUE!"},{"$error":"#VALUE!"},{"$error":"#VALUE!"},{"$error":"#VALUE!"},{"$error":"#VALUE!"},{"$error":"#VALUE!"},{"$error":"#VALUE!"},{"$error":"#VALUE!"},{"$error":"#VALUE!"},{"$error":"#VALUE!"},{"$error":"#VALUE!"},{"$error":"#VALUE!"},{"$error":"#VALUE!"},{"$error":"#VALUE!"},{"$error":"#VALUE!"},{"$error":"#VALUE!"},{"$error":"#VALUE!"},{"$error":"#VALUE!"},{"$error":"#VALUE!"},{"$error":"#VALUE!"},{"$error":"#VALUE!"},{"$error":"#VALUE!"}]
[null,null,null,null,null,null,null,null,null,null,null,null,null,null,null,null,null,null,null,null,null,null,null,3,null,null,null,null,null,null,null,null,null,"N/A",null,false,null,null,null,null,3,null,null,null,null,null,null,null,null,null,null,null,{"$f":"IF(AND(BB267=\"OK\",BC267=\"OK\",BD267=\"OK\"),\"OK\",\"ERR!\")","v":"ERR!"},"OK",{"$f":"IF(OR(SUM(BN267:BX267)<>1,SUM(BY267:CI267)<>1,SUM(CJ267:CT267)<>1,SUM(CU267:DE267)<>1,SUM(DF267:DP267)<>1,SUM(DQ267:EA267)<>1),\"ERR!\",\"OK\")","v":"ERR!"},{"$f":"IF(AND(OR(BE267=BK267,BE267=0),OR(BF267=BK267,BF267=0),OR(BG267=BK267,BG267=0),OR(BH267=BK267,BH267=0),OR(BI267=BK267,BI267=0),OR(BJ267=BK267,BJ267=0)),\"OK\",\"ERR!\")","v":"OK"},0,0,0,0,0,0,{"$f":"MAX(BE267:BJ267)","v":0},null,3,null,null,null,null,null,null,null,null,null,null,null,null,null,null,null,null,null,null,null,null,null,null,null,null,null,null,null,null,null,null,null,null,null,null,null,null,null,null,null,null,null,null,null,null,null,null,null,null,null,null,null,null,null,null,null,null,null,null,null,null,null,null,null,null,null,null,null,3,{"$error":"#VALUE!"},{"$error":"#VALUE!"},{"$error":"#VALUE!"},{"$error":"#VALUE!"},{"$error":"#VALUE!"},{"$error":"#VALUE!"},{"$error":"#VALUE!"},{"$error":"#VALUE!"},{"$error":"#VALUE!"},{"$error":"#VALUE!"},{"$error":"#VALUE!"},{"$error":"#VALUE!"},{"$error":"#VALUE!"},{"$error":"#VALUE!"},{"$error":"#VALUE!"},{"$error":"#VALUE!"},{"$error":"#VALUE!"},{"$error":"#VALUE!"},null,3,0,{"$error":"#VALUE!"},{"$error":"#VALUE!"},{"$error":"#VALUE!"},{"$error":"#VALUE!"},{"$error":"#VALUE!"},{"$error":"#VALUE!"},{"$error":"#VALUE!"},{"$error":"#VALUE!"},{"$error":"#VALUE!"},{"$error":"#VALUE!"},{"$error":"#VALUE!"},{"$error":"#VALUE!"},{"$error":"#VALUE!"},{"$error":"#VALUE!"},{"$error":"#VALUE!"},{"$error":"#VALUE!"},{"$error":"#VALUE!"},{"$error":"#VALUE!"},{"$error":"#VALUE!"},{"$error":"#VALUE!"},{"$error":"#VALUE!"},{"$error":"#VALUE!"},{"$error":"#VALUE!"},{"$error":"#VALUE!"},{"$error":"#VALUE!"},{"$error":"#VALUE!"},{"$error":"#VALUE!"},{"$error":"#VALUE!"},{"$error":"#VALUE!"},{"$error":"#VALUE!"},{"$error":"#VALUE!"},{"$error":"#VALUE!"},{"$error":"#VALUE!"},3,0,{"$error":"#VALUE!"},{"$error":"#VALUE!"},{"$error":"#VALUE!"},{"$error":"#VALUE!"},{"$error":"#VALUE!"},{"$error":"#VALUE!"},{"$error":"#VALUE!"},{"$error":"#VALUE!"},{"$error":"#VALUE!"},{"$error":"#VALUE!"},{"$error":"#VALUE!"},{"$error":"#VALUE!"},{"$error":"#VALUE!"},{"$error":"#VALUE!"},{"$error":"#VALUE!"},{"$error":"#VALUE!"},{"$error":"#VALUE!"},{"$error":"#VALUE!"},{"$error":"#VALUE!"},{"$error":"#VALUE!"},{"$error":"#VALUE!"},{"$error":"#VALUE!"},{"$error":"#VALUE!"},{"$error":"#VALUE!"},{"$error":"#VALUE!"},{"$error":"#VALUE!"},{"$error":"#VALUE!"},{"$error":"#VALUE!"},{"$error":"#VALUE!"},{"$error":"#VALUE!"},{"$error":"#VALUE!"},{"$error":"#VALUE!"},{"$error":"#VALUE!"},3,0,{"$error":"#VALUE!"},{"$error":"#VALUE!"},{"$error":"#VALUE!"},{"$error":"#VALUE!"},{"$error":"#VALUE!"},{"$error":"#VALUE!"},{"$error":"#VALUE!"},{"$error":"#VALUE!"},{"$error":"#VALUE!"},{"$error":"#VALUE!"},{"$error":"#VALUE!"},{"$error":"#VALUE!"},{"$error":"#VALUE!"},{"$error":"#VALUE!"},{"$error":"#VALUE!"},{"$error":"#VALUE!"},{"$error":"#VALUE!"},{"$error":"#VALUE!"},{"$error":"#VALUE!"},{"$error":"#VALUE!"},{"$error":"#VALUE!"},{"$error":"#VALUE!"},{"$error":"#VALUE!"},{"$error":"#VALUE!"},{"$error":"#VALUE!"},{"$error":"#VALUE!"},{"$error":"#VALUE!"},{"$error":"#VALUE!"},{"$error":"#VALUE!"},{"$error":"#VALUE!"},{"$error":"#VALUE!"},{"$error":"#VALUE!"},{"$error":"#VALUE!"},3,0,{"$error":"#VALUE!"},{"$error":"#VALUE!"},{"$error":"#VALUE!"},{"$error":"#VALUE!"},{"$error":"#VALUE!"},{"$error":"#VALUE!"},{"$error":"#VALUE!"},{"$error":"#VALUE!"},{"$error":"#VALUE!"},{"$error":"#VALUE!"},{"$error":"#VALUE!"},{"$error":"#VALUE!"},{"$error":"#VALUE!"},{"$error":"#VALUE!"},{"$error":"#VALUE!"},{"$error":"#VALUE!"},{"$error":"#VALUE!"},{"$error":"#VALUE!"},{"$error":"#VALUE!"},{"$error":"#VALUE!"},{"$error":"#VALUE!"},{"$error":"#VALUE!"},{"$error":"#VALUE!"},{"$error":"#VALUE!"},{"$error":"#VALUE!"},{"$error":"#VALUE!"},{"$error":"#VALUE!"},{"$error":"#VALUE!"},{"$error":"#VALUE!"},{"$error":"#VALUE!"},{"$error":"#VALUE!"},{"$error":"#VALUE!"},{"$error":"#VALUE!"},3,0,{"$error":"#VALUE!"},{"$error":"#VALUE!"},{"$error":"#VALUE!"},{"$error":"#VALUE!"},{"$error":"#VALUE!"},{"$error":"#VALUE!"},{"$error":"#VALUE!"},{"$error":"#VALUE!"},{"$error":"#VALUE!"},{"$error":"#VALUE!"},{"$error":"#VALUE!"},{"$error":"#VALUE!"},{"$error":"#VALUE!"},{"$error":"#VALUE!"},{"$error":"#VALUE!"},{"$error":"#VALUE!"},{"$error":"#VALUE!"},{"$error":"#VALUE!"},{"$error":"#VALUE!"},{"$error":"#VALUE!"},{"$error":"#VALUE!"},{"$error":"#VALUE!"},{"$error":"#VALUE!"},{"$error":"#VALUE!"},{"$error":"#VALUE!"},{"$error":"#VALUE!"},{"$error":"#VALUE!"},{"$error":"#VALUE!"},{"$error":"#VALUE!"},{"$error":"#VALUE!"},{"$error":"#VALUE!"},{"$error":"#VALUE!"},{"$error":"#VALUE!"},3,0,{"$error":"#VALUE!"},{"$error":"#VALUE!"},{"$error":"#VALUE!"},{"$error":"#VALUE!"},{"$error":"#VALUE!"},{"$error":"#VALUE!"},{"$error":"#VALUE!"},{"$error":"#VALUE!"},{"$error":"#VALUE!"},{"$error":"#VALUE!"},{"$error":"#VALUE!"},{"$error":"#VALUE!"},{"$error":"#VALUE!"},{"$error":"#VALUE!"},{"$error":"#VALUE!"},{"$error":"#VALUE!"},{"$error":"#VALUE!"},{"$error":"#VALUE!"},{"$error":"#VALUE!"},{"$error":"#VALUE!"},{"$error":"#VALUE!"},{"$error":"#VALUE!"},{"$error":"#VALUE!"},{"$error":"#VALUE!"},{"$error":"#VALUE!"},{"$error":"#VALUE!"},{"$error":"#VALUE!"},{"$error":"#VALUE!"},{"$error":"#VALUE!"},{"$error":"#VALUE!"},{"$error":"#VALUE!"},{"$error":"#VALUE!"},{"$error":"#VALUE!"}]
[null,null,null,null,null,null,null,null,null,null,null,null,null,null,null,null,null,null,null,null,null,null,null,4,null,null,null,null,null,null,null,null,null,"N/A",null,false,null,null,null,null,4,null,null,null,null,null,null,null,null,null,null,null,{"$f":"IF(AND(BB268=\"OK\",BC268=\"OK\",BD268=\"OK\"),\"OK\",\"ERR!\")","v":"ERR!"},"OK","ERR!",{"$f":"IF(AND(OR(BE268=BK268,BE268=0),OR(BF268=BK268,BF268=0),OR(BG268=BK268,BG268=0),OR(BH268=BK268,BH268=0),OR(BI268=BK268,BI268=0),OR(BJ268=BK268,BJ268=0)),\"OK\",\"ERR!\")","v":"OK"},0,0,0,0,0,0,0,null,4,null,null,null,null,null,null,null,null,null,null,null,null,null,null,null,null,null,null,null,null,null,null,null,null,null,null,null,null,null,null,null,null,null,null,null,null,null,null,null,null,null,null,null,null,null,null,null,null,null,null,null,null,null,null,null,null,null,null,null,null,null,null,null,null,null,null,null,4,{"$error":"#VALUE!"},{"$error":"#VALUE!"},{"$error":"#VALUE!"},{"$error":"#VALUE!"},{"$error":"#VALUE!"},{"$error":"#VALUE!"},{"$error":"#VALUE!"},{"$error":"#VALUE!"},{"$error":"#VALUE!"},{"$error":"#VALUE!"},{"$error":"#VALUE!"},{"$error":"#VALUE!"},{"$error":"#VALUE!"},{"$error":"#VALUE!"},{"$error":"#VALUE!"},{"$error":"#VALUE!"},{"$error":"#VALUE!"},{"$error":"#VALUE!"},null,4,0,{"$error":"#VALUE!"},{"$error":"#VALUE!"},{"$error":"#VALUE!"},{"$error":"#VALUE!"},{"$error":"#VALUE!"},{"$error":"#VALUE!"},{"$error":"#VALUE!"},{"$error":"#VALUE!"},{"$error":"#VALUE!"},{"$error":"#VALUE!"},{"$error":"#VALUE!"},{"$error":"#VALUE!"},{"$error":"#VALUE!"},{"$error":"#VALUE!"},{"$error":"#VALUE!"},{"$error":"#VALUE!"},{"$error":"#VALUE!"},{"$error":"#VALUE!"},{"$error":"#VALUE!"},{"$error":"#VALUE!"},{"$error":"#VALUE!"},{"$error":"#VALUE!"},{"$error":"#VALUE!"},{"$error":"#VALUE!"},{"$error":"#VALUE!"},{"$error":"#VALUE!"},{"$error":"#VALUE!"},{"$error":"#VALUE!"},{"$error":"#VALUE!"},{"$error":"#VALUE!"},{"$error":"#VALUE!"},{"$error":"#VALUE!"},{"$error":"#VALUE!"},4,0,{"$error":"#VALUE!"},{"$error":"#VALUE!"},{"$error":"#VALUE!"},{"$error":"#VALUE!"},{"$error":"#VALUE!"},{"$error":"#VALUE!"},{"$error":"#VALUE!"},{"$error":"#VALUE!"},{"$error":"#VALUE!"},{"$error":"#VALUE!"},{"$error":"#VALUE!"},{"$error":"#VALUE!"},{"$error":"#VALUE!"},{"$error":"#VALUE!"},{"$error":"#VALUE!"},{"$error":"#VALUE!"},{"$error":"#VALUE!"},{"$error":"#VALUE!"},{"$error":"#VALUE!"},{"$error":"#VALUE!"},{"$error":"#VALUE!"},{"$error":"#VALUE!"},{"$error":"#VALUE!"},{"$error":"#VALUE!"},{"$error":"#VALUE!"},{"$error":"#VALUE!"},{"$error":"#VALUE!"},{"$error":"#VALUE!"},{"$error":"#VALUE!"},{"$error":"#VALUE!"},{"$error":"#VALUE!"},{"$error":"#VALUE!"},{"$error":"#VALUE!"},4,0,{"$error":"#VALUE!"},{"$error":"#VALUE!"},{"$error":"#VALUE!"},{"$error":"#VALUE!"},{"$error":"#VALUE!"},{"$error":"#VALUE!"},{"$error":"#VALUE!"},{"$error":"#VALUE!"},{"$error":"#VALUE!"},{"$error":"#VALUE!"},{"$error":"#VALUE!"},{"$error":"#VALUE!"},{"$error":"#VALUE!"},{"$error":"#VALUE!"},{"$error":"#VALUE!"},{"$error":"#VALUE!"},{"$error":"#VALUE!"},{"$error":"#VALUE!"},{"$error":"#VALUE!"},{"$error":"#VALUE!"},{"$error":"#VALUE!"},{"$error":"#VALUE!"},{"$error":"#VALUE!"},{"$error":"#VALUE!"},{"$error":"#VALUE!"},{"$error":"#VALUE!"},{"$error":"#VALUE!"},{"$error":"#VALUE!"},{"$error":"#VALUE!"},{"$error":"#VALUE!"},{"$error":"#VALUE!"},{"$error":"#VALUE!"},{"$error":"#VALUE!"},4,0,{"$error":"#VALUE!"},{"$error":"#VALUE!"},{"$error":"#VALUE!"},{"$error":"#VALUE!"},{"$error":"#VALUE!"},{"$error":"#VALUE!"},{"$error":"#VALUE!"},{"$error":"#VALUE!"},{"$error":"#VALUE!"},{"$error":"#VALUE!"},{"$error":"#VALUE!"},{"$error":"#VALUE!"},{"$error":"#VALUE!"},{"$error":"#VALUE!"},{"$error":"#VALUE!"},{"$error":"#VALUE!"},{"$error":"#VALUE!"},{"$error":"#VALUE!"},{"$error":"#VALUE!"},{"$error":"#VALUE!"},{"$error":"#VALUE!"},{"$error":"#VALUE!"},{"$error":"#VALUE!"},{"$error":"#VALUE!"},{"$error":"#VALUE!"},{"$error":"#VALUE!"},{"$error":"#VALUE!"},{"$error":"#VALUE!"},{"$error":"#VALUE!"},{"$error":"#VALUE!"},{"$error":"#VALUE!"},{"$error":"#VALUE!"},{"$error":"#VALUE!"},4,0,{"$error":"#VALUE!"},{"$error":"#VALUE!"},{"$error":"#VALUE!"},{"$error":"#VALUE!"},{"$error":"#VALUE!"},{"$error":"#VALUE!"},{"$error":"#VALUE!"},{"$error":"#VALUE!"},{"$error":"#VALUE!"},{"$error":"#VALUE!"},{"$error":"#VALUE!"},{"$error":"#VALUE!"},{"$error":"#VALUE!"},{"$error":"#VALUE!"},{"$error":"#VALUE!"},{"$error":"#VALUE!"},{"$error":"#VALUE!"},{"$error":"#VALUE!"},{"$error":"#VALUE!"},{"$error":"#VALUE!"},{"$error":"#VALUE!"},{"$error":"#VALUE!"},{"$error":"#VALUE!"},{"$error":"#VALUE!"},{"$error":"#VALUE!"},{"$error":"#VALUE!"},{"$error":"#VALUE!"},{"$error":"#VALUE!"},{"$error":"#VALUE!"},{"$error":"#VALUE!"},{"$error":"#VALUE!"},{"$error":"#VALUE!"},{"$error":"#VALUE!"},4,0,{"$error":"#VALUE!"},{"$error":"#VALUE!"},{"$error":"#VALUE!"},{"$error":"#VALUE!"},{"$error":"#VALUE!"},{"$error":"#VALUE!"},{"$error":"#VALUE!"},{"$error":"#VALUE!"},{"$error":"#VALUE!"},{"$error":"#VALUE!"},{"$error":"#VALUE!"},{"$error":"#VALUE!"},{"$error":"#VALUE!"},{"$error":"#VALUE!"},{"$error":"#VALUE!"},{"$error":"#VALUE!"},{"$error":"#VALUE!"},{"$error":"#VALUE!"},{"$error":"#VALUE!"},{"$error":"#VALUE!"},{"$error":"#VALUE!"},{"$error":"#VALUE!"},{"$error":"#VALUE!"},{"$error":"#VALUE!"},{"$error":"#VALUE!"},{"$error":"#VALUE!"},{"$error":"#VALUE!"},{"$error":"#VALUE!"},{"$error":"#VALUE!"},{"$error":"#VALUE!"},{"$error":"#VALUE!"},{"$error":"#VALUE!"},{"$error":"#VALUE!"}]
[null,null,null,null,null,null,null,null,null,null,null,null,null,null,null,null,null,null,null,null,null,null,null,7,null,null,null,null,null,null,null,null,null,"N/A",null,false,null,null,null,null,7,null,null,null,null,null,null,null,null,null,null,null,{"$f":"IF(AND(BB269=\"OK\",BC269=\"OK\",BD269=\"OK\"),\"OK\",\"ERR!\")","v":"ERR!"},"OK","ERR!","OK",0,0,0,0,0,0,0,null,7,null,null,null,null,null,null,null,null,null,null,null,null,null,null,null,null,null,null,null,null,null,null,null,null,null,null,null,null,null,null,null,null,null,null,null,null,null,null,null,null,null,null,null,null,null,null,null,null,null,null,null,null,null,null,null,null,null,null,null,null,null,null,null,null,null,null,null,7,{"$error":"#VALUE!"},{"$error":"#VALUE!"},{"$error":"#VALUE!"},{"$error":"#VALUE!"},{"$error":"#VALUE!"},{"$error":"#VALUE!"},{"$error":"#VALUE!"},{"$error":"#VALUE!"},{"$error":"#VALUE!"},{"$error":"#VALUE!"},{"$error":"#VALUE!"},{"$error":"#VALUE!"},{"$error":"#VALUE!"},{"$error":"#VALUE!"},{"$error":"#VALUE!"},{"$error":"#VALUE!"},{"$error":"#VALUE!"},{"$error":"#VALUE!"},null,7,0,{"$error":"#VALUE!"},{"$error":"#VALUE!"},{"$error":"#VALUE!"},{"$error":"#VALUE!"},{"$error":"#VALUE!"},{"$error":"#VALUE!"},{"$error":"#VALUE!"},{"$error":"#VALUE!"},{"$error":"#VALUE!"},{"$error":"#VALUE!"},{"$error":"#VALUE!"},{"$error":"#VALUE!"},{"$error":"#VALUE!"},{"$error":"#VALUE!"},{"$error":"#VALUE!"},{"$error":"#VALUE!"},{"$error":"#VALUE!"},{"$error":"#VALUE!"},{"$error":"#VALUE!"},{"$error":"#VALUE!"},{"$error":"#VALUE!"},{"$error":"#VALUE!"},{"$error":"#VALUE!"},{"$error":"#VALUE!"},{"$error":"#VALUE!"},{"$error":"#VALUE!"},{"$error":"#VALUE!"},{"$error":"#VALUE!"},{"$error":"#VALUE!"},{"$error":"#VALUE!"},{"$error":"#VALUE!"},{"$error":"#VALUE!"},{"$error":"#VALUE!"},7,0,{"$error":"#VALUE!"},{"$error":"#VALUE!"},{"$error":"#VALUE!"},{"$error":"#VALUE!"},{"$error":"#VALUE!"},{"$error":"#VALUE!"},{"$error":"#VALUE!"},{"$error":"#VALUE!"},{"$error":"#VALUE!"},{"$error":"#VALUE!"},{"$error":"#VALUE!"},{"$error":"#VALUE!"},{"$error":"#VALUE!"},{"$error":"#VALUE!"},{"$error":"#VALUE!"},{"$error":"#VALUE!"},{"$error":"#VALUE!"},{"$error":"#VALUE!"},{"$error":"#VALUE!"},{"$error":"#VALUE!"},{"$error":"#VALUE!"},{"$error":"#VALUE!"},{"$error":"#VALUE!"},{"$error":"#VALUE!"},{"$error":"#VALUE!"},{"$error":"#VALUE!"},{"$error":"#VALUE!"},{"$error":"#VALUE!"},{"$error":"#VALUE!"},{"$error":"#VALUE!"},{"$error":"#VALUE!"},{"$error":"#VALUE!"},{"$error":"#VALUE!"},7,0,{"$error":"#VALUE!"},{"$error":"#VALUE!"},{"$error":"#VALUE!"},{"$error":"#VALUE!"},{"$error":"#VALUE!"},{"$error":"#VALUE!"},{"$error":"#VALUE!"},{"$error":"#VALUE!"},{"$error":"#VALUE!"},{"$error":"#VALUE!"},{"$error":"#VALUE!"},{"$error":"#VALUE!"},{"$error":"#VALUE!"},{"$error":"#VALUE!"},{"$error":"#VALUE!"},{"$error":"#VALUE!"},{"$error":"#VALUE!"},{"$error":"#VALUE!"},{"$error":"#VALUE!"},{"$error":"#VALUE!"},{"$error":"#VALUE!"},{"$error":"#VALUE!"},{"$error":"#VALUE!"},{"$error":"#VALUE!"},{"$error":"#VALUE!"},{"$error":"#VALUE!"},{"$error":"#VALUE!"},{"$error":"#VALUE!"},{"$error":"#VALUE!"},{"$error":"#VALUE!"},{"$error":"#VALUE!"},{"$error":"#VALUE!"},{"$error":"#VALUE!"},7,0,{"$error":"#VALUE!"},{"$error":"#VALUE!"},{"$error":"#VALUE!"},{"$error":"#VALUE!"},{"$error":"#VALUE!"},{"$error":"#VALUE!"},{"$error":"#VALUE!"},{"$error":"#VALUE!"},{"$error":"#VALUE!"},{"$error":"#VALUE!"},{"$error":"#VALUE!"},{"$error":"#VALUE!"},{"$error":"#VALUE!"},{"$error":"#VALUE!"},{"$error":"#VALUE!"},{"$error":"#VALUE!"},{"$error":"#VALUE!"},{"$error":"#VALUE!"},{"$error":"#VALUE!"},{"$error":"#VALUE!"},{"$error":"#VALUE!"},{"$error":"#VALUE!"},{"$error":"#VALUE!"},{"$error":"#VALUE!"},{"$error":"#VALUE!"},{"$error":"#VALUE!"},{"$error":"#VALUE!"},{"$error":"#VALUE!"},{"$error":"#VALUE!"},{"$error":"#VALUE!"},{"$error":"#VALUE!"},{"$error":"#VALUE!"},{"$error":"#VALUE!"},7,0,{"$error":"#VALUE!"},{"$error":"#VALUE!"},{"$error":"#VALUE!"},{"$error":"#VALUE!"},{"$error":"#VALUE!"},{"$error":"#VALUE!"},{"$error":"#VALUE!"},{"$error":"#VALUE!"},{"$error":"#VALUE!"},{"$error":"#VALUE!"},{"$error":"#VALUE!"},{"$error":"#VALUE!"},{"$error":"#VALUE!"},{"$error":"#VALUE!"},{"$error":"#VALUE!"},{"$error":"#VALUE!"},{"$error":"#VALUE!"},{"$error":"#VALUE!"},{"$error":"#VALUE!"},{"$error":"#VALUE!"},{"$error":"#VALUE!"},{"$error":"#VALUE!"},{"$error":"#VALUE!"},{"$error":"#VALUE!"},{"$error":"#VALUE!"},{"$error":"#VALUE!"},{"$error":"#VALUE!"},{"$error":"#VALUE!"},{"$error":"#VALUE!"},{"$error":"#VALUE!"},{"$error":"#VALUE!"},{"$error":"#VALUE!"},{"$error":"#VALUE!"},7,0,{"$error":"#VALUE!"},{"$error":"#VALUE!"},{"$error":"#VALUE!"},{"$error":"#VALUE!"},{"$error":"#VALUE!"},{"$error":"#VALUE!"},{"$error":"#VALUE!"},{"$error":"#VALUE!"},{"$error":"#VALUE!"},{"$error":"#VALUE!"},{"$error":"#VALUE!"},{"$error":"#VALUE!"},{"$error":"#VALUE!"},{"$error":"#VALUE!"},{"$error":"#VALUE!"},{"$error":"#VALUE!"},{"$error":"#VALUE!"},{"$error":"#VALUE!"},{"$error":"#VALUE!"},{"$error":"#VALUE!"},{"$error":"#VALUE!"},{"$error":"#VALUE!"},{"$error":"#VALUE!"},{"$error":"#VALUE!"},{"$error":"#VALUE!"},{"$error":"#VALUE!"},{"$error":"#VALUE!"},{"$error":"#VALUE!"},{"$error":"#VALUE!"},{"$error":"#VALUE!"},{"$error":"#VALUE!"},{"$error":"#VALUE!"},{"$error":"#VALUE!"}]
[null,null,null,null,null,null,null,null,null,null,null,null,null,null,null,null,null,null,null,null,null,null,null,8,null,null,null,null,null,null,null,null,null,{"$f":"IF(X270=0,AG270,AH269)","v":"N/A"},null,false,null,null,null,null,8,null,null,null,null,null,null,null,null,null,null,null,"ERR!","OK","ERR!","OK",0,0,0,0,0,0,0,null,8,null,null,null,null,null,null,null,null,null,null,null,null,null,null,null,null,null,null,null,null,null,null,null,null,null,null,null,null,null,null,null,null,null,null,null,null,null,null,null,null,null,null,null,null,null,null,null,null,null,null,null,null,null,null,null,null,null,null,null,null,null,null,null,null,null,null,null,8,{"$error":"#VALUE!"},{"$error":"#VALUE!"},{"$error":"#VALUE!"},{"$error":"#VALUE!"},{"$error":"#VALUE!"},{"$error":"#VALUE!"},{"$error":"#VALUE!"},{"$error":"#VALUE!"},{"$error":"#VALUE!"},{"$error":"#VALUE!"},{"$error":"#VALUE!"},{"$error":"#VALUE!"},{"$error":"#VALUE!"},{"$error":"#VALUE!"},{"$error":"#VALUE!"},{"$error":"#VALUE!"},{"$error":"#VALUE!"},{"$error":"#VALUE!"},null,8,0,{"$error":"#VALUE!"},{"$error":"#VALUE!"},{"$error":"#VALUE!"},{"$error":"#VALUE!"},{"$error":"#VALUE!"},{"$error":"#VALUE!"},{"$error":"#VALUE!"},{"$error":"#VALUE!"},{"$error":"#VALUE!"},{"$error":"#VALUE!"},{"$error":"#VALUE!"},{"$error":"#VALUE!"},{"$error":"#VALUE!"},{"$error":"#VALUE!"},{"$error":"#VALUE!"},{"$error":"#VALUE!"},{"$error":"#VALUE!"},{"$error":"#VALUE!"},{"$error":"#VALUE!"},{"$error":"#VALUE!"},{"$error":"#VALUE!"},{"$error":"#VALUE!"},{"$error":"#VALUE!"},{"$error":"#VALUE!"},{"$error":"#VALUE!"},{"$error":"#VALUE!"},{"$error":"#VALUE!"},{"$error":"#VALUE!"},{"$error":"#VALUE!"},{"$error":"#VALUE!"},{"$error":"#VALUE!"},{"$error":"#VALUE!"},{"$error":"#VALUE!"},8,0,{"$error":"#VALUE!"},{"$error":"#VALUE!"},{"$error":"#VALUE!"},{"$error":"#VALUE!"},{"$error":"#VALUE!"},{"$error":"#VALUE!"},{"$error":"#VALUE!"},{"$error":"#VALUE!"},{"$error":"#VALUE!"},{"$error":"#VALUE!"},{"$error":"#VALUE!"},{"$error":"#VALUE!"},{"$error":"#VALUE!"},{"$error":"#VALUE!"},{"$error":"#VALUE!"},{"$error":"#VALUE!"},{"$error":"#VALUE!"},{"$error":"#VALUE!"},{"$error":"#VALUE!"},{"$error":"#VALUE!"},{"$error":"#VALUE!"},{"$error":"#VALUE!"},{"$error":"#VALUE!"},{"$error":"#VALUE!"},{"$error":"#VALUE!"},{"$error":"#VALUE!"},{"$error":"#VALUE!"},{"$error":"#VALUE!"},{"$error":"#VALUE!"},{"$error":"#VALUE!"},{"$error":"#VALUE!"},{"$error":"#VALUE!"},{"$error":"#VALUE!"},8,0,{"$error":"#VALUE!"},{"$error":"#VALUE!"},{"$error":"#VALUE!"},{"$error":"#VALUE!"},{"$error":"#VALUE!"},{"$error":"#VALUE!"},{"$error":"#VALUE!"},{"$error":"#VALUE!"},{"$error":"#VALUE!"},{"$error":"#VALUE!"},{"$error":"#VALUE!"},{"$error":"#VALUE!"},{"$error":"#VALUE!"},{"$error":"#VALUE!"},{"$error":"#VALUE!"},{"$error":"#VALUE!"},{"$error":"#VALUE!"},{"$error":"#VALUE!"},{"$error":"#VALUE!"},{"$error":"#VALUE!"},{"$error":"#VALUE!"},{"$error":"#VALUE!"},{"$error":"#VALUE!"},{"$error":"#VALUE!"},{"$error":"#VALUE!"},{"$error":"#VALUE!"},{"$error":"#VALUE!"},{"$error":"#VALUE!"},{"$error":"#VALUE!"},{"$error":"#VALUE!"},{"$error":"#VALUE!"},{"$error":"#VALUE!"},{"$error":"#VALUE!"},8,0,{"$error":"#VALUE!"},{"$error":"#VALUE!"},{"$error":"#VALUE!"},{"$error":"#VALUE!"},{"$error":"#VALUE!"},{"$error":"#VALUE!"},{"$error":"#VALUE!"},{"$error":"#VALUE!"},{"$error":"#VALUE!"},{"$error":"#VALUE!"},{"$error":"#VALUE!"},{"$error":"#VALUE!"},{"$error":"#VALUE!"},{"$error":"#VALUE!"},{"$error":"#VALUE!"},{"$error":"#VALUE!"},{"$error":"#VALUE!"},{"$error":"#VALUE!"},{"$error":"#VALUE!"},{"$error":"#VALUE!"},{"$error":"#VALUE!"},{"$error":"#VALUE!"},{"$error":"#VALUE!"},{"$error":"#VALUE!"},{"$error":"#VALUE!"},{"$error":"#VALUE!"},{"$error":"#VALUE!"},{"$error":"#VALUE!"},{"$error":"#VALUE!"},{"$error":"#VALUE!"},{"$error":"#VALUE!"},{"$error":"#VALUE!"},{"$error":"#VALUE!"},8,0,{"$error":"#VALUE!"},{"$error":"#VALUE!"},{"$error":"#VALUE!"},{"$error":"#VALUE!"},{"$error":"#VALUE!"},{"$error":"#VALUE!"},{"$error":"#VALUE!"},{"$error":"#VALUE!"},{"$error":"#VALUE!"},{"$error":"#VALUE!"},{"$error":"#VALUE!"},{"$error":"#VALUE!"},{"$error":"#VALUE!"},{"$error":"#VALUE!"},{"$error":"#VALUE!"},{"$error":"#VALUE!"},{"$error":"#VALUE!"},{"$error":"#VALUE!"},{"$error":"#VALUE!"},{"$error":"#VALUE!"},{"$error":"#VALUE!"},{"$error":"#VALUE!"},{"$error":"#VALUE!"},{"$error":"#VALUE!"},{"$error":"#VALUE!"},{"$error":"#VALUE!"},{"$error":"#VALUE!"},{"$error":"#VALUE!"},{"$error":"#VALUE!"},{"$error":"#VALUE!"},{"$error":"#VALUE!"},{"$error":"#VALUE!"},{"$error":"#VALUE!"},8,0,{"$error":"#VALUE!"},{"$error":"#VALUE!"},{"$error":"#VALUE!"},{"$error":"#VALUE!"},{"$error":"#VALUE!"},{"$error":"#VALUE!"},{"$error":"#VALUE!"},{"$error":"#VALUE!"},{"$error":"#VALUE!"},{"$error":"#VALUE!"},{"$error":"#VALUE!"},{"$error":"#VALUE!"},{"$error":"#VALUE!"},{"$error":"#VALUE!"},{"$error":"#VALUE!"},{"$error":"#VALUE!"},{"$error":"#VALUE!"},{"$error":"#VALUE!"},{"$error":"#VALUE!"},{"$error":"#VALUE!"},{"$error":"#VALUE!"},{"$error":"#VALUE!"},{"$error":"#VALUE!"},{"$error":"#VALUE!"},{"$error":"#VALUE!"},{"$error":"#VALUE!"},{"$error":"#VALUE!"},{"$error":"#VALUE!"},{"$error":"#VALUE!"},{"$error":"#VALUE!"},{"$error":"#VALUE!"},{"$error":"#VALUE!"},{"$error":"#VALUE!"}]
[null,null,null,null,null,null,null,null,null,null,null,null,null,null,null,null,null,null,null,null,null,null,null,9,null,null,null,null,null,null,null,null,null,{"$f":"IF(X271=0,AG271,AH270)","v":"N/A"},null,false,null,null,null,null,9,null,null,null,null,null,null,null,null,null,null,null,"ERR!","OK","ERR!","OK",0,0,0,{"$f":"(CU271*POWER(10,0)+CV271*POWER(10,1)+CW271*POWER(10,2)+CX271*POWER(10,3)+CY271*POWER(10,4)+CZ271*POWER(10,5)+DA271*POWER(10,6)+DB271*POWER(10,7)+DC271*POWER(10,8)+DD271*POWER(10,9)+DE271*POWER(10,10))","v":0},{"$f":"(DF271*POWER(10,0)+DG271*POWER(10,1)+DH271*POWER(10,2)+DI271*POWER(10,3)+DJ271*POWER(10,4)+DK271*POWER(10,5)+DL271*POWER(10,6)+DM271*POWER(10,7)+DN271*POWER(10,8)+DO271*POWER(10,9)+DP271*POWER(10,10))","v":0},0,0,null,9,null,null,null,null,null,null,null,null,null,null,null,null,null,null,null,null,null,null,null,null,null,null,null,null,null,null,null,null,null,null,null,null,null,null,null,null,null,null,null,null,null,null,null,null,null,null,null,null,null,null,null,null,null,null,null,null,null,null,null,null,null,null,null,null,null,null,null,9,{"$error":"#VALUE!"},{"$error":"#VALUE!"},{"$error":"#VALUE!"},{"$error":"#VALUE!"},{"$error":"#VALUE!"},{"$error":"#VALUE!"},{"$error":"#VALUE!"},{"$error":"#VALUE!"},{"$error":"#VALUE!"},{"$error":"#VALUE!"},{"$error":"#VALUE!"},{"$error":"#VALUE!"},{"$error":"#VALUE!"},{"$error":"#VALUE!"},{"$error":"#VALUE!"},{"$error":"#VALUE!"},{"$error":"#VALUE!"},{"$error":"#VALUE!"},null,9,0,{"$error":"#VALUE!"},{"$error":"#VALUE!"},{"$error":"#VALUE!"},{"$error":"#VALUE!"},{"$error":"#VALUE!"},{"$error":"#VALUE!"},{"$error":"#VALUE!"},{"$error":"#VALUE!"},{"$error":"#VALUE!"},{"$error":"#VALUE!"},{"$error":"#VALUE!"},{"$error":"#VALUE!"},{"$error":"#VALUE!"},{"$error":"#VALUE!"},{"$error":"#VALUE!"},{"$error":"#VALUE!"},{"$error":"#VALUE!"},{"$error":"#VALUE!"},{"$error":"#VALUE!"},{"$error":"#VALUE!"},{"$error":"#VALUE!"},{"$error":"#VALUE!"},{"$error":"#VALUE!"},{"$error":"#VALUE!"},{"$error":"#VALUE!"},{"$error":"#VALUE!"},{"$error":"#VALUE!"},{"$error":"#VALUE!"},{"$error":"#VALUE!"},{"$error":"#VALUE!"},{"$error":"#VALUE!"},{"$error":"#VALUE!"},{"$error":"#VALUE!"},9,0,{"$error":"#VALUE!"},{"$error":"#VALUE!"},{"$error":"#VALUE!"},{"$error":"#VALUE!"},{"$error":"#VALUE!"},{"$error":"#VALUE!"},{"$error":"#VALUE!"},{"$error":"#VALUE!"},{"$error":"#VALUE!"},{"$error":"#VALUE!"},{"$error":"#VALUE!"},{"$error":"#VALUE!"},{"$error":"#VALUE!"},{"$error":"#VALUE!"},{"$error":"#VALUE!"},{"$error":"#VALUE!"},{"$error":"#VALUE!"},{"$error":"#VALUE!"},{"$error":"#VALUE!"},{"$error":"#VALUE!"},{"$error":"#VALUE!"},{"$error":"#VALUE!"},{"$error":"#VALUE!"},{"$error":"#VALUE!"},{"$error":"#VALUE!"},{"$error":"#VALUE!"},{"$error":"#VALUE!"},{"$error":"#VALUE!"},{"$error":"#VALUE!"},{"$error":"#VALUE!"},{"$error":"#VALUE!"},{"$error":"#VALUE!"},{"$error":"#VALUE!"},9,0,{"$error":"#VALUE!"},{"$error":"#VALUE!"},{"$error":"#VALUE!"},{"$error":"#VALUE!"},{"$error":"#VALUE!"},{"$error":"#VALUE!"},{"$error":"#VALUE!"},{"$error":"#VALUE!"},{"$error":"#VALUE!"},{"$error":"#VALUE!"},{"$error":"#VALUE!"},{"$error":"#VALUE!"},{"$error":"#VALUE!"},{"$error":"#VALUE!"},{"$error":"#VALUE!"},{"$error":"#VALUE!"},{"$error":"#VALUE!"},{"$error":"#VALUE!"},{"$error":"#VALUE!"},{"$error":"#VALUE!"},{"$error":"#VALUE!"},{"$error":"#VALUE!"},{"$error":"#VALUE!"},{"$error":"#VALUE!"},{"$error":"#VALUE!"},{"$error":"#VALUE!"},{"$error":"#VALUE!"},{"$error":"#VALUE!"},{"$error":"#VALUE!"},{"$error":"#VALUE!"},{"$error":"#VALUE!"},{"$error":"#VALUE!"},{"$error":"#VALUE!"},9,0,{"$error":"#VALUE!"},{"$error":"#VALUE!"},{"$error":"#VALUE!"},{"$error":"#VALUE!"},{"$error":"#VALUE!"},{"$error":"#VALUE!"},{"$error":"#VALUE!"},{"$error":"#VALUE!"},{"$error":"#VALUE!"},{"$error":"#VALUE!"},{"$error":"#VALUE!"},{"$error":"#VALUE!"},{"$error":"#VALUE!"},{"$error":"#VALUE!"},{"$error":"#VALUE!"},{"$error":"#VALUE!"},{"$error":"#VALUE!"},{"$error":"#VALUE!"},{"$error":"#VALUE!"},{"$error":"#VALUE!"},{"$error":"#VALUE!"},{"$error":"#VALUE!"},{"$error":"#VALUE!"},{"$error":"#VALUE!"},{"$error":"#VALUE!"},{"$error":"#VALUE!"},{"$error":"#VALUE!"},{"$error":"#VALUE!"},{"$error":"#VALUE!"},{"$error":"#VALUE!"},{"$error":"#VALUE!"},{"$error":"#VALUE!"},{"$error":"#VALUE!"},9,0,{"$error":"#VALUE!"},{"$error":"#VALUE!"},{"$error":"#VALUE!"},{"$error":"#VALUE!"},{"$error":"#VALUE!"},{"$error":"#VALUE!"},{"$error":"#VALUE!"},{"$error":"#VALUE!"},{"$error":"#VALUE!"},{"$error":"#VALUE!"},{"$error":"#VALUE!"},{"$error":"#VALUE!"},{"$error":"#VALUE!"},{"$error":"#VALUE!"},{"$error":"#VALUE!"},{"$error":"#VALUE!"},{"$error":"#VALUE!"},{"$error":"#VALUE!"},{"$error":"#VALUE!"},{"$error":"#VALUE!"},{"$error":"#VALUE!"},{"$error":"#VALUE!"},{"$error":"#VALUE!"},{"$error":"#VALUE!"},{"$error":"#VALUE!"},{"$error":"#VALUE!"},{"$error":"#VALUE!"},{"$error":"#VALUE!"},{"$error":"#VALUE!"},{"$error":"#VALUE!"},{"$error":"#VALUE!"},{"$error":"#VALUE!"},{"$error":"#VALUE!"},9,0,{"$error":"#VALUE!"},{"$error":"#VALUE!"},{"$error":"#VALUE!"},{"$error":"#VALUE!"},{"$error":"#VALUE!"},{"$error":"#VALUE!"},{"$error":"#VALUE!"},{"$error":"#VALUE!"},{"$error":"#VALUE!"},{"$error":"#VALUE!"},{"$error":"#VALUE!"},{"$error":"#VALUE!"},{"$error":"#VALUE!"},{"$error":"#VALUE!"},{"$error":"#VALUE!"},{"$error":"#VALUE!"},{"$error":"#VALUE!"},{"$error":"#VALUE!"},{"$error":"#VALUE!"},{"$error":"#VALUE!"},{"$error":"#VALUE!"},{"$error":"#VALUE!"},{"$error":"#VALUE!"},{"$error":"#VALUE!"},{"$error":"#VALUE!"},{"$error":"#VALUE!"},{"$error":"#VALUE!"},{"$error":"#VALUE!"},{"$error":"#VALUE!"},{"$error":"#VALUE!"},{"$error":"#VALUE!"},{"$error":"#VALUE!"},{"$error":"#VALUE!"}]
[null,null,null,null,null,null,null,null,null,null,null,null,null,null,null,null,null,null,null,null,null,null,null,"Total",{"$f":"SUM(Y265:Y271)","v":0},{"$f":"SUM(Z265:Z271)","v":0},{"$f":"SUM(AA265:AA271)","v":0},0,0,0,null,null,null,{"$f":"IF(X272=0,AG272,AH271)","v":"N/A"},null,false,null,null,null,null,"Total",null,null,null,null,null,null,null,null,null,null,null,null,null,null,null,null,null,null,null,null,null,null,null,"Total",null,null,null,null,null,null,null,null,null,null,null,null,null,null,null,null,null,null,null,null,null,null,null,null,null,null,null,null,null,null,null,null,null,null,null,null,null,null,null,null,null,null,null,null,null,null,null,null,null,null,null,null,null,null,null,null,null,null,null,null,null,null,null,null,null,null,null,"Total",{"$f":"SUM(ED265:ED271)","v":{"$error":"#VALUE!"}},{"$f":"SUM(EE265:EE271)","v":{"$error":"#VALUE!"}},{"$f":"SUM(EF265:EF271)","v":{"$error":"#VALUE!"}},{"$f":"SUM(EG265:EG271)","v":{"$error":"#VALUE!"}},{"$f":"SUM(EH265:EH271)","v":{"$error":"#VALUE!"}},{"$f":"SUM(EI265:EI271)","v":{"$error":"#VALUE!"}},{"$error":"#VALUE!"},{"$error":"#VALUE!"},{"$error":"#VALUE!"},{"$error":"#VALUE!"},{"$error":"#VALUE!"},{"$error":"#VALUE!"},{"$error":"#VALUE!"},{"$error":"#VALUE!"},{"$error":"#VALUE!"},{"$error":"#VALUE!"},{"$error":"#VALUE!"},{"$error":"#VALUE!"},null,"Total",{"$f":"SUM(EX265:EX271)","v":0},{"$f":"SUM(EY265:EY271)","v":{"$error":"#VALUE!"}},{"$f":"SUM(EZ265:EZ271)","v":{"$error":"#VALUE!"}},{"$error":"#VALUE!"},{"$error":"#VALUE!"},{"$f":"SUM(FC265:FC271)","v":{"$error":"#VALUE!"}},{"$f":"SUM(FD265:FD271)","v":{"$error":"#VALUE!"}},{"$error":"#VALUE!"},{"$error":"#VALUE!"},{"$error":"#VALUE!"},{"$error":"#VALUE!"},{"$error":"#VALUE!"},{"$error":"#VALUE!"},{"$error":"#VALUE!"},{"$error":"#VALUE!"},{"$error":"#VALUE!"},{"$f":"SUM(FN265:FN271)","v":{"$error":"#VALUE!"}},{"$f":"SUM(FO265:FO271)","v":{"$error":"#VALUE!"}},{"$f":"SUM(FP265:FP271)","v":{"$error":"#VALUE!"}},{"$f":"SUM(FQ265:FQ271)","v":{"$error":"#VALUE!"}},{"$error":"#VALUE!"},{"$error":"#VALUE!"},{"$error":"#VALUE!"},{"$error":"#VALUE!"},{"$error":"#VALUE!"},{"$error":"#VALUE!"},{"$error":"#VALUE!"},{"$error":"#VALUE!"},{"$error":"#VALUE!"},{"$error":"#VALUE!"},{"$error":"#VALUE!"},{"$f":"SUM(GC265:GC271)","v":{"$error":"#VALUE!"}},{"$f":"SUM(GD265:GD271)","v":{"$error":"#VALUE!"}},{"$error":"#VALUE!"},"Total",{"$f":"SUM(GG265:GG271)","v":0},{"$f":"SUM(GH265:GH271)","v":{"$error":"#VALUE!"}},{"$f":"SUM(GI265:GI271)","v":{"$error":"#VALUE!"}},{"$error":"#VALUE!"},{"$error":"#VALUE!"},{"$f":"SUM(GL265:GL271)","v":{"$error":"#VALUE!"}},{"$f":"SUM(GM265:GM271)","v":{"$error":"#VALUE!"}},{"$f":"SUM(GN265:GN271)","v":{"$error":"#VALUE!"}},{"$error":"#VALUE!"},{"$error":"#VALUE!"},{"$error":"#VALUE!"},{"$error":"#VALUE!"},{"$error":"#VALUE!"},{"$error":"#VALUE!"},{"$error":"#VALUE!"},{"$error":"#VALUE!"},{"$f":"SUM(GW265:GW271)","v":{"$error":"#VALUE!"}},{"$f":"SUM(GX265:GX271)","v":{"$error":"#VALUE!"}},{"$f":"SUM(GY265:GY271)","v":{"$error":"#VALUE!"}},{"$f":"SUM(GZ265:GZ271)","v":{"$error":"#VALUE!"}},{"$error":"#VALUE!"},{"$error":"#VALUE!"},{"$error":"#VALUE!"},{"$error":"#VALUE!"},{"$error":"#VALUE!"},{"$error":"#VALUE!"},{"$error":"#VALUE!"},{"$error":"#VALUE!"},{"$error":"#VALUE!"},{"$error":"#VALUE!"},{"$error":"#VALUE!"},{"$f":"SUM(HL265:HL271)","v":{"$error":"#VALUE!"}},{"$f":"SUM(HM265:HM271)","v":{"$error":"#VALUE!"}},{"$error":"#VALUE!"},"Total",{"$f":"SUM(HP265:HP271)","v":0},{"$f":"SUM(HQ265:HQ271)","v":{"$error":"#VALUE!"}},{"$f":"SUM(HR265:HR271)","v":{"$error":"#VALUE!"}},{"$error":"#VALUE!"},{"$error":"#VALUE!"},{"$f":"SUM(HU265:HU271)","v":{"$error":"#VALUE!"}},{"$f":"SUM(HV265:HV271)","v":{"$error":"#VALUE!"}},{"$error":"#VALUE!"},{"$error":"#VALUE!"},{"$error":"#VALUE!"},{"$error":"#VALUE!"},{"$error":"#VALUE!"},{"$error":"#VALUE!"},{"$error":"#VALUE!"},{"$error":"#VALUE!"},{"$error":"#VALUE!"},{"$f":"SUM(IF265:IF271)","v":{"$error":"#VALUE!"}},{"$f":"SUM(IG265:IG271)","v":{"$error":"#VALUE!"}},{"$f":"SUM(IH265:IH271)","v":{"$error":"#VALUE!"}},{"$f":"SUM(II265:II271)","v":{"$error":"#VALUE!"}},{"$error":"#VALUE!"},{"$error":"#VALUE!"},{"$error":"#VALUE!"},{"$error":"#VALUE!"},{"$error":"#VALUE!"},{"$error":"#VALUE!"},{"$error":"#VALUE!"},{"$error":"#VALUE!"},{"$error":"#VALUE!"},{"$error":"#VALUE!"},{"$error":"#VALUE!"},{"$f":"SUM(IU265:IU271)","v":{"$error":"#VALUE!"}},{"$f":"SUM(IV265:IV271)","v":{"$error":"#VALUE!"}},{"$error":"#VALUE!"},"Total",{"$f":"SUM(IY265:IY271)","v":0},{"$f":"SUM(IZ265:IZ271)","v":{"$error":"#VALUE!"}},{"$f":"SUM(JA265:JA271)","v":{"$error":"#VALUE!"}},{"$error":"#VALUE!"},{"$error":"#VALUE!"},{"$f":"SUM(JD265:JD271)","v":{"$error":"#VALUE!"}},{"$f":"SUM(JE265:JE271)","v":{"$error":"#VALUE!"}},{"$error":"#VALUE!"},{"$error":"#VALUE!"},{"$error":"#VALUE!"},{"$error":"#VALUE!"},{"$error":"#VALUE!"},{"$error":"#VALUE!"},{"$error":"#VALUE!"},{"$error":"#VALUE!"},{"$error":"#VALUE!"},{"$f":"SUM(JO265:JO271)","v":{"$error":"#VALUE!"}},{"$f":"SUM(JP265:JP271)","v":{"$error":"#VALUE!"}},{"$f":"SUM(JQ265:JQ271)","v":{"$error":"#VALUE!"}},{"$f":"SUM(JR265:JR271)","v":{"$error":"#VALUE!"}},{"$error":"#VALUE!"},{"$error":"#VALUE!"},{"$error":"#VALUE!"},{"$error":"#VALUE!"},{"$error":"#VALUE!"},{"$error":"#VALUE!"},{"$error":"#VALUE!"},{"$error":"#VALUE!"},{"$error":"#VALUE!"},{"$error":"#VALUE!"},{"$error":"#VALUE!"},{"$f":"SUM(KD265:KD271)","v":{"$error":"#VALUE!"}},{"$f":"SUM(KE265:KE271)","v":{"$error":"#VALUE!"}},{"$error":"#VALUE!"},"Total",{"$f":"SUM(KH265:KH271)","v":0},{"$f":"SUM(KI265:KI271)","v":{"$error":"#VALUE!"}},{"$f":"SUM(KJ265:KJ271)","v":{"$error":"#VALUE!"}},{"$error":"#VALUE!"},{"$error":"#VALUE!"},{"$f":"SUM(KM265:KM271)","v":{"$error":"#VALUE!"}},{"$f":"SUM(KN265:KN271)","v":{"$error":"#VALUE!"}},{"$error":"#VALUE!"},{"$error":"#VALUE!"},{"$error":"#VALUE!"},{"$error":"#VALUE!"},{"$error":"#VALUE!"},{"$error":"#VALUE!"},{"$error":"#VALUE!"},{"$error":"#VALUE!"},{"$error":"#VALUE!"},{"$f":"SUM(KX265:KX271)","v":{"$error":"#VALUE!"}},{"$f":"SUM(KY265:KY271)","v":{"$error":"#VALUE!"}},{"$f":"SUM(KZ265:KZ271)","v":{"$error":"#VALUE!"}},{"$f":"SUM(LA265:LA271)","v":{"$error":"#VALUE!"}},{"$error":"#VALUE!"},{"$error":"#VALUE!"},{"$error":"#VALUE!"},{"$error":"#VALUE!"},{"$error":"#VALUE!"},{"$error":"#VALUE!"},{"$error":"#VALUE!"},{"$error":"#VALUE!"},{"$error":"#VALUE!"},{"$error":"#VALUE!"},{"$error":"#VALUE!"},{"$f":"SUM(LM265:LM271)","v":{"$error":"#VALUE!"}},{"$f":"SUM(LN265:LN271)","v":{"$error":"#VALUE!"}},{"$error":"#VALUE!"},"Total",{"$f":"SUM(LQ265:LQ271)","v":0},{"$f":"SUM(LR265:LR271)","v":{"$error":"#VALUE!"}},{"$f":"SUM(LS265:LS271)","v":{"$error":"#VALUE!"}},{"$error":"#VALUE!"},{"$error":"#VALUE!"},{"$f":"SUM(LV265:LV271)","v":{"$error":"#VALUE!"}},{"$f":"SUM(LW265:LW271)","v":{"$error":"#VALUE!"}},{"$error":"#VALUE!"},{"$error":"#VALUE!"},{"$error":"#VALUE!"},{"$error":"#VALUE!"},{"$error":"#VALUE!"},{"$error":"#VALUE!"},{"$error":"#VALUE!"},{"$error":"#VALUE!"},{"$f":"SUM(MF265:MF271)","v":{"$error":"#VALUE!"}},{"$f":"SUM(MG265:MG271)","v":{"$error":"#VALUE!"}},{"$f":"SUM(MH265:MH271)","v":{"$error":"#VALUE!"}},{"$f":"SUM(MI265:MI271)","v":{"$error":"#VALUE!"}},{"$f":"SUM(MJ265:MJ271)","v":{"$error":"#VALUE!"}},{"$error":"#VALUE!"},{"$error":"#VALUE!"},{"$error":"#VALUE!"},{"$error":"#VALUE!"},{"$error":"#VALUE!"},{"$error":"#VALUE!"},{"$error":"#VALUE!"},{"$error":"#VALUE!"},{"$error":"#VALUE!"},{"$error":"#VALUE!"},{"$error":"#VALUE!"},{"$f":"SUM(MV265:MV271)","v":{"$error":"#VALUE!"}},{"$f":"SUM(MW265:MW271)","v":{"$error":"#VALUE!"}},{"$error":"#VALUE!"}]
[]
[null,null,null,null,null,null,null,null,null,null,null,null,null,null,null,null,null,null,null,null,null,null,null,0,{"$f":"SUMIF($X$33:$X$272,$X274,Y$33:Y$272)","v":0},{"$f":"SUMIF($X$33:$X$272,$X274,Z$33:Z$272)","v":0},0,0,0,0,null,null,null,null,null,null,null,null,null,null,null,null,null,null,null,null,null,null,null,null,null,null,null,null,null,null,null,null,null,null,null,null,null,null,null,null,null,null,null,null,null,null,null,null,null,null,null,null,null,null,null,null,null,null,null,null,null,null,null,null,null,null,null,null,null,null,null,null,null,null,null,null,null,null,null,null,null,null,null,null,null,null,null,null,null,null,null,null,null,null,null,null,null,null,null,null,null,null,null,null,null,null,0,{"$f":"SUMIF($EC$33:$EC$272,$EC274,ED$33:ED$272)","v":{"$error":"#VALUE!"}},{"$f":"SUMIF($EC$33:$EC$272,$EC274,EE$33:EE$272)","v":{"$error":"#VALUE!"}},{"$error":"#VALUE!"},{"$f":"SUMIF($EC$33:$EC$272,$EC274,EG$33:EG$272)","v":{"$error":"#VALUE!"}},{"$error":"#VALUE!"},{"$error":"#VALUE!"},{"$error":"#VALUE!"},{"$error":"#VALUE!"},{"$error":"#VALUE!"},{"$error":"#VALUE!"},{"$error":"#VALUE!"},{"$error":"#VALUE!"},{"$error":"#VALUE!"},{"$error":"#VALUE!"},{"$error":"#VALUE!"},{"$error":"#VALUE!"},{"$error":"#VALUE!"},{"$error":"#VALUE!"},null,0,{"$f":"SUMIF($EW$33:$EW$272,$EW274,EX$33:EX$272)","v":0},{"$f":"SUMIF($EW$33:$EW$272,$EW274,EY$33:EY$272)","v":{"$error":"#VALUE!"}},{"$f":"SUMIF($EW$33:$EW$272,$EW274,EZ$33:EZ$272)","v":{"$error":"#VALUE!"}},{"$error":"#VALUE!"},{"$f":"SUMIF($EW$33:$EW$272,$EW274,FB$33:FB$272)","v":{"$error":"#VALUE!"}},{"$error":"#VALUE!"},{"$error":"#VALUE!"},{"$f":"SUMIF($EW$33:$EW$272,$EW274,FE$33:FE$272)","v":{"$error":"#VALUE!"}},{"$error":"#VALUE!"},{"$error":"#VALUE!"},{"$f":"SUMIF($EW$33:$EW$272,$EW274,FH$33:FH$272)","v":{"$error":"#VALUE!"}},{"$error":"#VALUE!"},{"$error":"#VALUE!"},{"$f":"SUMIF($EW$33:$EW$272,$EW274,FK$33:FK$272)","v":{"$error":"#VALUE!"}},{"$error":"#VALUE!"},{"$error":"#VALUE!"},{"$f":"SUMIF($EW$33:$EW$272,$EW274,FN$33:FN$272)","v":{"$error":"#VALUE!"}},{"$error":"#VALUE!"},{"$error":"#VALUE!"},{"$f":"SUMIF($EW$33:$EW$272,$EW274,FQ$33:FQ$272)","v":{"$error":"#VALUE!"}},{"$error":"#VALUE!"},{"$f":"SUMIF($EW$33:$EW$272,$EW274,FS$33:FS$272)","v":{"$error":"#VALUE!"}},{"$f":"SUMIF($EW$33:$EW$272,$EW274,FT$33:FT$272)","v":{"$error":"#VALUE!"}},{"$f":"SUMIF($EW$33:$EW$272,$EW274,FU$33:FU$272)","v":{"$error":"#VALUE!"}},{"$error":"#VALUE!"},{"$f":"SUMIF($EW$33:$EW$272,$EW274,FW$33:FW$272)","v":{"$error":"#VALUE!"}},{"$f":"SUMIF($EW$33:$EW$272,$EW274,FX$33:FX$272)","v":{"$error":"#VALUE!"}},{"$error":"#VALUE!"},{"$f":"SUMIF($EW$33:$EW$272,$EW274,FZ$33:FZ$272)","v":{"$error":"#VALUE!"}},{"$f":"SUMIF($EW$33:$EW$272,$EW274,GA$33:GA$272)","v":{"$error":"#VALUE!"}},{"$error":"#VALUE!"},{"$f":"SUMIF($EW$33:$EW$272,$EW274,GC$33:GC$272)","v":{"$error":"#VALUE!"}},{"$f":"SUMIF($EW$33:$EW$272,$EW274,GD$33:GD$272)","v":{"$error":"#VALUE!"}},{"$error":"#VALUE!"},0,{"$f":"SUMIF($GF$33:$GF$272,$GF274,GG$33:GG$272)","v":0},{"$error":"#VALUE!"},{"$error":"#VALUE!"},{"$error":"#VALUE!"},{"$error":"#VALUE!"},{"$error":"#VALUE!"},{"$error":"#VALUE!"},{"$error":"#VALUE!"},{"$error":"#VALUE!"},{"$error":"#VALUE!"},{"$error":"#VALUE!"},{"$error":"#VALUE!"},{"$error":"#VALUE!"},{"$error":"#VALUE!"},{"$error":"#VALUE!"},{"$error":"#VALUE!"},{"$f":"SUMIF($GF$33:$GF$272,$GF274,GW$33:GW$272)","v":{"$error":"#VALUE!"}},{"$error":"#VALUE!"},{"$error":"#VALUE!"},{"$error":"#VALUE!"},{"$error":"#VALUE!"},{"$error":"#VALUE!"},{"$error":"#VALUE!"},{"$error":"#VALUE!"},{"$error":"#VALUE!"},{"$error":"#VALUE!"},{"$error":"#VALUE!"},{"$error":"#VALUE!"},{"$error":"#VALUE!"},{"$error":"#VALUE!"},{"$error":"#VALUE!"},{"$error":"#VALUE!"},{"$f":"SUMIF($GF$33:$GF$272,$GF274,HM$33:HM$272)","v":{"$error":"#VALUE!"}},{"$error":"#VALUE!"},0,{"$f":"SUMIF($HO$33:$HO$272,$HO274,HP$33:HP$272)","v":0},{"$error":"#VALUE!"},{"$error":"#VALUE!"},{"$error":"#VALUE!"},{"$error":"#VALUE!"},{"$error":"#VALUE!"},{"$error":"#VALUE!"},{"$error":"#VALUE!"},{"$error":"#VALUE!"},{"$error":"#VALUE!"},{"$error":"#VALUE!"},{"$error":"#VALUE!"},{"$error":"#VALUE!"},{"$error":"#VALUE!"},{"$error":"#VALUE!"},{"$error":"#VALUE!"},{"$f":"SUMIF($HO$33:$HO$272,$HO274,IF$33:IF$272)","v":{"$error":"#VALUE!"}},{"$error":"#VALUE!"},{"$error":"#VALUE!"},{"$error":"#VALUE!"},{"$error":"#VALUE!"},{"$error":"#VALUE!"},{"$error":"#VALUE!"},{"$error":"#VALUE!"},{"$error":"#VALUE!"},{"$error":"#VALUE!"},{"$error":"#VALUE!"},{"$error":"#VALUE!"},{"$error":"#VALUE!"},{"$error":"#VALUE!"},{"$error":"#VALUE!"},{"$error":"#VALUE!"},{"$f":"SUMIF($HO$33:$HO$272,$HO274,IV$33:IV$272)","v":{"$error":"#VALUE!"}},{"$error":"#VALUE!"},0,{"$f":"SUMIF($IX$33:$IX$272,$IX274,IY$33:IY$272)","v":0},{"$error":"#VALUE!"},{"$error":"#VALUE!"},{"$error":"#VALUE!"},{"$error":"#VALUE!"},{"$error":"#VALUE!"},{"$error":"#VALUE!"},{"$error":"#VALUE!"},{"$error":"#VALUE!"},{"$error":"#VALUE!"},{"$error":"#VALUE!"},{"$error":"#VALUE!"},{"$error":"#VALUE!"},{"$error":"#VALUE!"},{"$error":"#VALUE!"},{"$error":"#VALUE!"},{"$f":"SUMIF($IX$33:$IX$272,$IX274,JO$33:JO$272)","v":{"$error":"#VALUE!"}},{"$error":"#VALUE!"},{"$error":"#VALUE!"},{"$error":"#VALUE!"},{"$error":"#VALUE!"},{"$error":"#VALUE!"},{"$error":"#VALUE!"},{"$error":"#VALUE!"},{"$error":"#VALUE!"},{"$error":"#VALUE!"},{"$error":"#VALUE!"},{"$error":"#VALUE!"},{"$error":"#VALUE!"},{"$error":"#VALUE!"},{"$error":"#VALUE!"},{"$error":"#VALUE!"},{"$f":"SUMIF($IX$33:$IX$272,$IX274,KE$33:KE$272)","v":{"$error":"#VALUE!"}},{"$error":"#VALUE!"},0,{"$f":"SUMIF($KG$33:$KG$272,$KG274,KH$33:KH$272)","v":0},{"$error":"#VALUE!"},{"$error":"#VALUE!"},{"$error":"#VALUE!"},{"$error":"#VALUE!"},{"$error":"#VALUE!"},{"$error":"#VALUE!"},{"$error":"#VALUE!"},{"$error":"#VALUE!"},{"$error":"#VALUE!"},{"$error":"#VALUE!"},{"$error":"#VALUE!"},{"$error":"#VALUE!"},{"$error":"#VALUE!"},{"$error":"#VALUE!"},{"$error":"#VALUE!"},{"$f":"SUMIF($KG$33:$KG$272,$KG274,KX$33:KX$272)","v":{"$error":"#VALUE!"}},{"$error":"#VALUE!"},{"$error":"#VALUE!"},{"$error":"#VALUE!"},{"$error":"#VALUE!"},{"$error":"#VALUE!"},{"$error":"#VALUE!"},{"$error":"#VALUE!"},{"$error":"#VALUE!"},{"$error":"#VALUE!"},{"$error":"#VALUE!"},{"$error":"#VALUE!"},{"$error":"#VALUE!"},{"$error":"#VALUE!"},{"$error":"#VALUE!"},{"$error":"#VALUE!"},{"$f":"SUMIF($KG$33:$KG$272,$KG274,LN$33:LN$272)","v":{"$error":"#VALUE!"}},{"$error":"#VALUE!"},0,{"$f":"SUMIF($LP$33:$LP$272,$LP274,LQ$33:LQ$272)","v":0},{"$error":"#VALUE!"},{"$error":"#VALUE!"},{"$error":"#VALUE!"},{"$error":"#VALUE!"},{"$error":"#VALUE!"},{"$error":"#VALUE!"},{"$error":"#VALUE!"},{"$error":"#VALUE!"},{"$error":"#VALUE!"},{"$error":"#VALUE!"},{"$error":"#VALUE!"},{"$error":"#VALUE!"},{"$error":"#VALUE!"},{"$error":"#VALUE!"},{"$error":"#VALUE!"},{"$f":"SUMIF($LP$33:$LP$272,$LP274,MG$33:MG$272)","v":{"$error":"#VALUE!"}},{"$error":"#VALUE!"},{"$error":"#VALUE!"},{"$error":"#VALUE!"},{"$error":"#VALUE!"},{"$error":"#VALUE!"},{"$error":"#VALUE!"},{"$error":"#VALUE!"},{"$error":"#VALUE!"},{"$error":"#VALUE!"},{"$error":"#VALUE!"},{"$error":"#VALUE!"},{"$error":"#VALUE!"},{"$error":"#VALUE!"},{"$error":"#VALUE!"},{"$error":"#VALUE!"},{"$f":"SUMIF($LP$33:$LP$272,$LP274,MW$33:MW$272)","v":{"$error":"#VALUE!"}},{"$error":"#VALUE!"}]
[null,null,null,null,null,null,null,null,null,null,null,null,null,null,null,null,null,null,null,null,null,null,null,2,{"$f":"SUMIF($X$33:$X$272,$X275,Y$33:Y$272)","v":0},0,0,0,0,0,null,null,null,null,null,null,null,null,null,null,null,null,null,null,null,null,null,null,null,null,null,null,null,null,null,null,null,null,null,null,null,null,null,null,null,null,null,null,null,null,null,null,null,null,null,null,null,null,null,null,null,null,null,null,null,null,null,null,null,null,null,null,null,null,null,null,null,null,null,null,null,null,null,null,null,null,null,null,null,null,null,null,null,null,null,null,null,null,null,null,null,null,null,null,null,null,null,null,null,null,null,null,2,{"$f":"SUMIF($EC$33:$EC$272,$EC275,ED$33:ED$272)","v":{"$error":"#VALUE!"}},{"$f":"SUMIF($EC$33:$EC$272,$EC275,EE$33:EE$272)","v":{"$error":"#VALUE!"}},{"$error":"#VALUE!"},{"$error":"#VALUE!"},{"$error":"#VALUE!"},{"$error":"#VALUE!"},{"$error":"#VALUE!"},{"$error":"#VALUE!"},{"$error":"#VALUE!"},{"$error":"#VALUE!"},{"$error":"#VALUE!"},{"$error":"#VALUE!"},{"$error":"#VALUE!"},{"$error":"#VALUE!"},{"$error":"#VALUE!"},{"$error":"#VALUE!"},{"$error":"#VALUE!"},{"$error":"#VALUE!"},null,2,{"$f":"SUMIF($EW$33:$EW$272,$EW275,EX$33:EX$272)","v":0},{"$error":"#VALUE!"},{"$error":"#VALUE!"},{"$error":"#VALUE!"},{"$error":"#VALUE!"},{"$error":"#VALUE!"},{"$error":"#VALUE!"},{"$error":"#VALUE!"},{"$error":"#VALUE!"},{"$error":"#VALUE!"},{"$error":"#VALUE!"},{"$error":"#VALUE!"},{"$error":"#VALUE!"},{"$error":"#VALUE!"},{"$error":"#VALUE!"},{"$error":"#VALUE!"},{"$error":"#VALUE!"},{"$error":"#VALUE!"},{"$error":"#VALUE!"},{"$error":"#VALUE!"},{"$error":"#VALUE!"},{"$error":"#VALUE!"},{"$error":"#VALUE!"},{"$f":"SUMIF($EW$33:$EW$272,$EW275,FU$33:FU$272)","v":{"$error":"#VALUE!"}},{"$error":"#VALUE!"},{"$error":"#VALUE!"},{"$error":"#VALUE!"},{"$error":"#VALUE!"},{"$error":"#VALUE!"},{"$error":"#VALUE!"},{"$error":"#VALUE!"},{"$error":"#VALUE!"},{"$error":"#VALUE!"},{"$error":"#VALUE!"},2,0,{"$error":"#VALUE!"},{"$error":"#VALUE!"},{"$error":"#VALUE!"},{"$error":"#VALUE!"},{"$error":"#VALUE!"},{"$error":"#VALUE!"},{"$error":"#VALUE!"},{"$error":"#VALUE!"},{"$error":"#VALUE!"},{"$error":"#VALUE!"},{"$error":"#VALUE!"},{"$error":"#VALUE!"},{"$error":"#VALUE!"},{"$error":"#VALUE!"},{"$error":"#VALUE!"},{"$error":"#VALUE!"},{"$error":"#VALUE!"},{"$error":"#VALUE!"},{"$error":"#VALUE!"},{"$error":"#VALUE!"},{"$error":"#VALUE!"},{"$error":"#VALUE!"},{"$error":"#VALUE!"},{"$error":"#VALUE!"},{"$error":"#VALUE!"},{"$error":"#VALUE!"},{"$error":"#VALUE!"},{"$error":"#VALUE!"},{"$error":"#VALUE!"},{"$error":"#VALUE!"},{"$error":"#VALUE!"},{"$error":"#VALUE!"},{"$error":"#VALUE!"},2,0,{"$error":"#VALUE!"},{"$error":"#VALUE!"},{"$error":"#VALUE!"},{"$error":"#VALUE!"},{"$error":"#VALUE!"},{"$error":"#VALUE!"},{"$error":"#VALUE!"},{"$error":"#VALUE!"},{"$error":"#VALUE!"},{"$error":"#VALUE!"},{"$error":"#VALUE!"},{"$error":"#VALUE!"},{"$error":"#VALUE!"},{"$error":"#VALUE!"},{"$error":"#VALUE!"},{"$error":"#VALUE!"},{"$error":"#VALUE!"},{"$error":"#VALUE!"},{"$error":"#VALUE!"},{"$error":"#VALUE!"},{"$error":"#VALUE!"},{"$error":"#VALUE!"},{"$error":"#VALUE!"},{"$error":"#VALUE!"},{"$error":"#VALUE!"},{"$error":"#VALUE!"},{"$error":"#VALUE!"},{"$error":"#VALUE!"},{"$error":"#VALUE!"},{"$error":"#VALUE!"},{"$error":"#VALUE!"},{"$error":"#VALUE!"},{"$error":"#VALUE!"},2,0,{"$error":"#VALUE!"},{"$error":"#VALUE!"},{"$error":"#VALUE!"},{"$error":"#VALUE!"},{"$error":"#VALUE!"},{"$error":"#VALUE!"},{"$error":"#VALUE!"},{"$error":"#VALUE!"},{"$error":"#VALUE!"},{"$error":"#VALUE!"},{"$error":"#VALUE!"},{"$error":"#VALUE!"},{"$error":"#VALUE!"},{"$error":"#VALUE!"},{"$error":"#VALUE!"},{"$error":"#VALUE!"},{"$error":"#VALUE!"},{"$error":"#VALUE!"},{"$error":"#VALUE!"},{"$error":"#VALUE!"},{"$error":"#VALUE!"},{"$error":"#VALUE!"},{"$error":"#VALUE!"},{"$error":"#VALUE!"},{"$error":"#VALUE!"},{"$error":"#VALUE!"},{"$error":"#VALUE!"},{"$error":"#VALUE!"},{"$error":"#VALUE!"},{"$error":"#VALUE!"},{"$error":"#VALUE!"},{"$error":"#VALUE!"},{"$error":"#VALUE!"},2,0,{"$error":"#VALUE!"},{"$error":"#VALUE!"},{"$error":"#VALUE!"},{"$error":"#VALUE!"},{"$error":"#VALUE!"},{"$error":"#VALUE!"},{"$error":"#VALUE!"},{"$error":"#VALUE!"},{"$error":"#VALUE!"},{"$error":"#VALUE!"},{"$error":"#VALUE!"},{"$error":"#VALUE!"},{"$error":"#VALUE!"},{"$error":"#VALUE!"},{"$error":"#VALUE!"},{"$error":"#VALUE!"},{"$error":"#VALUE!"},{"$error":"#VALUE!"},{"$error":"#VALUE!"},{"$error":"#VALUE!"},{"$error":"#VALUE!"},{"$error":"#VALUE!"},{"$error":"#VALUE!"},{"$error":"#VALUE!"},{"$error":"#VALUE!"},{"$error":"#VALUE!"},{"$error":"#VALUE!"},{"$error":"#VALUE!"},{"$error":"#VALUE!"},{"$error":"#VALUE!"},{"$error":"#VALUE!"},{"$error":"#VALUE!"},{"$error":"#VALUE!"},2,0,{"$error":"#VALUE!"},{"$error":"#VALUE!"},{"$error":"#VALUE!"},{"$error":"#VALUE!"},{"$error":"#VALUE!"},{"$error":"#VALUE!"},{"$error":"#VALUE!"},{"$error":"#VALUE!"},{"$error":"#VALUE!"},{"$error":"#VALUE!"},{"$error":"#VALUE!"},{"$error":"#VALUE!"},{"$error":"#VALUE!"},{"$error":"#VALUE!"},{"$error":"#VALUE!"},{"$error":"#VALUE!"},{"$error":"#VALUE!"},{"$error":"#VALUE!"},{"$error":"#VALUE!"},{"$error":"#VALUE!"},{"$error":"#VALUE!"},{"$error":"#VALUE!"},{"$error":"#VALUE!"},{"$error":"#VALUE!"},{"$error":"#VALUE!"},{"$error":"#VALUE!"},{"$error":"#VALUE!"},{"$error":"#VALUE!"},{"$error":"#VALUE!"},{"$error":"#VALUE!"},{"$error":"#VALUE!"},{"$error":"#VALUE!"},{"$error":"#VALUE!"}]
[null,null,null,null,null,null,null,null,null,null,null,null,null,null,null,null,null,null,null,null,null,null,null,3,{"$f":"SUMIF($X$33:$X$272,$X276,Y$33:Y$272)","v":0},0,0,0,0,0,null,null,null,null,null,null,null,null,null,null,null,null,null,null,null,null,null,null,null,null,null,null,null,null,null,null,null,null,null,null,null,null,null,null,null,null,null,null,null,null,null,null,null,null,null,null,null,null,null,null,null,null,null,null,null,null,null,null,null,null,null,null,null,null,null,null,null,null,null,null,null,null,null,null,null,null,null,null,null,null,null,null,null,null,null,null,null,null,null,null,null,null,null,null,null,null,null,null,null,null,null,null,3,{"$error":"#VALUE!"},{"$error":"#VALUE!"},{"$error":"#VALUE!"},{"$error":"#VALUE!"},{"$error":"#VALUE!"},{"$error":"#VALUE!"},{"$error":"#VALUE!"},{"$error":"#VALUE!"},{"$error":"#VALUE!"},{"$error":"#VALUE!"},{"$f":"SUMIF($EC$33:$EC$272,$EC276,EN$33:EN$272)","v":{"$error":"#VALUE!"}},{"$error":"#VALUE!"},{"$error":"#VALUE!"},{"$error":"#VALUE!"},{"$f":"SUMIF($EC$33:$EC$272,$EC276,ER$33:ER$272)","v":{"$error":"#VALUE!"}},{"$error":"#VALUE!"},{"$error":"#VALUE!"},{"$error":"#VALUE!"},null,3,0,{"$error":"#VALUE!"},{"$error":"#VALUE!"},{"$error":"#VALUE!"},{"$error":"#VALUE!"},{"$error":"#VALUE!"},{"$error":"#VALUE!"},{"$error":"#VALUE!"},{"$error":"#VALUE!"},{"$error":"#VALUE!"},{"$error":"#VALUE!"},{"$error":"#VALUE!"},{"$error":"#VALUE!"},{"$error":"#VALUE!"},{"$error":"#VALUE!"},{"$error":"#VALUE!"},{"$error":"#VALUE!"},{"$error":"#VALUE!"},{"$error":"#VALUE!"},{"$error":"#VALUE!"},{"$error":"#VALUE!"},{"$error":"#VALUE!"},{"$error":"#VALUE!"},{"$error":"#VALUE!"},{"$error":"#VALUE!"},{"$error":"#VALUE!"},{"$error":"#VALUE!"},{"$error":"#VALUE!"},{"$error":"#VALUE!"},{"$error":"#VALUE!"},{"$error":"#VALUE!"},{"$error":"#VALUE!"},{"$error":"#VALUE!"},{"$error":"#VALUE!"},3,0,{"$error":"#VALUE!"},{"$error":"#VALUE!"},{"$error":"#VALUE!"},{"$error":"#VALUE!"},{"$error":"#VALUE!"},{"$error":"#VALUE!"},{"$error":"#VALUE!"},{"$error":"#VALUE!"},{"$error":"#VALUE!"},{"$error":"#VALUE!"},{"$error":"#VALUE!"},{"$error":"#VALUE!"},{"$error":"#VALUE!"},{"$error":"#VALUE!"},{"$error":"#VALUE!"},{"$error":"#VALUE!"},{"$error":"#VALUE!"},{"$error":"#VALUE!"},{"$error":"#VALUE!"},{"$error":"#VALUE!"},{"$error":"#VALUE!"},{"$error":"#VALUE!"},{"$error":"#VALUE!"},{"$error":"#VALUE!"},{"$error":"#VALUE!"},{"$error":"#VALUE!"},{"$error":"#VALUE!"},{"$error":"#VALUE!"},{"$error":"#VALUE!"},{"$error":"#VALUE!"},{"$error":"#VALUE!"},{"$error":"#VALUE!"},{"$error":"#VALUE!"},3,0,{"$error":"#VALUE!"},{"$error":"#VALUE!"},{"$error":"#VALUE!"},{"$error":"#VALUE!"},{"$error":"#VALUE!"},{"$error":"#VALUE!"},{"$error":"#VALUE!"},{"$error":"#VALUE!"},{"$error":"#VALUE!"},{"$error":"#VALUE!"},{"$error":"#VALUE!"},{"$error":"#VALUE!"},{"$error":"#VALUE!"},{"$error":"#VALUE!"},{"$error":"#VALUE!"},{"$error":"#VALUE!"},{"$error":"#VALUE!"},{"$error":"#VALUE!"},{"$error":"#VALUE!"},{"$error":"#VALUE!"},{"$error":"#VALUE!"},{"$error":"#VALUE!"},{"$error":"#VALUE!"},{"$error":"#VALUE!"},{"$error":"#VALUE!"},{"$error":"#VALUE!"},{"$error":"#VALUE!"},{"$error":"#VALUE!"},{"$error":"#VALUE!"},{"$error":"#VALUE!"},{"$error":"#VALUE!"},{"$error":"#VALUE!"},{"$error":"#VALUE!"},3,0,{"$error":"#VALUE!"},{"$error":"#VALUE!"},{"$error":"#VALUE!"},{"$error":"#VALUE!"},{"$error":"#VALUE!"},{"$error":"#VALUE!"},{"$error":"#VALUE!"},{"$error":"#VALUE!"},{"$error":"#VALUE!"},{"$error":"#VALUE!"},{"$error":"#VALUE!"},{"$error":"#VALUE!"},{"$error":"#VALUE!"},{"$error":"#VALUE!"},{"$error":"#VALUE!"},{"$error":"#VALUE!"},{"$error":"#VALUE!"},{"$error":"#VALUE!"},{"$error":"#VALUE!"},{"$error":"#VALUE!"},{"$error":"#VALUE!"},{"$error":"#VALUE!"},{"$error":"#VALUE!"},{"$error":"#VALUE!"},{"$error":"#VALUE!"},{"$error":"#VALUE!"},{"$error":"#VALUE!"},{"$error":"#VALUE!"},{"$error":"#VALUE!"},{"$error":"#VALUE!"},{"$error":"#VALUE!"},{"$error":"#VALUE!"},{"$error":"#VALUE!"},3,0,{"$error":"#VALUE!"},{"$error":"#VALUE!"},{"$error":"#VALUE!"},{"$error":"#VALUE!"},{"$error":"#VALUE!"},{"$error":"#VALUE!"},{"$error":"#VALUE!"},{"$error":"#VALUE!"},{"$error":"#VALUE!"},{"$error":"#VALUE!"},{"$error":"#VALUE!"},{"$error":"#VALUE!"},{"$error":"#VALUE!"},{"$error":"#VALUE!"},{"$error":"#VALUE!"},{"$error":"#VALUE!"},{"$error":"#VALUE!"},{"$error":"#VALUE!"},{"$error":"#VALUE!"},{"$error":"#VALUE!"},{"$error":"#VALUE!"},{"$error":"#VALUE!"},{"$error":"#VALUE!"},{"$error":"#VALUE!"},{"$error":"#VALUE!"},{"$error":"#VALUE!"},{"$error":"#VALUE!"},{"$error":"#VALUE!"},{"$error":"#VALUE!"},{"$error":"#VALUE!"},{"$error":"#VALUE!"},{"$error":"#VALUE!"},{"$error":"#VALUE!"},3,0,{"$error":"#VALUE!"},{"$error":"#VALUE!"},{"$error":"#VALUE!"},{"$error":"#VALUE!"},{"$error":"#VALUE!"},{"$error":"#VALUE!"},{"$error":"#VALUE!"},{"$error":"#VALUE!"},{"$error":"#VALUE!"},{"$error":"#VALUE!"},{"$error":"#VALUE!"},{"$error":"#VALUE!"},{"$error":"#VALUE!"},{"$error":"#VALUE!"},{"$error":"#VALUE!"},{"$error":"#VALUE!"},{"$error":"#VALUE!"},{"$error":"#VALUE!"},{"$error":"#VALUE!"},{"$error":"#VALUE!"},{"$error":"#VALUE!"},{"$error":"#VALUE!"},{"$error":"#VALUE!"},{"$error":"#VALUE!"},{"$error":"#VALUE!"},{"$error":"#VALUE!"},{"$error":"#VALUE!"},{"$error":"#VALUE!"},{"$error":"#VALUE!"},{"$error":"#VALUE!"},{"$error":"#VALUE!"},{"$error":"#VALUE!"},{"$error":"#VALUE!"}]
[null,null,null,null,null,null,null,null,null,null,null,null,null,null,null,null,null,null,null,null,null,null,null,4,{"$f":"SUMIF($X$33:$X$272,$X277,Y$33:Y$272)","v":0},0,0,0,0,0,null,null,null,null,null,null,null,null,null,null,null,null,null,null,null,null,null,null,null,null,null,null,null,null,null,null,null,null,null,null,null,null,null,null,null,null,null,null,null,null,null,null,null,null,null,null,null,null,null,null,null,null,null,null,null,null,null,null,null,null,null,null,null,null,null,null,null,null,null,null,null,null,null,null,null,null,null,null,null,null,null,null,null,null,null,null,null,null,null,null,null,null,null,null,null,null,null,null,null,null,null,null,4,{"$error":"#VALUE!"},{"$error":"#VALUE!"},{"$error":"#VALUE!"},{"$error":"#VALUE!"},{"$error":"#VALUE!"},{"$error":"#VALUE!"},{"$error":"#VALUE!"},{"$f":"SUMIF($EC$33:$EC$272,$EC277,EK$33:EK$272)","v":{"$error":"#VALUE!"}},{"$error":"#VALUE!"},{"$error":"#VALUE!"},{"$error":"#VALUE!"},{"$error":"#VALUE!"},{"$error":"#VALUE!"},{"$error":"#VALUE!"},{"$error":"#VALUE!"},{"$f":"SUMIF($EC$33:$EC$272,$EC277,ES$33:ES$272)","v":{"$error":"#VALUE!"}},{"$f":"SUMIF($EC$33:$EC$272,$EC277,ET$33:ET$272)","v":{"$error":"#VALUE!"}},{"$error":"#VALUE!"},null,4,0,{"$f":"SUMIF($EW$33:$EW$272,$EW277,EY$33:EY$272)","v":{"$error":"#VALUE!"}},{"$error":"#VALUE!"},{"$error":"#VALUE!"},{"$error":"#VALUE!"},{"$error":"#VALUE!"},{"$error":"#VALUE!"},{"$error":"#VALUE!"},{"$error":"#VALUE!"},{"$error":"#VALUE!"},{"$error":"#VALUE!"},{"$error":"#VALUE!"},{"$error":"#VALUE!"},{"$error":"#VALUE!"},{"$error":"#VALUE!"},{"$error":"#VALUE!"},{"$error":"#VALUE!"},{"$error":"#VALUE!"},{"$error":"#VALUE!"},{"$error":"#VALUE!"},{"$error":"#VALUE!"},{"$error":"#VALUE!"},{"$error":"#VALUE!"},{"$error":"#VALUE!"},{"$error":"#VALUE!"},{"$error":"#VALUE!"},{"$error":"#VALUE!"},{"$error":"#VALUE!"},{"$error":"#VALUE!"},{"$error":"#VALUE!"},{"$error":"#VALUE!"},{"$error":"#VALUE!"},{"$error":"#VALUE!"},{"$error":"#VALUE!"},4,0,{"$error":"#VALUE!"},{"$error":"#VALUE!"},{"$error":"#VALUE!"},{"$error":"#VALUE!"},{"$error":"#VALUE!"},{"$error":"#VALUE!"},{"$error":"#VALUE!"},{"$error":"#VALUE!"},{"$error":"#VALUE!"},{"$error":"#VALUE!"},{"$error":"#VALUE!"},{"$error":"#VALUE!"},{"$error":"#VALUE!"},{"$error":"#VALUE!"},{"$error":"#VALUE!"},{"$error":"#VALUE!"},{"$error":"#VALUE!"},{"$error":"#VALUE!"},{"$error":"#VALUE!"},{"$error":"#VALUE!"},{"$error":"#VALUE!"},{"$error":"#VALUE!"},{"$error":"#VALUE!"},{"$error":"#VALUE!"},{"$error":"#VALUE!"},{"$error":"#VALUE!"},{"$error":"#VALUE!"},{"$error":"#VALUE!"},{"$error":"#VALUE!"},{"$error":"#VALUE!"},{"$error":"#VALUE!"},{"$error":"#VALUE!"},{"$error":"#VALUE!"},4,0,{"$error":"#VALUE!"},{"$error":"#VALUE!"},{"$error":"#VALUE!"},{"$error":"#VALUE!"},{"$error":"#VALUE!"},{"$error":"#VALUE!"},{"$error":"#VALUE!"},{"$error":"#VALUE!"},{"$error":"#VALUE!"},{"$error":"#VALUE!"},{"$error":"#VALUE!"},{"$error":"#VALUE!"},{"$error":"#VALUE!"},{"$error":"#VALUE!"},{"$error":"#VALUE!"},{"$error":"#VALUE!"},{"$error":"#VALUE!"},{"$error":"#VALUE!"},{"$error":"#VALUE!"},{"$error":"#VALUE!"},{"$error":"#VALUE!"},{"$error":"#VALUE!"},{"$error":"#VALUE!"},{"$error":"#VALUE!"},{"$error":"#VALUE!"},{"$error":"#VALUE!"},{"$error":"#VALUE!"},{"$error":"#VALUE!"},{"$error":"#VALUE!"},{"$error":"#VALUE!"},{"$error":"#VALUE!"},{"$error":"#VALUE!"},{"$error":"#VALUE!"},4,0,{"$error":"#VALUE!"},{"$error":"#VALUE!"},{"$error":"#VALUE!"},{"$error":"#VALUE!"},{"$error":"#VALUE!"},{"$error":"#VALUE!"},{"$error":"#VALUE!"},{"$error":"#VALUE!"},{"$error":"#VALUE!"},{"$error":"#VALUE!"},{"$error":"#VALUE!"},{"$error":"#VALUE!"},{"$error":"#VALUE!"},{"$error":"#VALUE!"},{"$error":"#VALUE!"},{"$error":"#VALUE!"},{"$error":"#VALUE!"},{"$error":"#VALUE!"},{"$error":"#VALUE!"},{"$error":"#VALUE!"},{"$error":"#VALUE!"},{"$error":"#VALUE!"},{"$error":"#VALUE!"},{"$error":"#VALUE!"},{"$error":"#VALUE!"},{"$error":"#VALUE!"},{"$error":"#VALUE!"},{"$error":"#VALUE!"},{"$error":"#VALUE!"},{"$error":"#VALUE!"},{"$error":"#VALUE!"},{"$error":"#VALUE!"},{"$error":"#VALUE!"},4,0,{"$error":"#VALUE!"},{"$error":"#VALUE!"},{"$error":"#VALUE!"},{"$error":"#VALUE!"},{"$error":"#VALUE!"},{"$error":"#VALUE!"},{"$error":"#VALUE!"},{"$error":"#VALUE!"},{"$error":"#VALUE!"},{"$error":"#VALUE!"},{"$error":"#VALUE!"},{"$error":"#VALUE!"},{"$error":"#VALUE!"},{"$error":"#VALUE!"},{"$error":"#VALUE!"},{"$error":"#VALUE!"},{"$error":"#VALUE!"},{"$error":"#VALUE!"},{"$error":"#VALUE!"},{"$error":"#VALUE!"},{"$error":"#VALUE!"},{"$error":"#VALUE!"},{"$error":"#VALUE!"},{"$error":"#VALUE!"},{"$error":"#VALUE!"},{"$error":"#VALUE!"},{"$error":"#VALUE!"},{"$error":"#VALUE!"},{"$error":"#VALUE!"},{"$error":"#VALUE!"},{"$error":"#VALUE!"},{"$error":"#VALUE!"},{"$error":"#VALUE!"},4,0,{"$error":"#VALUE!"},{"$error":"#VALUE!"},{"$error":"#VALUE!"},{"$error":"#VALUE!"},{"$error":"#VALUE!"},{"$error":"#VALUE!"},{"$error":"#VALUE!"},{"$error":"#VALUE!"},{"$error":"#VALUE!"},{"$error":"#VALUE!"},{"$error":"#VALUE!"},{"$error":"#VALUE!"},{"$error":"#VALUE!"},{"$error":"#VALUE!"},{"$error":"#VALUE!"},{"$error":"#VALUE!"},{"$error":"#VALUE!"},{"$error":"#VALUE!"},{"$error":"#VALUE!"},{"$error":"#VALUE!"},{"$error":"#VALUE!"},{"$error":"#VALUE!"},{"$error":"#VALUE!"},{"$error":"#VALUE!"},{"$error":"#VALUE!"},{"$error":"#VALUE!"},{"$error":"#VALUE!"},{"$error":"#VALUE!"},{"$error":"#VALUE!"},{"$error":"#VALUE!"},{"$error":"#VALUE!"},{"$error":"#VALUE!"},{"$error":"#VALUE!"}]
[null,null,null,null,null,null,null,null,null,null,null,null,null,null,null,null,null,null,null,null,null,null,null,7,0,0,0,0,0,0,null,null,null,null,null,null,null,null,null,null,null,null,null,null,null,null,null,null,null,null,null,null,null,null,null,null,null,null,null,null,null,null,null,null,null,null,null,null,null,null,null,null,null,null,null,null,null,null,null,null,null,null,null,null,null,null,null,null,null,null,null,null,null,null,null,null,null,null,null,null,null,null,null,null,null,null,null,null,null,null,null,null,null,null,null,null,null,null,null,null,null,null,null,null,null,null,null,null,null,null,null,null,7,{"$error":"#VALUE!"},{"$error":"#VALUE!"},{"$error":"#VALUE!"},{"$error":"#VALUE!"},{"$error":"#VALUE!"},{"$error":"#VALUE!"},{"$error":"#VALUE!"},{"$error":"#VALUE!"},{"$error":"#VALUE!"},{"$error":"#VALUE!"},{"$error":"#VALUE!"},{"$error":"#VALUE!"},{"$error":"#VALUE!"},{"$error":"#VALUE!"},{"$error":"#VALUE!"},{"$error":"#VALUE!"},{"$error":"#VALUE!"},{"$error":"#VALUE!"},null,7,0,{"$error":"#VALUE!"},{"$error":"#VALUE!"},{"$error":"#VALUE!"},{"$error":"#VALUE!"},{"$error":"#VALUE!"},{"$error":"#VALUE!"},{"$error":"#VALUE!"},{"$error":"#VALUE!"},{"$error":"#VALUE!"},{"$error":"#VALUE!"},{"$error":"#VALUE!"},{"$error":"#VALUE!"},{"$error":"#VALUE!"},{"$error":"#VALUE!"},{"$error":"#VALUE!"},{"$error":"#VALUE!"},{"$error":"#VALUE!"},{"$error":"#VALUE!"},{"$error":"#VALUE!"},{"$error":"#VALUE!"},{"$error":"#VALUE!"},{"$error":"#VALUE!"},{"$error":"#VALUE!"},{"$error":"#VALUE!"},{"$error":"#VALUE!"},{"$error":"#VALUE!"},{"$error":"#VALUE!"},{"$error":"#VALUE!"},{"$error":"#VALUE!"},{"$error":"#VALUE!"},{"$error":"#VALUE!"},{"$error":"#VALUE!"},{"$error":"#VALUE!"},7,0,{"$error":"#VALUE!"},{"$error":"#VALUE!"},{"$error":"#VALUE!"},{"$error":"#VALUE!"},{"$error":"#VALUE!"},{"$error":"#VALUE!"},{"$error":"#VALUE!"},{"$error":"#VALUE!"},{"$error":"#VALUE!"},{"$error":"#VALUE!"},{"$error":"#VALUE!"},{"$error":"#VALUE!"},{"$error":"#VALUE!"},{"$error":"#VALUE!"},{"$error":"#VALUE!"},{"$error":"#VALUE!"},{"$error":"#VALUE!"},{"$error":"#VALUE!"},{"$error":"#VALUE!"},{"$error":"#VALUE!"},{"$error":"#VALUE!"},{"$error":"#VALUE!"},{"$error":"#VALUE!"},{"$error":"#VALUE!"},{"$error":"#VALUE!"},{"$error":"#VALUE!"},{"$error":"#VALUE!"},{"$error":"#VALUE!"},{"$error":"#VALUE!"},{"$error":"#VALUE!"},{"$error":"#VALUE!"},{"$error":"#VALUE!"},{"$error":"#VALUE!"},7,0,{"$error":"#VALUE!"},{"$error":"#VALUE!"},{"$error":"#VALUE!"},{"$error":"#VALUE!"},{"$error":"#VALUE!"},{"$error":"#VALUE!"},{"$error":"#VALUE!"},{"$error":"#VALUE!"},{"$error":"#VALUE!"},{"$error":"#VALUE!"},{"$error":"#VALUE!"},{"$error":"#VALUE!"},{"$error":"#VALUE!"},{"$error":"#VALUE!"},{"$error":"#VALUE!"},{"$error":"#VALUE!"},{"$error":"#VALUE!"},{"$error":"#VALUE!"},{"$error":"#VALUE!"},{"$error":"#VALUE!"},{"$error":"#VALUE!"},{"$error":"#VALUE!"},{"$error":"#VALUE!"},{"$error":"#VALUE!"},{"$error":"#VALUE!"},{"$error":"#VALUE!"},{"$error":"#VALUE!"},{"$error":"#VALUE!"},{"$error":"#VALUE!"},{"$error":"#VALUE!"},{"$error":"#VALUE!"},{"$error":"#VALUE!"},{"$error":"#VALUE!"},7,0,{"$error":"#VALUE!"},{"$error":"#VALUE!"},{"$error":"#VALUE!"},{"$error":"#VALUE!"},{"$error":"#VALUE!"},{"$error":"#VALUE!"},{"$error":"#VALUE!"},{"$error":"#VALUE!"},{"$error":"#VALUE!"},{"$error":"#VALUE!"},{"$error":"#VALUE!"},{"$error":"#VALUE!"},{"$error":"#VALUE!"},{"$error":"#VALUE!"},{"$error":"#VALUE!"},{"$error":"#VALUE!"},{"$error":"#VALUE!"},{"$error":"#VALUE!"},{"$error":"#VALUE!"},{"$error":"#VALUE!"},{"$error":"#VALUE!"},{"$error":"#VALUE!"},{"$error":"#VALUE!"},{"$error":"#VALUE!"},{"$error":"#VALUE!"},{"$error":"#VALUE!"},{"$error":"#VALUE!"},{"$error":"#VALUE!"},{"$error":"#VALUE!"},{"$error":"#VALUE!"},{"$error":"#VALUE!"},{"$error":"#VALUE!"},{"$error":"#VALUE!"},7,0,{"$error":"#VALUE!"},{"$error":"#VALUE!"},{"$error":"#VALUE!"},{"$error":"#VALUE!"},{"$error":"#VALUE!"},{"$error":"#VALUE!"},{"$error":"#VALUE!"},{"$error":"#VALUE!"},{"$error":"#VALUE!"},{"$error":"#VALUE!"},{"$error":"#VALUE!"},{"$error":"#VALUE!"},{"$error":"#VALUE!"},{"$error":"#VALUE!"},{"$error":"#VALUE!"},{"$error":"#VALUE!"},{"$error":"#VALUE!"},{"$error":"#VALUE!"},{"$error":"#VALUE!"},{"$error":"#VALUE!"},{"$error":"#VALUE!"},{"$error":"#VALUE!"},{"$error":"#VALUE!"},{"$error":"#VALUE!"},{"$error":"#VALUE!"},{"$error":"#VALUE!"},{"$error":"#VALUE!"},{"$error":"#VALUE!"},{"$error":"#VALUE!"},{"$error":"#VALUE!"},{"$error":"#VALUE!"},{"$error":"#VALUE!"},{"$error":"#VALUE!"},7,0,{"$error":"#VALUE!"},{"$error":"#VALUE!"},{"$error":"#VALUE!"},{"$error":"#VALUE!"},{"$error":"#VALUE!"},{"$error":"#VALUE!"},{"$error":"#VALUE!"},{"$error":"#VALUE!"},{"$error":"#VALUE!"},{"$error":"#VALUE!"},{"$error":"#VALUE!"},{"$error":"#VALUE!"},{"$error":"#VALUE!"},{"$error":"#VALUE!"},{"$error":"#VALUE!"},{"$error":"#VALUE!"},{"$error":"#VALUE!"},{"$error":"#VALUE!"},{"$error":"#VALUE!"},{"$error":"#VALUE!"},{"$error":"#VALUE!"},{"$error":"#VALUE!"},{"$error":"#VALUE!"},{"$error":"#VALUE!"},{"$error":"#VALUE!"},{"$error":"#VALUE!"},{"$error":"#VALUE!"},{"$error":"#VALUE!"},{"$error":"#VALUE!"},{"$error":"#VALUE!"},{"$error":"#VALUE!"},{"$error":"#VALUE!"},{"$error":"#VALUE!"}]
[null,null,null,null,null,null,null,null,null,null,null,null,null,null,null,null,null,null,null,null,null,null,null,8,0,0,0,0,0,0,null,null,null,null,null,null,null,null,null,null,null,null,null,null,null,null,null,null,null,null,null,null,null,null,null,null,null,null,null,null,null,null,null,null,null,null,null,null,null,null,null,null,null,null,null,null,null,null,null,null,null,null,null,null,null,null,null,null,null,null,null,null,null,null,null,null,null,null,null,null,null,null,null,null,null,null,null,null,null,null,null,null,null,null,null,null,null,null,null,null,null,null,null,null,null,null,null,null,null,null,null,null,8,{"$error":"#VALUE!"},{"$error":"#VALUE!"},{"$f":"SUMIF($EC$33:$EC$272,$EC279,EF$33:EF$272)","v":{"$error":"#VALUE!"}},{"$error":"#VALUE!"},{"$error":"#VALUE!"},{"$error":"#VALUE!"},{"$error":"#VALUE!"},{"$error":"#VALUE!"},{"$error":"#VALUE!"},{"$error":"#VALUE!"},{"$error":"#VALUE!"},{"$error":"#VALUE!"},{"$error":"#VALUE!"},{"$error":"#VALUE!"},{"$error":"#VALUE!"},{"$error":"#VALUE!"},{"$error":"#VALUE!"},{"$error":"#VALUE!"},null,8,0,{"$error":"#VALUE!"},{"$error":"#VALUE!"},{"$error":"#VALUE!"},{"$error":"#VALUE!"},{"$error":"#VALUE!"},{"$error":"#VALUE!"},{"$error":"#VALUE!"},{"$error":"#VALUE!"},{"$error":"#VALUE!"},{"$error":"#VALUE!"},{"$error":"#VALUE!"},{"$error":"#VALUE!"},{"$error":"#VALUE!"},{"$error":"#VALUE!"},{"$error":"#VALUE!"},{"$error":"#VALUE!"},{"$error":"#VALUE!"},{"$error":"#VALUE!"},{"$error":"#VALUE!"},{"$error":"#VALUE!"},{"$error":"#VALUE!"},{"$error":"#VALUE!"},{"$error":"#VALUE!"},{"$error":"#VALUE!"},{"$error":"#VALUE!"},{"$error":"#VALUE!"},{"$error":"#VALUE!"},{"$error":"#VALUE!"},{"$error":"#VALUE!"},{"$error":"#VALUE!"},{"$error":"#VALUE!"},{"$error":"#VALUE!"},{"$error":"#VALUE!"},8,0,{"$error":"#VALUE!"},{"$error":"#VALUE!"},{"$error":"#VALUE!"},{"$error":"#VALUE!"},{"$error":"#VALUE!"},{"$error":"#VALUE!"},{"$error":"#VALUE!"},{"$error":"#VALUE!"},{"$error":"#VALUE!"},{"$error":"#VALUE!"},{"$error":"#VALUE!"},{"$error":"#VALUE!"},{"$error":"#VALUE!"},{"$error":"#VALUE!"},{"$error":"#VALUE!"},{"$error":"#VALUE!"},{"$error":"#VALUE!"},{"$error":"#VALUE!"},{"$error":"#VALUE!"},{"$error":"#VALUE!"},{"$error":"#VALUE!"},{"$error":"#VALUE!"},{"$error":"#VALUE!"},{"$error":"#VALUE!"},{"$error":"#VALUE!"},{"$error":"#VALUE!"},{"$error":"#VALUE!"},{"$error":"#VALUE!"},{"$error":"#VALUE!"},{"$error":"#VALUE!"},{"$error":"#VALUE!"},{"$error":"#VALUE!"},{"$error":"#VALUE!"},8,0,{"$error":"#VALUE!"},{"$error":"#VALUE!"},{"$error":"#VALUE!"},{"$error":"#VALUE!"},{"$error":"#VALUE!"},{"$error":"#VALUE!"},{"$error":"#VALUE!"},{"$error":"#VALUE!"},{"$error":"#VALUE!"},{"$error":"#VALUE!"},{"$error":"#VALUE!"},{"$error":"#VALUE!"},{"$error":"#VALUE!"},{"$error":"#VALUE!"},{"$error":"#VALUE!"},{"$error":"#VALUE!"},{"$error":"#VALUE!"},{"$error":"#VALUE!"},{"$error":"#VALUE!"},{"$error":"#VALUE!"},{"$error":"#VALUE!"},{"$error":"#VALUE!"},{"$error":"#VALUE!"},{"$error":"#VALUE!"},{"$error":"#VALUE!"},{"$error":"#VALUE!"},{"$error":"#VALUE!"},{"$error":"#VALUE!"},{"$error":"#VALUE!"},{"$error":"#VALUE!"},{"$error":"#VALUE!"},{"$error":"#VALUE!"},{"$error":"#VALUE!"},8,0,{"$error":"#VALUE!"},{"$error":"#VALUE!"},{"$error":"#VALUE!"},{"$error":"#VALUE!"},{"$error":"#VALUE!"},{"$error":"#VALUE!"},{"$error":"#VALUE!"},{"$error":"#VALUE!"},{"$error":"#VALUE!"},{"$error":"#VALUE!"},{"$error":"#VALUE!"},{"$error":"#VALUE!"},{"$error":"#VALUE!"},{"$error":"#VALUE!"},{"$error":"#VALUE!"},{"$error":"#VALUE!"},{"$error":"#VALUE!"},{"$error":"#VALUE!"},{"$error":"#VALUE!"},{"$error":"#VALUE!"},{"$error":"#VALUE!"},{"$error":"#VALUE!"},{"$error":"#VALUE!"},{"$error":"#VALUE!"},{"$error":"#VALUE!"},{"$error":"#VALUE!"},{"$error":"#VALUE!"},{"$error":"#VALUE!"},{"$error":"#VALUE!"},{"$error":"#VALUE!"},{"$error":"#VALUE!"},{"$error":"#VALUE!"},{"$error":"#VALUE!"},8,0,{"$error":"#VALUE!"},{"$error":"#VALUE!"},{"$error":"#VALUE!"},{"$error":"#VALUE!"},{"$error":"#VALUE!"},{"$error":"#VALUE!"},{"$error":"#VALUE!"},{"$error":"#VALUE!"},{"$error":"#VALUE!"},{"$error":"#VALUE!"},{"$error":"#VALUE!"},{"$error":"#VALUE!"},{"$error":"#VALUE!"},{"$error":"#VALUE!"},{"$error":"#VALUE!"},{"$error":"#VALUE!"},{"$error":"#VALUE!"},{"$error":"#VALUE!"},{"$error":"#VALUE!"},{"$error":"#VALUE!"},{"$error":"#VALUE!"},{"$error":"#VALUE!"},{"$error":"#VALUE!"},{"$error":"#VALUE!"},{"$error":"#VALUE!"},{"$error":"#VALUE!"},{"$error":"#VALUE!"},{"$error":"#VALUE!"},{"$error":"#VALUE!"},{"$error":"#VALUE!"},{"$error":"#VALUE!"},{"$error":"#VALUE!"},{"$error":"#VALUE!"},8,0,{"$error":"#VALUE!"},{"$error":"#VALUE!"},{"$error":"#VALUE!"},{"$error":"#VALUE!"},{"$error":"#VALUE!"},{"$error":"#VALUE!"},{"$error":"#VALUE!"},{"$error":"#VALUE!"},{"$error":"#VALUE!"},{"$error":"#VALUE!"},{"$error":"#VALUE!"},{"$error":"#VALUE!"},{"$error":"#VALUE!"},{"$error":"#VALUE!"},{"$error":"#VALUE!"},{"$error":"#VALUE!"},{"$error":"#VALUE!"},{"$error":"#VALUE!"},{"$error":"#VALUE!"},{"$error":"#VALUE!"},{"$error":"#VALUE!"},{"$error":"#VALUE!"},{"$error":"#VALUE!"},{"$error":"#VALUE!"},{"$error":"#VALUE!"},{"$error":"#VALUE!"},{"$error":"#VALUE!"},{"$error":"#VALUE!"},{"$error":"#VALUE!"},{"$error":"#VALUE!"},{"$error":"#VALUE!"},{"$error":"#VALUE!"},{"$error":"#VALUE!"}]
[null,null,null,null,null,null,null,null,null,null,null,null,null,null,null,null,null,null,null,null,null,null,null,9,0,0,0,0,0,0,null,null,null,null,null,null,null,null,null,null,null,null,null,null,null,null,null,null,null,null,null,null,null,null,null,null,null,null,null,null,null,null,null,null,null,null,null,null,null,null,null,null,null,null,null,null,null,null,null,null,null,null,null,null,null,null,null,null,null,null,null,null,null,null,null,null,null,null,null,null,null,null,null,null,null,null,null,null,null,null,null,null,null,null,null,null,null,null,null,null,null,null,null,null,null,null,null,null,null,null,null,null,9,{"$error":"#VALUE!"},{"$error":"#VALUE!"},{"$error":"#VALUE!"},{"$error":"#VALUE!"},{"$error":"#VALUE!"},{"$error":"#VALUE!"},{"$error":"#VALUE!"},{"$error":"#VALUE!"},{"$error":"#VALUE!"},{"$error":"#VALUE!"},{"$error":"#VALUE!"},{"$error":"#VALUE!"},{"$error":"#VALUE!"},{"$error":"#VALUE!"},{"$error":"#VALUE!"},{"$error":"#VALUE!"},{"$error":"#VALUE!"},{"$error":"#VALUE!"},null,9,0,{"$error":"#VALUE!"},{"$error":"#VALUE!"},{"$error":"#VALUE!"},{"$error":"#VALUE!"},{"$error":"#VALUE!"},{"$error":"#VALUE!"},{"$error":"#VALUE!"},{"$error":"#VALUE!"},{"$error":"#VALUE!"},{"$error":"#VALUE!"},{"$error":"#VALUE!"},{"$error":"#VALUE!"},{"$error":"#VALUE!"},{"$error":"#VALUE!"},{"$error":"#VALUE!"},{"$error":"#VALUE!"},{"$error":"#VALUE!"},{"$error":"#VALUE!"},{"$error":"#VALUE!"},{"$error":"#VALUE!"},{"$error":"#VALUE!"},{"$error":"#VALUE!"},{"$error":"#VALUE!"},{"$error":"#VALUE!"},{"$error":"#VALUE!"},{"$error":"#VALUE!"},{"$error":"#VALUE!"},{"$error":"#VALUE!"},{"$error":"#VALUE!"},{"$error":"#VALUE!"},{"$error":"#VALUE!"},{"$error":"#VALUE!"},{"$error":"#VALUE!"},9,0,{"$error":"#VALUE!"},{"$error":"#VALUE!"},{"$error":"#VALUE!"},{"$error":"#VALUE!"},{"$error":"#VALUE!"},{"$error":"#VALUE!"},{"$error":"#VALUE!"},{"$error":"#VALUE!"},{"$error":"#VALUE!"},{"$error":"#VALUE!"},{"$error":"#VALUE!"},{"$error":"#VALUE!"},{"$error":"#VALUE!"},{"$error":"#VALUE!"},{"$error":"#VALUE!"},{"$error":"#VALUE!"},{"$error":"#VALUE!"},{"$error":"#VALUE!"},{"$error":"#VALUE!"},{"$error":"#VALUE!"},{"$error":"#VALUE!"},{"$error":"#VALUE!"},{"$error":"#VALUE!"},{"$error":"#VALUE!"},{"$error":"#VALUE!"},{"$error":"#VALUE!"},{"$error":"#VALUE!"},{"$error":"#VALUE!"},{"$error":"#VALUE!"},{"$error":"#VALUE!"},{"$error":"#VALUE!"},{"$error":"#VALUE!"},{"$error":"#VALUE!"},9,0,{"$error":"#VALUE!"},{"$error":"#VALUE!"},{"$error":"#VALUE!"},{"$error":"#VALUE!"},{"$error":"#VALUE!"},{"$error":"#VALUE!"},{"$error":"#VALUE!"},{"$error":"#VALUE!"},{"$error":"#VALUE!"},{"$error":"#VALUE!"},{"$error":"#VALUE!"},{"$error":"#VALUE!"},{"$error":"#VALUE!"},{"$error":"#VALUE!"},{"$error":"#VALUE!"},{"$error":"#VALUE!"},{"$error":"#VALUE!"},{"$error":"#VALUE!"},{"$error":"#VALUE!"},{"$error":"#VALUE!"},{"$error":"#VALUE!"},{"$error":"#VALUE!"},{"$error":"#VALUE!"},{"$error":"#VALUE!"},{"$error":"#VALUE!"},{"$error":"#VALUE!"},{"$error":"#VALUE!"},{"$error":"#VALUE!"},{"$error":"#VALUE!"},{"$error":"#VALUE!"},{"$error":"#VALUE!"},{"$error":"#VALUE!"},{"$error":"#VALUE!"},9,0,{"$error":"#VALUE!"},{"$error":"#VALUE!"},{"$error":"#VALUE!"},{"$error":"#VALUE!"},{"$error":"#VALUE!"},{"$error":"#VALUE!"},{"$error":"#VALUE!"},{"$error":"#VALUE!"},{"$error":"#VALUE!"},{"$error":"#VALUE!"},{"$error":"#VALUE!"},{"$error":"#VALUE!"},{"$error":"#VALUE!"},{"$error":"#VALUE!"},{"$error":"#VALUE!"},{"$error":"#VALUE!"},{"$error":"#VALUE!"},{"$error":"#VALUE!"},{"$error":"#VALUE!"},{"$error":"#VALUE!"},{"$error":"#VALUE!"},{"$error":"#VALUE!"},{"$error":"#VALUE!"},{"$error":"#VALUE!"},{"$error":"#VALUE!"},{"$error":"#VALUE!"},{"$error":"#VALUE!"},{"$error":"#VALUE!"},{"$error":"#VALUE!"},{"$error":"#VALUE!"},{"$error":"#VALUE!"},{"$error":"#VALUE!"},{"$error":"#VALUE!"},9,0,{"$error":"#VALUE!"},{"$error":"#VALUE!"},{"$error":"#VALUE!"},{"$error":"#VALUE!"},{"$error":"#VALUE!"},{"$error":"#VALUE!"},{"$error":"#VALUE!"},{"$error":"#VALUE!"},{"$error":"#VALUE!"},{"$error":"#VALUE!"},{"$error":"#VALUE!"},{"$error":"#VALUE!"},{"$error":"#VALUE!"},{"$error":"#VALUE!"},{"$error":"#VALUE!"},{"$error":"#VALUE!"},{"$error":"#VALUE!"},{"$error":"#VALUE!"},{"$error":"#VALUE!"},{"$error":"#VALUE!"},{"$error":"#VALUE!"},{"$error":"#VALUE!"},{"$error":"#VALUE!"},{"$error":"#VALUE!"},{"$error":"#VALUE!"},{"$error":"#VALUE!"},{"$error":"#VALUE!"},{"$error":"#VALUE!"},{"$error":"#VALUE!"},{"$error":"#VALUE!"},{"$error":"#VALUE!"},{"$error":"#VALUE!"},{"$error":"#VALUE!"},9,0,{"$error":"#VALUE!"},{"$error":"#VALUE!"},{"$error":"#VALUE!"},{"$error":"#VALUE!"},{"$error":"#VALUE!"},{"$error":"#VALUE!"},{"$error":"#VALUE!"},{"$error":"#VALUE!"},{"$error":"#VALUE!"},{"$error":"#VALUE!"},{"$error":"#VALUE!"},{"$error":"#VALUE!"},{"$error":"#VALUE!"},{"$error":"#VALUE!"},{"$error":"#VALUE!"},{"$error":"#VALUE!"},{"$error":"#VALUE!"},{"$error":"#VALUE!"},{"$error":"#VALUE!"},{"$error":"#VALUE!"},{"$error":"#VALUE!"},{"$error":"#VALUE!"},{"$error":"#VALUE!"},{"$error":"#VALUE!"},{"$error":"#VALUE!"},{"$error":"#VALUE!"},{"$error":"#VALUE!"},{"$error":"#VALUE!"},{"$error":"#VALUE!"},{"$error":"#VALUE!"},{"$error":"#VALUE!"},{"$error":"#VALUE!"},{"$error":"#VALUE!"}]
[null,null,null,null,null,null,null,null,null,null,null,null,null,null,null,null,null,null,null,null,null,null,null,"Total",{"$f":"SUMIF($X$33:$X$272,$X281,Y$33:Y$272)","v":0},0,0,0,0,{"$f":"SUMIF($X$33:$X$272,$X281,AD$33:AD$272)","v":0},null,null,null,null,null,null,null,null,null,null,null,null,null,null,null,null,null,null,null,null,null,null,null,null,null,null,null,null,null,null,null,null,null,null,null,null,null,null,null,null,null,null,null,null,null,null,null,null,null,null,null,null,null,null,null,null,null,null,null,null,null,null,null,null,null,null,null,null,null,null,null,null,null,null,null,null,null,null,null,null,null,null,null,null,null,null,null,null,null,null,null,null,null,null,null,null,null,null,null,null,null,null,"Total",{"$f":"SUMIF($EC$33:$EC$272,$EC281,ED$33:ED$272)","v":{"$error":"#VALUE!"}},{"$error":"#VALUE!"},{"$error":"#VALUE!"},{"$f":"SUMIF($EC$33:$EC$272,$EC281,EG$33:EG$272)","v":{"$error":"#VALUE!"}},{"$error":"#VALUE!"},{"$error":"#VALUE!"},{"$f":"SUMIF($EC$33:$EC$272,$EC281,EJ$33:EJ$272)","v":{"$error":"#VALUE!"}},{"$error":"#VALUE!"},{"$error":"#VALUE!"},{"$f":"SUMIF($EC$33:$EC$272,$EC281,EM$33:EM$272)","v":{"$error":"#VALUE!"}},{"$error":"#VALUE!"},{"$error":"#VALUE!"},{"$f":"SUMIF($EC$33:$EC$272,$EC281,EP$33:EP$272)","v":{"$error":"#VALUE!"}},{"$error":"#VALUE!"},{"$error":"#VALUE!"},{"$f":"SUMIF($EC$33:$EC$272,$EC281,ES$33:ES$272)","v":{"$error":"#VALUE!"}},{"$f":"SUMIF($EC$33:$EC$272,$EC281,ET$33:ET$272)","v":{"$error":"#VALUE!"}},{"$error":"#VALUE!"},null,"Total",{"$f":"SUMIF($EW$33:$EW$272,$EW281,EX$33:EX$272)","v":0},{"$f":"SUMIF($EW$33:$EW$272,$EW281,EY$33:EY$272)","v":{"$error":"#VALUE!"}},{"$error":"#VALUE!"},{"$error":"#VALUE!"},{"$f":"SUMIF($EW$33:$EW$272,$EW281,FB$33:FB$272)","v":{"$error":"#VALUE!"}},{"$error":"#VALUE!"},{"$error":"#VALUE!"},{"$f":"SUMIF($EW$33:$EW$272,$EW281,FE$33:FE$272)","v":{"$error":"#VALUE!"}},{"$error":"#VALUE!"},{"$error":"#VALUE!"},{"$f":"SUMIF($EW$33:$EW$272,$EW281,FH$33:FH$272)","v":{"$error":"#VALUE!"}},{"$error":"#VALUE!"},{"$error":"#VALUE!"},{"$f":"SUMIF($EW$33:$EW$272,$EW281,FK$33:FK$272)","v":{"$error":"#VALUE!"}},{"$error":"#VALUE!"},{"$error":"#VALUE!"},{"$f":"SUMIF($EW$33:$EW$272,$EW281,FN$33:FN$272)","v":{"$error":"#VALUE!"}},{"$error":"#VALUE!"},{"$error":"#VALUE!"},{"$f":"SUMIF($EW$33:$EW$272,$EW281,FQ$33:FQ$272)","v":{"$error":"#VALUE!"}},{"$error":"#VALUE!"},{"$error":"#VALUE!"},{"$f":"SUMIF($EW$33:$EW$272,$EW281,FT$33:FT$272)","v":{"$error":"#VALUE!"}},{"$error":"#VALUE!"},{"$error":"#VALUE!"},{"$f":"SUMIF($EW$33:$EW$272,$EW281,FW$33:FW$272)","v":{"$error":"#VALUE!"}},{"$error":"#VALUE!"},{"$error":"#VALUE!"},{"$f":"SUMIF($EW$33:$EW$272,$EW281,FZ$33:FZ$272)","v":{"$error":"#VALUE!"}},{"$error":"#VALUE!"},{"$error":"#VALUE!"},{"$f":"SUMIF($EW$33:$EW$272,$EW281,GC$33:GC$272)","v":{"$error":"#VALUE!"}},{"$error":"#VALUE!"},{"$error":"#VALUE!"},"Total",0,{"$error":"#VALUE!"},{"$error":"#VALUE!"},{"$error":"#VALUE!"},{"$error":"#VALUE!"},{"$error":"#VALUE!"},{"$error":"#VALUE!"},{"$error":"#VALUE!"},{"$error":"#VALUE!"},{"$error":"#VALUE!"},{"$error":"#VALUE!"},{"$error":"#VALUE!"},{"$error":"#VALUE!"},{"$error":"#VALUE!"},{"$error":"#VALUE!"},{"$error":"#VALUE!"},{"$error":"#VALUE!"},{"$error":"#VALUE!"},{"$error":"#VALUE!"},{"$error":"#VALUE!"},{"$error":"#VALUE!"},{"$error":"#VALUE!"},{"$error":"#VALUE!"},{"$error":"#VALUE!"},{"$error":"#VALUE!"},{"$error":"#VALUE!"},{"$error":"#VALUE!"},{"$error":"#VALUE!"},{"$error":"#VALUE!"},{"$error":"#VALUE!"},{"$error":"#VALUE!"},{"$error":"#VALUE!"},{"$error":"#VALUE!"},{"$error":"#VALUE!"},"Total",0,{"$error":"#VALUE!"},{"$error":"#VALUE!"},{"$error":"#VALUE!"},{"$error":"#VALUE!"},{"$error":"#VALUE!"},{"$error":"#VALUE!"},{"$error":"#VALUE!"},{"$error":"#VALUE!"},{"$error":"#VALUE!"},{"$error":"#VALUE!"},{"$error":"#VALUE!"},{"$error":"#VALUE!"},{"$error":"#VALUE!"},{"$error":"#VALUE!"},{"$error":"#VALUE!"},{"$error":"#VALUE!"},{"$error":"#VALUE!"},{"$error":"#VALUE!"},{"$error":"#VALUE!"},{"$error":"#VALUE!"},{"$error":"#VALUE!"},{"$error":"#VALUE!"},{"$error":"#VALUE!"},{"$error":"#VALUE!"},{"$error":"#VALUE!"},{"$error":"#VALUE!"},{"$error":"#VALUE!"},{"$error":"#VALUE!"},{"$error":"#VALUE!"},{"$error":"#VALUE!"},{"$error":"#VALUE!"},{"$error":"#VALUE!"},{"$error":"#VALUE!"},"Total",0,{"$error":"#VALUE!"},{"$error":"#VALUE!"},{"$error":"#VALUE!"},{"$error":"#VALUE!"},{"$error":"#VALUE!"},{"$error":"#VALUE!"},{"$error":"#VALUE!"},{"$error":"#VALUE!"},{"$error":"#VALUE!"},{"$error":"#VALUE!"},{"$error":"#VALUE!"},{"$error":"#VALUE!"},{"$error":"#VALUE!"},{"$error":"#VALUE!"},{"$error":"#VALUE!"},{"$error":"#VALUE!"},{"$error":"#VALUE!"},{"$error":"#VALUE!"},{"$error":"#VALUE!"},{"$error":"#VALUE!"},{"$error":"#VALUE!"},{"$error":"#VALUE!"},{"$error":"#VALUE!"},{"$error":"#VALUE!"},{"$error":"#VALUE!"},{"$error":"#VALUE!"},{"$error":"#VALUE!"},{"$error":"#VALUE!"},{"$error":"#VALUE!"},{"$error":"#VALUE!"},{"$error":"#VALUE!"},{"$error":"#VALUE!"},{"$error":"#VALUE!"},"Total",0,{"$error":"#VALUE!"},{"$error":"#VALUE!"},{"$error":"#VALUE!"},{"$error":"#VALUE!"},{"$error":"#VALUE!"},{"$error":"#VALUE!"},{"$error":"#VALUE!"},{"$error":"#VALUE!"},{"$error":"#VALUE!"},{"$error":"#VALUE!"},{"$error":"#VALUE!"},{"$error":"#VALUE!"},{"$error":"#VALUE!"},{"$error":"#VALUE!"},{"$error":"#VALUE!"},{"$error":"#VALUE!"},{"$error":"#VALUE!"},{"$error":"#VALUE!"},{"$error":"#VALUE!"},{"$error":"#VALUE!"},{"$error":"#VALUE!"},{"$error":"#VALUE!"},{"$error":"#VALUE!"},{"$error":"#VALUE!"},{"$error":"#VALUE!"},{"$error":"#VALUE!"},{"$error":"#VALUE!"},{"$error":"#VALUE!"},{"$error":"#VALUE!"},{"$error":"#VALUE!"},{"$error":"#VALUE!"},{"$error":"#VALUE!"},{"$error":"#VALUE!"},"Total",0,{"$error":"#VALUE!"},{"$error":"#VALUE!"},{"$error":"#VALUE!"},{"$error":"#VALUE!"},{"$error":"#VALUE!"},{"$error":"#VALUE!"},{"$error":"#VALUE!"},{"$error":"#VALUE!"},{"$error":"#VALUE!"},{"$error":"#VALUE!"},{"$error":"#VALUE!"},{"$error":"#VALUE!"},{"$error":"#VALUE!"},{"$error":"#VALUE!"},{"$error":"#VALUE!"},{"$error":"#VALUE!"},{"$error":"#VALUE!"},{"$error":"#VALUE!"},{"$error":"#VALUE!"},{"$error":"#VALUE!"},{"$error":"#VALUE!"},{"$error":"#VALUE!"},{"$error":"#VALUE!"},{"$error":"#VALUE!"},{"$error":"#VALUE!"},{"$error":"#VALUE!"},{"$error":"#VALUE!"},{"$error":"#VALUE!"},{"$error":"#VALUE!"},{"$error":"#VALUE!"},{"$error":"#VALUE!"},{"$error":"#VALUE!"},{"$error":"#VALUE!"}]
[]
[null,null,null,null,null,null,null,null,null,null,null,null,null,null,null,null,null,null,null,null,null,null,null,"Check:",{"$f":"SUM(Y$33:Y$272)/2","v":0},{"$f":"SUM(Z$33:Z$272)/2","v":0},0,0,0,0,null,null,null,null,null,null,null,null,null,null,null,null,null,null,null,null,null,null,null,null,null,null,null,null,null,null,null,null,null,null,null,null,null,null,null,null,null,null,null,null,null,null,null,null,null,null,null,null,null,null,null,null,null,null,null,null,null,null,null,null,null,null,null,null,null,null,null,null,null,null,null,null,null,null,null,null,null,null,null,null,null,null,null,null,null,null,null,null,null,null,null,null,null,null,null,null,null,null,null,null,null,null,"Check:",{"$f":"SUM(ED274:ED280)","v":{"$error":"#VALUE!"}},{"$f":"SUM(EE274:EE280)","v":{"$error":"#VALUE!"}},{"$error":"#VALUE!"},{"$error":"#VALUE!"},{"$error":"#VALUE!"},{"$error":"#VALUE!"},{"$error":"#VALUE!"},{"$error":"#VALUE!"},{"$error":"#VALUE!"},{"$error":"#VALUE!"},{"$error":"#VALUE!"},{"$error":"#VALUE!"},{"$error":"#VALUE!"},{"$error":"#VALUE!"},{"$error":"#VALUE!"},{"$error":"#VALUE!"},{"$error":"#VALUE!"},{"$f":"SUM(EU274:EU280)","v":{"$error":"#VALUE!"}},null,"Check:",{"$f":"SUM(EX274:EX280)","v":0},{"$f":"SUM(EY274:EY280)","v":{"$error":"#VALUE!"}},{"$f":"SUM(EZ274:EZ280)","v":{"$error":"#VALUE!"}},{"$error":"#VALUE!"},{"$f":"SUM(FB274:FB280)","v":{"$error":"#VALUE!"}},{"$f":"SUM(FC274:FC280)","v":{"$error":"#VALUE!"}},{"$error":"#VALUE!"},{"$f":"SUM(FE274:FE280)","v":{"$error":"#VALUE!"}},{"$f":"SUM(FF274:FF280)","v":{"$error":"#VALUE!"}},{"$error":"#VALUE!"},{"$f":"SUM(FH274:FH280)","v":{"$error":"#VALUE!"}},{"$f":"SUM(FI274:FI280)","v":{"$error":"#VALUE!"}},{"$error":"#VALUE!"},{"$f":"SUM(FK274:FK280)","v":{"$error":"#VALUE!"}},{"$f":"SUM(FL274:FL280)","v":{"$error":"#VALUE!"}},{"$error":"#VALUE!"},{"$f":"SUM(FN274:FN280)","v":{"$error":"#VALUE!"}},{"$f":"SUM(FO274:FO280)","v":{"$error":"#VALUE!"}},{"$error":"#VALUE!"},{"$f":"SUM(FQ274:FQ280)","v":{"$error":"#VALUE!"}},{"$f":"SUM(FR274:FR280)","v":{"$error":"#VALUE!"}},{"$error":"#VALUE!"},{"$f":"SUM(FT274:FT280)","v":{"$error":"#VALUE!"}},{"$f":"SUM(FU274:FU280)","v":{"$error":"#VALUE!"}},{"$error":"#VALUE!"},{"$f":"SUM(FW274:FW280)","v":{"$error":"#VALUE!"}},{"$f":"SUM(FX274:FX280)","v":{"$error":"#VALUE!"}},{"$error":"#VALUE!"},{"$f":"SUM(FZ274:FZ280)","v":{"$error":"#VALUE!"}},{"$f":"SUM(GA274:GA280)","v":{"$error":"#VALUE!"}},{"$error":"#VALUE!"},{"$f":"SUM(GC274:GC280)","v":{"$error":"#VALUE!"}},{"$f":"SUM(GD274:GD280)","v":{"$error":"#VALUE!"}},{"$f":"SUM(GE274:GE280)","v":{"$error":"#VALUE!"}},"Check:",{"$f":"SUM(GG274:GG280)","v":0},{"$f":"SUM(GH274:GH280)","v":{"$error":"#VALUE!"}},{"$f":"SUM(GI274:GI280)","v":{"$error":"#VALUE!"}},{"$error":"#VALUE!"},{"$f":"SUM(GK274:GK280)","v":{"$error":"#VALUE!"}},{"$f":"SUM(GL274:GL280)","v":{"$error":"#VALUE!"}},{"$error":"#VALUE!"},{"$f":"SUM(GN274:GN280)","v":{"$error":"#VALUE!"}},{"$f":"SUM(GO274:GO280)","v":{"$error":"#VALUE!"}},{"$error":"#VALUE!"},{"$f":"SUM(GQ274:GQ280)","v":{"$error":"#VALUE!"}},{"$f":"SUM(GR274:GR280)","v":{"$error":"#VALUE!"}},{"$error":"#VALUE!"},{"$f":"SUM(GT274:GT280)","v":{"$error":"#VALUE!"}},{"$f":"SUM(GU274:GU280)","v":{"$error":"#VALUE!"}},{"$error":"#VALUE!"},{"$f":"SUM(GW274:GW280)","v":{"$error":"#VALUE!"}},{"$f":"SUM(GX274:GX280)","v":{"$error":"#VALUE!"}},{"$error":"#VALUE!"},{"$f":"SUM(GZ274:GZ280)","v":{"$error":"#VALUE!"}},{"$f":"SUM(HA274:HA280)","v":{"$error":"#VALUE!"}},{"$error":"#VALUE!"},{"$f":"SUM(HC274:HC280)","v":{"$error":"#VALUE!"}},{"$f":"SUM(HD274:HD280)","v":{"$error":"#VALUE!"}},{"$error":"#VALUE!"},{"$f":"SUM(HF274:HF280)","v":{"$error":"#VALUE!"}},{"$f":"SUM(HG274:HG280)","v":{"$error":"#VALUE!"}},{"$error":"#VALUE!"},{"$f":"SUM(HI274:HI280)","v":{"$error":"#VALUE!"}},{"$f":"SUM(HJ274:HJ280)","v":{"$error":"#VALUE!"}},{"$error":"#VALUE!"},{"$f":"SUM(HL274:HL280)","v":{"$error":"#VALUE!"}},{"$f":"SUM(HM274:HM280)","v":{"$error":"#VALUE!"}},{"$f":"SUM(HN274:HN280)","v":{"$error":"#VALUE!"}},"Check:",{"$f":"SUM(HP274:HP280)","v":0},{"$f":"SUM(HQ274:HQ280)","v":{"$error":"#VALUE!"}},{"$f":"SUM(HR274:HR280)","v":{"$error":"#VALUE!"}},{"$error":"#VALUE!"},{"$f":"SUM(HT274:HT280)","v":{"$error":"#VALUE!"}},{"$f":"SUM(HU274:HU280)","v":{"$error":"#VALUE!"}},{"$error":"#VALUE!"},{"$f":"SUM(HW274:HW280)","v":{"$error":"#VALUE!"}},{"$f":"SUM(HX274:HX280)","v":{"$error":"#VALUE!"}},{"$error":"#VALUE!"},{"$f":"SUM(HZ274:HZ280)","v":{"$error":"#VALUE!"}},{"$f":"SUM(IA274:IA280)","v":{"$error":"#VALUE!"}},{"$error":"#VALUE!"},{"$f":"SUM(IC274:IC280)","v":{"$error":"#VALUE!"}},{"$f":"SUM(ID274:ID280)","v":{"$error":"#VALUE!"}},{"$error":"#VALUE!"},{"$f":"SUM(IF274:IF280)","v":{"$error":"#VALUE!"}},{"$f":"SUM(IG274:IG280)","v":{"$error":"#VALUE!"}},{"$error":"#VALUE!"},{"$f":"SUM(II274:II280)","v":{"$error":"#VALUE!"}},{"$f":"SUM(IJ274:IJ280)","v":{"$error":"#VALUE!"}},{"$error":"#VALUE!"},{"$f":"SUM(IL274:IL280)","v":{"$error":"#VALUE!"}},{"$f":"SUM(IM274:IM280)","v":{"$error":"#VALUE!"}},{"$error":"#VALUE!"},{"$f":"SUM(IO274:IO280)","v":{"$error":"#VALUE!"}},{"$f":"SUM(IP274:IP280)","v":{"$error":"#VALUE!"}},{"$error":"#VALUE!"},{"$f":"SUM(IR274:IR280)","v":{"$error":"#VALUE!"}},{"$f":"SUM(IS274:IS280)","v":{"$error":"#VALUE!"}},{"$error":"#VALUE!"},{"$f":"SUM(IU274:IU280)","v":{"$error":"#VALUE!"}},{"$f":"SUM(IV274:IV280)","v":{"$error":"#VALUE!"}},{"$f":"SUM(IW274:IW280)","v":{"$error":"#VALUE!"}},"Check:",{"$f":"SUM(IY274:IY280)","v":0},{"$f":"SUM(IZ274:IZ280)","v":{"$error":"#VALUE!"}},{"$f":"SUM(JA274:JA280)","v":{"$error":"#VALUE!"}},{"$error":"#VALUE!"},{"$f":"SUM(JC274:JC280)","v":{"$error":"#VALUE!"}},{"$f":"SUM(JD274:JD280)","v":{"$error":"#VALUE!"}},{"$error":"#VALUE!"},{"$f":"SUM(JF274:JF280)","v":{"$error":"#VALUE!"}},{"$f":"SUM(JG274:JG280)","v":{"$error":"#VALUE!"}},{"$error":"#VALUE!"},{"$f":"SUM(JI274:JI280)","v":{"$error":"#VALUE!"}},{"$f":"SUM(JJ274:JJ280)","v":{"$error":"#VALUE!"}},{"$error":"#VALUE!"},{"$f":"SUM(JL274:JL280)","v":{"$error":"#VALUE!"}},{"$f":"SUM(JM274:JM280)","v":{"$error":"#VALUE!"}},{"$error":"#VALUE!"},{"$f":"SUM(JO274:JO280)","v":{"$error":"#VALUE!"}},{"$f":"SUM(JP274:JP280)","v":{"$error":"#VALUE!"}},{"$error":"#VALUE!"},{"$f":"SUM(JR274:JR280)","v":{"$error":"#VALUE!"}},{"$f":"SUM(JS274:JS280)","v":{"$error":"#VALUE!"}},{"$error":"#VALUE!"},{"$f":"SUM(JU274:JU280)","v":{"$error":"#VALUE!"}},{"$f":"SUM(JV274:JV280)","v":{"$error":"#VALUE!"}},{"$error":"#VALUE!"},{"$f":"SUM(JX274:JX280)","v":{"$error":"#VALUE!"}},{"$f":"SUM(JY274:JY280)","v":{"$error":"#VALUE!"}},{"$error":"#VALUE!"},{"$f":"SUM(KA274:KA280)","v":{"$error":"#VALUE!"}},{"$f":"SUM(KB274:KB280)","v":{"$error":"#VALUE!"}},{"$error":"#VALUE!"},{"$f":"SUM(KD274:KD280)","v":{"$error":"#VALUE!"}},{"$f":"SUM(KE274:KE280)","v":{"$error":"#VALUE!"}},{"$f":"SUM(KF274:KF280)","v":{"$error":"#VALUE!"}},"Check:",{"$f":"SUM(KH274:KH280)","v":0},{"$f":"SUM(KI274:KI280)","v":{"$error":"#VALUE!"}},{"$f":"SUM(KJ274:KJ280)","v":{"$error":"#VALUE!"}},{"$f":"SUM(KK274:KK280)","v":{"$error":"#VALUE!"}},{"$f":"SUM(KL274:KL280)","v":{"$error":"#VALUE!"}},{"$f":"SUM(KM274:KM280)","v":{"$error":"#VALUE!"}},{"$error":"#VALUE!"},{"$f":"SUM(KO274:KO280)","v":{"$error":"#VALUE!"}},{"$f":"SUM(KP274:KP280)","v":{"$error":"#VALUE!"}},{"$error":"#VALUE!"},{"$f":"SUM(KR274:KR280)","v":{"$error":"#VALUE!"}},{"$f":"SUM(KS274:KS280)","v":{"$error":"#VALUE!"}},{"$error":"#VALUE!"},{"$f":"SUM(KU274:KU280)","v":{"$error":"#VALUE!"}},{"$f":"SUM(KV274:KV280)","v":{"$error":"#VALUE!"}},{"$error":"#VALUE!"},{"$f":"SUM(KX274:KX280)","v":{"$error":"#VALUE!"}},{"$f":"SUM(KY274:KY280)","v":{"$error":"#VALUE!"}},{"$error":"#VALUE!"},{"$f":"SUM(LA274:LA280)","v":{"$error":"#VALUE!"}},{"$f":"SUM(LB274:LB280)","v":{"$error":"#VALUE!"}},{"$error":"#VALUE!"},{"$f":"SUM(LD274:LD280)","v":{"$error":"#VALUE!"}},{"$f":"SUM(LE274:LE280)","v":{"$error":"#VALUE!"}},{"$error":"#VALUE!"},{"$f":"SUM(LG274:LG280)","v":{"$error":"#VALUE!"}},{"$f":"SUM(LH274:LH280)","v":{"$error":"#VALUE!"}},{"$error":"#VALUE!"},{"$f":"SUM(LJ274:LJ280)","v":{"$error":"#VALUE!"}},{"$f":"SUM(LK274:LK280)","v":{"$error":"#VALUE!"}},{"$error":"#VALUE!"},{"$f":"SUM(LM274:LM280)","v":{"$error":"#VALUE!"}},{"$f":"SUM(LN274:LN280)","v":{"$error":"#VALUE!"}},{"$f":"SUM(LO274:LO280)","v":{"$error":"#VALUE!"}},"Check:",{"$f":"SUM(LQ274:LQ280)","v":0},{"$f":"SUM(LR274:LR280)","v":{"$error":"#VALUE!"}},{"$f":"SUM(LS274:LS280)","v":{"$error":"#VALUE!"}},{"$f":"SUM(LT274:LT280)","v":{"$error":"#VALUE!"}},{"$f":"SUM(LU274:LU280)","v":{"$error":"#VALUE!"}},{"$f":"SUM(LV274:LV280)","v":{"$error":"#VALUE!"}},{"$error":"#VALUE!"},{"$f":"SUM(LX274:LX280)","v":{"$error":"#VALUE!"}},{"$f":"SUM(LY274:LY280)","v":{"$error":"#VALUE!"}},{"$error":"#VALUE!"},{"$f":"SUM(MA274:MA280)","v":{"$error":"#VALUE!"}},{"$f":"SUM(MB274:MB280)","v":{"$error":"#VALUE!"}},{"$error":"#VALUE!"},{"$f":"SUM(MD274:MD280)","v":{"$error":"#VALUE!"}},{"$f":"SUM(ME274:ME280)","v":{"$error":"#VALUE!"}},{"$error":"#VALUE!"},{"$f":"SUM(MG274:MG280)","v":{"$error":"#VALUE!"}},{"$f":"SUM(MH274:MH280)","v":{"$error":"#VALUE!"}},{"$error":"#VALUE!"},{"$f":"SUM(MJ274:MJ280)","v":{"$error":"#VALUE!"}},{"$f":"SUM(MK274:MK280)","v":{"$error":"#VALUE!"}},{"$error":"#VALUE!"},{"$f":"SUM(MM274:MM280)","v":{"$error":"#VALUE!"}},{"$f":"SUM(MN274:MN280)","v":{"$error":"#VALUE!"}},{"$error":"#VALUE!"},{"$f":"SUM(MP274:MP280)","v":{"$error":"#VALUE!"}},{"$f":"SUM(MQ274:MQ280)","v":{"$error":"#VALUE!"}},{"$error":"#VALUE!"},{"$f":"SUM(MS274:MS280)","v":{"$error":"#VALUE!"}},{"$f":"SUM(MT274:MT280)","v":{"$error":"#VALUE!"}},{"$error":"#VALUE!"},{"$f":"SUM(MV274:MV280)","v":{"$error":"#VALUE!"}},{"$f":"SUM(MW274:MW280)","v":{"$error":"#VALUE!"}},{"$f":"SUM(MX274:MX280)","v":{"$error":"#VALUE!"}}]
[null,null,null,null,null,null,null,null,null,null,null,null,null,null,null,null,null,null,null,null,null,null,null,null,"FFY26","FFY27","FFY28","FFY29","FFY30","FFY31",null,null,null,null,null,null,null,null,null,null,null,null,null,null,null,null,null,null,null,null,null,null,null,null,null,null,null,null,null,null,null,null,null,null,null,null,null,null,null,null,null,null,null,null,null,null,null,null,null,null,null,null,null,null,null,null,null,null,null,null,null,null,null,null,null,null,null,null,null,null,null,null,null,null,null,null,null,null,null,null,null,null,null,null,null,null,null,null,null,null,null,null,null,null,null,null,null,null,null,null,null,null,null,"New","Funded Old","Unfunded Old","New","Funded Old","Unfunded Old","New","Funded Old","Unfunded Old","New","Funded Old","Unfunded Old","New","Funded Old","Unfunded Old","New","Funded Old","Unfunded Old",null,null,null,"New","Funded Old","Unfunded Old","New","Funded Old","Unfunded Old","New","Funded Old","Unfunded Old","New","Funded Old","Unfunded Old","New","Funded Old","Unfunded Old","New","Funded Old","Unfunded Old","New","Funded Old","Unfunded Old","New","Funded Old","Unfunded Old","New","Funded Old","Unfunded Old","New","Funded Old","Unfunded Old","New","Funded Old","Unfunded Old",null,null,"New","Funded Old","Unfunded Old","New","Funded Old","Unfunded Old","New","Funded Old","Unfunded Old","New","Funded Old","Unfunded Old","New","Funded Old","Unfunded Old","New","Funded Old","Unfunded Old","New","Funded Old","Unfunded Old","New","Funded Old","Unfunded Old","New","Funded Old","Unfunded Old","New","Funded Old","Unfunded Old","New","Funded Old","Unfunded Old",null,null,"New","Funded Old","Unfunded Old","New","Funded Old","Unfunded Old","New","Funded Old","Unfunded Old","New","Funded Old","Unfunded Old","New","Funded Old","Unfunded Old","New","Funded Old","Unfunded Old","New","Funded Old","Unfunded Old","New","Funded Old","Unfunded Old","New","Funded Old","Unfunded Old","New","Funded Old","Unfunded Old","New","Funded Old","Unfunded Old",null,null,"New","Funded Old","Unfunded Old","New","Funded Old","Unfunded Old","New","Funded Old","Unfunded Old","New","Funded Old","Unfunded Old","New","Funded Old","Unfunded Old","New","Funded Old","Unfunded Old","New","Funded Old","Unfunded Old","New","Funded Old","Unfunded Old","New","Funded Old","Unfunded Old","New","Funded Old","Unfunded Old","New","Funded Old","Unfunded Old",null,null,"New","Funded Old","Unfunded Old","New","Funded Old","Unfunded Old","New","Funded Old","Unfunded Old","New","Funded Old","Unfunded Old","New","Funded Old","Unfunded Old","New","Funded Old","Unfunded Old","New","Funded Old","Unfunded Old","New","Funded Old","Unfunded Old","New","Funded Old","Unfunded Old","New","Funded Old","Unfunded Old","New","Funded Old","Unfunded Old",null,null,"New","Funded Old","Unfunded Old","New","Funded Old","Unfunded Old","New","Funded Old","Unfunded Old","New","Funded Old","Unfunded Old","New","Funded Old","Unfunded Old","New","Funded Old","Unfunded Old","New","Funded Old","Unfunded Old","New","Funded Old","Unfunded Old","New","Funded Old","Unfunded Old","New","Funded Old","Unfunded Old","New","Funded Old","Unfunded Old"]
[null,null,null,null,null,null,null,null,null,null,null,null,null,null,null,null,null,null,null,null,null,null,null,null,null,null,null,null,null,null,null,null,null,null,null,null,null,null,null,null,null,null,null,null,null,null,null,null,null,null,null,null,null,null,null,null,null,null,null,null,null,null,null,null,null,null,null,null,null,null,null,null,null,null,null,null,null,null,null,null,null,null,null,null,null,null,null,null,null,null,null,null,null,null,null,null,null,null,null,null,null,null,null,null,null,null,null,null,null,null,null,null,null,null,null,null,null,null,null,null,null,null,null,null,null,null,null,null,null,null,null,null,null,{"$f":"_xlfn.CONCAT(\"FFY\",MID($C$9,3,2))","v":"FFY26"},null,null,{"$f":"_xlfn.CONCAT(\"FFY\",MID($C$9+1,3,2))","v":"FFY27"},null,null,{"$f":"_xlfn.CONCAT(\"FFY\",MID($C$9+2,3,2))","v":"FFY28"},null,null,{"$f":"_xlfn.CONCAT(\"FFY\",MID($C$9+3,3,2))","v":"FFY29"},null,null,{"$f":"_xlfn.CONCAT(\"FFY\",MID($C$9+4,3,2))","v":"FFY30"},null,null,{"$f":"_xlfn.CONCAT(\"FFY\",MID($C$9+5,3,2))","v":"FFY31"},null,null,null,null,null,"S120",null,null,"S130",null,null,"S148",null,null,"S154",null,null,"S164",null,null,"HRRR",null,null,"SSP",null,null,"VRU",null,null,"Older Drivers & Peds",null,null,"A/C",null,null,"Unfunded",null,null,null,null,"S120",null,null,"S130",null,null,"S148",null,null,"S154",null,null,"S164",null,null,"HRRR",null,null,"SSP",null,null,"VRU",null,null,"Older Drivers & Peds",null,null,"A/C",null,null,"Unfunded",null,null,null,null,"S120",null,null,"S130",null,null,"S148",null,null,"S154",null,null,"S164",null,null,"HRRR",null,null,"SSP",null,null,"VRU",null,null,"Older Drivers & Peds",null,null,"A/C",null,null,"Unfunded",null,null,null,null,"S120",null,null,"S130",null,null,"S148",null,null,"S154",null,null,"S164",null,null,"HRRR",null,null,"SSP",null,null,"VRU",null,null,"Older Drivers & Peds",null,null,"A/C",null,null,"Unfunded",null,null,null,null,"S120",null,null,"S130",null,null,"S148",null,null,"S154",null,null,"S164",null,null,"HRRR",null,null,"SSP",null,null,"VRU",null,null,"Older Drivers & Peds",null,null,"A/C",null,null,"Unfunded",null,null,null,null,"S120",null,null,"S130",null,null,"S148",null,null,"S154",null,null,"S164",null,null,"HRRR",null,null,"SSP",null,null,"VRU",null,null,"Older Drivers & Peds",null,null,"A/C",null,null,"Unfunded"]
[null,null,null,null,null,null,null,null,null,null,null,null,null,null,null,null,null,null,null,null,null,null,null,null,null,null,null,null,null,null,null,null,null,null,null,null,null,null,null,null,null,null,null,null,null,null,null,null,null,null,null,null,null,null,null,null,null,null,null,null,null,null,null,null,null,null,null,null,null,null,null,null,null,null,null,null,null,null,null,null,null,null,null,null,null,null,null,null,null,null,null,null,null,null,null,null,null,null,null,null,null,null,null,null,null,null,null,null,null,null,null,null,null,null,null,null,null,null,null,null,null,null,null,null,null,null,null,null,null,null,null,null,null,null,null,null,null,null,null,null,null,null,null,null,null,null,null,null,null,null,null,null,null,null,"FFY26",null,null,null,null,null,null,null,null,null,null,null,null,null,null,null,null,null,null,null,null,null,null,null,null,null,null,null,null,null,null,null,null,null,null,"FFY27",null,null,null,null,null,null,null,null,null,null,null,null,null,null,null,null,null,null,null,null,null,null,null,null,null,null,null,null,null,null,null,null,null,null,"FFY28",null,null,null,null,null,null,null,null,null,null,null,null,null,null,null,null,null,null,null,null,null,null,null,null,null,null,null,null,null,null,null,null,null,null,"FFY29",null,null,null,null,null,null,null,null,null,null,null,null,null,null,null,null,null,null,null,null,null,null,null,null,null,null,null,null,null,null,null,null,null,null,"FFY30",null,null,null,null,null,null,null,null,null,null,null,null,null,null,null,null,null,null,null,null,null,null,null,null,null,null,null,null,null,null,null,null,null,null,"FFY31"]
[null,null,null,null,null,null,null,null,null,null,null,null,null,null,null,null,null,null,null,null,null,null,null,null,null,null,null,null,null,null,null,null,null,null,null,null,null,null,null,null,null,null,null,null,null,null,null,null,null,null,null,null,null,null,null,null,null,null,null,null,null,null,null,null,null,null,null,null,null,null,null,null,null,null,null,null,null,null,null,null,null,null,null,null,null,null,null,null,null,null,null,null,null,null,null,null,null,null,null,null,null,null,null,null,null,null,null,null,null,null,null,null,null,null,null,null,null,null,null,null,null,null,null,null,null,null,null,null,null,null,null,null,null,null,null,null,null,null,null,null,null,null,null,null,null,null,null,null,null,null,null,null,null,null,{"$f":"SUM(EY$281:FA$281)","v":{"$error":"#VALUE!"}},null,null,{"$f":"SUM(FB$281:FD$281)","v":{"$error":"#VALUE!"}},null,null,{"$f":"SUM(FE$281:FG$281)","v":{"$error":"#VALUE!"}},null,null,{"$f":"SUM(FH$281:FJ$281)","v":{"$error":"#VALUE!"}},null,null,{"$f":"SUM(FK$281:FM$281)","v":{"$error":"#VALUE!"}},null,null,{"$f":"SUM(FN$281:FP$281)","v":{"$error":"#VALUE!"}},null,null,{"$f":"SUM(FQ$281:FS$281)","v":{"$error":"#VALUE!"}},null,null,{"$f":"SUM(FT$281:FV$281)","v":{"$error":"#VALUE!"}},null,null,{"$f":"SUM(FW$281:FY$281)","v":{"$error":"#VALUE!"}},null,null,{"$f":"SUM(FZ$281:GB$281)","v":{"$error":"#VALUE!"}},null,null,{"$f":"SUM(GC$281:GE$281)","v":{"$error":"#VALUE!"}},null,null,null,null,{"$f":"SUM(GH$281:GJ$281)","v":{"$error":"#VALUE!"}},null,null,{"$f":"SUM(GK$281:GM$281)","v":{"$error":"#VALUE!"}},null,null,{"$f":"SUM(GN$281:GP$281)","v":{"$error":"#VALUE!"}},null,null,{"$f":"SUM(GQ$281:GS$281)","v":{"$error":"#VALUE!"}},null,null,{"$f":"SUM(GT$281:GV$281)","v":{"$error":"#VALUE!"}},null,null,{"$f":"SUM(GW$281:GY$281)","v":{"$error":"#VALUE!"}},null,null,{"$f":"SUM(GZ$281:HB$281)","v":{"$error":"#VALUE!"}},null,null,{"$f":"SUM(HC$281:HE$281)","v":{"$error":"#VALUE!"}},null,null,{"$f":"SUM(HF$281:HH$281)","v":{"$error":"#VALUE!"}},null,null,{"$f":"SUM(HI$281:HK$281)","v":{"$error":"#VALUE!"}},null,null,{"$f":"SUM(HL$281:HN$281)","v":{"$error":"#VALUE!"}},null,null,null,null,{"$f":"SUM(HQ$281:HS$281)","v":{"$error":"#VALUE!"}},null,null,{"$f":"SUM(HT$281:HV$281)","v":{"$error":"#VALUE!"}},null,null,{"$f":"SUM(HW$281:HY$281)","v":{"$error":"#VALUE!"}},null,null,{"$f":"SUM(HZ$281:IB$281)","v":{"$error":"#VALUE!"}},null,null,{"$f":"SUM(IC$281:IE$281)","v":{"$error":"#VALUE!"}},null,null,{"$f":"SUM(IF$281:IH$281)","v":{"$error":"#VALUE!"}},null,null,{"$f":"SUM(II$281:IK$281)","v":{"$error":"#VALUE!"}},null,null,{"$f":"SUM(IL$281:IN$281)","v":{"$error":"#VALUE!"}},null,null,{"$f":"SUM(IO$281:IQ$281)","v":{"$error":"#VALUE!"}},null,null,{"$f":"SUM(IR$281:IT$281)","v":{"$error":"#VALUE!"}},null,null,{"$f":"SUM(IU$281:IW$281)","v":{"$error":"#VALUE!"}},null,null,null,null,{"$f":"SUM(IZ$281:JB$281)","v":{"$error":"#VALUE!"}},null,null,{"$f":"SUM(JC$281:JE$281)","v":{"$error":"#VALUE!"}},null,null,{"$f":"SUM(JF$281:JH$281)","v":{"$error":"#VALUE!"}},null,null,{"$f":"SUM(JI$281:JK$281)","v":{"$error":"#VALUE!"}},null,null,{"$f":"SUM(JL$281:JN$281)","v":{"$error":"#VALUE!"}},null,null,{"$f":"SUM(JO$281:JQ$281)","v":{"$error":"#VALUE!"}},null,null,{"$f":"SUM(JR$281:JT$281)","v":{"$error":"#VALUE!"}},null,null,{"$f":"SUM(JU$281:JW$281)","v":{"$error":"#VALUE!"}},null,null,{"$f":"SUM(JX$281:JZ$281)","v":{"$error":"#VALUE!"}},null,null,{"$f":"SUM(KA$281:KC$281)","v":{"$error":"#VALUE!"}},null,null,{"$f":"SUM(KD$281:KF$281)","v":{"$error":"#VALUE!"}},null,null,null,null,{"$f":"SUM(KI$281:KK$281)","v":{"$error":"#VALUE!"}},null,null,{"$f":"SUM(KL$281:KN$281)","v":{"$error":"#VALUE!"}},null,null,{"$f":"SUM(KO$281:KQ$281)","v":{"$error":"#VALUE!"}},null,null,{"$f":"SUM(KR$281:KT$281)","v":{"$error":"#VALUE!"}},null,null,{"$f":"SUM(KU$281:KW$281)","v":{"$error":"#VALUE!"}},null,null,{"$f":"SUM(KX$281:KZ$281)","v":{"$error":"#VALUE!"}},null,null,{"$f":"SUM(LA$281:LC$281)","v":{"$error":"#VALUE!"}},null,null,{"$f":"SUM(LD$281:LF$281)","v":{"$error":"#VALUE!"}},null,null,{"$f":"SUM(LG$281:LI$281)","v":{"$error":"#VALUE!"}},null,null,{"$f":"SUM(LJ$281:LL$281)","v":{"$error":"#VALUE!"}},null,null,{"$f":"SUM(LM$281:LO$281)","v":{"$error":"#VALUE!"}},null,null,null,null,{"$f":"SUM(LR$281:LT$281)","v":{"$error":"#VALUE!"}},null,null,{"$f":"SUM(LU$281:LW$281)","v":{"$error":"#VALUE!"}},null,null,{"$f":"SUM(LX$281:LZ$281)","v":{"$error":"#VALUE!"}},null,null,{"$f":"SUM(MA$281:MC$281)","v":{"$error":"#VALUE!"}},null,null,{"$f":"SUM(MD$281:MF$281)","v":{"$error":"#VALUE!"}},null,null,{"$f":"SUM(MG$281:MI$281)","v":{"$error":"#VALUE!"}},null,null,{"$f":"SUM(MJ$281:ML$281)","v":{"$error":"#VALUE!"}},null,null,{"$f":"SUM(MM$281:MO$281)","v":{"$error":"#VALUE!"}},null,null,{"$f":"SUM(MP$281:MR$281)","v":{"$error":"#VALUE!"}},null,null,{"$f":"SUM(MS$281:MU$281)","v":{"$error":"#VALUE!"}},null,null,{"$f":"SUM(MV$281:MX$281)","v":{"$error":"#VALUE!"}}]